{"text_format":"3","workbook":"xlsx","n_sheets":17,"sheets":["TRIAL","seating plan example","Sheet10","Grade & Graph Data","SPtemplate2","10B-So1","Sheet2rng","class2","Class3","Class4","Class5","Class6","Conversions","Sheet2","Main","rank data","Update"],"not_rendered":{"images":3,"macros":1,"external_links":2,"defined_names":180,"comments":2},"read":"whole","date_system":"1900"}

{"sheet":"TRIAL","index":0,"n_rows":107,"n_cols":19,"rows_kept":107,"merged":[[2,7,3,12],[4,6,7,13],[9,0,11,3],[9,4,11,15],[13,0,15,3],[13,4,16,15],[20,0,21,2],[20,4,22,15],[22,0,23,2],[23,4,31,15],[25,0,26,2],[27,0,28,2],[29,0,30,2],[31,0,32,2]]}
[]
[]
[{"$nulls":7},"This file will expire on:"]
[]
[{"$nulls":6},{"$f":"inpExpDate","v":"2019-03-31"}]
{"$rows_empty":8}
["Enable macro video",{"$nulls":3},"https://www.youtube.com/watch?v=9Jg0xs5scsI"]
[]
[]
[]
[]
[]
[]
["Basic functions",{"$nulls":3},"TheMarkingProject.com"]
[]
["https://www.youtube.com/watch?v=YE7lxlzJrLM&feature=youtu.be"]
[{"$nulls":4},"All of the programs provided require macros to be enabled. The link above will take you to a very short video that will demonstrate how to do this."]
[]
["Entering data"]
[]
["https://www.youtube.com/watch?v=dxNda-Hdh-8&feature=youtu.be"]
[]
["Other features"]
[]
["https://www.youtube.com/watch?v=PjezQ8wxkJk&feature=youtu.be"]
{"$rows_empty":67}
[null,null,"TRIAL","seating plan example","Sheet10","Grade & Graph Data","SPtemplate2","10B-So1","Sheet2rng","class2","Class3","Class4","Class5","Class6","Conversions","Sheet2","Main","rank data","Update"]
[null,null,13,63,63,13,13,63,13,13,13,13,13,13,63,63,63,63,63]
[]
[]
["System drive serial number"]
[807220471,"Allowed computer 1"]
[null,"Allowed computer 2"]
[null,"Allowed computer 3"]

{"sheet":"seating plan example","index":1,"n_rows":30,"n_cols":14,"rows_kept":30,"hidden":true}
["sicttasd#1"]
[null,"Abbott, Glen",null,null,"Muhi",null,"Joshua","Wojcieck",null,"Ben Leach",null,null,"Ben Leach"]
[null,{"$error":"#N/A"},{"$nulls":5},"EAL - 5"]
[null,"4a",null,null,"Level: C",null,"Level: B-","Level: B-",null,"Level: C",null,null,"Level: C"]
[null,"TARGET: ",null,null,"Target: B",null,"Target: B","Target: A",null,"Target: B+",null,null,"Target: B+"]
[null,null,{"$f":"RawGrade","v":{"$error":"#NAME?"}},null,"RA:",null,"RA:","RA:",null,"RA:",null,null,"RA:"]
[null,null,{"$f":"INDIRECT(\"'\"&MyWorkSheet&\"'\")","v":{"$error":"#REF!"}}]
["Joe","Brett",{"$error":"#REF!"},"Denver","Aaron",null,"Danny","Alfie",null,"Luke","Jordan",null,"Luke","Jordan"]
["G+T",null,{"$f":"INDIRECT(\"'\"&MyWorkSheet&\"'!b$2\")","v":"Abbott, Glen"},{"$nulls":4},"G&T",null,"MLD",null,null,"MLD"]
["Level: B","Level: B",{"$f":"MyWorkSheet","v":"seating plan example"},"Level: B","Level: C",null,"Level: B","Level: B+",null,"Level: B-","Level: C",null,"Level: B-","Level: C"]
["Target: A-","Target: A",true,"Target: B-","Target: B-",null,"Target: B","Target: B",null,"Target: A","Target: B",null,"Target: A","Target: B"]
[null,null,{"$f":"OR(INDIRECT(\"'\"&MyWorkSheet&\"'!A$1\") = \"Aut 1\",INDIRECT(\"'\"&MyWorkSheet&\"'!A$1\") = \"Aut 2\", INDIRECT(\"'\"&MyWorkSheet&\"'!A$1\") = \"Spr 1\",INDIRECT(\"'\"&MyWorkSheet&\"'!A$1\") = \"Spr 2\", INDIRECT(\"'\"&MyWorkSheet&\"'!A$1\") = \"Sum 1\",INDIRECT(\"'\"&MyWorkSheet&\"'!A$1\") = \"Sum 2\")","v":false},"RA:","RA:",null,"RA:","RA:",null,"RA:","RA:",null,"RA:","RA:"]
[null,null,true]
[]
["Cem","Jimmy",null,"Marcus","Jack",null,"Thomas","Zac",null,"Sonny","Sam",null,"Sonny","Sam"]
["EAL - 5",{"$nulls":3},"G+T",null,null,"EAL - 5",null,"G+T","G+T",null,"G+T","G+T"]
["Level: C","Level: C+",null,"Level: B","Level:B",null,"Level: C","Level: B",null,"Level: B","Level: B",null,"Level: B","Level: B"]
["Target: B+","Target: B-",null,"Target: C","Target: B+",null,"Target: B+","Target: C-",null,"Target: B+","Target: A",null,"Target: B+","Target: A"]
[{"$nulls":3},"RA:","RA:",null,"RA:","RA:",null,"RA:","RA:",null,"RA:","RA:"]
[]
[null,"Omar",null,"Stefan","Charlie",null,"Mateusz","Archie",null,"Ben Duncan","Freddie",null,"Ben Duncan","Freddie"]
[null,"BES",null,"EAL - 5","G&T"]
[null,"Level: C",null,"Level: B","Level: B+",null,"Level: C+","Level: C",null,"Level: B","Level: C+",null,"Level: B","Level: C+"]
[null,"Target: B-",null,"Target: C","Target: A",null,"Target: B-","Target: A-",null,"Target: B","Target: B",null,"Target: B","Target: B"]
[{"$nulls":3},"RA:","RA:",null,"RA:","RA:",null,"RA:","RA:",null,"RA:","RA:"]
[]
[]
[{"$nulls":10},"On target i.e. working well towards target"]
[{"$nulls":10},"Under target"]
[{"$nulls":10},"Exceeding targets"]

{"sheet":"Sheet10","index":2,"n_rows":25,"n_cols":8,"rows_kept":25,"hidden":true}
[]
[null,null,"Start","End",null,"Start Date","end Date","Date in the middle of start and end"]
[null,"Aut 1",{"$f":"DATE(2014,9,3)","v":"2014-09-03"},{"$f":"DATE(2014,11,4)","v":"2014-11-04"},null,{"$f":"MATCH(C3,$C$3:$C$8,1)","v":1},{"$f":"MATCH(D3,$C$3:$C$8,1)","v":1},{"$f":"MATCH((D3-C3)/2+C3,$C$3:$C$8,1)","v":1}]
[null,"Aut 2",{"$f":"DATE(2014,11,5)","v":"2014-11-05"},{"$f":"DATE(2015,1,6)","v":"2015-01-06"},null,{"$f":"MATCH(C4,$C$3:$C$8,1)","v":2},2,2]
[null,"Spr 1",{"$f":"DATE(2015,1,7)","v":"2015-01-07"},{"$f":"DATE(2015,2,24)","v":"2015-02-24"},null,3,3,3]
[null,"Spr 2",{"$f":"DATE(2015,2,25)","v":"2015-02-25"},{"$f":"DATE(2015,4,14)","v":"2015-04-14"},null,4,4,4]
[null,"Sum 1",{"$f":"DATE(2015,4,15)","v":"2015-04-15"},{"$f":"DATE(2015,6,2)","v":"2015-06-02"},null,5,5,5]
[null,"Sum 2",{"$f":"DATE(2015,6,3)","v":"2015-06-03"},{"$f":"DATE(2015,9,1)","v":"2015-09-01"},null,6,6,6]
{"$rows_empty":11}
[null,{"$f":"Main!D2","v":"2014-09-06"},{"$f":"MATCH(B20,$C$3:$C$8,1)","v":1},{"$f":"SPtemplate2!AZ23","v":"SPR 1"}]
[]
[]
[]
[]
[{"$nulls":3},"2013-12-06"]

{"sheet":"Grade & Graph Data","index":3,"n_rows":471,"n_cols":72,"rows_kept":471,"hidden":true,"merged":[[0,4,0,22],[0,24,0,33],[1,18,1,22]]}
["Wc",1,null,null,"Dropdown Data",{"$nulls":19},"Chart Data"]
["1c+",2,null,null,"lstYear","lstGroup",null,null,"lstGender","lstEthnicity","lstFSM","lstDisabled","lstEAL","lstGT","lstPeriod","selStart","selEnd","selPeriod","Group Dependencies",{"$nulls":6},"chtField","Group",{"$nulls":34},"Wc",1,null,"A*",58,null,"Wc",1,null,1,"Wc"]
["Wc",3,null,"All","All","All",null,null,"All","All","All","All","All","All","Aut 1","Aut 1","Sum 2","Aut 1","Year_7","Year_8","Year_9","Year_10","Year_11",null,null,"chtField2","Aut 1 Comp",{"$nulls":22},"1c","",null,"New average points score for HAUP",{"$nulls":8},"Wb",3,null,"A",52,null,"Wb",3,null,1.1,"Wc"]
["1b-",4,null,{"$f":"RIGHT(E4,LEN(E4)-SEARCH(\"_\",E4,1))","v":"7"},"Year_7","",null,null,"M","WBRI","Y",null,0,"Y","Aut 2",1,6,1,{"$f":"IFERROR(INDEX(#REF!,MATCH(0,IF(#REF!<>\"\",IF(#REF!=7,COUNTIF($S$3:S3,#REF!))),0)),\"\")","v":""},{"$f":"IFERROR(INDEX(#REF!,MATCH(0,IF(#REF!<>\"\",IF(#REF!=8,COUNTIF($S$3:T3,#REF!))),0)),\"\")","v":""},{"$f":"IFERROR(INDEX(#REF!,MATCH(0,IF(#REF!<>\"\",IF(#REF!=9,COUNTIF($S$3:U3,#REF!))),0)),\"\")","v":""},{"$f":"IFERROR(INDEX(#REF!,MATCH(0,IF(#REF!<>\"\",IF(#REF!=10,COUNTIF($S$3:V3,#REF!))),0)),\"\")","v":""},{"$f":"IFERROR(INDEX(#REF!,MATCH(0,IF(#REF!<>\"\",IF(#REF!=11,COUNTIF($S$3:W3,#REF!))),0)),\"\")","v":""},null,null,"selBreakout",null,"Chart 1","Under-performing","On Target","Exceeds Target",{"$nulls":3},"Chart 4","Count","Avg KS2 Points",{"$nulls":9},"a+",22,null,"1b",6,null,null,"Wc",1,{"$nulls":6},"Wa",5,null,"B",46,null,"Wa",5,null,1.2,"Wc"]
["Wb",5,null,{"$f":"RIGHT(E5,LEN(E5)-SEARCH(\"_\",E5,1))","v":"8"},"Year_8","",null,null,"F","MWBC","N",null,1,"N","Spr 1",null,null,1,{"$f":"IFERROR(INDEX(#REF!,MATCH(0,IF(#REF!<>\"\",IF(#REF!=7,COUNTIF($S$3:S4,#REF!))),0)),\"\")","v":""},{"$f":"IFERROR(INDEX(#REF!,MATCH(0,IF(#REF!<>\"\",IF(#REF!=8,COUNTIF($S$3:T4,#REF!))),0)),\"\")","v":""},{"$f":"IFERROR(INDEX(#REF!,MATCH(0,IF(#REF!<>\"\",IF(#REF!=9,COUNTIF($S$3:U4,#REF!))),0)),\"\")","v":""},{"$f":"IFERROR(INDEX(#REF!,MATCH(0,IF(#REF!<>\"\",IF(#REF!=10,COUNTIF($S$3:V4,#REF!))),0)),\"\")","v":""},{"$f":"IFERROR(INDEX(#REF!,MATCH(0,IF(#REF!<>\"\",IF(#REF!=11,COUNTIF($S$3:W4,#REF!))),0)),\"\")","v":""},null,null,"Group",2,"",{"$f":"bochange($AB5,AC$4)","v":{"$error":"#NAME?"}},{"$error":"#NAME?"},{"$error":"#NAME?"},{"$nulls":3},{"$f":"selComp1","v":{"$error":"#NAME?"}},{"$f":"cntcompare(AI5)","v":{"$error":"#NAME?"}},{"$error":"#NAME?"},{"$nulls":9},"a",21,null,"1a",12,null,null,"1c+",2,{"$nulls":6},"1c",7,null,"C",40,null,"1c",7,null,1.3,"Wc"]
["1b",6,null,{"$f":"RIGHT(E6,LEN(E6)-SEARCH(\"_\",E6,1))","v":"9"},"Year_9","",null,null,1,"MOTH",1,null,2,1,"Spr 2",null,null,"Aut 1",{"$f":"IFERROR(INDEX(#REF!,MATCH(0,IF(#REF!<>\"\",IF(#REF!=7,COUNTIF($S$3:S5,#REF!))),0)),\"\")","v":""},{"$f":"IFERROR(INDEX(#REF!,MATCH(0,IF(#REF!<>\"\",IF(#REF!=8,COUNTIF($S$3:T5,#REF!))),0)),\"\")","v":""},{"$f":"IFERROR(INDEX(#REF!,MATCH(0,IF(#REF!<>\"\",IF(#REF!=9,COUNTIF($S$3:U5,#REF!))),0)),\"\")","v":""},{"$f":"IFERROR(INDEX(#REF!,MATCH(0,IF(#REF!<>\"\",IF(#REF!=10,COUNTIF($S$3:V5,#REF!))),0)),\"\")","v":""},{"$f":"IFERROR(INDEX(#REF!,MATCH(0,IF(#REF!<>\"\",IF(#REF!=11,COUNTIF($S$3:W5,#REF!))),0)),\"\")","v":""},null,null,1,3,"",{"$f":"bochange($AB6,AC$4)","v":{"$error":"#NAME?"}},{"$error":"#NAME?"},{"$error":"#NAME?"},{"$nulls":3},{"$f":"selComp2","v":{"$error":"#NAME?"}},{"$f":"cntcompare(AI6)","v":{"$error":"#NAME?"}},{"$error":"#NAME?"},{"$nulls":9},"a-",20,null,"2c",18,null,null,"Wc",3,{"$nulls":6},"1b",9,null,"D",34,null,"1b",9,null,1.4,"Wc"]
["Wb",7,null,{"$f":"RIGHT(E7,LEN(E7)-SEARCH(\"_\",E7,1))","v":"10"},"Year_10","",null,null,"All","BCRB","All",null,3,"All","Sum 1",null,null,"selPeriod2",{"$f":"IFERROR(INDEX(#REF!,MATCH(0,IF(#REF!<>\"\",IF(#REF!=7,COUNTIF($S$3:S6,#REF!))),0)),\"\")","v":""},{"$f":"IFERROR(INDEX(#REF!,MATCH(0,IF(#REF!<>\"\",IF(#REF!=8,COUNTIF($S$3:T6,#REF!))),0)),\"\")","v":""},{"$f":"IFERROR(INDEX(#REF!,MATCH(0,IF(#REF!<>\"\",IF(#REF!=9,COUNTIF($S$3:U6,#REF!))),0)),\"\")","v":""},{"$f":"IFERROR(INDEX(#REF!,MATCH(0,IF(#REF!<>\"\",IF(#REF!=10,COUNTIF($S$3:V6,#REF!))),0)),\"\")","v":""},{"$f":"IFERROR(INDEX(#REF!,MATCH(0,IF(#REF!<>\"\",IF(#REF!=11,COUNTIF($S$3:W6,#REF!))),0)),\"\")","v":""},null,1,"H_Axis",4,"",{"$f":"bochange($AB7,AC$4)","v":{"$error":"#NAME?"}},{"$error":"#NAME?"},{"$error":"#NAME?"},{"$nulls":3},"lstcht4",{"$nulls":11},"b+",19,null,"2b",24,null,null,"1b-",4,{"$nulls":6},"1a",11,null,"E",28,null,"1a",11,null,1.5,"Wc"]
["1b+",8,null,{"$f":"RIGHT(E8,LEN(E8)-SEARCH(\"_\",E8,1))","v":"11"},"Year_11","",null,null,"selGender","WOTH","selFSM",1,4,"selGT","Sum 2",{"$nulls":3},{"$f":"IFERROR(INDEX(#REF!,MATCH(0,IF(#REF!<>\"\",IF(#REF!=7,COUNTIF($S$3:S7,#REF!))),0)),\"\")","v":""},{"$f":"IFERROR(INDEX(#REF!,MATCH(0,IF(#REF!<>\"\",IF(#REF!=8,COUNTIF($S$3:T7,#REF!))),0)),\"\")","v":""},{"$f":"IFERROR(INDEX(#REF!,MATCH(0,IF(#REF!<>\"\",IF(#REF!=9,COUNTIF($S$3:U7,#REF!))),0)),\"\")","v":""},{"$f":"IFERROR(INDEX(#REF!,MATCH(0,IF(#REF!<>\"\",IF(#REF!=10,COUNTIF($S$3:V7,#REF!))),0)),\"\")","v":""},{"$f":"IFERROR(INDEX(#REF!,MATCH(0,IF(#REF!<>\"\",IF(#REF!=11,COUNTIF($S$3:W7,#REF!))),0)),\"\")","v":""},null,null,"Group",5,"",{"$f":"bochange($AB8,AC$4)","v":{"$error":"#NAME?"}},{"$error":"#NAME?"},{"$error":"#NAME?"},{"$nulls":3},"Attendance >= 90%",90,"Attendance Variable",{"$nulls":9},"b",18,null,"2a",30,null,null,"Wb",5,{"$nulls":6},"2c",13,null,"F",22,null,"2c",13,null,1.6,"Wc"]
["Wb",9,null,null,2,"",{"$nulls":3},"AIND",null,"All",5,{"$nulls":5},{"$f":"IFERROR(INDEX(#REF!,MATCH(0,IF(#REF!<>\"\",IF(#REF!=7,COUNTIF($S$3:S8,#REF!))),0)),\"\")","v":""},{"$f":"IFERROR(INDEX(#REF!,MATCH(0,IF(#REF!<>\"\",IF(#REF!=8,COUNTIF($S$3:T8,#REF!))),0)),\"\")","v":""},{"$f":"IFERROR(INDEX(#REF!,MATCH(0,IF(#REF!<>\"\",IF(#REF!=9,COUNTIF($S$3:U8,#REF!))),0)),\"\")","v":""},{"$f":"IFERROR(INDEX(#REF!,MATCH(0,IF(#REF!<>\"\",IF(#REF!=10,COUNTIF($S$3:V8,#REF!))),0)),\"\")","v":""},{"$f":"IFERROR(INDEX(#REF!,MATCH(0,IF(#REF!<>\"\",IF(#REF!=11,COUNTIF($S$3:W8,#REF!))),0)),\"\")","v":""},null,null,"V_Axis",6,"",{"$f":"bochange($AB9,AC$4)","v":{"$error":"#NAME?"}},{"$error":"#NAME?"},{"$error":"#NAME?"},{"$nulls":3},"Avg KS2 Points",{"$nulls":11},"b-",17,null,"3c",36,null,null,"1b",6,{"$nulls":6},"2b",15,null,"G",16,null,"2b",15,null,1.7,"Wc"]
["1a-",10,null,null,"Year_7","",{"$nulls":3},"BAFR",null,"selDisabled",1,{"$nulls":5},{"$f":"IFERROR(INDEX(#REF!,MATCH(0,IF(#REF!<>\"\",IF(#REF!=7,COUNTIF($S$3:S9,#REF!))),0)),\"\")","v":""},{"$f":"IFERROR(INDEX(#REF!,MATCH(0,IF(#REF!<>\"\",IF(#REF!=8,COUNTIF($S$3:T9,#REF!))),0)),\"\")","v":""},{"$f":"IFERROR(INDEX(#REF!,MATCH(0,IF(#REF!<>\"\",IF(#REF!=9,COUNTIF($S$3:U9,#REF!))),0)),\"\")","v":""},{"$f":"IFERROR(INDEX(#REF!,MATCH(0,IF(#REF!<>\"\",IF(#REF!=10,COUNTIF($S$3:V9,#REF!))),0)),\"\")","v":""},{"$f":"IFERROR(INDEX(#REF!,MATCH(0,IF(#REF!<>\"\",IF(#REF!=11,COUNTIF($S$3:W9,#REF!))),0)),\"\")","v":""},null,null,"Count of Students",7,"",{"$f":"bochange($AB10,AC$4)","v":{"$error":"#NAME?"}},{"$error":"#NAME?"},{"$error":"#NAME?"},{"$nulls":3},"Avg Reading Age",{"$nulls":11},"c+",16,null,"3b",42,null,null,"Wb",7,{"$nulls":6},"2a",17,{"$nulls":4},"2a",17,null,1.8,"Wc"]
["Wa",11,null,null,"selYear","",{"$nulls":3},"APKN",null,null,"All",{"$nulls":5},{"$f":"IFERROR(INDEX(#REF!,MATCH(0,IF(#REF!<>\"\",IF(#REF!=7,COUNTIF($S$3:S10,#REF!))),0)),\"\")","v":""},{"$f":"IFERROR(INDEX(#REF!,MATCH(0,IF(#REF!<>\"\",IF(#REF!=8,COUNTIF($S$3:T10,#REF!))),0)),\"\")","v":""},{"$f":"IFERROR(INDEX(#REF!,MATCH(0,IF(#REF!<>\"\",IF(#REF!=9,COUNTIF($S$3:U10,#REF!))),0)),\"\")","v":""},{"$f":"IFERROR(INDEX(#REF!,MATCH(0,IF(#REF!<>\"\",IF(#REF!=10,COUNTIF($S$3:V10,#REF!))),0)),\"\")","v":""},{"$f":"IFERROR(INDEX(#REF!,MATCH(0,IF(#REF!<>\"\",IF(#REF!=11,COUNTIF($S$3:W10,#REF!))),0)),\"\")","v":""},{"$nulls":3},8,"",{"$f":"bochange($AB11,AC$4)","v":{"$error":"#NAME?"}},{"$error":"#NAME?"},{"$error":"#NAME?"},{"$nulls":3},2,{"$nulls":11},"c",15,null,"3a",48,null,null,"1b+",8,{"$nulls":6},"3c",19,{"$nulls":4},"3c",19,null,1.9,"Wc"]
["1a",12,null,null,{"$f":"INDEX(D3:D8,E9)","v":"7"},"",{"$nulls":3},"AOTH",null,null,"selEAL",{"$nulls":5},{"$f":"IFERROR(INDEX(#REF!,MATCH(0,IF(#REF!<>\"\",IF(#REF!=7,COUNTIF($S$3:S11,#REF!))),0)),\"\")","v":""},{"$f":"IFERROR(INDEX(#REF!,MATCH(0,IF(#REF!<>\"\",IF(#REF!=8,COUNTIF($S$3:T11,#REF!))),0)),\"\")","v":""},{"$f":"IFERROR(INDEX(#REF!,MATCH(0,IF(#REF!<>\"\",IF(#REF!=9,COUNTIF($S$3:U11,#REF!))),0)),\"\")","v":""},{"$f":"IFERROR(INDEX(#REF!,MATCH(0,IF(#REF!<>\"\",IF(#REF!=10,COUNTIF($S$3:V11,#REF!))),0)),\"\")","v":""},{"$f":"IFERROR(INDEX(#REF!,MATCH(0,IF(#REF!<>\"\",IF(#REF!=11,COUNTIF($S$3:W11,#REF!))),0)),\"\")","v":""},{"$nulls":3},9,"",{"$f":"bochange($AB12,AC$4)","v":{"$error":"#NAME?"}},{"$error":"#NAME?"},{"$error":"#NAME?"},{"$nulls":3},"Avg KS2 Points",{"$nulls":11},"c-",14,null,"4c",54,null,null,"Wb",9,{"$nulls":6},"3b",21,{"$nulls":4},"3b",21,null,2,"Wb"]
["Wa",13,null,null,"selYrTbl","",{"$nulls":3},"ABAN",{"$nulls":8},{"$f":"IFERROR(INDEX(#REF!,MATCH(0,IF(#REF!<>\"\",IF(#REF!=7,COUNTIF($S$3:S12,#REF!))),0)),\"\")","v":""},{"$f":"IFERROR(INDEX(#REF!,MATCH(0,IF(#REF!<>\"\",IF(#REF!=8,COUNTIF($S$3:T12,#REF!))),0)),\"\")","v":""},{"$f":"IFERROR(INDEX(#REF!,MATCH(0,IF(#REF!<>\"\",IF(#REF!=9,COUNTIF($S$3:U12,#REF!))),0)),\"\")","v":""},{"$f":"IFERROR(INDEX(#REF!,MATCH(0,IF(#REF!<>\"\",IF(#REF!=10,COUNTIF($S$3:V12,#REF!))),0)),\"\")","v":""},{"$f":"IFERROR(INDEX(#REF!,MATCH(0,IF(#REF!<>\"\",IF(#REF!=11,COUNTIF($S$3:W12,#REF!))),0)),\"\")","v":""},{"$nulls":3},10,"",{"$f":"bochange($AB13,AC$4)","v":{"$error":"#NAME?"}},{"$error":"#NAME?"},{"$error":"#NAME?"},{"$nulls":15},"d+",13,null,"4b",60,null,null,"1a-",10,{"$nulls":6},"3a",23,{"$nulls":4},"3a",23,null,2.1,"Wb"]
["1a+",14,{"$nulls":3},"",{"$nulls":3},"BOTH",{"$nulls":8},{"$f":"IFERROR(INDEX(#REF!,MATCH(0,IF(#REF!<>\"\",IF(#REF!=7,COUNTIF($S$3:S13,#REF!))),0)),\"\")","v":""},{"$f":"IFERROR(INDEX(#REF!,MATCH(0,IF(#REF!<>\"\",IF(#REF!=8,COUNTIF($S$3:T13,#REF!))),0)),\"\")","v":""},{"$f":"IFERROR(INDEX(#REF!,MATCH(0,IF(#REF!<>\"\",IF(#REF!=9,COUNTIF($S$3:U13,#REF!))),0)),\"\")","v":""},{"$f":"IFERROR(INDEX(#REF!,MATCH(0,IF(#REF!<>\"\",IF(#REF!=10,COUNTIF($S$3:V13,#REF!))),0)),\"\")","v":""},{"$f":"IFERROR(INDEX(#REF!,MATCH(0,IF(#REF!<>\"\",IF(#REF!=11,COUNTIF($S$3:W13,#REF!))),0)),\"\")","v":""},{"$nulls":3},11,"",{"$f":"bochange($AB14,AC$4)","v":{"$error":"#NAME?"}},{"$error":"#NAME?"},{"$error":"#NAME?"},{"$nulls":15},"d",12,null,"4a",66,null,null,"Wa",11,{"$nulls":6},"4c",25,{"$nulls":4},"4c",25,null,2.2,"Wb"]
["Wa",15,{"$nulls":3},"",{"$nulls":3},"REFU",{"$nulls":8},{"$f":"IFERROR(INDEX(#REF!,MATCH(0,IF(#REF!<>\"\",IF(#REF!=7,COUNTIF($S$3:S14,#REF!))),0)),\"\")","v":""},{"$f":"IFERROR(INDEX(#REF!,MATCH(0,IF(#REF!<>\"\",IF(#REF!=8,COUNTIF($S$3:T14,#REF!))),0)),\"\")","v":""},{"$f":"IFERROR(INDEX(#REF!,MATCH(0,IF(#REF!<>\"\",IF(#REF!=9,COUNTIF($S$3:U14,#REF!))),0)),\"\")","v":""},{"$f":"IFERROR(INDEX(#REF!,MATCH(0,IF(#REF!<>\"\",IF(#REF!=10,COUNTIF($S$3:V14,#REF!))),0)),\"\")","v":""},{"$f":"IFERROR(INDEX(#REF!,MATCH(0,IF(#REF!<>\"\",IF(#REF!=11,COUNTIF($S$3:W14,#REF!))),0)),\"\")","v":""},{"$nulls":3},12,"",{"$f":"bochange($AB15,AC$4)","v":{"$error":"#NAME?"}},{"$error":"#NAME?"},{"$error":"#NAME?"},{"$nulls":15},"d-",11,null,"5c",72,null,null,"1a",12,{"$nulls":6},"4b",27,{"$nulls":4},"4b",27,null,2.3,"Wb"]
["2c-",16,{"$nulls":3},"",{"$nulls":3},"OOTH",{"$nulls":8},{"$f":"IFERROR(INDEX(#REF!,MATCH(0,IF(#REF!<>\"\",IF(#REF!=7,COUNTIF($S$3:S15,#REF!))),0)),\"\")","v":""},{"$f":"IFERROR(INDEX(#REF!,MATCH(0,IF(#REF!<>\"\",IF(#REF!=8,COUNTIF($S$3:T15,#REF!))),0)),\"\")","v":""},{"$f":"IFERROR(INDEX(#REF!,MATCH(0,IF(#REF!<>\"\",IF(#REF!=9,COUNTIF($S$3:U15,#REF!))),0)),\"\")","v":""},{"$f":"IFERROR(INDEX(#REF!,MATCH(0,IF(#REF!<>\"\",IF(#REF!=10,COUNTIF($S$3:V15,#REF!))),0)),\"\")","v":""},{"$f":"IFERROR(INDEX(#REF!,MATCH(0,IF(#REF!<>\"\",IF(#REF!=11,COUNTIF($S$3:W15,#REF!))),0)),\"\")","v":""},{"$nulls":3},13,"",{"$f":"bochange($AB16,AC$4)","v":{"$error":"#NAME?"}},{"$error":"#NAME?"},{"$error":"#NAME?"},{"$nulls":15},"e+",10,null,"5b",78,null,null,"Wa",13,{"$nulls":6},"4a",29,{"$nulls":4},"4a",29,null,2.4,"Wb"]
["U",17,{"$nulls":3},1,{"$nulls":3},"MWAS",{"$nulls":8},"warning label",{"$nulls":7},14,"",{"$error":"#NAME?"},{"$error":"#NAME?"},{"$error":"#NAME?"},{"$nulls":3},"Chart 5 (Main)",null,"U","O","E",null,null,"U","O","E",null,null,"E",9,null,"5a",84,null,null,"1a+",14,{"$nulls":6},"5c",31,{"$nulls":4},"5c",31,null,2.5,"Wb"]
["2c",18,{"$nulls":3},"All",{"$nulls":3},"MWBA",{"$nulls":8},"",{"$nulls":7},15,"",{"$error":"#NAME?"},{"$error":"#NAME?"},{"$error":"#NAME?"},{"$nulls":4},"Aut1",0,0,0,null,"Aut1",{"$f":"IFERROR(AK18/SUM($AK$18:$AM$18),\"\")","v":""},{"$f":"IFERROR(AL18/SUM($AK$18:$AM$18),\"\")","v":""},{"$f":"IFERROR(AM18/SUM($AK$18:$AM$18),\"\")","v":""},null,null,"e-",8,null,"6c",90,null,null,"Wa",15,{"$nulls":6},"5b",33,{"$nulls":4},"5b",33,null,2.6,"Wb"]
["U",19,{"$nulls":3},"selGroup",{"$nulls":3},"NOBT",{"$nulls":16},16,"",{"$error":"#NAME?"},{"$error":"#NAME?"},{"$error":"#NAME?"},{"$nulls":4},"Aut2",0,0,0,null,"Aut2",{"$f":"IFERROR(AK19/SUM($AK$19:$AM$19),\"\")","v":""},{"$f":"IFERROR(AL19/SUM($AK$19:$AM$19),\"\")","v":""},{"$f":"IFERROR(AM19/SUM($AK$19:$AM$19),\"\")","v":""},null,null,"f+",7,null,"6b",96,null,null,"2c-",16,{"$nulls":6},"5a",35,{"$nulls":4},"5a",35,null,2.7,"Wb"]
["2c+",20,{"$nulls":7},"WIRI",{"$nulls":16},17,"",{"$error":"#NAME?"},{"$error":"#NAME?"},{"$error":"#NAME?"},{"$nulls":4},"Spr1",0,0,0,null,"Spr1",{"$f":"IFERROR(AK20/SUM($AK$20:$AM$20),\"\")","v":""},{"$f":"IFERROR(AL20/SUM($AK$20:$AM$20),\"\")","v":""},{"$f":"IFERROR(AM20/SUM($AK$20:$AM$20),\"\")","v":""},null,null,"f",6,null,"6a",102,null,null,"U",17,{"$nulls":6},"6c",37,{"$nulls":4},"6c",37,null,2.8,"Wb"]
["U",21,{"$nulls":7},"CHNE",{"$nulls":16},18,"",{"$error":"#NAME?"},{"$error":"#NAME?"},{"$error":"#NAME?"},{"$nulls":4},"Spr2",0,0,0,null,"Spr2",{"$f":"IFERROR(AK21/SUM($AK$21:$AM$21),\"\")","v":""},{"$f":"IFERROR(AL21/SUM($AK$21:$AM$21),\"\")","v":""},{"$f":"IFERROR(AM21/SUM($AK$21:$AM$21),\"\")","v":""},null,null,"f-",5,null,"7c",108,null,null,"2c",18,{"$nulls":6},"6b",39,{"$nulls":4},"6b",39,null,2.9,"Wb"]
["2b-",22,{"$nulls":7},"WIRT","for table","lstCompare","Year","Group","Gender","Ethnicity","SEN_Stage","Ranked_Need","FSM","Disabled","EAL","GandT","lstSelComp",{"$nulls":3},19,"",{"$error":"#NAME?"},{"$error":"#NAME?"},{"$error":"#NAME?"},{"$nulls":4},"Sum1",0,0,0,null,"Sum1",{"$f":"IFERROR(AK22/SUM($AK$22:$AM$22),\"\")","v":""},{"$f":"IFERROR(AL22/SUM($AK$22:$AM$22),\"\")","v":""},{"$f":"IFERROR(AM22/SUM($AK$22:$AM$22),\"\")","v":""},null,null,"g+",4,null,"7b",114,null,null,"U",19,{"$nulls":6},"6a",41,{"$nulls":4},"6a",41,null,3,"Wb"]
["U",23,{"$nulls":7},1,{"$f":"IFERROR(REPLACE(L23,SEARCH(\"_\",L23,1),1,\" \"),L23)","v":"Year"},"Year",7,{"$f":"IFERROR(INDEX(#REF!,MATCH(0,IF(#REF!<>\"\",COUNTIF($N$22:N22,#REF!)),0)),\"\")","v":""},"M","WBRI","A","SPLD","Y",null,0,"Y",7,{"$nulls":3},20,"",{"$f":"bochange($AB23,AC$4)","v":{"$error":"#NAME?"}},{"$error":"#NAME?"},{"$error":"#NAME?"},{"$nulls":4},"Sum 2",0,0,0,null,"Sum 2",{"$f":"IFERROR(AK23/SUM($AK$23:$AM$23),\"\")","v":""},{"$f":"IFERROR(AL23/SUM($AK$23:$AM$23),\"\")","v":""},{"$f":"IFERROR(AM23/SUM($AK$23:$AM$23),\"\")","v":""},null,null,"g",3,null,"7a",120,null,null,"2c+",20,{"$nulls":6},"7c",43,{"$nulls":4},"7c",43,null,3.1,"Wb"]
["2b",24,{"$nulls":7},"All",{"$f":"IFERROR(REPLACE(L24,SEARCH(\"_\",L24,1),1,\" \"),L24)","v":"Group"},"Group",8,{"$f":"IFERROR(INDEX(#REF!,MATCH(0,IF(#REF!<>\"\",COUNTIF($N$22:N23,#REF!)),0)),\"\")","v":""},"F","MWBC","N",0,"N",null,1,"N",8,{"$nulls":23},"g-",2,null,"W","",null,null,"U",21,{"$nulls":6},"7b",45,{"$nulls":4},"7b",45,null,3.2,"Wb"]
["U",25,{"$nulls":7},"selEthnicity","Gender","Gender",9,{"$f":"IFERROR(INDEX(#REF!,MATCH(0,IF(#REF!<>\"\",COUNTIF($N$22:N24,#REF!)),0)),\"\")","v":""},null,"MOTH","P","BESD",null,null,2,null,9,{"$nulls":4},"Chart 2","Aut 1","Aut 2","Spr 1","Spr 2","Sum 1","Sum 2",null,true,{"$nulls":10},"u",1,null,"A+",137,null,null,"2b-",22,{"$nulls":6},"7a",47,{"$nulls":4},"7a",47,null,3.3,"Wb"]
["2b+",26,{"$nulls":8},"Ethnicity","Ethnicity",10,{"$f":"IFERROR(INDEX(#REF!,MATCH(0,IF(#REF!<>\"\",COUNTIF($N$22:N25,#REF!)),0)),\"\")","v":""},null,"BCRB","S","ASD",null,null,3,null,10,null,"Avg Pts",1,{"$f":"\"-------->\"","v":"-------->"},{"$f":"Y26","v":"Avg Pts"},{"$error":"#N/A"},{"$error":"#N/A"},{"$error":"#N/A"},{"$error":"#N/A"},{"$error":"#N/A"},{"$error":"#N/A"},null,null,"U","O","E",null,null,"U","O","E",null,null,"7A",19,null,"A",131,null,null,"U",23,{"$nulls":6},"W",3,{"$nulls":4},"W",3,null,3.4,"Wb"]
["G",27,{"$nulls":8},"SEN Stage","SEN_Stage",11,{"$f":"IFERROR(INDEX(#REF!,MATCH(0,IF(#REF!<>\"\",COUNTIF($N$22:N26,#REF!)),0)),\"\")","v":""},null,"WOTH",null,"SLCN",null,null,4,null,11,{"$nulls":4},{"$f":"Y26&\" Schoolwide\"","v":"Avg Pts Schoolwide"},{"$error":"#N/A"},{"$error":"#N/A"},{"$error":"#N/A"},{"$error":"#N/A"},{"$error":"#N/A"},{"$error":"#N/A"},null,"Aut1",0,0,0,null,"Aut1",{"$f":"IFERROR(AK27/SUM($AK$27:$AM$27),\"\")","v":""},{"$f":"IFERROR(AL27/SUM($AK$27:$AM$27),\"\")","v":""},{"$f":"IFERROR(AM27/SUM($AK$27:$AM$27),\"\")","v":""},null,null,"7B",18,null,"A-",125,null,null,"2b",24,{"$nulls":6},"A+",54,{"$nulls":4},1,9,null,3.5,"Wb"]
["2a-",28,{"$nulls":8},"Ranked Need","Ranked_Need",null,{"$f":"IFERROR(INDEX(#REF!,MATCH(0,IF(#REF!<>\"\",COUNTIF($N$22:N27,#REF!)),0)),\"\")","v":""},null,"AIND",null,"MLD",null,null,5,null,"",{"$nulls":12},"Aut2",0,0,0,null,"Aut2",{"$f":"IFERROR(AK28/SUM($AK$28:$AM$28),\"\")","v":""},{"$f":"IFERROR(AL28/SUM($AK$28:$AM$28),\"\")","v":""},{"$f":"IFERROR(AM28/SUM($AK$28:$AM$28),\"\")","v":""},null,null,"7C",17,null,"B+",119,null,null,"U",25,{"$nulls":6},"A",52,{"$nulls":4},2,15,null,3.6,"Wb"]
["G",29,{"$nulls":8},"FSM","FSM",null,{"$f":"IFERROR(INDEX(#REF!,MATCH(0,IF(#REF!<>\"\",COUNTIF($N$22:N28,#REF!)),0)),\"\")","v":""},null,"BAFR",null,"VI",{"$nulls":4},"",{"$nulls":5},"chtField3",{"$nulls":6},"Spr1",0,0,0,null,"Spr1",{"$f":"IFERROR(AK29/SUM($AK$29:$AM$29),\"\")","v":""},{"$f":"IFERROR(AL29/SUM($AK$29:$AM$29),\"\")","v":""},{"$f":"IFERROR(AM29/SUM($AK$29:$AM$29),\"\")","v":""},null,null,"6A",16,null,"B",113,null,null,"2b+",26,{"$nulls":6},"A-",50,{"$nulls":4},3,21,null,3.7,"Wb"]
["2a",30,{"$nulls":8},"Disabled","Disabled",null,{"$f":"IFERROR(INDEX(#REF!,MATCH(0,IF(#REF!<>\"\",COUNTIF($N$22:N29,#REF!)),0)),\"\")","v":""},null,"APKN",null,"PD",{"$nulls":4},"",{"$nulls":4},"Chart 3","Aut 1 Comp",{"$nulls":6},"Spr2",0,0,0,null,"Spr2",{"$f":"IFERROR(AK30/SUM($AK$30:$AM$30),\"\")","v":""},{"$f":"IFERROR(AL30/SUM($AK$30:$AM$30),\"\")","v":""},{"$f":"IFERROR(AM30/SUM($AK$30:$AM$30),\"\")","v":""},null,null,"6B",15,null,"B-",107,null,null,"G",27,{"$nulls":6},"B+",48,{"$nulls":4},4,27,null,3.8,"Wb"]
["G",31,{"$nulls":8},"EAL","EAL",null,{"$f":"IFERROR(INDEX(#REF!,MATCH(0,IF(#REF!<>\"\",COUNTIF($N$22:N30,#REF!)),0)),\"\")","v":""},null,"AOTH",null,"SLD",{"$nulls":4},"",{"$nulls":5},"Under-performing","On Target","Exceeding Target","vU","vO","vE",null,"Sum1",0,0,0,null,"Sum1",{"$f":"IFERROR(AK31/SUM($AK$31:$AM$31),\"\")","v":""},{"$f":"IFERROR(AL31/SUM($AK$31:$AM$31),\"\")","v":""},{"$f":"IFERROR(AM31/SUM($AK$31:$AM$31),\"\")","v":""},null,null,"6C",14,null,"C+",101,null,null,"2a-",28,{"$nulls":6},"B",46,{"$nulls":4},5,33,null,3.9,"Wb"]
["2a+",32,{"$nulls":8},"GandT","GandT",null,{"$f":"IFERROR(INDEX(#REF!,MATCH(0,IF(#REF!<>\"\",COUNTIF($N$22:N31,#REF!)),0)),\"\")","v":""},null,"ABAN",{"$nulls":6},"",{"$nulls":4},1,{"$f":"IF(scatterchange($AB32,AC$31)=0,NA(),scatterchange($AB32,AC$31))","v":{"$error":"#NAME?"}},{"$error":"#NAME?"},{"$error":"#NAME?"},0.5,1.5,2.5,null,"Sum 2",0,0,0,null,"Sum 2",{"$f":"IFERROR(AK32/SUM($AK$32:$AM$32),\"\")","v":""},{"$f":"IFERROR(AL32/SUM($AK$32:$AM$32),\"\")","v":""},{"$f":"IFERROR(AM32/SUM($AK$32:$AM$32),\"\")","v":""},null,null,"5A",13,null,"C",95,null,null,"G",29,{"$nulls":6},"B-",44,{"$nulls":4},6,39,null,4,"Wa"]
["G",33,{"$nulls":8},{"$f":"L33","v":1},1,null,{"$f":"IFERROR(INDEX(#REF!,MATCH(0,IF(#REF!<>\"\",COUNTIF($N$22:N32,#REF!)),0)),\"\")","v":""},null,"BOTH",{"$nulls":6},"",{"$nulls":4},2,{"$f":"IF(scatterchange($AB33,AC$31)=0,NA(),scatterchange($AB33,AC$31))","v":{"$error":"#NAME?"}},{"$error":"#NAME?"},{"$error":"#NAME?"},0.5,1.5,2.5,{"$nulls":12},"5B",12,null,"C-",89,null,null,"2a",30,{"$nulls":6},"C+",42,{"$nulls":7},4.1,"Wa"]
["3c-",34,{"$nulls":8},{"$f":"INDEX(K23:K32,K33)","v":"Year"},"Year",null,{"$f":"IFERROR(INDEX(#REF!,MATCH(0,IF(#REF!<>\"\",COUNTIF($N$22:N33,#REF!)),0)),\"\")","v":""},null,"REFU",null,"selComp1",3,{"$f":"INDEX(lstSelComp,S34)","v":{"$error":"#NAME?"}},null,null,"",{"$nulls":4},3,{"$f":"IF(scatterchange($AB34,AC$31)=0,NA(),scatterchange($AB34,AC$31))","v":{"$error":"#NAME?"}},{"$error":"#NAME?"},{"$error":"#NAME?"},0.5,1.5,2.5,{"$nulls":12},"5C",11,null,"D+",83,null,null,"G",31,{"$nulls":6},"C",40,{"$nulls":7},4.2,"Wa"]
["F-",35,{"$nulls":11},{"$f":"IFERROR(INDEX(#REF!,MATCH(0,IF(#REF!<>\"\",COUNTIF($N$22:N34,#REF!)),0)),\"\")","v":""},null,"OOTH",null,"selComp2",1,{"$f":"INDEX(lstSelComp,S35)","v":{"$error":"#NAME?"}},null,null,"",{"$nulls":4},4,{"$f":"IF(scatterchange($AB35,AC$31)=0,NA(),scatterchange($AB35,AC$31))","v":{"$error":"#NAME?"}},{"$error":"#NAME?"},{"$error":"#NAME?"},0.5,1.5,2.5,{"$nulls":12},"4A",10,null,"D",77,null,null,"2a+",32,{"$nulls":6},"C-",38,{"$nulls":7},4.3,"Wa"]
["3c",36,{"$nulls":11},{"$f":"IFERROR(INDEX(#REF!,MATCH(0,IF(#REF!<>\"\",COUNTIF($N$22:N35,#REF!)),0)),\"\")","v":""},null,"MWAS",{"$nulls":6},"",{"$nulls":4},5,{"$f":"IF(scatterchange($AB36,AC$31)=0,NA(),scatterchange($AB36,AC$31))","v":{"$error":"#NAME?"}},{"$error":"#NAME?"},{"$error":"#NAME?"},0.5,1.5,2.5,{"$nulls":12},"4B",9,null,"D-",71,null,null,"G",33,{"$nulls":6},"D+",36,{"$nulls":7},4.4,"Wa"]
["F-",37,{"$nulls":11},{"$f":"IFERROR(INDEX(#REF!,MATCH(0,IF(#REF!<>\"\",COUNTIF($N$22:N36,#REF!)),0)),\"\")","v":""},null,"MWBA",{"$nulls":6},"",{"$nulls":4},6,{"$f":"IF(scatterchange($AB37,AC$31)=0,NA(),scatterchange($AB37,AC$31))","v":{"$error":"#NAME?"}},{"$error":"#NAME?"},{"$error":"#NAME?"},0.5,1.5,2.5,{"$nulls":12},"4C",8,null,"E+",65,null,null,"3c-",34,{"$nulls":6},"D",34,{"$nulls":7},4.5,"Wa"]
["3c+",38,{"$nulls":11},{"$f":"IFERROR(INDEX(#REF!,MATCH(0,IF(#REF!<>\"\",COUNTIF($N$22:N37,#REF!)),0)),\"\")","v":""},null,"NOBT",{"$nulls":6},"",{"$nulls":4},7,{"$f":"IF(scatterchange($AB38,AC$31)=0,NA(),scatterchange($AB38,AC$31))","v":{"$error":"#NAME?"}},{"$error":"#NAME?"},{"$error":"#NAME?"},0.5,1.5,2.5,{"$nulls":12},"3A",7,null,"E",59,null,null,"F-",35,{"$nulls":6},"D-",32,{"$nulls":7},4.6,"Wa"]
["F-",39,{"$nulls":11},{"$f":"IFERROR(INDEX(#REF!,MATCH(0,IF(#REF!<>\"\",COUNTIF($N$22:N38,#REF!)),0)),\"\")","v":""},null,"WIRI",{"$nulls":6},"",{"$nulls":4},8,{"$f":"IF(scatterchange($AB39,AC$31)=0,NA(),scatterchange($AB39,AC$31))","v":{"$error":"#NAME?"}},{"$error":"#NAME?"},{"$error":"#NAME?"},0.5,1.5,2.5,{"$nulls":12},"3B",6,null,"E-",53,null,null,"3c",36,{"$nulls":6},"E+",30,{"$nulls":7},4.7,"Wa"]
["3b-",40,{"$nulls":11},{"$f":"IFERROR(INDEX(#REF!,MATCH(0,IF(#REF!<>\"\",COUNTIF($N$22:N39,#REF!)),0)),\"\")","v":""},null,"CHNE",{"$nulls":6},"",{"$nulls":4},9,{"$f":"IF(scatterchange($AB40,AC$31)=0,NA(),scatterchange($AB40,AC$31))","v":{"$error":"#NAME?"}},{"$error":"#NAME?"},{"$error":"#NAME?"},0.5,1.5,2.5,{"$nulls":12},"3C",5,null,"F+",47,null,null,"F-",37,{"$nulls":6},"E",28,{"$nulls":7},4.8,"Wa"]
["F",41,{"$nulls":11},{"$f":"IFERROR(INDEX(#REF!,MATCH(0,IF(#REF!<>\"\",COUNTIF($N$22:N40,#REF!)),0)),\"\")","v":""},null,"WIRT",{"$nulls":6},"",{"$nulls":4},10,{"$f":"IF(scatterchange($AB41,AC$31)=0,NA(),scatterchange($AB41,AC$31))","v":{"$error":"#NAME?"}},{"$error":"#NAME?"},{"$error":"#NAME?"},0.5,1.5,2.5,{"$nulls":12},"2A",4,null,"F",41,null,null,"3c+",38,{"$nulls":6},"E-",26,{"$nulls":7},4.9,"Wa"]
["3b",42,{"$nulls":11},{"$f":"IFERROR(INDEX(#REF!,MATCH(0,IF(#REF!<>\"\",COUNTIF($N$22:N41,#REF!)),0)),\"\")","v":""},{"$nulls":8},"",{"$nulls":4},11,{"$f":"IF(scatterchange($AB42,AC$31)=0,NA(),scatterchange($AB42,AC$31))","v":{"$error":"#NAME?"}},{"$error":"#NAME?"},{"$error":"#NAME?"},0.5,1.5,2.5,{"$nulls":12},"2B",3,null,"F-",35,null,null,"F-",39,{"$nulls":6},"F+",24,{"$nulls":7},5,"Wa"]
["F",43,{"$nulls":11},{"$f":"IFERROR(INDEX(#REF!,MATCH(0,IF(#REF!<>\"\",COUNTIF($N$22:N42,#REF!)),0)),\"\")","v":""},{"$nulls":8},"",{"$nulls":4},12,{"$f":"IF(scatterchange($AB43,AC$31)=0,NA(),scatterchange($AB43,AC$31))","v":{"$error":"#NAME?"}},{"$error":"#NAME?"},{"$error":"#NAME?"},0.5,1.5,2.5,{"$nulls":12},"2C",2,null,"G+","",null,null,"3b-",40,{"$nulls":6},"F",22,{"$nulls":7},5.1,"Wa"]
["3b+",44,{"$nulls":11},{"$f":"IFERROR(INDEX(#REF!,MATCH(0,IF(#REF!<>\"\",COUNTIF($N$22:N43,#REF!)),0)),\"\")","v":""},{"$nulls":8},"",{"$nulls":4},13,{"$f":"IF(scatterchange($AB44,AC$31)=0,NA(),scatterchange($AB44,AC$31))","v":{"$error":"#NAME?"}},{"$error":"#NAME?"},{"$error":"#NAME?"},0.5,1.5,2.5,{"$nulls":15},"G",27,null,null,"F",41,{"$nulls":6},"F-",20,{"$nulls":7},5.2,"Wa"]
["F",45,{"$nulls":11},{"$f":"IFERROR(INDEX(#REF!,MATCH(0,IF(#REF!<>\"\",COUNTIF($N$22:N44,#REF!)),0)),\"\")","v":""},{"$nulls":8},"",{"$nulls":4},14,{"$f":"IF(scatterchange($AB45,AC$31)=0,NA(),scatterchange($AB45,AC$31))","v":{"$error":"#NAME?"}},{"$error":"#NAME?"},{"$error":"#NAME?"},0.5,1.5,2.5,{"$nulls":15},"G-","",null,null,"3b",42,{"$nulls":6},"G+",18,{"$nulls":7},5.3,"Wa"]
["3a-",46,{"$nulls":11},{"$f":"IFERROR(INDEX(#REF!,MATCH(0,IF(#REF!<>\"\",COUNTIF($N$22:N45,#REF!)),0)),\"\")","v":""},{"$nulls":8},"",{"$nulls":4},15,{"$f":"IF(scatterchange($AB46,AC$31)=0,NA(),scatterchange($AB46,AC$31))","v":{"$error":"#NAME?"}},{"$error":"#NAME?"},{"$error":"#NAME?"},0.5,1.5,2.5,{"$nulls":15},"U",17,null,null,"F",43,{"$nulls":6},"G",16,{"$nulls":7},5.4,"Wa"]
["F+",47,{"$nulls":11},{"$f":"IFERROR(INDEX(#REF!,MATCH(0,IF(#REF!<>\"\",COUNTIF($N$22:N46,#REF!)),0)),\"\")","v":""},{"$nulls":8},"",{"$nulls":4},16,{"$f":"IF(scatterchange($AB47,AC$31)=0,NA(),scatterchange($AB47,AC$31))","v":{"$error":"#NAME?"}},{"$error":"#NAME?"},{"$error":"#NAME?"},0.5,1.5,2.5,{"$nulls":19},"3b+",44,{"$nulls":6},"G-",14,{"$nulls":7},5.5,"Wa"]
["3a",48,{"$nulls":11},{"$f":"IFERROR(INDEX(#REF!,MATCH(0,IF(#REF!<>\"\",COUNTIF($N$22:N47,#REF!)),0)),\"\")","v":""},{"$nulls":8},"",{"$nulls":4},17,{"$f":"IF(scatterchange($AB48,AC$31)=0,NA(),scatterchange($AB48,AC$31))","v":{"$error":"#NAME?"}},{"$error":"#NAME?"},{"$error":"#NAME?"},0.5,1.5,2.5,{"$nulls":19},"F",45,{"$nulls":6},"U",12,{"$nulls":7},5.6,"Wa"]
["F+",49,{"$nulls":11},{"$f":"IFERROR(INDEX(#REF!,MATCH(0,IF(#REF!<>\"\",COUNTIF($N$22:N48,#REF!)),0)),\"\")","v":""},{"$nulls":8},"",{"$nulls":4},18,{"$f":"IF(scatterchange($AB49,AC$31)=0,NA(),scatterchange($AB49,AC$31))","v":{"$error":"#NAME?"}},{"$error":"#NAME?"},{"$error":"#NAME?"},0.5,1.5,2.5,{"$nulls":19},"3a-",46,{"$nulls":15},5.7,"Wa"]
["3a+",50,{"$nulls":11},{"$f":"IFERROR(INDEX(#REF!,MATCH(0,IF(#REF!<>\"\",COUNTIF($N$22:N49,#REF!)),0)),\"\")","v":""},{"$nulls":8},"",{"$nulls":4},19,{"$f":"IF(scatterchange($AB50,AC$31)=0,NA(),scatterchange($AB50,AC$31))","v":{"$error":"#NAME?"}},{"$error":"#NAME?"},{"$error":"#NAME?"},0.5,1.5,2.5,{"$nulls":19},"F+",47,{"$nulls":15},5.8,"Wa"]
["F+",51,{"$nulls":11},{"$f":"IFERROR(INDEX(#REF!,MATCH(0,IF(#REF!<>\"\",COUNTIF($N$22:N50,#REF!)),0)),\"\")","v":""},{"$nulls":8},"",{"$nulls":4},20,{"$f":"IF(scatterchange($AB51,AC$31)=0,NA(),scatterchange($AB51,AC$31))","v":{"$error":"#NAME?"}},{"$error":"#NAME?"},{"$error":"#NAME?"},0.5,1.5,2.5,{"$nulls":19},"3a",48,{"$nulls":15},5.9,"Wa"]
["4c-",52,{"$nulls":11},{"$f":"IFERROR(INDEX(#REF!,MATCH(0,IF(#REF!<>\"\",COUNTIF($N$22:N51,#REF!)),0)),\"\")","v":""},{"$nulls":8},"",{"$nulls":4},21,{"$f":"IF(scatterchange($AB52,AC$31)=0,NA(),scatterchange($AB52,AC$31))","v":{"$error":"#NAME?"}},{"$error":"#NAME?"},{"$error":"#NAME?"},0.5,1.5,2.5,{"$nulls":19},"F+",49,{"$nulls":15},6,"1c"]
["E-",53,{"$nulls":11},{"$f":"IFERROR(INDEX(#REF!,MATCH(0,IF(#REF!<>\"\",COUNTIF($N$22:N52,#REF!)),0)),\"\")","v":""},{"$nulls":8},"",{"$nulls":4},22,{"$f":"IF(scatterchange($AB53,AC$31)=0,NA(),scatterchange($AB53,AC$31))","v":{"$error":"#NAME?"}},{"$error":"#NAME?"},{"$error":"#NAME?"},0.5,1.5,2.5,{"$nulls":19},"3a+",50,{"$nulls":15},6.1,"1c"]
["4c",54,{"$nulls":11},{"$f":"IFERROR(INDEX(#REF!,MATCH(0,IF(#REF!<>\"\",COUNTIF($N$22:N53,#REF!)),0)),\"\")","v":""},{"$nulls":8},"",{"$nulls":4},23,{"$f":"IF(scatterchange($AB54,AC$31)=0,NA(),scatterchange($AB54,AC$31))","v":{"$error":"#NAME?"}},{"$error":"#NAME?"},{"$error":"#NAME?"},0.5,1.5,2.5,{"$nulls":19},"F+",51,{"$nulls":15},6.2,"1c"]
["E-",55,{"$nulls":11},{"$f":"IFERROR(INDEX(#REF!,MATCH(0,IF(#REF!<>\"\",COUNTIF($N$22:N54,#REF!)),0)),\"\")","v":""},{"$nulls":8},"",{"$nulls":4},24,{"$f":"IF(scatterchange($AB55,AC$31)=0,NA(),scatterchange($AB55,AC$31))","v":{"$error":"#NAME?"}},{"$error":"#NAME?"},{"$error":"#NAME?"},0.5,1.5,2.5,{"$nulls":19},"4c-",52,{"$nulls":15},6.3,"1c"]
["4c+",56,{"$nulls":11},{"$f":"IFERROR(INDEX(#REF!,MATCH(0,IF(#REF!<>\"\",COUNTIF($N$22:N55,#REF!)),0)),\"\")","v":""},{"$nulls":8},"",{"$nulls":4},25,{"$f":"IF(scatterchange($AB56,AC$31)=0,NA(),scatterchange($AB56,AC$31))","v":{"$error":"#NAME?"}},{"$error":"#NAME?"},{"$error":"#NAME?"},0.5,1.5,2.5,{"$nulls":19},"E-",53,{"$nulls":15},6.4,"1c"]
["E-",57,{"$nulls":11},{"$f":"IFERROR(INDEX(#REF!,MATCH(0,IF(#REF!<>\"\",COUNTIF($N$22:N56,#REF!)),0)),\"\")","v":""},{"$nulls":8},"",{"$nulls":4},26,{"$f":"IF(scatterchange($AB57,AC$31)=0,NA(),scatterchange($AB57,AC$31))","v":{"$error":"#NAME?"}},{"$error":"#NAME?"},{"$error":"#NAME?"},0.5,1.5,2.5,{"$nulls":19},"4c",54,{"$nulls":15},6.5,"1c"]
["4b-",58,{"$nulls":11},{"$f":"IFERROR(INDEX(#REF!,MATCH(0,IF(#REF!<>\"\",COUNTIF($N$22:N57,#REF!)),0)),\"\")","v":""},{"$nulls":8},"",{"$nulls":4},27,{"$f":"IF(scatterchange($AB58,AC$31)=0,NA(),scatterchange($AB58,AC$31))","v":{"$error":"#NAME?"}},{"$error":"#NAME?"},{"$error":"#NAME?"},0.5,1.5,2.5,{"$nulls":19},"E-",55,{"$nulls":15},6.6,"1c"]
["E",59,{"$nulls":11},{"$f":"IFERROR(INDEX(#REF!,MATCH(0,IF(#REF!<>\"\",COUNTIF($N$22:N58,#REF!)),0)),\"\")","v":""},{"$nulls":8},"",{"$nulls":4},28,{"$f":"IF(scatterchange($AB59,AC$31)=0,NA(),scatterchange($AB59,AC$31))","v":{"$error":"#NAME?"}},{"$error":"#NAME?"},{"$error":"#NAME?"},0.5,1.5,2.5,{"$nulls":19},"4c+",56,{"$nulls":15},6.7,"1c"]
["4b",60,{"$nulls":25},29,{"$error":"#NAME?"},{"$error":"#NAME?"},{"$error":"#NAME?"},0.5,1.5,2.5,{"$nulls":19},"E-",57,{"$nulls":15},6.8,"1c"]
["E",61,{"$nulls":25},30,{"$error":"#NAME?"},{"$error":"#NAME?"},{"$error":"#NAME?"},0.5,1.5,2.5,{"$nulls":19},"4b-",58,{"$nulls":15},6.9,"1c"]
["4b+",62,{"$nulls":25},31,{"$error":"#NAME?"},{"$error":"#NAME?"},{"$error":"#NAME?"},0.5,1.5,2.5,{"$nulls":19},"E",59,{"$nulls":15},7,"1c"]
["E",63,{"$nulls":25},32,{"$error":"#NAME?"},{"$error":"#NAME?"},{"$error":"#NAME?"},0.5,1.5,2.5,{"$nulls":19},"4b",60,{"$nulls":15},7.1,"1c"]
["4a-",64,{"$nulls":25},33,{"$error":"#NAME?"},{"$error":"#NAME?"},{"$error":"#NAME?"},0.5,1.5,2.5,{"$nulls":19},"E",61,{"$nulls":15},7.2,"1c"]
["E+",65,{"$nulls":25},34,{"$error":"#NAME?"},{"$error":"#NAME?"},{"$error":"#NAME?"},0.5,1.5,2.5,{"$nulls":19},"4b+",62,{"$nulls":15},7.3,"1c"]
["4a",66,{"$nulls":25},35,{"$error":"#NAME?"},{"$error":"#NAME?"},{"$error":"#NAME?"},0.5,1.5,2.5,{"$nulls":19},"E",63,{"$nulls":15},7.4,"1c"]
["E+",67,{"$nulls":25},36,{"$error":"#NAME?"},{"$error":"#NAME?"},{"$error":"#NAME?"},0.5,1.5,2.5,{"$nulls":19},"4a-",64,{"$nulls":15},7.5,"1c"]
["4a+",68,{"$nulls":25},37,{"$error":"#NAME?"},{"$error":"#NAME?"},{"$error":"#NAME?"},0.5,1.5,2.5,{"$nulls":19},"E+",65,{"$nulls":15},7.6,"1c"]
["E+",69,{"$nulls":25},38,{"$error":"#NAME?"},{"$error":"#NAME?"},{"$error":"#NAME?"},0.5,1.5,2.5,{"$nulls":19},"4a",66,{"$nulls":15},7.7,"1c"]
["5c-",70,{"$nulls":25},39,{"$error":"#NAME?"},{"$error":"#NAME?"},{"$error":"#NAME?"},0.5,1.5,2.5,{"$nulls":19},"E+",67,{"$nulls":15},7.8,"1c"]
["D-",71,{"$nulls":25},40,{"$error":"#NAME?"},{"$error":"#NAME?"},{"$error":"#NAME?"},0.5,1.5,2.5,{"$nulls":19},"4a+",68,{"$nulls":15},7.9,"1c"]
["5c",72,{"$nulls":25},41,{"$f":"IF(scatterchange($AB72,AC$31)=0,NA(),scatterchange($AB72,AC$31))","v":{"$error":"#NAME?"}},{"$error":"#NAME?"},{"$error":"#NAME?"},0.5,1.5,2.5,{"$nulls":19},"E+",69,{"$nulls":15},8,"1b"]
["D-",73,{"$nulls":25},42,{"$error":"#NAME?"},{"$error":"#NAME?"},{"$error":"#NAME?"},0.5,1.5,2.5,{"$nulls":19},"5c-",70,{"$nulls":15},8.1,"1b"]
["5c+",74,{"$nulls":25},43,{"$error":"#NAME?"},{"$error":"#NAME?"},{"$error":"#NAME?"},0.5,1.5,2.5,{"$nulls":19},"D-",71,{"$nulls":15},8.2,"1b"]
["D-",75,{"$nulls":25},44,{"$error":"#NAME?"},{"$error":"#NAME?"},{"$error":"#NAME?"},0.5,1.5,2.5,{"$nulls":19},"5c",72,{"$nulls":15},8.3,"1b"]
["5b-",76,{"$nulls":25},45,{"$error":"#NAME?"},{"$error":"#NAME?"},{"$error":"#NAME?"},0.5,1.5,2.5,{"$nulls":19},"D-",73,{"$nulls":15},8.4,"1b"]
["D",77,{"$nulls":25},46,{"$error":"#NAME?"},{"$error":"#NAME?"},{"$error":"#NAME?"},0.5,1.5,2.5,{"$nulls":19},"5c+",74,{"$nulls":15},8.5,"1b"]
["5b",78,{"$nulls":25},47,{"$error":"#NAME?"},{"$error":"#NAME?"},{"$error":"#NAME?"},0.5,1.5,2.5,{"$nulls":19},"D-",75,{"$nulls":15},8.6,"1b"]
["D",79,{"$nulls":25},48,{"$error":"#NAME?"},{"$error":"#NAME?"},{"$error":"#NAME?"},0.5,1.5,2.5,{"$nulls":19},"5b-",76,{"$nulls":15},8.7,"1b"]
["5b+",80,{"$nulls":25},49,{"$error":"#NAME?"},{"$error":"#NAME?"},{"$error":"#NAME?"},0.5,1.5,2.5,{"$nulls":19},"D",77,{"$nulls":15},8.8,"1b"]
["D",81,{"$nulls":25},50,{"$error":"#NAME?"},{"$error":"#NAME?"},{"$error":"#NAME?"},0.5,1.5,2.5,{"$nulls":19},"5b",78,{"$nulls":15},8.9,"1b"]
["5a-",82,{"$nulls":25},51,{"$error":"#NAME?"},{"$error":"#NAME?"},{"$error":"#NAME?"},0.5,1.5,2.5,{"$nulls":19},"D",79,{"$nulls":15},9,"1b"]
["D+",83,{"$nulls":25},52,{"$error":"#NAME?"},{"$error":"#NAME?"},{"$error":"#NAME?"},0.5,1.5,2.5,{"$nulls":19},"5b+",80,{"$nulls":15},9.1,"1b"]
["5a",84,{"$nulls":25},53,{"$error":"#NAME?"},{"$error":"#NAME?"},{"$error":"#NAME?"},0.5,1.5,2.5,{"$nulls":19},"D",81,{"$nulls":15},9.2,"1b"]
["D+",85,{"$nulls":25},54,{"$error":"#NAME?"},{"$error":"#NAME?"},{"$error":"#NAME?"},0.5,1.5,2.5,{"$nulls":19},"5a-",82,{"$nulls":15},9.3,"1b"]
["5a+",86,{"$nulls":25},55,{"$error":"#NAME?"},{"$error":"#NAME?"},{"$error":"#NAME?"},0.5,1.5,2.5,{"$nulls":19},"D+",83,{"$nulls":15},9.4,"1b"]
["D+",87,{"$nulls":25},56,{"$error":"#NAME?"},{"$error":"#NAME?"},{"$error":"#NAME?"},0.5,1.5,2.5,{"$nulls":19},"5a",84,{"$nulls":15},9.5,"1b"]
["6c-",88,{"$nulls":25},57,{"$error":"#NAME?"},{"$error":"#NAME?"},{"$error":"#NAME?"},0.5,1.5,2.5,{"$nulls":19},"D+",85,{"$nulls":15},9.6,"1b"]
["C-",89,{"$nulls":25},58,{"$error":"#NAME?"},{"$error":"#NAME?"},{"$error":"#NAME?"},0.5,1.5,2.5,{"$nulls":19},"5a+",86,{"$nulls":15},9.7,"1b"]
["6c",90,{"$nulls":25},59,{"$error":"#NAME?"},{"$error":"#NAME?"},{"$error":"#NAME?"},0.5,1.5,2.5,{"$nulls":19},"D+",87,{"$nulls":15},9.8,"1b"]
["C-",91,{"$nulls":25},60,{"$error":"#NAME?"},{"$error":"#NAME?"},{"$error":"#NAME?"},0.5,1.5,2.5,{"$nulls":19},"6c-",88,{"$nulls":15},9.9,"1b"]
["6c+",92,{"$nulls":25},61,{"$f":"IF(scatterchange($AB92,AC$31)=0,NA(),scatterchange($AB92,AC$31))","v":{"$error":"#NAME?"}},{"$error":"#NAME?"},{"$error":"#NAME?"},0.5,1.5,2.5,{"$nulls":19},"C-",89,{"$nulls":15},10,"1a"]
["C-",93,{"$nulls":25},62,{"$error":"#NAME?"},{"$error":"#NAME?"},{"$error":"#NAME?"},0.5,1.5,2.5,{"$nulls":19},"6c",90,{"$nulls":15},10.1,"1a"]
["6b-",94,{"$nulls":25},63,{"$error":"#NAME?"},{"$error":"#NAME?"},{"$error":"#NAME?"},0.5,1.5,2.5,{"$nulls":19},"C-",91,{"$nulls":15},10.2,"1a"]
["C",95,{"$nulls":25},64,{"$error":"#NAME?"},{"$error":"#NAME?"},{"$error":"#NAME?"},0.5,1.5,2.5,{"$nulls":19},"6c+",92,{"$nulls":15},10.3,"1a"]
["6b",96,{"$nulls":25},65,{"$error":"#NAME?"},{"$error":"#NAME?"},{"$error":"#NAME?"},0.5,1.5,2.5,{"$nulls":19},"C-",93,{"$nulls":15},10.4,"1a"]
["C",97,{"$nulls":25},66,{"$error":"#NAME?"},{"$error":"#NAME?"},{"$error":"#NAME?"},0.5,1.5,2.5,{"$nulls":19},"6b-",94,{"$nulls":15},10.5,"1a"]
["6b+",98,{"$nulls":25},67,{"$error":"#NAME?"},{"$error":"#NAME?"},{"$error":"#NAME?"},0.5,1.5,2.5,{"$nulls":19},"C",95,{"$nulls":15},10.6,"1a"]
["C",99,{"$nulls":25},68,{"$error":"#NAME?"},{"$error":"#NAME?"},{"$error":"#NAME?"},0.5,1.5,2.5,{"$nulls":19},"6b",96,{"$nulls":15},10.7,"1a"]
["6a-",100,{"$nulls":25},69,{"$error":"#NAME?"},{"$error":"#NAME?"},{"$error":"#NAME?"},0.5,1.5,2.5,{"$nulls":19},"C",97,{"$nulls":15},10.8,"1a"]
["C+",101,{"$nulls":25},70,{"$error":"#NAME?"},{"$error":"#NAME?"},{"$error":"#NAME?"},0.5,1.5,2.5,{"$nulls":19},"6b+",98,{"$nulls":15},10.9,"1a"]
["6a",102,{"$nulls":25},71,{"$error":"#NAME?"},{"$error":"#NAME?"},{"$error":"#NAME?"},0.5,1.5,2.5,{"$nulls":19},"C",99,{"$nulls":15},11,"1a"]
["C+",103,{"$nulls":25},72,{"$error":"#NAME?"},{"$error":"#NAME?"},{"$error":"#NAME?"},0.5,1.5,2.5,{"$nulls":19},"6a-",100,{"$nulls":15},11.1,"1a"]
["6a+",104,{"$nulls":25},73,{"$error":"#NAME?"},{"$error":"#NAME?"},{"$error":"#NAME?"},0.5,1.5,2.5,{"$nulls":19},"C+",101,{"$nulls":15},11.2,"1a"]
["C+",105,{"$nulls":25},74,{"$error":"#NAME?"},{"$error":"#NAME?"},{"$error":"#NAME?"},0.5,1.5,2.5,{"$nulls":19},"6a",102,{"$nulls":15},11.3,"1a"]
["7c-",106,{"$nulls":25},75,{"$error":"#NAME?"},{"$error":"#NAME?"},{"$error":"#NAME?"},0.5,1.5,2.5,{"$nulls":19},"C+",103,{"$nulls":15},11.4,"1a"]
["B-",107,{"$nulls":25},76,{"$error":"#NAME?"},{"$error":"#NAME?"},{"$error":"#NAME?"},0.5,1.5,2.5,{"$nulls":19},"6a+",104,{"$nulls":15},11.5,"1a"]
["7c",108,{"$nulls":25},77,{"$error":"#NAME?"},{"$error":"#NAME?"},{"$error":"#NAME?"},0.5,1.5,2.5,{"$nulls":19},"C+",105,{"$nulls":15},11.6,"1a"]
["B-",109,{"$nulls":25},78,{"$error":"#NAME?"},{"$error":"#NAME?"},{"$error":"#NAME?"},0.5,1.5,2.5,{"$nulls":19},"7c-",106,{"$nulls":15},11.7,"1a"]
["7c+",110,{"$nulls":25},79,{"$error":"#NAME?"},{"$error":"#NAME?"},{"$error":"#NAME?"},0.5,1.5,2.5,{"$nulls":19},"B-",107,{"$nulls":15},11.8,"1a"]
["B-",111,{"$nulls":25},80,{"$error":"#NAME?"},{"$error":"#NAME?"},{"$error":"#NAME?"},0.5,1.5,2.5,{"$nulls":19},"7c",108,{"$nulls":15},11.9,"1a"]
["7b-",112,{"$nulls":25},81,{"$f":"IF(scatterchange($AB112,AC$31)=0,NA(),scatterchange($AB112,AC$31))","v":{"$error":"#NAME?"}},{"$error":"#NAME?"},{"$error":"#NAME?"},0.5,1.5,2.5,{"$nulls":19},"B-",109,{"$nulls":15},12,"2c"]
["B",113,{"$nulls":25},82,{"$error":"#NAME?"},{"$error":"#NAME?"},{"$error":"#NAME?"},0.5,1.5,2.5,{"$nulls":19},"7c+",110,{"$nulls":15},12.1,"2c"]
["7b",114,{"$nulls":25},83,{"$error":"#NAME?"},{"$error":"#NAME?"},{"$error":"#NAME?"},0.5,1.5,2.5,{"$nulls":19},"B-",111,{"$nulls":15},12.2,"2c"]
["B",115,{"$nulls":25},84,{"$error":"#NAME?"},{"$error":"#NAME?"},{"$error":"#NAME?"},0.5,1.5,2.5,{"$nulls":19},"7b-",112,{"$nulls":15},12.3,"2c"]
["7b+",116,{"$nulls":25},85,{"$error":"#NAME?"},{"$error":"#NAME?"},{"$error":"#NAME?"},0.5,1.5,2.5,{"$nulls":19},"B",113,{"$nulls":15},12.4,"2c"]
["B",117,{"$nulls":25},86,{"$error":"#NAME?"},{"$error":"#NAME?"},{"$error":"#NAME?"},0.5,1.5,2.5,{"$nulls":19},"7b",114,{"$nulls":15},12.5,"2c"]
["7a-",118,{"$nulls":25},87,{"$error":"#NAME?"},{"$error":"#NAME?"},{"$error":"#NAME?"},0.5,1.5,2.5,{"$nulls":19},"B",115,{"$nulls":15},12.6,"2c"]
["B+",119,{"$nulls":25},88,{"$error":"#NAME?"},{"$error":"#NAME?"},{"$error":"#NAME?"},0.5,1.5,2.5,{"$nulls":19},"7b+",116,{"$nulls":15},12.7,"2c"]
["7a",120,{"$nulls":25},89,{"$error":"#NAME?"},{"$error":"#NAME?"},{"$error":"#NAME?"},0.5,1.5,2.5,{"$nulls":19},"B",117,{"$nulls":15},12.8,"2c"]
["B+",121,{"$nulls":25},90,{"$error":"#NAME?"},{"$error":"#NAME?"},{"$error":"#NAME?"},0.5,1.5,2.5,{"$nulls":19},"7a-",118,{"$nulls":15},12.9,"2c"]
["7a+",122,{"$nulls":25},91,{"$error":"#NAME?"},{"$error":"#NAME?"},{"$error":"#NAME?"},0.5,1.5,2.5,{"$nulls":19},"B+",119,{"$nulls":15},13,"2c"]
["B+",123,{"$nulls":25},92,{"$error":"#NAME?"},{"$error":"#NAME?"},{"$error":"#NAME?"},0.5,1.5,2.5,{"$nulls":19},"7a",120,{"$nulls":15},13.1,"2c"]
["8c-",124,{"$nulls":25},93,{"$error":"#NAME?"},{"$error":"#NAME?"},{"$error":"#NAME?"},0.5,1.5,2.5,{"$nulls":19},"B+",121,{"$nulls":15},13.2,"2c"]
["A-",125,{"$nulls":25},94,{"$error":"#NAME?"},{"$error":"#NAME?"},{"$error":"#NAME?"},0.5,1.5,2.5,{"$nulls":19},"7a+",122,{"$nulls":15},13.3,"2c"]
["8c",126,{"$nulls":25},95,{"$error":"#NAME?"},{"$error":"#NAME?"},{"$error":"#NAME?"},0.5,1.5,2.5,{"$nulls":19},"B+",123,{"$nulls":15},13.4,"2c"]
["A-",127,{"$nulls":25},96,{"$error":"#NAME?"},{"$error":"#NAME?"},{"$error":"#NAME?"},0.5,1.5,2.5,{"$nulls":19},"8c-",124,{"$nulls":15},13.5,"2c"]
["8c+",128,{"$nulls":25},97,{"$error":"#NAME?"},{"$error":"#NAME?"},{"$error":"#NAME?"},0.5,1.5,2.5,{"$nulls":19},"A-",125,{"$nulls":15},13.6,"2c"]
["A-",129,{"$nulls":25},98,{"$error":"#NAME?"},{"$error":"#NAME?"},{"$error":"#NAME?"},0.5,1.5,2.5,{"$nulls":19},"8c",126,{"$nulls":15},13.7,"2c"]
["8b-",130,{"$nulls":25},99,{"$error":"#NAME?"},{"$error":"#NAME?"},{"$error":"#NAME?"},0.5,1.5,2.5,{"$nulls":19},"A-",127,{"$nulls":15},13.8,"2c"]
["A",131,{"$nulls":25},100,{"$error":"#NAME?"},{"$error":"#NAME?"},{"$error":"#NAME?"},0.5,1.5,2.5,{"$nulls":19},"8c+",128,{"$nulls":15},13.9,"2c"]
["8b",132,{"$nulls":51},"A-",129,{"$nulls":15},14,"2b"]
["A",133,{"$nulls":51},"8b-",130,{"$nulls":15},14.1,"2b"]
["8b+",134,{"$nulls":51},"A",131,{"$nulls":15},14.2,"2b"]
["A",135,{"$nulls":51},"8b",132,{"$nulls":15},14.3,"2b"]
["8a-",136,{"$nulls":51},"A",133,{"$nulls":15},14.4,"2b"]
["A+",137,{"$nulls":51},"8b+",134,{"$nulls":15},14.5,"2b"]
["8a",138,{"$nulls":51},"A",135,{"$nulls":15},14.6,"2b"]
["A+",139,{"$nulls":51},"8a-",136,{"$nulls":15},14.7,"2b"]
["8a+",140,{"$nulls":51},"A+",137,{"$nulls":15},14.8,"2b"]
["A+",141,{"$nulls":51},"8a",138,{"$nulls":15},14.9,"2b"]
[{"$nulls":53},"A+",139,{"$nulls":15},15,"2b"]
[{"$nulls":53},"8a+",140,{"$nulls":15},15.1,"2b"]
[{"$nulls":53},"A+",141,{"$nulls":15},15.2,"2b"]
[{"$nulls":70},15.3,"2b"]
[{"$nulls":70},15.4,"2b"]
[{"$nulls":70},15.5,"2b"]
[{"$nulls":70},15.6,"2b"]
[{"$nulls":70},15.7,"2b"]
["a+",22,null,"a+",20,{"$nulls":65},15.8,"2b"]
["a",21,null,"a",20,{"$nulls":65},15.9,"2b"]
["a-",20,null,"a-",20,{"$nulls":65},16,"2a"]
["b+",19,null,"b+",17,{"$nulls":65},16.1,"2a"]
["b",18,null,"b",17,{"$nulls":65},16.2,"2a"]
["b-",17,null,"b-",17,{"$nulls":65},16.3,"2a"]
["c+",16,null,"c+",14,{"$nulls":65},16.4,"2a"]
["c",15,null,"c",14,{"$nulls":65},16.5,"2a"]
["c-",14,null,"c-",14,{"$nulls":65},16.6,"2a"]
["d+",13,null,"d+",11,{"$nulls":65},16.7,"2a"]
["d",12,null,"d",11,{"$nulls":65},16.8,"2a"]
["d-",11,null,"d-",11,{"$nulls":65},16.9,"2a"]
["e+",10,null,"e+",8,{"$nulls":65},17,"2a"]
["E",9,null,"E",8,{"$nulls":65},17.1,"2a"]
["e-",8,null,"e-",8,{"$nulls":65},17.2,"2a"]
["f+",7,null,"f+",5,{"$nulls":65},17.3,"2a"]
["f",6,null,"f",5,{"$nulls":65},17.4,"2a"]
["f-",5,null,"f-",5,{"$nulls":65},17.5,"2a"]
["g+",4,null,"g+",2,{"$nulls":65},17.6,"2a"]
["g",3,null,"g",2,{"$nulls":65},17.7,"2a"]
["g-",2,null,"g-",2,{"$nulls":65},17.8,"2a"]
["u",1,null,"u",1,{"$nulls":65},17.9,"2a"]
["7A",19,null,"8A",22,{"$nulls":65},18,"3c"]
["7B",18,null,"8B",21,{"$nulls":65},18.1,"3c"]
["7C",17,null,"8C",20,{"$nulls":65},18.2,"3c"]
["6A",16,null,"7A",19,{"$nulls":65},18.3,"3c"]
["6B",15,null,"7B",18,{"$nulls":65},18.4,"3c"]
["6C",14,null,"7C",17,{"$nulls":65},18.5,"3c"]
["5A",13,null,"6A",16,{"$nulls":65},18.6,"3c"]
["5B",12,null,"6B",15,{"$nulls":65},18.7,"3c"]
["5C",11,null,"6C",14,{"$nulls":65},18.8,"3c"]
["4A",10,null,"5A",13,{"$nulls":65},18.9,"3c"]
["4B",9,null,"5B",12,{"$nulls":65},19,"3c"]
["4C",8,null,"5C",11,{"$nulls":65},19.1,"3c"]
["3A",7,null,"4A",10,{"$nulls":65},19.2,"3c"]
["3B",6,null,"4B",9,{"$nulls":65},19.3,"3c"]
["3C",5,null,"4C",8,{"$nulls":65},19.4,"3c"]
["2A",4,null,"3A",7,{"$nulls":65},19.5,"3c"]
["2B",3,null,"3B",6,{"$nulls":65},19.6,"3c"]
["2C",2,null,"3C",5,{"$nulls":65},19.7,"3c"]
[{"$nulls":3},"2A",4,{"$nulls":65},19.8,"3c"]
[{"$nulls":3},"2B",3,{"$nulls":65},19.9,"3c"]
[{"$nulls":3},"2C",2,{"$nulls":65},20,"3b"]
[{"$nulls":3},"X",1,{"$nulls":65},20.1,"3b"]
[{"$nulls":3},"a1",20,{"$nulls":65},20.2,"3b"]
[{"$nulls":3},"a2",20,{"$nulls":65},20.3,"3b"]
[{"$nulls":3},"A3",20,{"$nulls":65},20.4,"3b"]
[{"$nulls":3},"b1",17,{"$nulls":65},20.5,"3b"]
[{"$nulls":3},"b2",17,{"$nulls":65},20.6,"3b"]
[{"$nulls":3},"b3",17,{"$nulls":65},20.7,"3b"]
[{"$nulls":3},"c1",14,{"$nulls":65},20.8,"3b"]
[{"$nulls":3},"c2",14,{"$nulls":65},20.9,"3b"]
[{"$nulls":3},"c3",14,{"$nulls":65},21,"3b"]
[{"$nulls":3},"d1",11,{"$nulls":65},21.1,"3b"]
[{"$nulls":3},"d2",11,{"$nulls":65},21.2,"3b"]
[{"$nulls":3},"d3",11,{"$nulls":65},21.3,"3b"]
[{"$nulls":3},"e1",8,{"$nulls":65},21.4,"3b"]
[{"$nulls":3},"e2",8,{"$nulls":65},21.5,"3b"]
[{"$nulls":3},"e3",8,{"$nulls":65},21.6,"3b"]
[{"$nulls":3},"f1",5,{"$nulls":65},21.7,"3b"]
[{"$nulls":3},"f2",5,{"$nulls":65},21.8,"3b"]
[{"$nulls":3},"f3",5,{"$nulls":65},21.9,"3b"]
[{"$nulls":3},"g1",2,{"$nulls":65},22,"3a"]
[{"$nulls":3},"g2",2,{"$nulls":65},22.1,"3a"]
[{"$nulls":3},"g3",2,{"$nulls":65},22.2,"3a"]
[{"$nulls":3},9,20,{"$nulls":65},22.3,"3a"]
[{"$nulls":3},"8+",19,{"$nulls":65},22.4,"3a"]
[{"$nulls":3},8,18,{"$nulls":65},22.5,"3a"]
[{"$nulls":3},"7+",17,{"$nulls":65},22.6,"3a"]
[{"$nulls":3},7,16,{"$nulls":65},22.7,"3a"]
[{"$nulls":3},"6+",15,{"$nulls":65},22.8,"3a"]
[{"$nulls":3},6,14,{"$nulls":65},22.9,"3a"]
[{"$nulls":3},"5+",13,{"$nulls":65},23,"3a"]
[{"$nulls":3},5,12,{"$nulls":65},23.1,"3a"]
[{"$nulls":3},"4+",11,{"$nulls":65},23.2,"3a"]
[{"$nulls":3},4,10,{"$nulls":65},23.3,"3a"]
[{"$nulls":3},"3+",9,{"$nulls":65},23.4,"3a"]
[{"$nulls":3},3,8,{"$nulls":65},23.5,"3a"]
[{"$nulls":3},"2+",7,{"$nulls":65},23.6,"3a"]
[{"$nulls":3},2,6,{"$nulls":65},23.7,"3a"]
[{"$nulls":3},"1+",5,{"$nulls":65},23.8,"3a"]
[{"$nulls":3},1,4,{"$nulls":65},23.9,"3a"]
[{"$nulls":3},"0+",3,{"$nulls":65},24,"4c"]
[{"$nulls":70},24.1,"4c"]
[{"$nulls":70},24.2,"4c"]
[{"$nulls":70},24.3,"4c"]
[{"$nulls":70},24.4,"4c"]
[{"$nulls":70},24.5,"4c"]
[{"$nulls":70},24.6,"4c"]
[{"$nulls":70},24.7,"4c"]
[{"$nulls":70},24.8,"4c"]
[{"$nulls":70},24.9,"4c"]
[{"$nulls":70},25,"4c"]
[{"$nulls":70},25.1,"4c"]
[{"$nulls":70},25.2,"4c"]
[{"$nulls":70},25.3,"4c"]
[{"$nulls":70},25.4,"4c"]
[{"$nulls":70},25.5,"4c"]
[{"$nulls":70},25.6,"4c"]
[{"$nulls":70},25.7,"4c"]
[{"$nulls":70},25.8,"4c"]
[{"$nulls":70},25.9,"4c"]
[{"$nulls":70},26,"4b"]
[{"$nulls":70},26.1,"4b"]
[{"$nulls":70},26.2,"4b"]
[{"$nulls":70},26.3,"4b"]
[{"$nulls":70},26.4,"4b"]
[{"$nulls":70},26.5,"4b"]
[{"$nulls":70},26.6,"4b"]
[{"$nulls":70},26.7,"4b"]
[{"$nulls":70},26.8,"4b"]
[{"$nulls":70},26.9,"4b"]
[{"$nulls":70},27,"4b"]
[{"$nulls":70},27.1,"4b"]
[{"$nulls":70},27.2,"4b"]
[{"$nulls":70},27.3,"4b"]
[{"$nulls":70},27.4,"4b"]
[{"$nulls":70},27.5,"4b"]
[{"$nulls":70},27.6,"4b"]
[{"$nulls":70},27.7,"4b"]
[{"$nulls":70},27.8,"4b"]
[{"$nulls":70},27.9,"4b"]
[{"$nulls":70},28,"4a"]
[{"$nulls":70},28.1,"4a"]
[{"$nulls":70},28.2,"4a"]
[{"$nulls":70},28.3,"4a"]
[{"$nulls":70},28.4,"4a"]
[{"$nulls":70},28.5,"4a"]
[{"$nulls":70},28.6,"4a"]
[{"$nulls":70},28.7,"4a"]
[{"$nulls":70},28.8,"4a"]
[{"$nulls":70},28.9,"4a"]
[{"$nulls":70},29,"4a"]
[{"$nulls":70},29.1,"4a"]
[{"$nulls":70},29.2,"4a"]
[{"$nulls":70},29.3,"4a"]
[{"$nulls":70},29.4,"4a"]
[{"$nulls":70},29.5,"4a"]
[{"$nulls":70},29.6,"4a"]
[{"$nulls":70},29.7,"4a"]
[{"$nulls":70},29.8,"4a"]
[{"$nulls":70},29.9,"4a"]
[{"$nulls":70},30,"5c"]
[{"$nulls":70},30.1,"5c"]
[{"$nulls":70},30.2,"5c"]
[{"$nulls":70},30.3,"5c"]
[{"$nulls":70},30.4,"5c"]
[{"$nulls":70},30.5,"5c"]
[{"$nulls":70},30.6,"5c"]
[{"$nulls":70},30.7,"5c"]
[{"$nulls":70},30.8,"5c"]
[{"$nulls":70},30.9,"5c"]
[{"$nulls":70},31,"5c"]
[{"$nulls":70},31.1,"5c"]
[{"$nulls":70},31.2,"5c"]
[{"$nulls":70},31.3,"5c"]
[{"$nulls":70},31.4,"5c"]
[{"$nulls":70},31.5,"5c"]
[{"$nulls":70},31.6,"5c"]
[{"$nulls":70},31.7,"5c"]
[{"$nulls":70},31.8,"5c"]
[{"$nulls":70},31.9,"5c"]
[{"$nulls":70},32,"5b"]
[{"$nulls":70},32.1,"5b"]
[{"$nulls":70},32.2,"5b"]
[{"$nulls":70},32.3,"5b"]
[{"$nulls":70},32.4,"5b"]
[{"$nulls":70},32.5,"5b"]
[{"$nulls":70},32.6,"5b"]
[{"$nulls":70},32.7,"5b"]
[{"$nulls":70},32.8,"5b"]
[{"$nulls":70},32.9,"5b"]
[{"$nulls":70},33,"5b"]
[{"$nulls":70},33.1,"5b"]
[{"$nulls":70},33.2,"5b"]
[{"$nulls":70},33.3,"5b"]
[{"$nulls":70},33.4,"5b"]
[{"$nulls":70},33.5,"5b"]
[{"$nulls":70},33.6,"5b"]
[{"$nulls":70},33.7,"5b"]
[{"$nulls":70},33.8,"5b"]
[{"$nulls":70},33.9,"5b"]
[{"$nulls":70},34,"5a"]
[{"$nulls":70},34.1,"5a"]
[{"$nulls":70},34.2,"5a"]
[{"$nulls":70},34.3,"5a"]
[{"$nulls":70},34.4,"5a"]
[{"$nulls":70},34.5,"5a"]
[{"$nulls":70},34.6,"5a"]
[{"$nulls":70},34.7,"5a"]
[{"$nulls":70},34.8,"5a"]
[{"$nulls":70},34.9,"5a"]
[{"$nulls":70},35,"5a"]
[{"$nulls":70},35.1,"5a"]
[{"$nulls":70},35.2,"5a"]
[{"$nulls":70},35.3,"5a"]
[{"$nulls":70},35.4,"5a"]
[{"$nulls":70},35.5,"5a"]
[{"$nulls":70},35.6,"5a"]
[{"$nulls":70},35.7,"5a"]
[{"$nulls":70},35.8,"5a"]
[{"$nulls":70},35.9,"5a"]
[{"$nulls":70},36,"6c"]
[{"$nulls":70},36.1,"6c"]
[{"$nulls":70},36.2,"6c"]
[{"$nulls":70},36.3,"6c"]
[{"$nulls":70},36.4,"6c"]
[{"$nulls":70},36.5,"6c"]
[{"$nulls":70},36.6,"6c"]
[{"$nulls":70},36.7,"6c"]
[{"$nulls":70},36.8,"6c"]
[{"$nulls":70},36.9,"6c"]
[{"$nulls":70},37,"6c"]
[{"$nulls":70},37.1,"6c"]
[{"$nulls":70},37.2,"6c"]
[{"$nulls":70},37.3,"6c"]
[{"$nulls":70},37.4,"6c"]
[{"$nulls":70},37.5,"6c"]
[{"$nulls":70},37.6,"6c"]
[{"$nulls":70},37.7,"6c"]
[{"$nulls":70},37.8,"6c"]
[{"$nulls":70},37.9,"6c"]
[{"$nulls":70},38,"6b"]
[{"$nulls":70},38.1,"6b"]
[{"$nulls":70},38.2,"6b"]
[{"$nulls":70},38.3,"6b"]
[{"$nulls":70},38.4,"6b"]
[{"$nulls":70},38.5,"6b"]
[{"$nulls":70},38.6,"6b"]
[{"$nulls":70},38.7,"6b"]
[{"$nulls":70},38.8,"6b"]
[{"$nulls":70},38.9,"6b"]
[{"$nulls":70},39,"6b"]
[{"$nulls":70},39.1,"6b"]
[{"$nulls":70},39.2,"6b"]
[{"$nulls":70},39.3,"6b"]
[{"$nulls":70},39.4,"6b"]
[{"$nulls":70},39.5,"6b"]
[{"$nulls":70},39.6,"6b"]
[{"$nulls":70},39.7,"6b"]
[{"$nulls":70},39.8,"6b"]
[{"$nulls":70},39.9,"6b"]
[{"$nulls":70},40,"6a"]
[{"$nulls":70},40.1,"6a"]
[{"$nulls":70},40.2,"6a"]
[{"$nulls":70},40.3,"6a"]
[{"$nulls":70},40.4,"6a"]
[{"$nulls":70},40.5,"6a"]
[{"$nulls":70},40.6,"6a"]
[{"$nulls":70},40.7,"6a"]
[{"$nulls":70},40.8,"6a"]
[{"$nulls":70},40.9,"6a"]
[{"$nulls":70},41,"6a"]
[{"$nulls":70},41.1,"6a"]
[{"$nulls":70},41.2,"6a"]
[{"$nulls":70},41.3,"6a"]
[{"$nulls":70},41.4,"6a"]
[{"$nulls":70},41.5,"6a"]
[{"$nulls":70},41.6,"6a"]
[{"$nulls":70},41.7,"6a"]
[{"$nulls":70},41.8,"6a"]
[{"$nulls":70},41.9,"6a"]
[{"$nulls":70},42,"7c"]
[{"$nulls":70},42.1,"7c"]
[{"$nulls":70},42.2,"7c"]
[{"$nulls":70},42.3,"7c"]
[{"$nulls":70},42.4,"7c"]
[{"$nulls":70},42.5,"7c"]
[{"$nulls":70},42.6,"7c"]
[{"$nulls":70},42.7,"7c"]
[{"$nulls":70},42.8,"7c"]
[{"$nulls":70},42.9,"7c"]
[{"$nulls":70},43,"7c"]
[{"$nulls":70},43.1,"7c"]
[{"$nulls":70},43.2000000000001,"7c"]
[{"$nulls":70},43.3,"7c"]
[{"$nulls":70},43.4,"7c"]
[{"$nulls":70},43.5,"7c"]
[{"$nulls":70},43.6000000000001,"7c"]
[{"$nulls":70},43.7000000000001,"7c"]
[{"$nulls":70},43.8,"7c"]
[{"$nulls":70},43.9000000000001,"7c"]
[{"$nulls":70},44.0000000000001,"7b"]
[{"$nulls":70},44.1000000000001,"7b"]
[{"$nulls":70},44.2000000000001,"7b"]
[{"$nulls":70},44.3000000000001,"7b"]
[{"$nulls":70},44.4000000000001,"7b"]
[{"$nulls":70},44.5000000000001,"7b"]
[{"$nulls":70},44.6000000000001,"7b"]
[{"$nulls":70},44.7000000000001,"7b"]
[{"$nulls":70},44.8000000000001,"7b"]
[{"$nulls":70},44.9000000000001,"7b"]
[{"$nulls":70},45.0000000000001,"7b"]
[{"$nulls":70},45.1000000000001,"7b"]
[{"$nulls":70},45.2000000000001,"7b"]
[{"$nulls":70},45.3000000000001,"7b"]
[{"$nulls":70},45.4000000000001,"7b"]
[{"$nulls":70},45.5000000000001,"7b"]
[{"$nulls":70},45.6000000000001,"7b"]
[{"$nulls":70},45.7000000000001,"7b"]
[{"$nulls":70},45.8000000000001,"7b"]
[{"$nulls":70},45.9000000000001,"7b"]
[{"$nulls":70},46.0000000000001,"7a"]
[{"$nulls":70},46.1000000000001,"7a"]
[{"$nulls":70},46.2000000000001,"7a"]
[{"$nulls":70},46.3000000000001,"7a"]
[{"$nulls":70},46.4000000000001,"7a"]
[{"$nulls":70},46.5000000000001,"7a"]
[{"$nulls":70},46.6000000000001,"7a"]
[{"$nulls":70},46.7000000000001,"7a"]
[{"$nulls":70},46.8000000000001,"7a"]
[{"$nulls":70},46.9000000000001,"7a"]
[{"$nulls":70},47.0000000000001,"7a"]
[{"$nulls":70},47.1000000000001,"7a"]
[{"$nulls":70},47.2000000000002,"7a"]
[{"$nulls":70},47.3000000000001,"7a"]
[{"$nulls":70},47.4000000000001,"7a"]
[{"$nulls":70},47.5000000000001,"7a"]
[{"$nulls":70},47.6000000000002,"7a"]
[{"$nulls":70},47.7000000000002,"7a"]
[{"$nulls":70},47.8000000000001,"7a"]
[{"$nulls":70},47.9000000000002,"7a"]

{"sheet":"SPtemplate2","index":4,"n_rows":345,"n_cols":229,"rows_kept":345,"hidden":true,"merged":[[0,8,1,11],[0,20,0,22],[1,13,1,16],[1,20,1,22],[2,8,2,11],[2,13,2,16],[2,20,2,22],[3,8,3,9],[3,10,3,11],[3,13,3,14],[3,15,3,16],[3,20,3,22],[4,8,4,9],[4,10,4,11],[4,13,4,14],[4,15,4,16],[4,20,4,22],[5,8,5,9],[5,10,5,11],[5,13,5,14],[5,15,5,16],[5,20,5,22],[6,8,6,9],[6,10,6,11],[6,13,6,14],[6,15,6,16],[6,20,6,22],[7,20,7,22],[8,20,8,22],[11,51,12,51],[13,51,14,51],[15,25,16,28],[15,29,16,32],[15,38,16,41],[15,42,16,45],[15,227,15,235],[16,227,16,235],[17,25,17,28],[17,29,17,32],[17,38,17,41],[17,42,17,45],[18,25,18,26],[18,27,18,28],[18,29,18,30],[18,31,18,32],[18,38,18,39],[18,40,18,41],[18,42,18,43],[18,44,18,45],[18,228,18,235],[19,25,19,26],[19,27,19,28],[19,29,19,30],[19,31,19,32],[19,38,19,39],[19,40,19,41],[19,42,19,43],[19,44,19,45],[19,51,21,51],[19,228,19,235],[20,25,20,26],[20,27,20,28],[20,29,20,30],[20,31,20,32],[20,38,20,39],[20,40,20,41],[20,42,20,43],[20,44,20,45],[20,228,20,235],[21,25,21,26],[21,27,21,28],[21,29,21,30],[21,31,21,32],[21,38,21,39],[21,40,21,41],[21,42,21,43],[21,44,21,45],[21,228,21,235],[22,25,23,28],[22,29,23,32],[22,38,23,41],[22,42,23,45],[22,51,23,51],[22,228,22,235],[23,228,23,235],[24,25,24,28],[24,29,24,32],[24,38,24,41],[24,42,24,45],[24,228,24,235],[25,25,25,26],[25,27,25,28],[25,29,25,30],[25,31,25,32],[25,38,25,39],[25,40,25,41],[25,42,25,43],[25,44,25,45],[25,228,25,235],[26,25,26,26],[26,27,26,28],[26,29,26,30],[26,31,26,32],[26,38,26,39],[26,40,26,41],[26,42,26,43],[26,44,26,45],[26,228,26,235],[27,25,27,26],[27,27,27,28],[27,29,27,30],[27,31,27,32],[27,38,27,39],[27,40,27,41],[27,42,27,43],[27,44,27,45],[27,228,27,235],[28,25,28,26],[28,27,28,28],[28,29,28,30],[28,31,28,32],[28,38,28,39],[28,40,28,41],[28,42,28,43],[28,44,28,45],[28,228,28,235],[29,228,29,235],[30,228,30,235],[31,228,31,235],[32,228,32,235],[33,12,34,15],[33,16,34,19],[33,25,34,28],[33,29,34,32],[33,38,34,41],[33,42,34,45],[33,228,33,235],[34,228,34,235],[35,12,35,15],[35,16,35,19],[35,25,35,28],[35,29,35,32],[35,38,35,41],[35,42,35,45],[35,228,35,235],[36,12,36,13],[36,14,36,15],[36,16,36,17],[36,18,36,19],[36,25,36,26],[36,27,36,28],[36,29,36,30],[36,31,36,32],[36,38,36,39],[36,40,36,41],[36,42,36,43],[36,44,36,45],[36,228,36,235],[37,12,37,13],[37,14,37,15],[37,16,37,17],[37,18,37,19],[37,25,37,26],[37,27,37,28],[37,29,37,30],[37,31,37,32],[37,38,37,39],[37,40,37,41],[37,42,37,43],[37,44,37,45],[37,228,37,235],[38,12,38,13],[38,14,38,15],[38,16,38,17],[38,18,38,19],[38,25,38,26],[38,27,38,28],[38,29,38,30],[38,31,38,32],[38,38,38,39],[38,40,38,41],[38,42,38,43],[38,44,38,45],[38,228,38,235],[39,12,39,13],[39,14,39,15],[39,16,39,17],[39,18,39,19],[39,25,39,26],[39,27,39,28],[39,29,39,30],[39,31,39,32],[39,38,39,39],[39,40,39,41],[39,42,39,43],[39,44,39,45],[39,228,39,235],[40,12,41,15],[40,16,41,19],[40,25,41,28],[40,29,41,32],[40,38,41,41],[40,42,41,45],[40,228,40,235],[41,228,41,235],[42,12,42,15],[42,16,42,19],[42,25,42,28],[42,29,42,32],[42,38,42,41],[42,42,42,45],[42,228,42,235],[43,12,43,13],[43,14,43,15],[43,16,43,17],[43,18,43,19],[43,25,43,26],[43,27,43,28],[43,29,43,30],[43,31,43,32],[43,38,43,39],[43,40,43,41],[43,42,43,43],[43,44,43,45],[43,228,43,235],[44,12,44,13],[44,14,44,15],[44,16,44,17],[44,18,44,19],[44,25,44,26],[44,27,44,28],[44,29,44,30],[44,31,44,32],[44,38,44,39],[44,40,44,41],[44,42,44,43],[44,44,44,45],[44,228,44,235],[45,12,45,13],[45,14,45,15],[45,16,45,17],[45,18,45,19],[45,25,45,26],[45,27,45,28],[45,29,45,30],[45,31,45,32],[45,38,45,39],[45,40,45,41],[45,42,45,43],[45,44,45,45],[45,228,45,235],[46,12,46,13],[46,14,46,15],[46,16,46,17],[46,18,46,19],[46,25,46,26],[46,27,46,28],[46,29,46,30],[46,31,46,32],[46,38,46,39],[46,40,46,41],[46,42,46,43],[46,44,46,45],[46,228,46,235],[47,12,48,15],[47,16,48,19],[47,25,48,28],[47,29,48,32],[47,38,48,41],[47,42,48,45],[47,228,47,235],[48,228,48,235],[49,12,49,15],[49,16,49,19],[49,25,49,28],[49,29,49,32],[49,38,49,41],[49,42,49,45],[49,228,49,235],[50,12,50,13],[50,14,50,15],[50,16,50,17],[50,18,50,19],[50,25,50,26],[50,27,50,28],[50,29,50,30],[50,31,50,32],[50,38,50,39],[50,40,50,41],[50,42,50,43],[50,44,50,45],[50,228,50,235],[51,12,51,13],[51,14,51,15],[51,16,51,17],[51,18,51,19],[51,25,51,26],[51,27,51,28],[51,29,51,30],[51,31,51,32],[51,38,51,39],[51,40,51,41],[51,42,51,43],[51,44,51,45],[51,228,51,235],[52,12,52,13],[52,14,52,15],[52,16,52,17],[52,18,52,19],[52,25,52,26],[52,27,52,28],[52,29,52,30],[52,31,52,32],[52,38,52,39],[52,40,52,41],[52,42,52,43],[52,44,52,45],[53,12,53,13],[53,14,53,15],[53,16,53,17],[53,18,53,19],[53,25,53,26],[53,27,53,28],[53,29,53,30],[53,31,53,32],[53,38,53,39],[53,40,53,41],[53,42,53,43],[53,44,53,45],[56,43,59,48],[74,18,76,25],[74,26,76,29],[154,18,156,25],[154,26,156,29],[253,18,255,25],[253,26,255,29],[339,18,341,25],[339,26,341,29],[444,18,446,25],[444,26,446,29],[551,18,553,25],[551,26,553,29],[662,18,664,25],[662,26,664,29],[728,18,730,25],[728,26,730,29],[815,19,817,26],[815,27,817,30],[914,19,916,26],[914,27,916,30],[1000,19,1002,26],[1000,27,1002,30],[1105,19,1107,26],[1105,27,1107,30],[1212,19,1214,26],[1212,27,1214,30],[1323,19,1325,26],[1323,27,1325,30]]}
[{"$f":"Main!H2","v":"SPR 1"},0,1,null,{"$f":"IFERROR(IF(SEARCH(\"7\",BA10)=1,7),\"\")","v":""},{"$f":"IFERROR(IF(SEARCH(\"8\",BA10)=1,8),\"\")","v":8},{"$f":"IFERROR(IF(SEARCH(\"9\",BA10)=1,9),\"\")","v":""},{"$f":"IFERROR(IF(SEARCH(\"10\",BA10)=1,10),\"\")","v":""},{"$f":"IFERROR(IF(SEARCH(\"11\",BA10)=1,11),\"\")","v":""},{"$nulls":3},64,{"$f":"IF(ISODD(M1),\"Disable Table Creation\",\"Enable Table Creation\")","v":"Enable Table Creation"},1,{"$nulls":5},"hide/show needs",null,null,"0to1",0,{"$nulls":29},"Aut 1",{"$nulls":13},"Classlist",{"$nulls":7},"Classlist",{"$nulls":11},"Classlist"]
[{"$nulls":20},"hide/show c/grade",null,null,"2to3",3,{"$nulls":29},"Aut 2",{"$nulls":13},"Classlist",{"$nulls":7},"Classlist",{"$nulls":11},"Classlist"]
[null,null,{"$f":"MATCH(I2&$AZ$14,name&Group2,0)","v":{"$error":"#N/A"}},{"$nulls":5},{"$f":"IFERROR(IF($Y$1=1,\"\",VLOOKUP(I1,needstable,8,FALSE)),\"\")","v":"    "},{"$nulls":4},"",{"$nulls":6},"hide/show KS2",null,null,"4to5",5,{"$nulls":29},"Spr 1",{"$nulls":13},"Classlist",{"$nulls":7},"Classlist",{"$nulls":11},"Classlist"]
[{"$nulls":8},"C/grade",null,{"$f":"Sheet2rng!$D$1","v":"KS2"},null,null,"C/grade",null,"KS2",{"$nulls":4},"hide/show target",null,null,"6to7",7,{"$nulls":29},"Spr 2",{"$nulls":13},"Classlist",{"$nulls":7},"Classlist",{"$nulls":11},"Classlist"]
[{"$nulls":8},{"$f":"IFERROR(IF($Y$2=2,\"\",IF($Y$2=3,INDEX(indexdatabase,MATCH(I1&$AZ$14,name&Group2,0),MATCH($AZ$23,Sheet2rng!$A$1:$AK$1,0)))),\"\")","v":""},null,{"$f":"IFERROR(IF($Y$3=4,\"\",IF($Y$3=5,INDEX(indexdatabase,MATCH(I1&$AZ$14,name&Group2,0),MATCH($P$4,Sheet2rng!$A$1:$AK$1,0)))),\"\")","v":""},null,null,"",null,"",{"$nulls":4},"hide/show AR",null,null,"8to9",9,{"$nulls":29},"Sum 1",{"$nulls":13},"Classlist",{"$nulls":7},"Classlist",{"$nulls":11},"Classlist"]
[{"$nulls":8},{"$f":"Sheet2rng!$C$1","v":"Target"},null,{"$f":"Sheet2rng!$E$1","v":"AR"},null,null,"Target",null,"AR",{"$nulls":38},"Sum 2",{"$nulls":13},"Classlist",{"$nulls":7},"Classlist",{"$nulls":11},"Classlist"]
[{"$nulls":8},{"$f":"IFERROR(IF($Y$4=6,\"\",IF($Y$4=7,INDEX(indexdatabase,MATCH(I1&$AZ$14,name&Group2,0),MATCH($N$6,Sheet2rng!$A$1:$AK$1,0)))),\"\")","v":""},null,{"$f":"IFERROR(IF($Y$5=8,\"\",IF($Y$5=9,INDEX(Sheet2rng,MATCH(I1&$AZ$14,name&Group2,0),MATCH($P$6,sheet2columns,0)))),\"\")","v":""},null,null,"",null,"",{"$nulls":52},"Classlist",{"$nulls":7},"Classlist",{"$nulls":11},"Classlist"]
[{"$nulls":68},"Classlist",{"$nulls":7},"Classlist",{"$nulls":11},"Classlist"]
[{"$nulls":11},{"$f":"AZ23","v":"SPR 1"},{"$nulls":56},"Classlist",{"$nulls":7},"Classlist",null,{"$f":"IFERROR(INDEX(indexdatabase,MATCH(I2&$AZ$14,name&Group2,0),MATCH($A$1,Sheet2rng!$F$1:$K$1,0)+27),\"\")","v":""},{"$f":"IF(OR(AZ27=\"Aut 1\",AZ27=\"Aut 2\",AZ27=\"Spr 1\"),1,2)","v":1},{"$f":"IF(AZ4018=\"Sum 2\",3,\"\")","v":""},{"$f":"IFERROR(INDEX(Sheet2rng!$A$1:$AK$2500,MATCH(I2&AZ14,Sheet2rng!$A$1:$A$2500&Sheet2rng!$B$1:$B$28,0),MATCH(\"Target\",Sheet2rng!$A$1:$AK$1,0)),\"\")","v":""},{"$nulls":6},"Classlist"]
[{"$nulls":52},{"$f":"AZ14","v":"8C-RE"},{"$nulls":15},"Classlist",{"$nulls":7},"Classlist",null,{"$f":"CONCATENATE(I2,AZ14)","v":"8C-RE"},{"$nulls":9},"Classlist"]
[{"$nulls":52},"Class","FSM","PPI",{"$nulls":13},"Classlist",null,"PPI",{"$nulls":5},"Classlist",{"$nulls":11},"Classlist"]
[{"$nulls":51},"Select class",{"$nulls":13},"11B/So1",null,null,{"$f":"IF($BA$10=\"\",\"\",IFERROR(INDEX(name,BT12,1),\"\"))","v":"Kristina"},"IFERROR(INDEX(Sheet2rng,MATCH(BA12,sheet2rows,0), MATCH($BB$11,sheet2columns,0)),\"\")",{"$f":"IFERROR(INDEX(indexdatabase,MATCH(BQ12&$AZ$14,name&Group2,0),MATCH(\"PPI\",Sheet2rng!$A$1:$AK$1,0)),\"\")","v":"Y"},{"$f":"IFERROR(SMALL(IF(LEFT(Group2,LEN(SPtemplate2!$BA$10))=SPtemplate2!$BA$10,ROW(Group2)),ROW(A1)),\"\")","v":2},{"$nulls":4},"HILL Gretchen",{"$nulls":11},"Kristina"]
[{"$nulls":65},"11A/So1",null,null,"Gretchen","IFERROR(INDEX(Sheet2rng,MATCH(BA12,sheet2rows,0), MATCH($BB$11,sheet2columns,0)),\"\")",{"$f":"IFERROR(INDEX(indexdatabase,MATCH(BQ13&$AZ$14,name&Group2,0),MATCH(\"PPI\",Sheet2rng!$A$1:$AK$1,0)),\"\")","v":0},{"$f":"IFERROR(SMALL(IF(LEFT(Group2,LEN(SPtemplate2!$BA$10))=SPtemplate2!$BA$10,ROW(Group2)),ROW(A2)),\"\")","v":24},{"$nulls":4},"MCLAUGHLIN Dolores",{"$nulls":11},"Gretchen"]
[{"$nulls":51},"8C-RE",{"$nulls":13},"11P/So1",null,null,"Tim","IFERROR(INDEX(Sheet2rng,MATCH(BA12,sheet2rows,0), MATCH($BB$11,sheet2columns,0)),\"\")",{"$f":"IFERROR(INDEX(indexdatabase,MATCH(BQ14&$AZ$14,name&Group2,0),MATCH(\"PPI\",Sheet2rng!$A$1:$AK$1,0)),\"\")","v":"Y"},{"$f":"IFERROR(SMALL(IF(LEFT(Group2,LEN(SPtemplate2!$BA$10))=SPtemplate2!$BA$10,ROW(Group2)),ROW(A3)),\"\")","v":25},{"$nulls":4},"STEELE Eric",{"$nulls":11},"Tim"]
[{"$nulls":54},"SEND","MAT","EAL","SEND/","MAT/","EAL/",{"$nulls":5},"11Q/So1",null,null,"Donald","IFERROR(INDEX(Sheet2rng,MATCH(BA12,sheet2rows,0), MATCH($BB$11,sheet2columns,0)),\"\")",{"$f":"IFERROR(INDEX(indexdatabase,MATCH(BQ15&$AZ$14,name&Group2,0),MATCH(\"PPI\",Sheet2rng!$A$1:$AK$1,0)),\"\")","v":0},{"$f":"IFERROR(SMALL(IF(LEFT(Group2,LEN(SPtemplate2!$BA$10))=SPtemplate2!$BA$10,ROW(Group2)),ROW(A4)),\"\")","v":32},{"$nulls":4},"VICK Franklin",{"$nulls":11},"Donald"]
[{"$nulls":29},{"$f":"IFERROR(IF(SEARCH(\"11\",BV25)=1,11),\"\")","v":""},{"$nulls":8},{"$f":"IFERROR(IF(SEARCH(\"11\",CE25)=1,11),\"\")","v":""},{"$nulls":3},"Kristina",{"$nulls":9},{"$f":"IFERROR(INDEX(indexdatabase,MATCH(BQ12&$AZ$14,name&Group2,0),MATCH(\"AR\",Sheet2rng!$A$1:$AK$1,0)),\"\")","v":"H"},{"$f":"BQ12","v":"Kristina"},{"$f":"IFERROR(INDEX(indexdatabase,MATCH($BB16&$AZ$14,name&Group2,0),MATCH(\"SEND\",Sheet2rng!$A$1:$AO$1,0)),\"\")","v":0},{"$f":"IFERROR(INDEX(indexdatabase,MATCH($BB16&$AZ$14,name&Group2,0),MATCH(\"MAT\",Sheet2rng!$A$1:$AO$1,0)),\"\")","v":0},{"$f":"IFERROR(INDEX(indexdatabase,MATCH($BB16&$AZ$14,name&Group2,0),MATCH(\"EAL\",Sheet2rng!$A$1:$AO$1,0)),\"\")","v":"OTH"},{"$f":"IF($BC16=0,\"\",IF($BC16=\"\",\"\",IF($BC16=\"N\",\"\",$BF$15&$BC16)))","v":""},{"$f":"IF($BD16=0,\"\",IF($BD16=\"\",\"\",IF($BD16=\"N\",\"\",$BG$15&$BD16)))","v":""},{"$f":"IF($BE16=0,\"\",IF($BE16=\"\",\"\",IF($BE16=\"N\",\"\",$BH$15&$BE16)))","v":"EAL/OTH"},{"$f":"CONCATENATE(BF16,\"  \",BG16,\"  \",BH16)","v":"    EAL/OTH"},{"$nulls":4},"11B/So2",null,null,"Paul","IFERROR(INDEX(Sheet2rng,MATCH(BA12,sheet2rows,0), MATCH($BB$11,sheet2columns,0)),\"\")",{"$f":"IFERROR(INDEX(indexdatabase,MATCH(BQ16&$AZ$14,name&Group2,0),MATCH(\"PPI\",Sheet2rng!$A$1:$AK$1,0)),\"\")","v":0},{"$f":"IFERROR(SMALL(IF(LEFT(Group2,LEN(SPtemplate2!$BA$10))=SPtemplate2!$BA$10,ROW(Group2)),ROW(A5)),\"\")","v":34},{"$nulls":4},"GOLDSTEIN Gretchen",{"$nulls":11},"Paul",{"$nulls":138},{"$f":"BA10","v":"8C-RE"}]
[{"$nulls":52},{"$f":"IFERROR(INDEX(indexdatabase,MATCH(BQ13&$AZ$14,name&Group2,0),MATCH(\"AR\",Sheet2rng!$A$1:$AK$1,0)),\"\")","v":0},{"$f":"BQ13","v":"Gretchen"},{"$f":"IFERROR(INDEX(indexdatabase,MATCH($BB17&$AZ$14,name&Group2,0),MATCH(\"SEND\",Sheet2rng!$A$1:$AO$1,0)),\"\")","v":0},{"$f":"IFERROR(INDEX(indexdatabase,MATCH($BB17&$AZ$14,name&Group2,0),MATCH(\"MAT\",Sheet2rng!$A$1:$AO$1,0)),\"\")","v":0},{"$f":"IFERROR(INDEX(indexdatabase,MATCH($BB17&$AZ$14,name&Group2,0),MATCH(\"EAL\",Sheet2rng!$A$1:$AO$1,0)),\"\")","v":"OTH"},{"$f":"IF($BC17=0,\"\",IF($BC17=\"\",\"\",IF($BC17=\"N\",\"\",$BF$15&$BC17)))","v":""},{"$f":"IF($BD17=0,\"\",IF($BD17=\"\",\"\",IF($BD17=\"N\",\"\",$BG$15&$BD17)))","v":""},{"$f":"IF($BE17=0,\"\",IF($BE17=\"\",\"\",IF($BE17=\"N\",\"\",$BH$15&$BE17)))","v":"EAL/OTH"},{"$f":"CONCATENATE(BF17,\"  \",BG17,\"  \",BH17)","v":"    EAL/OTH"},{"$nulls":7},"Melanie","IFERROR(INDEX(Sheet2rng,MATCH(BA12,sheet2rows,0), MATCH($BB$11,sheet2columns,0)),\"\")",{"$f":"IFERROR(INDEX(indexdatabase,MATCH(BQ17&$AZ$14,name&Group2,0),MATCH(\"PPI\",Sheet2rng!$A$1:$AK$1,0)),\"\")","v":0},{"$f":"IFERROR(SMALL(IF(LEFT(Group2,LEN(SPtemplate2!$BA$10))=SPtemplate2!$BA$10,ROW(Group2)),ROW(A6)),\"\")","v":52},{"$nulls":4},"MANGUM Patricia",{"$nulls":11},"Melanie",{"$nulls":138},"Progress since AUT1"]
[{"$nulls":25},{"$f":"IFERROR(IF($Y$1=1,\"\",VLOOKUP(Z16,needstable,8,FALSE)),\"\")","v":""},{"$nulls":3},{"$f":"IFERROR(IF($Y$1=1,\"\",VLOOKUP(AD16,needstable,8,FALSE)),\"\")","v":"    "},{"$nulls":8},{"$f":"IFERROR(IF($Y$1=1,\"\",VLOOKUP(AM16,needstable,8,FALSE)),\"\")","v":"    "},{"$nulls":3},{"$f":"IFERROR(IF($Y$1=1,\"\",VLOOKUP(AQ16,needstable,8,FALSE)),\"\")","v":"    EAL/OTH"},{"$nulls":9},{"$f":"IFERROR(INDEX(indexdatabase,MATCH(BQ14&$AZ$14,name&Group2,0),MATCH(\"AR\",Sheet2rng!$A$1:$AK$1,0)),\"\")","v":0},"Tim",{"$f":"IFERROR(INDEX(indexdatabase,MATCH($BB18&$AZ$14,name&Group2,0),MATCH(\"SEND\",Sheet2rng!$A$1:$AO$1,0)),\"\")","v":"K"},{"$f":"IFERROR(INDEX(indexdatabase,MATCH($BB18&$AZ$14,name&Group2,0),MATCH(\"MAT\",Sheet2rng!$A$1:$AO$1,0)),\"\")","v":0},{"$f":"IFERROR(INDEX(indexdatabase,MATCH($BB18&$AZ$14,name&Group2,0),MATCH(\"EAL\",Sheet2rng!$A$1:$AO$1,0)),\"\")","v":"OTH"},"SEND/K","","EAL/OTH","SEND/K    EAL/OTH",{"$nulls":7},"Alison","IFERROR(INDEX(Sheet2rng,MATCH(BA12,sheet2rows,0), MATCH($BB$11,sheet2columns,0)),\"\")",{"$f":"IFERROR(INDEX(indexdatabase,MATCH(BQ18&$AZ$14,name&Group2,0),MATCH(\"PPI\",Sheet2rng!$A$1:$AK$1,0)),\"\")","v":"Y"},{"$f":"IFERROR(SMALL(IF(LEFT(Group2,LEN(SPtemplate2!$BA$10))=SPtemplate2!$BA$10,ROW(Group2)),ROW(A7)),\"\")","v":67},{"$nulls":4},"MERRITT Shirley",{"$nulls":11},"Alison"]
[{"$nulls":25},"C/grade",null,{"$f":"Sheet2rng!$D$1","v":"KS2"},null,"C/grade",null,{"$f":"Sheet2rng!$D$1","v":"KS2"},{"$nulls":6},"C/grade",null,{"$f":"Sheet2rng!$D$1","v":"KS2"},null,"C/grade",null,{"$f":"Sheet2rng!$D$1","v":"KS2"},{"$nulls":7},{"$f":"IFERROR(INDEX(indexdatabase,MATCH(BQ15&$AZ$14,name&Group2,0),MATCH(\"AR\",Sheet2rng!$A$1:$AK$1,0)),\"\")","v":0},"Donald",{"$f":"IFERROR(INDEX(indexdatabase,MATCH($BB19&$AZ$14,name&Group2,0),MATCH(\"SEND\",Sheet2rng!$A$1:$AO$1,0)),\"\")","v":0},{"$f":"IFERROR(INDEX(indexdatabase,MATCH($BB19&$AZ$14,name&Group2,0),MATCH(\"MAT\",Sheet2rng!$A$1:$AO$1,0)),\"\")","v":0},{"$f":"IFERROR(INDEX(indexdatabase,MATCH($BB19&$AZ$14,name&Group2,0),MATCH(\"EAL\",Sheet2rng!$A$1:$AO$1,0)),\"\")","v":"ENG"},"","","EAL/ENG","    EAL/ENG",{"$nulls":7},"Brandon","IFERROR(INDEX(Sheet2rng,MATCH(BA12,sheet2rows,0), MATCH($BB$11,sheet2columns,0)),\"\")",{"$f":"IFERROR(INDEX(indexdatabase,MATCH(BQ19&$AZ$14,name&Group2,0),MATCH(\"PPI\",Sheet2rng!$A$1:$AK$1,0)),\"\")","v":0},{"$f":"IFERROR(SMALL(IF(LEFT(Group2,LEN(SPtemplate2!$BA$10))=SPtemplate2!$BA$10,ROW(Group2)),ROW(A8)),\"\")","v":71},{"$nulls":4},"MORGAN Glenda",{"$nulls":11},"Brandon",{"$nulls":138},{"$f":"DT338","v":0},{"$f":"DU338","v":0}]
[{"$nulls":25},{"$f":"IFERROR(IF($Y$2=2,\"\",IF($Y$2=3,INDEX(indexdatabase,MATCH(Z16&$AZ$14,name&Group2,0),MATCH($AZ$23,Sheet2rng!$A$1:$AK$1,0)))),\"\")","v":""},null,{"$f":"IFERROR(IF($Y$3=4,\"\",IF($Y$3=5,INDEX(indexdatabase,MATCH(Z16&$AZ$14,name&Group2,0),MATCH($P$4,Sheet2rng!$A$1:$AK$1,0)))),\"\")","v":""},null,{"$f":"IFERROR(IF($Y$2=2,\"\",IF($Y$2=3,INDEX(indexdatabase,MATCH(AD16&$AZ$14,name&Group2,0),MATCH($AZ$23,Sheet2rng!$A$1:$AK$1,0)))),\"\")","v":""},null,{"$f":"IFERROR(IF($Y$3=4,\"\",IF($Y$3=5,INDEX(indexdatabase,MATCH(AD16&$AZ$14,name&Group2,0),MATCH($P$4,Sheet2rng!$A$1:$AK$1,0)))),\"\")","v":""},{"$nulls":6},{"$f":"IFERROR(IF($Y$2=2,\"\",IF($Y$2=3,INDEX(indexdatabase,MATCH(AM16&$AZ$14,name&Group2,0),MATCH($AZ$23,Sheet2rng!$A$1:$AK$1,0)))),\"\")","v":""},null,{"$f":"IFERROR(IF($Y$3=4,\"\",IF($Y$3=5,INDEX(indexdatabase,MATCH(AM16&$AZ$14,name&Group2,0),MATCH($P$4,Sheet2rng!$A$1:$AK$1,0)))),\"\")","v":""},null,{"$f":"IFERROR(IF($Y$2=2,\"\",IF($Y$2=3,INDEX(indexdatabase,MATCH(AQ16&$AZ$14,name&Group2,0),MATCH($AZ$23,Sheet2rng!$A$1:$AK$1,0)))),\"\")","v":2},null,{"$f":"IFERROR(IF($Y$3=4,\"\",IF($Y$3=5,INDEX(indexdatabase,MATCH(AQ16&$AZ$14,name&Group2,0),MATCH($P$4,Sheet2rng!$A$1:$AK$1,0)))),\"\")","v":3},{"$nulls":6},"Assessment period",{"$f":"IFERROR(INDEX(indexdatabase,MATCH(BQ16&$AZ$14,name&Group2,0),MATCH(\"AR\",Sheet2rng!$A$1:$AK$1,0)),\"\")","v":0},"Paul",{"$f":"IFERROR(INDEX(indexdatabase,MATCH($BB20&$AZ$14,name&Group2,0),MATCH(\"SEND\",Sheet2rng!$A$1:$AO$1,0)),\"\")","v":"K"},{"$f":"IFERROR(INDEX(indexdatabase,MATCH($BB20&$AZ$14,name&Group2,0),MATCH(\"MAT\",Sheet2rng!$A$1:$AO$1,0)),\"\")","v":0},{"$f":"IFERROR(INDEX(indexdatabase,MATCH($BB20&$AZ$14,name&Group2,0),MATCH(\"EAL\",Sheet2rng!$A$1:$AO$1,0)),\"\")","v":"ENG"},"SEND/K","","EAL/ENG","SEND/K    EAL/ENG",{"$nulls":7},"Patricia","IFERROR(INDEX(Sheet2rng,MATCH(BA12,sheet2rows,0), MATCH($BB$11,sheet2columns,0)),\"\")",{"$f":"IFERROR(INDEX(indexdatabase,MATCH(BQ20&$AZ$14,name&Group2,0),MATCH(\"PPI\",Sheet2rng!$A$1:$AK$1,0)),\"\")","v":0},{"$f":"IFERROR(SMALL(IF(LEFT(Group2,LEN(SPtemplate2!$BA$10))=SPtemplate2!$BA$10,ROW(Group2)),ROW(A9)),\"\")","v":75},{"$nulls":4},"RICH Jessica",{"$nulls":11},"Patricia",{"$nulls":44},{"$f":"IF(EE20=1,1,IF(EE20=2,2,IF(EE20=EE19,ED19,IF(EE20>EE19,ED19+1))))","v":0},"","ABU Aisha",{"$nulls":5},{"$f":"IF(EM20=1,1,IF(EM20=2,2,IF(EM20=EM19,EL19,IF(EM20>EM19,EL19+1))))","v":1},1,"CHATTEN Zoe",{"$nulls":5},{"$f":"IF(EU20=1,1,IF(EU20=2,2,IF(EU20=EU19,ET19,IF(EU20>EU19,ET19+1))))","v":0},"","ABU Aisha",{"$nulls":5},{"$f":"IF(FC20=1,1,IF(FC20=2,2,IF(FC20=FC19,FB19,IF(FC20>FC19,FB19+1))))","v":0},"","ABU Aisha",{"$nulls":5},{"$f":"IF(FK20=1,1,IF(FK20=2,2,IF(FK20=FK19,FJ19,IF(FK20>FK19,FJ19+1))))","v":0},"","ABU Aisha",{"$nulls":5},{"$f":"IF(FS20=1,1,IF(FS20=2,2,IF(FS20=FS19,FR19,IF(FS20>FS19,FR19+1))))","v":0},"","ABU Aisha",{"$nulls":51},0,0]
[{"$nulls":25},{"$f":"Sheet2rng!$C$1","v":"Target"},null,{"$f":"Sheet2rng!$E$1","v":"AR"},null,{"$f":"Sheet2rng!$C$1","v":"Target"},null,{"$f":"Sheet2rng!$E$1","v":"AR"},{"$nulls":6},{"$f":"Sheet2rng!$C$1","v":"Target"},null,{"$f":"Sheet2rng!$E$1","v":"AR"},null,{"$f":"Sheet2rng!$C$1","v":"Target"},null,{"$f":"Sheet2rng!$E$1","v":"AR"},{"$nulls":7},{"$f":"IFERROR(INDEX(indexdatabase,MATCH(BQ17&$AZ$14,name&Group2,0),MATCH(\"AR\",Sheet2rng!$A$1:$AK$1,0)),\"\")","v":0},"Melanie",{"$f":"IFERROR(INDEX(indexdatabase,MATCH($BB21&$AZ$14,name&Group2,0),MATCH(\"SEND\",Sheet2rng!$A$1:$AO$1,0)),\"\")","v":0},{"$f":"IFERROR(INDEX(indexdatabase,MATCH($BB21&$AZ$14,name&Group2,0),MATCH(\"MAT\",Sheet2rng!$A$1:$AO$1,0)),\"\")","v":0},{"$f":"IFERROR(INDEX(indexdatabase,MATCH($BB21&$AZ$14,name&Group2,0),MATCH(\"EAL\",Sheet2rng!$A$1:$AO$1,0)),\"\")","v":"NOT/kn"},"","","EAL/NOT/kn","    EAL/NOT/kn",{"$nulls":7},"Jennifer","IFERROR(INDEX(Sheet2rng,MATCH(BA12,sheet2rows,0), MATCH($BB$11,sheet2columns,0)),\"\")",{"$f":"IFERROR(INDEX(indexdatabase,MATCH(BQ21&$AZ$14,name&Group2,0),MATCH(\"PPI\",Sheet2rng!$A$1:$AK$1,0)),\"\")","v":0},{"$f":"IFERROR(SMALL(IF(LEFT(Group2,LEN(SPtemplate2!$BA$10))=SPtemplate2!$BA$10,ROW(Group2)),ROW(A10)),\"\")","v":76},{"$nulls":4},"HINTON Luis",{"$nulls":11},"Jennifer",{"$nulls":44},{"$f":"IF(EE21=1,1,IF(EE21=2,2,IF(EE21=EE20,ED20,IF(EE21>EE20,ED20+1))))","v":0},"","ALFORD Harry",{"$nulls":5},{"$f":"IF(EM21=1,1,IF(EM21=2,2,IF(EM21=EM20,EL20,IF(EM21>EM20,EL20+1))))","v":2},2,"ALFORD Harry",{"$nulls":5},{"$f":"IF(EU21=1,1,IF(EU21=2,2,IF(EU21=EU20,ET20,IF(EU21>EU20,ET20+1))))","v":0},"","ALFORD Harry",{"$nulls":5},{"$f":"IF(FC21=1,1,IF(FC21=2,2,IF(FC21=FC20,FB20,IF(FC21>FC20,FB20+1))))","v":0},"","ALFORD Harry",{"$nulls":5},{"$f":"IF(FK21=1,1,IF(FK21=2,2,IF(FK21=FK20,FJ20,IF(FK21>FK20,FJ20+1))))","v":0},"","ALFORD Harry",{"$nulls":5},{"$f":"IF(FS21=1,1,IF(FS21=2,2,IF(FS21=FS20,FR20,IF(FS21>FS20,FR20+1))))","v":0},"","ALFORD Harry",{"$nulls":51},0,0]
[{"$nulls":25},{"$f":"IFERROR(IF($Y$4=6,\"\",IF($Y$4=7,INDEX(indexdatabase,MATCH(Z16&$AZ$14,name&Group2,0),MATCH($N$6,Sheet2rng!$A$1:$AK$1,0)))),\"\")","v":""},null,{"$f":"IFERROR(IF($Y$5=8,\"\",IF($Y$5=9,INDEX(Sheet2rng,MATCH(Z16&$AZ$14,name&Group2,0),MATCH($P$6,sheet2columns,0)))),\"\")","v":""},null,{"$f":"IFERROR(IF($Y$4=6,\"\",IF($Y$4=7,INDEX(indexdatabase,MATCH(AD16&$AZ$14,name&Group2,0),MATCH($N$6,Sheet2rng!$A$1:$AK$1,0)))),\"\")","v":""},null,{"$f":"IFERROR(IF($Y$5=8,\"\",IF($Y$5=9,INDEX(Sheet2rng,MATCH(AD16&$AZ$14,name&Group2,0),MATCH($P$6,sheet2columns,0)))),\"\")","v":""},{"$nulls":6},{"$f":"IFERROR(IF($Y$4=6,\"\",IF($Y$4=7,INDEX(indexdatabase,MATCH(AM16&$AZ$14,name&Group2,0),MATCH($N$6,Sheet2rng!$A$1:$AK$1,0)))),\"\")","v":""},null,{"$f":"IFERROR(IF($Y$5=8,\"\",IF($Y$5=9,INDEX(Sheet2rng,MATCH(AM16&$AZ$14,name&Group2,0),MATCH($P$6,sheet2columns,0)))),\"\")","v":""},null,{"$f":"IFERROR(IF($Y$4=6,\"\",IF($Y$4=7,INDEX(indexdatabase,MATCH(AQ16&$AZ$14,name&Group2,0),MATCH($N$6,Sheet2rng!$A$1:$AK$1,0)))),\"\")","v":"1+"},null,{"$f":"IFERROR(IF($Y$5=8,\"\",IF($Y$5=9,INDEX(Sheet2rng,MATCH(AQ16&$AZ$14,name&Group2,0),MATCH($P$6,sheet2columns,0)))),\"\")","v":"H"},{"$nulls":7},{"$f":"IFERROR(INDEX(indexdatabase,MATCH(BQ18&$AZ$14,name&Group2,0),MATCH(\"AR\",Sheet2rng!$A$1:$AK$1,0)),\"\")","v":0},"Alison",{"$f":"IFERROR(INDEX(indexdatabase,MATCH($BB22&$AZ$14,name&Group2,0),MATCH(\"SEND\",Sheet2rng!$A$1:$AO$1,0)),\"\")","v":0},{"$f":"IFERROR(INDEX(indexdatabase,MATCH($BB22&$AZ$14,name&Group2,0),MATCH(\"MAT\",Sheet2rng!$A$1:$AO$1,0)),\"\")","v":0},{"$f":"IFERROR(INDEX(indexdatabase,MATCH($BB22&$AZ$14,name&Group2,0),MATCH(\"EAL\",Sheet2rng!$A$1:$AO$1,0)),\"\")","v":"NOT/kn"},"","","EAL/NOT/kn","    EAL/NOT/kn",{"$nulls":7},"Mary","IFERROR(INDEX(Sheet2rng,MATCH(BA12,sheet2rows,0), MATCH($BB$11,sheet2columns,0)),\"\")",{"$f":"IFERROR(INDEX(indexdatabase,MATCH(BQ22&$AZ$14,name&Group2,0),MATCH(\"PPI\",Sheet2rng!$A$1:$AK$1,0)),\"\")","v":"Y"},{"$f":"IFERROR(SMALL(IF(LEFT(Group2,LEN(SPtemplate2!$BA$10))=SPtemplate2!$BA$10,ROW(Group2)),ROW(A11)),\"\")","v":77},{"$nulls":4},"PARKS Gary",{"$nulls":11},"Mary",{"$nulls":44},0,"","BAKER Lucy",{"$nulls":5},2,2,"DONNELLY Kirsten",{"$nulls":5},0,"","BAKER Lucy",{"$nulls":5},0,"","BAKER Lucy",{"$nulls":5},0,"","BAKER Lucy",{"$nulls":5},0,"","BAKER Lucy",{"$nulls":51},0,0]
[{"$nulls":29},{"$f":"IFERROR(IF(SEARCH(\"11\",BV32)=1,11),\"\")","v":""},{"$nulls":8},{"$f":"IFERROR(IF(SEARCH(\"11\",CE32)=1,11),\"\")","v":""},{"$nulls":3},{"$f":"IFERROR(IF(SEARCH(\"11\",CI32)=1,11),\"\")","v":""},{"$nulls":8},"SPR 1",{"$f":"IFERROR(INDEX(indexdatabase,MATCH(BQ19&$AZ$14,name&Group2,0),MATCH(\"AR\",Sheet2rng!$A$1:$AK$1,0)),\"\")","v":0},"Brandon",{"$f":"IFERROR(INDEX(indexdatabase,MATCH($BB23&$AZ$14,name&Group2,0),MATCH(\"SEND\",Sheet2rng!$A$1:$AO$1,0)),\"\")","v":0},{"$f":"IFERROR(INDEX(indexdatabase,MATCH($BB23&$AZ$14,name&Group2,0),MATCH(\"MAT\",Sheet2rng!$A$1:$AO$1,0)),\"\")","v":0},{"$f":"IFERROR(INDEX(indexdatabase,MATCH($BB23&$AZ$14,name&Group2,0),MATCH(\"EAL\",Sheet2rng!$A$1:$AO$1,0)),\"\")","v":"OTH"},"","","EAL/OTH","    EAL/OTH",{"$nulls":7},"Vincent","IFERROR(INDEX(Sheet2rng,MATCH(BA12,sheet2rows,0), MATCH($BB$11,sheet2columns,0)),\"\")",{"$f":"IFERROR(INDEX(indexdatabase,MATCH(BQ23&$AZ$14,name&Group2,0),MATCH(\"PPI\",Sheet2rng!$A$1:$AK$1,0)),\"\")","v":0},{"$f":"IFERROR(SMALL(IF(LEFT(Group2,LEN(SPtemplate2!$BA$10))=SPtemplate2!$BA$10,ROW(Group2)),ROW(A12)),\"\")","v":99},{"$nulls":4},"ABRAMS Patricia",{"$nulls":11},"Vincent",{"$nulls":44},0,"","BAVERSTOCK Adam",{"$nulls":5},2,2,"DOWN Keiran",{"$nulls":5},0,"","BAVERSTOCK Adam",{"$nulls":5},0,"","BAVERSTOCK Adam",{"$nulls":5},0,"","BAVERSTOCK Adam",{"$nulls":5},0,"","BAVERSTOCK Adam",{"$nulls":51},0,0]
[{"$nulls":52},{"$f":"IFERROR(INDEX(indexdatabase,MATCH(BQ20&$AZ$14,name&Group2,0),MATCH(\"AR\",Sheet2rng!$A$1:$AK$1,0)),\"\")","v":0},"Patricia",{"$f":"IFERROR(INDEX(indexdatabase,MATCH($BB24&$AZ$14,name&Group2,0),MATCH(\"SEND\",Sheet2rng!$A$1:$AO$1,0)),\"\")","v":0},{"$f":"IFERROR(INDEX(indexdatabase,MATCH($BB24&$AZ$14,name&Group2,0),MATCH(\"MAT\",Sheet2rng!$A$1:$AO$1,0)),\"\")","v":0},{"$f":"IFERROR(INDEX(indexdatabase,MATCH($BB24&$AZ$14,name&Group2,0),MATCH(\"EAL\",Sheet2rng!$A$1:$AO$1,0)),\"\")","v":"NOT/kn"},"","","EAL/NOT/kn","    EAL/NOT/kn",{"$nulls":7},"Katie","IFERROR(INDEX(Sheet2rng,MATCH(BA12,sheet2rows,0), MATCH($BB$11,sheet2columns,0)),\"\")",{"$f":"IFERROR(INDEX(indexdatabase,MATCH(BQ24&$AZ$14,name&Group2,0),MATCH(\"PPI\",Sheet2rng!$A$1:$AK$1,0)),\"\")","v":0},{"$f":"IFERROR(SMALL(IF(LEFT(Group2,LEN(SPtemplate2!$BA$10))=SPtemplate2!$BA$10,ROW(Group2)),ROW(A13)),\"\")","v":104},{"$nulls":4},"TILLEY Jennifer",{"$nulls":11},"Katie",{"$nulls":44},0,"","BLE Grace",{"$nulls":5},2,2,"HARRIS Christian",{"$nulls":5},0,"","BLE Grace",{"$nulls":5},0,"","BLE Grace",{"$nulls":5},0,"","BLE Grace",{"$nulls":5},0,"","BLE Grace",{"$nulls":51},0,0]
[{"$nulls":25},{"$f":"IFERROR(IF($Y$1=1,\"\",VLOOKUP(Z23,needstable,8,FALSE)),\"\")","v":""},{"$nulls":3},{"$f":"IFERROR(IF($Y$1=1,\"\",VLOOKUP(AD23,needstable,8,FALSE)),\"\")","v":"    "},{"$nulls":8},{"$f":"IFERROR(IF($Y$1=1,\"\",VLOOKUP(AM23,needstable,8,FALSE)),\"\")","v":"    "},{"$nulls":3},{"$f":"IFERROR(IF($Y$1=1,\"\",VLOOKUP(AQ23,needstable,8,FALSE)),\"\")","v":"    "},{"$nulls":9},{"$f":"IFERROR(INDEX(indexdatabase,MATCH(BQ21&$AZ$14,name&Group2,0),MATCH(\"AR\",Sheet2rng!$A$1:$AK$1,0)),\"\")","v":0},"Jennifer",{"$f":"IFERROR(INDEX(indexdatabase,MATCH($BB25&$AZ$14,name&Group2,0),MATCH(\"SEND\",Sheet2rng!$A$1:$AO$1,0)),\"\")","v":0},{"$f":"IFERROR(INDEX(indexdatabase,MATCH($BB25&$AZ$14,name&Group2,0),MATCH(\"MAT\",Sheet2rng!$A$1:$AO$1,0)),\"\")","v":0},{"$f":"IFERROR(INDEX(indexdatabase,MATCH($BB25&$AZ$14,name&Group2,0),MATCH(\"EAL\",Sheet2rng!$A$1:$AO$1,0)),\"\")","v":"ENG"},"","","EAL/ENG","    EAL/ENG",{"$nulls":7},"Jack","IFERROR(INDEX(Sheet2rng,MATCH(BA12,sheet2rows,0), MATCH($BB$11,sheet2columns,0)),\"\")",{"$f":"IFERROR(INDEX(indexdatabase,MATCH(BQ25&$AZ$14,name&Group2,0),MATCH(\"PPI\",Sheet2rng!$A$1:$AK$1,0)),\"\")","v":"Y"},{"$f":"IFERROR(SMALL(IF(LEFT(Group2,LEN(SPtemplate2!$BA$10))=SPtemplate2!$BA$10,ROW(Group2)),ROW(A14)),\"\")","v":110},{"$nulls":4},"SUMNER Vincent",{"$nulls":11},"Jack",{"$nulls":44},0,"","CHATTEN Zoe",{"$nulls":5},2,2,"MURPHY Shannon",{"$nulls":5},0,"","CHATTEN Zoe",{"$nulls":5},0,"","CHATTEN Zoe",{"$nulls":5},0,"","CHATTEN Zoe",{"$nulls":5},0,"","CHATTEN Zoe",{"$nulls":51},0,0]
[{"$nulls":25},"C/grade",null,{"$f":"Sheet2rng!$D$1","v":"KS2"},null,"C/grade",null,{"$f":"Sheet2rng!$D$1","v":"KS2"},{"$nulls":6},"C/grade",null,{"$f":"Sheet2rng!$D$1","v":"KS2"},null,"C/grade",null,{"$f":"Sheet2rng!$D$1","v":"KS2"},{"$nulls":7},{"$f":"IFERROR(INDEX(indexdatabase,MATCH(BQ22&$AZ$14,name&Group2,0),MATCH(\"AR\",Sheet2rng!$A$1:$AK$1,0)),\"\")","v":0},"Mary",{"$f":"IFERROR(INDEX(indexdatabase,MATCH($BB26&$AZ$14,name&Group2,0),MATCH(\"SEND\",Sheet2rng!$A$1:$AO$1,0)),\"\")","v":0},{"$f":"IFERROR(INDEX(indexdatabase,MATCH($BB26&$AZ$14,name&Group2,0),MATCH(\"MAT\",Sheet2rng!$A$1:$AO$1,0)),\"\")","v":0},{"$f":"IFERROR(INDEX(indexdatabase,MATCH($BB26&$AZ$14,name&Group2,0),MATCH(\"EAL\",Sheet2rng!$A$1:$AO$1,0)),\"\")","v":"ENG"},"","","EAL/ENG","    EAL/ENG",{"$nulls":7},"Amy","IFERROR(INDEX(Sheet2rng,MATCH(BA12,sheet2rows,0), MATCH($BB$11,sheet2columns,0)),\"\")",{"$f":"IFERROR(INDEX(indexdatabase,MATCH(BQ26&$AZ$14,name&Group2,0),MATCH(\"PPI\",Sheet2rng!$A$1:$AK$1,0)),\"\")","v":"Y"},{"$f":"IFERROR(SMALL(IF(LEFT(Group2,LEN(SPtemplate2!$BA$10))=SPtemplate2!$BA$10,ROW(Group2)),ROW(A15)),\"\")","v":119},{"$nulls":4},"BYRNE Danny",{"$nulls":11},"Amy",{"$nulls":44},0,"","CHEEMA Gurvinder",{"$nulls":5},2,2,"PIDDINGTON Ellie",{"$nulls":5},0,"","CHEEMA Gurvinder",{"$nulls":5},0,"","CHEEMA Gurvinder",{"$nulls":5},0,"","CHEEMA Gurvinder",{"$nulls":5},0,"","CHEEMA Gurvinder",{"$nulls":51},0,0]
[{"$nulls":25},{"$f":"IFERROR(IF($Y$2=2,\"\",IF($Y$2=3,INDEX(indexdatabase,MATCH(Z23&$AZ$14,name&Group2,0),MATCH($AZ$23,Sheet2rng!$A$1:$AK$1,0)))),\"\")","v":""},null,{"$f":"IFERROR(IF($Y$3=4,\"\",IF($Y$3=5,INDEX(indexdatabase,MATCH(Z23&$AZ$14,name&Group2,0),MATCH($P$4,Sheet2rng!$A$1:$AK$1,0)))),\"\")","v":""},null,{"$f":"IFERROR(IF($Y$2=2,\"\",IF($Y$2=3,INDEX(indexdatabase,MATCH(AD23&$AZ$14,name&Group2,0),MATCH($AZ$23,Sheet2rng!$A$1:$AK$1,0)))),\"\")","v":""},null,{"$f":"IFERROR(IF($Y$3=4,\"\",IF($Y$3=5,INDEX(indexdatabase,MATCH(AD23&$AZ$14,name&Group2,0),MATCH($P$4,Sheet2rng!$A$1:$AK$1,0)))),\"\")","v":""},{"$nulls":6},{"$f":"IFERROR(IF($Y$2=2,\"\",IF($Y$2=3,INDEX(indexdatabase,MATCH(AM23&$AZ$14,name&Group2,0),MATCH($AZ$23,Sheet2rng!$A$1:$AK$1,0)))),\"\")","v":""},null,{"$f":"IFERROR(IF($Y$3=4,\"\",IF($Y$3=5,INDEX(indexdatabase,MATCH(AM23&$AZ$14,name&Group2,0),MATCH($P$4,Sheet2rng!$A$1:$AK$1,0)))),\"\")","v":""},null,{"$f":"IFERROR(IF($Y$2=2,\"\",IF($Y$2=3,INDEX(indexdatabase,MATCH(AQ23&$AZ$14,name&Group2,0),MATCH($AZ$23,Sheet2rng!$A$1:$AK$1,0)))),\"\")","v":""},null,{"$f":"IFERROR(IF($Y$3=4,\"\",IF($Y$3=5,INDEX(indexdatabase,MATCH(AQ23&$AZ$14,name&Group2,0),MATCH($P$4,Sheet2rng!$A$1:$AK$1,0)))),\"\")","v":""},{"$nulls":6},{"$f":"AZ23","v":"SPR 1"},{"$f":"IFERROR(INDEX(indexdatabase,MATCH(BQ23&$AZ$14,name&Group2,0),MATCH(\"AR\",Sheet2rng!$A$1:$AK$1,0)),\"\")","v":0},"Vincent",{"$f":"IFERROR(INDEX(indexdatabase,MATCH($BB27&$AZ$14,name&Group2,0),MATCH(\"SEND\",Sheet2rng!$A$1:$AO$1,0)),\"\")","v":"K"},{"$f":"IFERROR(INDEX(indexdatabase,MATCH($BB27&$AZ$14,name&Group2,0),MATCH(\"MAT\",Sheet2rng!$A$1:$AO$1,0)),\"\")","v":0},{"$f":"IFERROR(INDEX(indexdatabase,MATCH($BB27&$AZ$14,name&Group2,0),MATCH(\"EAL\",Sheet2rng!$A$1:$AO$1,0)),\"\")","v":"NOT/kn"},"SEND/K","","EAL/NOT/kn","SEND/K    EAL/NOT/kn",{"$nulls":7},"Lynn","IFERROR(INDEX(Sheet2rng,MATCH(BA12,sheet2rows,0), MATCH($BB$11,sheet2columns,0)),\"\")",{"$f":"IFERROR(INDEX(indexdatabase,MATCH(BQ27&$AZ$14,name&Group2,0),MATCH(\"PPI\",Sheet2rng!$A$1:$AK$1,0)),\"\")","v":0},{"$f":"IFERROR(SMALL(IF(LEFT(Group2,LEN(SPtemplate2!$BA$10))=SPtemplate2!$BA$10,ROW(Group2)),ROW(A16)),\"\")","v":122},{"$nulls":4},"ROBERTSON Martha",{"$nulls":11},"Lynn",{"$nulls":44},0,"","DONNELLY Kirsten",{"$nulls":5},2,2,"QUILALA Angela",{"$nulls":5},0,"","DONNELLY Kirsten",{"$nulls":5},0,"","DONNELLY Kirsten",{"$nulls":5},0,"","DONNELLY Kirsten",{"$nulls":5},0,"","DONNELLY Kirsten",{"$nulls":51},0,0]
[{"$nulls":25},{"$f":"Sheet2rng!$C$1","v":"Target"},null,{"$f":"Sheet2rng!$E$1","v":"AR"},null,{"$f":"Sheet2rng!$C$1","v":"Target"},null,{"$f":"Sheet2rng!$E$1","v":"AR"},{"$nulls":6},{"$f":"Sheet2rng!$C$1","v":"Target"},null,{"$f":"Sheet2rng!$E$1","v":"AR"},null,{"$f":"Sheet2rng!$C$1","v":"Target"},null,{"$f":"Sheet2rng!$E$1","v":"AR"},{"$nulls":7},{"$f":"IFERROR(INDEX(indexdatabase,MATCH(BQ24&$AZ$14,name&Group2,0),MATCH(\"AR\",Sheet2rng!$A$1:$AK$1,0)),\"\")","v":0},"Katie",{"$f":"IFERROR(INDEX(indexdatabase,MATCH($BB28&$AZ$14,name&Group2,0),MATCH(\"SEND\",Sheet2rng!$A$1:$AO$1,0)),\"\")","v":0},{"$f":"IFERROR(INDEX(indexdatabase,MATCH($BB28&$AZ$14,name&Group2,0),MATCH(\"MAT\",Sheet2rng!$A$1:$AO$1,0)),\"\")","v":0},{"$f":"IFERROR(INDEX(indexdatabase,MATCH($BB28&$AZ$14,name&Group2,0),MATCH(\"EAL\",Sheet2rng!$A$1:$AO$1,0)),\"\")","v":"NOT/kn"},"","","EAL/NOT/kn","    EAL/NOT/kn",{"$nulls":7},"Ben","IFERROR(INDEX(Sheet2rng,MATCH(BA12,sheet2rows,0), MATCH($BB$11,sheet2columns,0)),\"\")",{"$f":"IFERROR(INDEX(indexdatabase,MATCH(BQ28&$AZ$14,name&Group2,0),MATCH(\"PPI\",Sheet2rng!$A$1:$AK$1,0)),\"\")","v":"Y"},{"$f":"IFERROR(SMALL(IF(LEFT(Group2,LEN(SPtemplate2!$BA$10))=SPtemplate2!$BA$10,ROW(Group2)),ROW(A17)),\"\")","v":127},{"$nulls":4},"PALMER Jack",{"$nulls":11},"Ben",{"$nulls":44},0,"","DOWN Keiran",{"$nulls":5},2,2,"SMITH Jade",{"$nulls":5},0,"","DOWN Keiran",{"$nulls":5},0,"","DOWN Keiran",{"$nulls":5},0,"","DOWN Keiran",{"$nulls":5},0,"","DOWN Keiran",{"$nulls":51},0,0]
[{"$nulls":25},{"$f":"IFERROR(IF($Y$4=6,\"\",IF($Y$4=7,INDEX(indexdatabase,MATCH(Z23&$AZ$14,name&Group2,0),MATCH($N$6,Sheet2rng!$A$1:$AK$1,0)))),\"\")","v":""},null,{"$f":"IFERROR(IF($Y$5=8,\"\",IF($Y$5=9,INDEX(Sheet2rng,MATCH(Z23&$AZ$14,name&Group2,0),MATCH($P$6,sheet2columns,0)))),\"\")","v":""},null,{"$f":"IFERROR(IF($Y$4=6,\"\",IF($Y$4=7,INDEX(indexdatabase,MATCH(AD23&$AZ$14,name&Group2,0),MATCH($N$6,Sheet2rng!$A$1:$AK$1,0)))),\"\")","v":""},null,{"$f":"IFERROR(IF($Y$5=8,\"\",IF($Y$5=9,INDEX(Sheet2rng,MATCH(AD23&$AZ$14,name&Group2,0),MATCH($P$6,sheet2columns,0)))),\"\")","v":""},{"$nulls":6},{"$f":"IFERROR(IF($Y$4=6,\"\",IF($Y$4=7,INDEX(indexdatabase,MATCH(AM23&$AZ$14,name&Group2,0),MATCH($N$6,Sheet2rng!$A$1:$AK$1,0)))),\"\")","v":""},null,{"$f":"IFERROR(IF($Y$5=8,\"\",IF($Y$5=9,INDEX(Sheet2rng,MATCH(AM23&$AZ$14,name&Group2,0),MATCH($P$6,sheet2columns,0)))),\"\")","v":""},null,{"$f":"IFERROR(IF($Y$4=6,\"\",IF($Y$4=7,INDEX(indexdatabase,MATCH(AQ23&$AZ$14,name&Group2,0),MATCH($N$6,Sheet2rng!$A$1:$AK$1,0)))),\"\")","v":""},null,{"$f":"IFERROR(IF($Y$5=8,\"\",IF($Y$5=9,INDEX(Sheet2rng,MATCH(AQ23&$AZ$14,name&Group2,0),MATCH($P$6,sheet2columns,0)))),\"\")","v":""},{"$nulls":7},{"$f":"IFERROR(INDEX(indexdatabase,MATCH(BQ25&$AZ$14,name&Group2,0),MATCH(\"AR\",Sheet2rng!$A$1:$AK$1,0)),\"\")","v":0},"Jack",{"$f":"IFERROR(INDEX(indexdatabase,MATCH($BB29&$AZ$14,name&Group2,0),MATCH(\"SEND\",Sheet2rng!$A$1:$AO$1,0)),\"\")","v":0},{"$f":"IFERROR(INDEX(indexdatabase,MATCH($BB29&$AZ$14,name&Group2,0),MATCH(\"MAT\",Sheet2rng!$A$1:$AO$1,0)),\"\")","v":0},{"$f":"IFERROR(INDEX(indexdatabase,MATCH($BB29&$AZ$14,name&Group2,0),MATCH(\"EAL\",Sheet2rng!$A$1:$AO$1,0)),\"\")","v":"NOT/kn"},"","","EAL/NOT/kn","    EAL/NOT/kn",{"$nulls":7},"Sarah","IFERROR(INDEX(Sheet2rng,MATCH(BA12,sheet2rows,0), MATCH($BB$11,sheet2columns,0)),\"\")",{"$f":"IFERROR(INDEX(indexdatabase,MATCH(BQ29&$AZ$14,name&Group2,0),MATCH(\"PPI\",Sheet2rng!$A$1:$AK$1,0)),\"\")","v":0},{"$f":"IFERROR(SMALL(IF(LEFT(Group2,LEN(SPtemplate2!$BA$10))=SPtemplate2!$BA$10,ROW(Group2)),ROW(A18)),\"\")","v":134},{"$nulls":4},"ROWE Benjamin",{"$nulls":11},"Sarah",{"$nulls":44},0,"","GIBSON James",{"$nulls":5},2,2,"TURNER Liberty",{"$nulls":5},0,"","GIBSON James",{"$nulls":5},0,"","GIBSON James",{"$nulls":5},0,"","GIBSON James",{"$nulls":5},0,"","GIBSON James",{"$nulls":51},0,0]
[{"$nulls":52},{"$f":"IFERROR(INDEX(indexdatabase,MATCH(BQ26&$AZ$14,name&Group2,0),MATCH(\"AR\",Sheet2rng!$A$1:$AK$1,0)),\"\")","v":0},"Amy",{"$f":"IFERROR(INDEX(indexdatabase,MATCH($BB30&$AZ$14,name&Group2,0),MATCH(\"SEND\",Sheet2rng!$A$1:$AO$1,0)),\"\")","v":0},{"$f":"IFERROR(INDEX(indexdatabase,MATCH($BB30&$AZ$14,name&Group2,0),MATCH(\"MAT\",Sheet2rng!$A$1:$AO$1,0)),\"\")","v":0},{"$f":"IFERROR(INDEX(indexdatabase,MATCH($BB30&$AZ$14,name&Group2,0),MATCH(\"EAL\",Sheet2rng!$A$1:$AO$1,0)),\"\")","v":"ENG"},"","","EAL/ENG","    EAL/ENG",{"$nulls":7},"Timothy","IFERROR(INDEX(Sheet2rng,MATCH(BA12,sheet2rows,0), MATCH($BB$11,sheet2columns,0)),\"\")",{"$f":"IFERROR(INDEX(indexdatabase,MATCH(BQ30&$AZ$14,name&Group2,0),MATCH(\"PPI\",Sheet2rng!$A$1:$AK$1,0)),\"\")","v":0},{"$f":"IFERROR(SMALL(IF(LEFT(Group2,LEN(SPtemplate2!$BA$10))=SPtemplate2!$BA$10,ROW(Group2)),ROW(A19)),\"\")","v":145},{"$nulls":4},"HESTER Jessica",{"$nulls":11},"Timothy",{"$nulls":44},0,"","HARRIS Christian",{"$nulls":5},3,11,"BAKER Lucy",{"$nulls":5},0,"","HARRIS Christian",{"$nulls":5},0,"","HARRIS Christian",{"$nulls":5},0,"","HARRIS Christian",{"$nulls":5},0,"","HARRIS Christian",{"$nulls":51},0,0]
[{"$nulls":52},{"$f":"IFERROR(INDEX(indexdatabase,MATCH(BQ27&$AZ$14,name&Group2,0),MATCH(\"AR\",Sheet2rng!$A$1:$AK$1,0)),\"\")","v":0},"Lynn",{"$f":"IFERROR(INDEX(indexdatabase,MATCH($BB31&$AZ$14,name&Group2,0),MATCH(\"SEND\",Sheet2rng!$A$1:$AO$1,0)),\"\")","v":"K"},{"$f":"IFERROR(INDEX(indexdatabase,MATCH($BB31&$AZ$14,name&Group2,0),MATCH(\"MAT\",Sheet2rng!$A$1:$AO$1,0)),\"\")","v":0},{"$f":"IFERROR(INDEX(indexdatabase,MATCH($BB31&$AZ$14,name&Group2,0),MATCH(\"EAL\",Sheet2rng!$A$1:$AO$1,0)),\"\")","v":"OTH"},"SEND/K","","EAL/OTH","SEND/K    EAL/OTH",{"$nulls":7},"Rebecca","IFERROR(INDEX(Sheet2rng,MATCH(BA12,sheet2rows,0), MATCH($BB$11,sheet2columns,0)),\"\")",{"$f":"IFERROR(INDEX(indexdatabase,MATCH(BQ31&$AZ$14,name&Group2,0),MATCH(\"PPI\",Sheet2rng!$A$1:$AK$1,0)),\"\")","v":0},{"$f":"IFERROR(SMALL(IF(LEFT(Group2,LEN(SPtemplate2!$BA$10))=SPtemplate2!$BA$10,ROW(Group2)),ROW(A20)),\"\")","v":157},{"$nulls":4},"GOLDMAN Vincent",{"$nulls":11},"Rebecca",{"$nulls":44},0,"","HARVEY Megan",{"$nulls":5},3,11,"BAVERSTOCK Adam",{"$nulls":5},0,"","HARVEY Megan",{"$nulls":5},0,"","HARVEY Megan",{"$nulls":5},0,"","HARVEY Megan",{"$nulls":5},0,"","HARVEY Megan",{"$nulls":51},0,0]
[{"$nulls":52},{"$f":"IFERROR(INDEX(indexdatabase,MATCH(BQ28&$AZ$14,name&Group2,0),MATCH(\"AR\",Sheet2rng!$A$1:$AK$1,0)),\"\")","v":0},"Ben",{"$f":"IFERROR(INDEX(indexdatabase,MATCH($BB32&$AZ$14,name&Group2,0),MATCH(\"SEND\",Sheet2rng!$A$1:$AO$1,0)),\"\")","v":0},{"$f":"IFERROR(INDEX(indexdatabase,MATCH($BB32&$AZ$14,name&Group2,0),MATCH(\"MAT\",Sheet2rng!$A$1:$AO$1,0)),\"\")","v":0},{"$f":"IFERROR(INDEX(indexdatabase,MATCH($BB32&$AZ$14,name&Group2,0),MATCH(\"EAL\",Sheet2rng!$A$1:$AO$1,0)),\"\")","v":"OTH"},"","","EAL/OTH","    EAL/OTH",{"$nulls":7},"Faye","IFERROR(INDEX(Sheet2rng,MATCH(BA12,sheet2rows,0), MATCH($BB$11,sheet2columns,0)),\"\")",{"$f":"IFERROR(INDEX(indexdatabase,MATCH(BQ32&$AZ$14,name&Group2,0),MATCH(\"PPI\",Sheet2rng!$A$1:$AK$1,0)),\"\")","v":0},{"$f":"IFERROR(SMALL(IF(LEFT(Group2,LEN(SPtemplate2!$BA$10))=SPtemplate2!$BA$10,ROW(Group2)),ROW(A21)),\"\")","v":164},{"$nulls":4},"MCKENNA Beth",{"$nulls":11},"Faye",{"$nulls":44},0,"","HEATH Emily-Jayne",{"$nulls":5},3,11,"CHEEMA Gurvinder",{"$nulls":5},0,"","HEATH Emily-Jayne",{"$nulls":5},0,"","HEATH Emily-Jayne",{"$nulls":5},0,"","HEATH Emily-Jayne",{"$nulls":5},0,"","HEATH Emily-Jayne",{"$nulls":51},0,0]
[{"$nulls":52},{"$f":"IFERROR(INDEX(indexdatabase,MATCH(BQ29&$AZ$14,name&Group2,0),MATCH(\"AR\",Sheet2rng!$A$1:$AK$1,0)),\"\")","v":0},"Sarah",{"$f":"IFERROR(INDEX(indexdatabase,MATCH($BB33&$AZ$14,name&Group2,0),MATCH(\"SEND\",Sheet2rng!$A$1:$AO$1,0)),\"\")","v":0},{"$f":"IFERROR(INDEX(indexdatabase,MATCH($BB33&$AZ$14,name&Group2,0),MATCH(\"MAT\",Sheet2rng!$A$1:$AO$1,0)),\"\")","v":0},{"$f":"IFERROR(INDEX(indexdatabase,MATCH($BB33&$AZ$14,name&Group2,0),MATCH(\"EAL\",Sheet2rng!$A$1:$AO$1,0)),\"\")","v":"NOT/kn"},"","","EAL/NOT/kn","    EAL/NOT/kn",{"$nulls":7},"Karl","IFERROR(INDEX(Sheet2rng,MATCH(BA12,sheet2rows,0), MATCH($BB$11,sheet2columns,0)),\"\")",{"$f":"IFERROR(INDEX(indexdatabase,MATCH(BQ33&$AZ$14,name&Group2,0),MATCH(\"PPI\",Sheet2rng!$A$1:$AK$1,0)),\"\")","v":"Y"},{"$f":"IFERROR(SMALL(IF(LEFT(Group2,LEN(SPtemplate2!$BA$10))=SPtemplate2!$BA$10,ROW(Group2)),ROW(A22)),\"\")","v":170},{"$nulls":4},"FINCH Stephen",{"$nulls":11},"Karl",{"$nulls":44},0,"","HOWELL Megan",{"$nulls":5},3,11,"GIBSON James",{"$nulls":5},0,"","HOWELL Megan",{"$nulls":5},0,"","HOWELL Megan",{"$nulls":5},0,"","HOWELL Megan",{"$nulls":5},0,"","HOWELL Megan",{"$nulls":51},0,0]
[{"$nulls":12},"Kristina",{"$nulls":3},{"$f":"IFERROR(IF(SEARCH(\"11\",BI43)=1,11),\"\")","v":""},{"$nulls":12},{"$f":"IFERROR(IF(SEARCH(\"11\",BV43)=1,11),\"\")","v":""},{"$nulls":8},{"$f":"IFERROR(IF(SEARCH(\"11\",CE43)=1,11),\"\")","v":""},{"$nulls":3},{"$f":"IFERROR(IF(SEARCH(\"11\",CI43)=1,11),\"\")","v":""},{"$nulls":9},{"$f":"IFERROR(INDEX(indexdatabase,MATCH(BQ30&$AZ$14,name&Group2,0),MATCH(\"AR\",Sheet2rng!$A$1:$AK$1,0)),\"\")","v":0},"Timothy",{"$f":"IFERROR(INDEX(indexdatabase,MATCH($BB34&$AZ$14,name&Group2,0),MATCH(\"SEND\",Sheet2rng!$A$1:$AO$1,0)),\"\")","v":0},{"$f":"IFERROR(INDEX(indexdatabase,MATCH($BB34&$AZ$14,name&Group2,0),MATCH(\"MAT\",Sheet2rng!$A$1:$AO$1,0)),\"\")","v":0},{"$f":"IFERROR(INDEX(indexdatabase,MATCH($BB34&$AZ$14,name&Group2,0),MATCH(\"EAL\",Sheet2rng!$A$1:$AO$1,0)),\"\")","v":"NOT/kn"},"","","EAL/NOT/kn","    EAL/NOT/kn",{"$nulls":7},"","IFERROR(INDEX(Sheet2rng,MATCH(BA12,sheet2rows,0), MATCH($BB$11,sheet2columns,0)),\"\")",{"$f":"IFERROR(INDEX(indexdatabase,MATCH(BQ34&$AZ$14,name&Group2,0),MATCH(\"PPI\",Sheet2rng!$A$1:$AK$1,0)),\"\")","v":""},{"$f":"IFERROR(SMALL(IF(LEFT(Group2,LEN(SPtemplate2!$BA$10))=SPtemplate2!$BA$10,ROW(Group2)),ROW(A23)),\"\")","v":""},{"$nulls":4},"CONNER Ryan",{"$nulls":56},0,"","JAMESON Amy",{"$nulls":5},3,11,"HARVEY Megan",{"$nulls":5},0,"","JAMESON Amy",{"$nulls":5},0,"","JAMESON Amy",{"$nulls":5},0,"","JAMESON Amy",{"$nulls":5},0,"","JAMESON Amy",{"$nulls":51},0,0]
[{"$nulls":52},{"$f":"IFERROR(INDEX(indexdatabase,MATCH(BQ31&$AZ$14,name&Group2,0),MATCH(\"AR\",Sheet2rng!$A$1:$AK$1,0)),\"\")","v":0},"Rebecca",{"$f":"IFERROR(INDEX(indexdatabase,MATCH($BB35&$AZ$14,name&Group2,0),MATCH(\"SEND\",Sheet2rng!$A$1:$AO$1,0)),\"\")","v":0},{"$f":"IFERROR(INDEX(indexdatabase,MATCH($BB35&$AZ$14,name&Group2,0),MATCH(\"MAT\",Sheet2rng!$A$1:$AO$1,0)),\"\")","v":0},{"$f":"IFERROR(INDEX(indexdatabase,MATCH($BB35&$AZ$14,name&Group2,0),MATCH(\"EAL\",Sheet2rng!$A$1:$AO$1,0)),\"\")","v":"OTH"},"","","EAL/OTH","    EAL/OTH",{"$nulls":7},"","IFERROR(INDEX(Sheet2rng,MATCH(BA12,sheet2rows,0), MATCH($BB$11,sheet2columns,0)),\"\")",{"$f":"IFERROR(INDEX(indexdatabase,MATCH(BQ35&$AZ$14,name&Group2,0),MATCH(\"PPI\",Sheet2rng!$A$1:$AK$1,0)),\"\")","v":""},{"$f":"IFERROR(SMALL(IF(LEFT(Group2,LEN(SPtemplate2!$BA$10))=SPtemplate2!$BA$10,ROW(Group2)),ROW(A24)),\"\")","v":""},{"$nulls":4},"",{"$nulls":56},0,"","KERWICK Georgie",{"$nulls":5},3,11,"HEATH Emily-Jayne",{"$nulls":5},0,"","KERWICK Georgie",{"$nulls":5},0,"","KERWICK Georgie",{"$nulls":5},0,"","KERWICK Georgie",{"$nulls":5},0,"","KERWICK Georgie",{"$nulls":51},0,0]
[{"$nulls":12},{"$f":"IFERROR(IF($Y$1=1,\"\",VLOOKUP(M34,needstable,8,FALSE)),\"\")","v":"    EAL/OTH"},{"$nulls":3},{"$f":"IFERROR(IF($Y$1=1,\"\",VLOOKUP(Q34,needstable,8,FALSE)),\"\")","v":"    "},{"$nulls":8},{"$f":"IFERROR(IF($Y$1=1,\"\",VLOOKUP(Z34,needstable,8,FALSE)),\"\")","v":""},{"$nulls":3},{"$f":"IFERROR(IF($Y$1=1,\"\",VLOOKUP(AD34,needstable,8,FALSE)),\"\")","v":"    "},{"$nulls":8},{"$f":"IFERROR(IF($Y$1=1,\"\",VLOOKUP(AM34,needstable,8,FALSE)),\"\")","v":"    "},{"$nulls":3},{"$f":"IFERROR(IF($Y$1=1,\"\",VLOOKUP(AQ34,needstable,8,FALSE)),\"\")","v":"    "},{"$nulls":9},{"$f":"IFERROR(INDEX(indexdatabase,MATCH(BQ32&$AZ$14,name&Group2,0),MATCH(\"AR\",Sheet2rng!$A$1:$AK$1,0)),\"\")","v":0},"Faye",{"$f":"IFERROR(INDEX(indexdatabase,MATCH($BB36&$AZ$14,name&Group2,0),MATCH(\"SEND\",Sheet2rng!$A$1:$AO$1,0)),\"\")","v":0},{"$f":"IFERROR(INDEX(indexdatabase,MATCH($BB36&$AZ$14,name&Group2,0),MATCH(\"MAT\",Sheet2rng!$A$1:$AO$1,0)),\"\")","v":0},{"$f":"IFERROR(INDEX(indexdatabase,MATCH($BB36&$AZ$14,name&Group2,0),MATCH(\"EAL\",Sheet2rng!$A$1:$AO$1,0)),\"\")","v":"OTH"},"","","EAL/OTH","    EAL/OTH",{"$nulls":7},"","IFERROR(INDEX(Sheet2rng,MATCH(BA12,sheet2rows,0), MATCH($BB$11,sheet2columns,0)),\"\")",{"$f":"IFERROR(INDEX(indexdatabase,MATCH(BQ36&$AZ$14,name&Group2,0),MATCH(\"PPI\",Sheet2rng!$A$1:$AK$1,0)),\"\")","v":""},{"$f":"IFERROR(SMALL(IF(LEFT(Group2,LEN(SPtemplate2!$BA$10))=SPtemplate2!$BA$10,ROW(Group2)),ROW(A25)),\"\")","v":""},{"$nulls":4},"",{"$nulls":56},0,"","MURPHY Shannon",{"$nulls":5},3,11,"HOWELL Megan",{"$nulls":5},0,"","MURPHY Shannon",{"$nulls":5},0,"","MURPHY Shannon",{"$nulls":5},0,"","MURPHY Shannon",{"$nulls":5},0,"","MURPHY Shannon",{"$nulls":51},0,0]
[{"$nulls":12},"C/grade",null,{"$f":"Sheet2rng!$D$1","v":"KS2"},null,"C/grade",null,{"$f":"Sheet2rng!$D$1","v":"KS2"},{"$nulls":6},"C/grade",null,{"$f":"Sheet2rng!$D$1","v":"KS2"},null,"C/grade",null,{"$f":"Sheet2rng!$D$1","v":"KS2"},{"$nulls":6},"C/grade",null,{"$f":"Sheet2rng!$D$1","v":"KS2"},null,"C/grade",null,{"$f":"Sheet2rng!$D$1","v":"KS2"},{"$nulls":7},{"$f":"IFERROR(INDEX(indexdatabase,MATCH(BQ33&$AZ$14,name&Group2,0),MATCH(\"AR\",Sheet2rng!$A$1:$AK$1,0)),\"\")","v":0},"Karl",{"$f":"IFERROR(INDEX(indexdatabase,MATCH($BB37&$AZ$14,name&Group2,0),MATCH(\"SEND\",Sheet2rng!$A$1:$AO$1,0)),\"\")","v":0},{"$f":"IFERROR(INDEX(indexdatabase,MATCH($BB37&$AZ$14,name&Group2,0),MATCH(\"MAT\",Sheet2rng!$A$1:$AO$1,0)),\"\")","v":0},{"$f":"IFERROR(INDEX(indexdatabase,MATCH($BB37&$AZ$14,name&Group2,0),MATCH(\"EAL\",Sheet2rng!$A$1:$AO$1,0)),\"\")","v":"NOT/kn"},"","","EAL/NOT/kn","    EAL/NOT/kn",{"$nulls":7},"","IFERROR(INDEX(Sheet2rng,MATCH(BA12,sheet2rows,0), MATCH($BB$11,sheet2columns,0)),\"\")",{"$f":"IFERROR(INDEX(indexdatabase,MATCH(BQ37&$AZ$14,name&Group2,0),MATCH(\"PPI\",Sheet2rng!$A$1:$AK$1,0)),\"\")","v":""},{"$f":"IFERROR(SMALL(IF(LEFT(Group2,LEN(SPtemplate2!$BA$10))=SPtemplate2!$BA$10,ROW(Group2)),ROW(A26)),\"\")","v":""},{"$nulls":4},"",{"$nulls":56},0,"","PIDDINGTON Ellie",{"$nulls":5},3,11,"SAHOTA Callum",{"$nulls":5},0,"","PIDDINGTON Ellie",{"$nulls":5},0,"","PIDDINGTON Ellie",{"$nulls":5},0,"","PIDDINGTON Ellie",{"$nulls":5},0,"","PIDDINGTON Ellie",{"$nulls":51},0,0]
[{"$nulls":12},{"$f":"IFERROR(IF($Y$2=2,\"\",IF($Y$2=3,INDEX(indexdatabase,MATCH(M34&$AZ$14,name&Group2,0),MATCH($AZ$23,Sheet2rng!$A$1:$AK$1,0)))),\"\")","v":2},null,{"$f":"IFERROR(IF($Y$3=4,\"\",IF($Y$3=5,INDEX(indexdatabase,MATCH(M34&$AZ$14,name&Group2,0),MATCH($P$4,Sheet2rng!$A$1:$AK$1,0)))),\"\")","v":3},null,{"$f":"IFERROR(IF($Y$2=2,\"\",IF($Y$2=3,INDEX(indexdatabase,MATCH(Q34&$AZ$14,name&Group2,0),MATCH($AZ$23,Sheet2rng!$A$1:$AK$1,0)))),\"\")","v":""},null,{"$f":"IFERROR(IF($Y$3=4,\"\",IF($Y$3=5,INDEX(indexdatabase,MATCH(Q34&$AZ$14,name&Group2,0),MATCH($P$4,Sheet2rng!$A$1:$AK$1,0)))),\"\")","v":""},{"$nulls":6},{"$f":"IFERROR(IF($Y$2=2,\"\",IF($Y$2=3,INDEX(indexdatabase,MATCH(Z34&$AZ$14,name&Group2,0),MATCH($AZ$23,Sheet2rng!$A$1:$AK$1,0)))),\"\")","v":""},null,{"$f":"IFERROR(IF($Y$3=4,\"\",IF($Y$3=5,INDEX(indexdatabase,MATCH(Z34&$AZ$14,name&Group2,0),MATCH($P$4,Sheet2rng!$A$1:$AK$1,0)))),\"\")","v":""},null,{"$f":"IFERROR(IF($Y$2=2,\"\",IF($Y$2=3,INDEX(indexdatabase,MATCH(AD34&$AZ$14,name&Group2,0),MATCH($AZ$23,Sheet2rng!$A$1:$AK$1,0)))),\"\")","v":""},null,{"$f":"IFERROR(IF($Y$3=4,\"\",IF($Y$3=5,INDEX(indexdatabase,MATCH(AD34&$AZ$14,name&Group2,0),MATCH($P$4,Sheet2rng!$A$1:$AK$1,0)))),\"\")","v":""},{"$nulls":6},{"$f":"IFERROR(IF($Y$2=2,\"\",IF($Y$2=3,INDEX(indexdatabase,MATCH(AM34&$AZ$14,name&Group2,0),MATCH($AZ$23,Sheet2rng!$A$1:$AK$1,0)))),\"\")","v":""},null,{"$f":"IFERROR(IF($Y$3=4,\"\",IF($Y$3=5,INDEX(indexdatabase,MATCH(AM34&$AZ$14,name&Group2,0),MATCH($P$4,Sheet2rng!$A$1:$AK$1,0)))),\"\")","v":""},null,{"$f":"IFERROR(IF($Y$2=2,\"\",IF($Y$2=3,INDEX(indexdatabase,MATCH(AQ34&$AZ$14,name&Group2,0),MATCH($AZ$23,Sheet2rng!$A$1:$AK$1,0)))),\"\")","v":""},null,{"$f":"IFERROR(IF($Y$3=4,\"\",IF($Y$3=5,INDEX(indexdatabase,MATCH(AQ34&$AZ$14,name&Group2,0),MATCH($P$4,Sheet2rng!$A$1:$AK$1,0)))),\"\")","v":""},{"$nulls":7},{"$f":"IFERROR(INDEX(indexdatabase,MATCH(BQ34&$AZ$14,name&Group2,0),MATCH(\"AR\",Sheet2rng!$A$1:$AK$1,0)),\"\")","v":""},"",{"$f":"IFERROR(INDEX(indexdatabase,MATCH($BB38&$AZ$14,name&Group2,0),MATCH(\"SEND\",Sheet2rng!$A$1:$AO$1,0)),\"\")","v":""},{"$f":"IFERROR(INDEX(indexdatabase,MATCH($BB38&$AZ$14,name&Group2,0),MATCH(\"MAT\",Sheet2rng!$A$1:$AO$1,0)),\"\")","v":""},{"$f":"IFERROR(INDEX(indexdatabase,MATCH($BB38&$AZ$14,name&Group2,0),MATCH(\"EAL\",Sheet2rng!$A$1:$AO$1,0)),\"\")","v":""},"","","","    ",{"$nulls":7},"","IFERROR(INDEX(Sheet2rng,MATCH(BA12,sheet2rows,0), MATCH($BB$11,sheet2columns,0)),\"\")",{"$f":"IFERROR(INDEX(indexdatabase,MATCH(BQ38&$AZ$14,name&Group2,0),MATCH(\"PPI\",Sheet2rng!$A$1:$AK$1,0)),\"\")","v":""},{"$f":"IFERROR(SMALL(IF(LEFT(Group2,LEN(SPtemplate2!$BA$10))=SPtemplate2!$BA$10,ROW(Group2)),ROW(A27)),\"\")","v":""},{"$nulls":4},"",{"$nulls":56},0,"","QUILALA Angela",{"$nulls":5},3,11,"WRIGHT Caitlin",{"$nulls":5},0,"","QUILALA Angela",{"$nulls":5},0,"","QUILALA Angela",{"$nulls":5},0,"","QUILALA Angela",{"$nulls":5},0,"","QUILALA Angela",{"$nulls":51},0,0]
[{"$nulls":12},{"$f":"Sheet2rng!$C$1","v":"Target"},null,{"$f":"Sheet2rng!$E$1","v":"AR"},null,{"$f":"Sheet2rng!$C$1","v":"Target"},null,{"$f":"Sheet2rng!$E$1","v":"AR"},{"$nulls":6},{"$f":"Sheet2rng!$C$1","v":"Target"},null,{"$f":"Sheet2rng!$E$1","v":"AR"},null,{"$f":"Sheet2rng!$C$1","v":"Target"},null,{"$f":"Sheet2rng!$E$1","v":"AR"},{"$nulls":6},{"$f":"Sheet2rng!$C$1","v":"Target"},null,{"$f":"Sheet2rng!$E$1","v":"AR"},null,{"$f":"Sheet2rng!$C$1","v":"Target"},null,{"$f":"Sheet2rng!$E$1","v":"AR"},{"$nulls":7},{"$f":"IFERROR(INDEX(indexdatabase,MATCH(BQ35&$AZ$14,name&Group2,0),MATCH(\"AR\",Sheet2rng!$A$1:$AK$1,0)),\"\")","v":""},"",{"$f":"IFERROR(INDEX(indexdatabase,MATCH($BB39&$AZ$14,name&Group2,0),MATCH(\"SEND\",Sheet2rng!$A$1:$AO$1,0)),\"\")","v":""},{"$f":"IFERROR(INDEX(indexdatabase,MATCH($BB39&$AZ$14,name&Group2,0),MATCH(\"MAT\",Sheet2rng!$A$1:$AO$1,0)),\"\")","v":""},{"$f":"IFERROR(INDEX(indexdatabase,MATCH($BB39&$AZ$14,name&Group2,0),MATCH(\"EAL\",Sheet2rng!$A$1:$AO$1,0)),\"\")","v":""},"","","","    ",{"$nulls":7},"","IFERROR(INDEX(Sheet2rng,MATCH(BA12,sheet2rows,0), MATCH($BB$11,sheet2columns,0)),\"\")",{"$f":"IFERROR(INDEX(indexdatabase,MATCH(BQ39&$AZ$14,name&Group2,0),MATCH(\"PPI\",Sheet2rng!$A$1:$AK$1,0)),\"\")","v":""},{"$f":"IFERROR(SMALL(IF(LEFT(Group2,LEN(SPtemplate2!$BA$10))=SPtemplate2!$BA$10,ROW(Group2)),ROW(A28)),\"\")","v":""},{"$nulls":4},"",{"$nulls":56},0,"","RIORDAN Robbie",{"$nulls":5},4,20,"ABU Aisha",{"$nulls":5},0,"","RIORDAN Robbie",{"$nulls":5},0,"","RIORDAN Robbie",{"$nulls":5},0,"","RIORDAN Robbie",{"$nulls":5},0,"","RIORDAN Robbie",{"$nulls":51},0,0]
[{"$nulls":12},{"$f":"IFERROR(IF($Y$4=6,\"\",IF($Y$4=7,INDEX(indexdatabase,MATCH(M34&$AZ$14,name&Group2,0),MATCH($N$6,Sheet2rng!$A$1:$AK$1,0)))),\"\")","v":"1+"},null,{"$f":"IFERROR(IF($Y$5=8,\"\",IF($Y$5=9,INDEX(Sheet2rng,MATCH(M34&$AZ$14,name&Group2,0),MATCH($P$6,sheet2columns,0)))),\"\")","v":"H"},null,{"$f":"IFERROR(IF($Y$4=6,\"\",IF($Y$4=7,INDEX(indexdatabase,MATCH(Q34&$AZ$14,name&Group2,0),MATCH($N$6,Sheet2rng!$A$1:$AK$1,0)))),\"\")","v":""},null,{"$f":"IFERROR(IF($Y$5=8,\"\",IF($Y$5=9,INDEX(Sheet2rng,MATCH(Q34&$AZ$14,name&Group2,0),MATCH($P$6,sheet2columns,0)))),\"\")","v":""},{"$nulls":6},{"$f":"IFERROR(IF($Y$4=6,\"\",IF($Y$4=7,INDEX(indexdatabase,MATCH(Z34&$AZ$14,name&Group2,0),MATCH($N$6,Sheet2rng!$A$1:$AK$1,0)))),\"\")","v":""},null,{"$f":"IFERROR(IF($Y$5=8,\"\",IF($Y$5=9,INDEX(Sheet2rng,MATCH(Z34&$AZ$14,name&Group2,0),MATCH($P$6,sheet2columns,0)))),\"\")","v":""},null,{"$f":"IFERROR(IF($Y$4=6,\"\",IF($Y$4=7,INDEX(indexdatabase,MATCH(AD34&$AZ$14,name&Group2,0),MATCH($N$6,Sheet2rng!$A$1:$AK$1,0)))),\"\")","v":""},null,{"$f":"IFERROR(IF($Y$5=8,\"\",IF($Y$5=9,INDEX(Sheet2rng,MATCH(AD34&$AZ$14,name&Group2,0),MATCH($P$6,sheet2columns,0)))),\"\")","v":""},{"$nulls":6},{"$f":"IFERROR(IF($Y$4=6,\"\",IF($Y$4=7,INDEX(indexdatabase,MATCH(AM34&$AZ$14,name&Group2,0),MATCH($N$6,Sheet2rng!$A$1:$AK$1,0)))),\"\")","v":""},null,{"$f":"IFERROR(IF($Y$5=8,\"\",IF($Y$5=9,INDEX(Sheet2rng,MATCH(AM34&$AZ$14,name&Group2,0),MATCH($P$6,sheet2columns,0)))),\"\")","v":""},null,{"$f":"IFERROR(IF($Y$4=6,\"\",IF($Y$4=7,INDEX(indexdatabase,MATCH(AQ34&$AZ$14,name&Group2,0),MATCH($N$6,Sheet2rng!$A$1:$AK$1,0)))),\"\")","v":""},null,{"$f":"IFERROR(IF($Y$5=8,\"\",IF($Y$5=9,INDEX(Sheet2rng,MATCH(AQ34&$AZ$14,name&Group2,0),MATCH($P$6,sheet2columns,0)))),\"\")","v":""},{"$nulls":7},{"$f":"IFERROR(INDEX(indexdatabase,MATCH(BQ36&$AZ$14,name&Group2,0),MATCH(\"AR\",Sheet2rng!$A$1:$AK$1,0)),\"\")","v":""},"",{"$f":"IFERROR(INDEX(indexdatabase,MATCH($BB40&$AZ$14,name&Group2,0),MATCH(\"SEND\",Sheet2rng!$A$1:$AO$1,0)),\"\")","v":""},{"$f":"IFERROR(INDEX(indexdatabase,MATCH($BB40&$AZ$14,name&Group2,0),MATCH(\"MAT\",Sheet2rng!$A$1:$AO$1,0)),\"\")","v":""},{"$f":"IFERROR(INDEX(indexdatabase,MATCH($BB40&$AZ$14,name&Group2,0),MATCH(\"EAL\",Sheet2rng!$A$1:$AO$1,0)),\"\")","v":""},"","","","    ",{"$nulls":7},"","IFERROR(INDEX(Sheet2rng,MATCH(BA12,sheet2rows,0), MATCH($BB$11,sheet2columns,0)),\"\")",{"$f":"IFERROR(INDEX(indexdatabase,MATCH(BQ40&$AZ$14,name&Group2,0),MATCH(\"PPI\",Sheet2rng!$A$1:$AK$1,0)),\"\")","v":""},{"$f":"IFERROR(SMALL(IF(LEFT(Group2,LEN(SPtemplate2!$BA$10))=SPtemplate2!$BA$10,ROW(Group2)),ROW(A29)),\"\")","v":""},{"$nulls":4},"",{"$nulls":56},0,"","SAHOTA Callum",{"$nulls":5},4,20,"BLE Grace",{"$nulls":5},0,"","SAHOTA Callum",{"$nulls":5},0,"","SAHOTA Callum",{"$nulls":5},0,"","SAHOTA Callum",{"$nulls":5},0,"","SAHOTA Callum",{"$nulls":51},0,0]
[{"$nulls":12},{"$f":"IFERROR(IF(SEARCH(\"11\",BE50)=1,11),\"\")","v":""},{"$nulls":3},{"$f":"IFERROR(IF(SEARCH(\"11\",BI50)=1,11),\"\")","v":""},{"$nulls":12},{"$f":"IFERROR(IF(SEARCH(\"11\",BV50)=1,11),\"\")","v":""},{"$nulls":8},{"$f":"IFERROR(IF(SEARCH(\"11\",CE50)=1,11),\"\")","v":""},{"$nulls":3},{"$f":"IFERROR(IF(SEARCH(\"11\",CI50)=1,11),\"\")","v":""},{"$nulls":9},{"$f":"IFERROR(INDEX(indexdatabase,MATCH(BQ37&$AZ$14,name&Group2,0),MATCH(\"AR\",Sheet2rng!$A$1:$AK$1,0)),\"\")","v":""},"",{"$f":"IFERROR(INDEX(indexdatabase,MATCH($BB41&$AZ$14,name&Group2,0),MATCH(\"SEND\",Sheet2rng!$A$1:$AO$1,0)),\"\")","v":""},{"$f":"IFERROR(INDEX(indexdatabase,MATCH($BB41&$AZ$14,name&Group2,0),MATCH(\"MAT\",Sheet2rng!$A$1:$AO$1,0)),\"\")","v":""},{"$f":"IFERROR(INDEX(indexdatabase,MATCH($BB41&$AZ$14,name&Group2,0),MATCH(\"EAL\",Sheet2rng!$A$1:$AO$1,0)),\"\")","v":""},"","","","    ",{"$nulls":7},"","IFERROR(INDEX(Sheet2rng,MATCH(BA12,sheet2rows,0), MATCH($BB$11,sheet2columns,0)),\"\")",{"$f":"IFERROR(INDEX(indexdatabase,MATCH(BQ41&$AZ$14,name&Group2,0),MATCH(\"PPI\",Sheet2rng!$A$1:$AK$1,0)),\"\")","v":""},{"$f":"IFERROR(SMALL(IF(LEFT(Group2,LEN(SPtemplate2!$BA$10))=SPtemplate2!$BA$10,ROW(Group2)),ROW(A30)),\"\")","v":""},{"$nulls":4},"",{"$nulls":56},0,"","SAWYER Cicarna-Lee",{"$nulls":5},4,20,"JAMESON Amy",{"$nulls":5},0,"","SAWYER Cicarna-Lee",{"$nulls":5},0,"","SAWYER Cicarna-Lee",{"$nulls":5},0,"","SAWYER Cicarna-Lee",{"$nulls":5},0,"","SAWYER Cicarna-Lee",{"$nulls":51},0,0]
[{"$nulls":52},{"$f":"IFERROR(INDEX(indexdatabase,MATCH(BQ38&$AZ$14,name&Group2,0),MATCH(\"AR\",Sheet2rng!$A$1:$AK$1,0)),\"\")","v":""},"",{"$f":"IFERROR(INDEX(indexdatabase,MATCH($BB42&$AZ$14,name&Group2,0),MATCH(\"SEND\",Sheet2rng!$A$1:$AO$1,0)),\"\")","v":""},{"$f":"IFERROR(INDEX(indexdatabase,MATCH($BB42&$AZ$14,name&Group2,0),MATCH(\"MAT\",Sheet2rng!$A$1:$AO$1,0)),\"\")","v":""},{"$f":"IFERROR(INDEX(indexdatabase,MATCH($BB42&$AZ$14,name&Group2,0),MATCH(\"EAL\",Sheet2rng!$A$1:$AO$1,0)),\"\")","v":""},"","","","    ",{"$nulls":4},"10a/Pe6",null,null,"","IFERROR(INDEX(Sheet2rng,MATCH(BA12,sheet2rows,0), MATCH($BB$11,sheet2columns,0)),\"\")",{"$f":"IFERROR(INDEX(indexdatabase,MATCH(BQ42&$AZ$14,name&Group2,0),MATCH(\"PPI\",Sheet2rng!$A$1:$AK$1,0)),\"\")","v":""},{"$f":"IFERROR(SMALL(IF(LEFT(Group2,LEN(SPtemplate2!$BA$10))=SPtemplate2!$BA$10,ROW(Group2)),ROW(A31)),\"\")","v":""},{"$nulls":4},"",{"$nulls":56},0,"","SEHMI Natalie",{"$nulls":5},4,20,"KERWICK Georgie",{"$nulls":5},0,"","SEHMI Natalie",{"$nulls":5},0,"","SEHMI Natalie",{"$nulls":5},0,"","SEHMI Natalie",{"$nulls":5},0,"","SEHMI Natalie",{"$nulls":51},0,0]
[{"$nulls":12},{"$f":"IFERROR(IF($Y$1=1,\"\",VLOOKUP(M41,needstable,8,FALSE)),\"\")","v":"    "},{"$nulls":3},{"$f":"IFERROR(IF($Y$1=1,\"\",VLOOKUP(Q41,needstable,8,FALSE)),\"\")","v":"    "},{"$nulls":8},{"$f":"IFERROR(IF($Y$1=1,\"\",VLOOKUP(Z41,needstable,8,FALSE)),\"\")","v":""},{"$nulls":3},{"$f":"IFERROR(IF($Y$1=1,\"\",VLOOKUP(AD41,needstable,8,FALSE)),\"\")","v":"    "},{"$nulls":8},{"$f":"IFERROR(IF($Y$1=1,\"\",VLOOKUP(AM41,needstable,8,FALSE)),\"\")","v":"    "},{"$nulls":3},{"$f":"IFERROR(IF($Y$1=1,\"\",VLOOKUP(AQ41,needstable,8,FALSE)),\"\")","v":"    "},{"$nulls":9},{"$f":"IFERROR(INDEX(indexdatabase,MATCH(BQ39&$AZ$14,name&Group2,0),MATCH(\"AR\",Sheet2rng!$A$1:$AK$1,0)),\"\")","v":""},"",{"$f":"IFERROR(INDEX(indexdatabase,MATCH($BB43&$AZ$14,name&Group2,0),MATCH(\"SEND\",Sheet2rng!$A$1:$AO$1,0)),\"\")","v":""},{"$f":"IFERROR(INDEX(indexdatabase,MATCH($BB43&$AZ$14,name&Group2,0),MATCH(\"MAT\",Sheet2rng!$A$1:$AO$1,0)),\"\")","v":""},{"$f":"IFERROR(INDEX(indexdatabase,MATCH($BB43&$AZ$14,name&Group2,0),MATCH(\"EAL\",Sheet2rng!$A$1:$AO$1,0)),\"\")","v":""},"","","","    ",{"$nulls":4},"10A/Pg1",null,null,"","IFERROR(INDEX(Sheet2rng,MATCH(BA12,sheet2rows,0), MATCH($BB$11,sheet2columns,0)),\"\")",{"$f":"IFERROR(INDEX(indexdatabase,MATCH(BQ43&$AZ$14,name&Group2,0),MATCH(\"PPI\",Sheet2rng!$A$1:$AK$1,0)),\"\")","v":""},{"$f":"IFERROR(SMALL(IF(LEFT(Group2,LEN(SPtemplate2!$BA$10))=SPtemplate2!$BA$10,ROW(Group2)),ROW(A32)),\"\")","v":""},{"$nulls":4},"",{"$nulls":56},0,"","SMITH Jade",{"$nulls":5},4,20,"SAWYER Cicarna-Lee",{"$nulls":5},0,"","SMITH Jade",{"$nulls":5},0,"","SMITH Jade",{"$nulls":5},0,"","SMITH Jade",{"$nulls":5},0,"","SMITH Jade",{"$nulls":51},0,0]
[{"$nulls":12},"C/grade",null,{"$f":"Sheet2rng!$D$1","v":"KS2"},null,"C/grade",null,{"$f":"Sheet2rng!$D$1","v":"KS2"},{"$nulls":6},"C/grade",null,{"$f":"Sheet2rng!$D$1","v":"KS2"},null,"C/grade",null,{"$f":"Sheet2rng!$D$1","v":"KS2"},{"$nulls":6},"C/grade",null,{"$f":"Sheet2rng!$D$1","v":"KS2"},null,"C/grade",null,{"$f":"Sheet2rng!$D$1","v":"KS2"},{"$nulls":7},{"$f":"IFERROR(INDEX(indexdatabase,MATCH(BQ40&$AZ$14,name&Group2,0),MATCH(\"AR\",Sheet2rng!$A$1:$AK$1,0)),\"\")","v":""},"",{"$f":"IFERROR(INDEX(indexdatabase,MATCH($BB44&$AZ$14,name&Group2,0),MATCH(\"SEND\",Sheet2rng!$A$1:$AO$1,0)),\"\")","v":""},{"$f":"IFERROR(INDEX(indexdatabase,MATCH($BB44&$AZ$14,name&Group2,0),MATCH(\"MAT\",Sheet2rng!$A$1:$AO$1,0)),\"\")","v":""},{"$f":"IFERROR(INDEX(indexdatabase,MATCH($BB44&$AZ$14,name&Group2,0),MATCH(\"EAL\",Sheet2rng!$A$1:$AO$1,0)),\"\")","v":""},"","","","    ",{"$nulls":4},"10a/Sc1",null,null,"","IFERROR(INDEX(Sheet2rng,MATCH(BA12,sheet2rows,0), MATCH($BB$11,sheet2columns,0)),\"\")",{"$f":"IFERROR(INDEX(indexdatabase,MATCH(BQ44&$AZ$14,name&Group2,0),MATCH(\"PPI\",Sheet2rng!$A$1:$AK$1,0)),\"\")","v":""},{"$f":"IFERROR(SMALL(IF(LEFT(Group2,LEN(SPtemplate2!$BA$10))=SPtemplate2!$BA$10,ROW(Group2)),ROW(A33)),\"\")","v":""},{"$nulls":61},0,"","SWAN Callum",{"$nulls":5},4,20,"SEHMI Natalie",{"$nulls":5},0,"","SWAN Callum",{"$nulls":5},0,"","SWAN Callum",{"$nulls":5},0,"","SWAN Callum",{"$nulls":5},0,"","SWAN Callum",{"$nulls":51},0,0]
[{"$nulls":12},{"$f":"IFERROR(IF($Y$2=2,\"\",IF($Y$2=3,INDEX(indexdatabase,MATCH(M41&$AZ$14,name&Group2,0),MATCH($AZ$23,Sheet2rng!$A$1:$AK$1,0)))),\"\")","v":""},null,{"$f":"IFERROR(IF($Y$3=4,\"\",IF($Y$3=5,INDEX(indexdatabase,MATCH(M41&$AZ$14,name&Group2,0),MATCH($P$4,Sheet2rng!$A$1:$AK$1,0)))),\"\")","v":""},null,{"$f":"IFERROR(IF($Y$2=2,\"\",IF($Y$2=3,INDEX(indexdatabase,MATCH(Q41&$AZ$14,name&Group2,0),MATCH($AZ$23,Sheet2rng!$A$1:$AK$1,0)))),\"\")","v":""},null,{"$f":"IFERROR(IF($Y$3=4,\"\",IF($Y$3=5,INDEX(indexdatabase,MATCH(Q41&$AZ$14,name&Group2,0),MATCH($P$4,Sheet2rng!$A$1:$AK$1,0)))),\"\")","v":""},{"$nulls":6},{"$f":"IFERROR(IF($Y$2=2,\"\",IF($Y$2=3,INDEX(indexdatabase,MATCH(Z41&$AZ$14,name&Group2,0),MATCH($AZ$23,Sheet2rng!$A$1:$AK$1,0)))),\"\")","v":""},null,{"$f":"IFERROR(IF($Y$3=4,\"\",IF($Y$3=5,INDEX(indexdatabase,MATCH(Z41&$AZ$14,name&Group2,0),MATCH($P$4,Sheet2rng!$A$1:$AK$1,0)))),\"\")","v":""},null,{"$f":"IFERROR(IF($Y$2=2,\"\",IF($Y$2=3,INDEX(indexdatabase,MATCH(AD41&$AZ$14,name&Group2,0),MATCH($AZ$23,Sheet2rng!$A$1:$AK$1,0)))),\"\")","v":""},null,{"$f":"IFERROR(IF($Y$3=4,\"\",IF($Y$3=5,INDEX(indexdatabase,MATCH(AD41&$AZ$14,name&Group2,0),MATCH($P$4,Sheet2rng!$A$1:$AK$1,0)))),\"\")","v":""},{"$nulls":6},{"$f":"IFERROR(IF($Y$2=2,\"\",IF($Y$2=3,INDEX(indexdatabase,MATCH(AM41&$AZ$14,name&Group2,0),MATCH($AZ$23,Sheet2rng!$A$1:$AK$1,0)))),\"\")","v":""},null,{"$f":"IFERROR(IF($Y$3=4,\"\",IF($Y$3=5,INDEX(indexdatabase,MATCH(AM41&$AZ$14,name&Group2,0),MATCH($P$4,Sheet2rng!$A$1:$AK$1,0)))),\"\")","v":""},null,{"$f":"IFERROR(IF($Y$2=2,\"\",IF($Y$2=3,INDEX(indexdatabase,MATCH(AQ41&$AZ$14,name&Group2,0),MATCH($AZ$23,Sheet2rng!$A$1:$AK$1,0)))),\"\")","v":""},null,{"$f":"IFERROR(IF($Y$3=4,\"\",IF($Y$3=5,INDEX(indexdatabase,MATCH(AQ41&$AZ$14,name&Group2,0),MATCH($P$4,Sheet2rng!$A$1:$AK$1,0)))),\"\")","v":""},{"$nulls":7},{"$f":"IFERROR(INDEX(indexdatabase,MATCH(BQ41&$AZ$14,name&Group2,0),MATCH(\"AR\",Sheet2rng!$A$1:$AK$1,0)),\"\")","v":""},"",{"$f":"IFERROR(INDEX(indexdatabase,MATCH($BB45&$AZ$14,name&Group2,0),MATCH(\"SEND\",Sheet2rng!$A$1:$AO$1,0)),\"\")","v":""},{"$f":"IFERROR(INDEX(indexdatabase,MATCH($BB45&$AZ$14,name&Group2,0),MATCH(\"MAT\",Sheet2rng!$A$1:$AO$1,0)),\"\")","v":""},{"$f":"IFERROR(INDEX(indexdatabase,MATCH($BB45&$AZ$14,name&Group2,0),MATCH(\"EAL\",Sheet2rng!$A$1:$AO$1,0)),\"\")","v":""},"","","","    ",{"$nulls":4},"10a/Sc2",null,null,"","IFERROR(INDEX(Sheet2rng,MATCH(BA12,sheet2rows,0), MATCH($BB$11,sheet2columns,0)),\"\")",{"$f":"IFERROR(INDEX(indexdatabase,MATCH(BQ45&$AZ$14,name&Group2,0),MATCH(\"PPI\",Sheet2rng!$A$1:$AK$1,0)),\"\")","v":""},{"$f":"IFERROR(SMALL(IF(LEFT(Group2,LEN(SPtemplate2!$BA$10))=SPtemplate2!$BA$10,ROW(Group2)),ROW(A34)),\"\")","v":""},{"$nulls":62},"","TURNER Liberty",{"$nulls":6},20,"SWAN Callum",{"$nulls":6},"","TURNER Liberty",{"$nulls":6},"","TURNER Liberty",{"$nulls":6},"","TURNER Liberty",{"$nulls":6},"","TURNER Liberty",{"$nulls":51},0,0]
[{"$nulls":12},{"$f":"Sheet2rng!$C$1","v":"Target"},null,{"$f":"Sheet2rng!$E$1","v":"AR"},null,{"$f":"Sheet2rng!$C$1","v":"Target"},null,{"$f":"Sheet2rng!$E$1","v":"AR"},{"$nulls":6},{"$f":"Sheet2rng!$C$1","v":"Target"},null,{"$f":"Sheet2rng!$E$1","v":"AR"},null,{"$f":"Sheet2rng!$C$1","v":"Target"},null,{"$f":"Sheet2rng!$E$1","v":"AR"},{"$nulls":6},{"$f":"Sheet2rng!$C$1","v":"Target"},null,{"$f":"Sheet2rng!$E$1","v":"AR"},null,{"$f":"Sheet2rng!$C$1","v":"Target"},null,{"$f":"Sheet2rng!$E$1","v":"AR"},{"$nulls":7},{"$f":"IFERROR(INDEX(indexdatabase,MATCH(BQ42&$AZ$14,name&Group2,0),MATCH(\"AR\",Sheet2rng!$A$1:$AK$1,0)),\"\")","v":""},"",{"$f":"IFERROR(INDEX(indexdatabase,MATCH($BB46&$AZ$14,name&Group2,0),MATCH(\"SEND\",Sheet2rng!$A$1:$AO$1,0)),\"\")","v":""},{"$f":"IFERROR(INDEX(indexdatabase,MATCH($BB46&$AZ$14,name&Group2,0),MATCH(\"MAT\",Sheet2rng!$A$1:$AO$1,0)),\"\")","v":""},{"$f":"IFERROR(INDEX(indexdatabase,MATCH($BB46&$AZ$14,name&Group2,0),MATCH(\"EAL\",Sheet2rng!$A$1:$AO$1,0)),\"\")","v":""},"","","","    ",{"$nulls":4},"10a/Sc3",null,null,"","IFERROR(INDEX(Sheet2rng,MATCH(BA12,sheet2rows,0), MATCH($BB$11,sheet2columns,0)),\"\")",{"$f":"IFERROR(INDEX(indexdatabase,MATCH(BQ46&$AZ$14,name&Group2,0),MATCH(\"PPI\",Sheet2rng!$A$1:$AK$1,0)),\"\")","v":""},{"$f":"IFERROR(SMALL(IF(LEFT(Group2,LEN(SPtemplate2!$BA$10))=SPtemplate2!$BA$10,ROW(Group2)),ROW(A35)),\"\")","v":""},{"$nulls":62},"","WILLIS Demi",{"$nulls":6},20,"WILLIS Demi",{"$nulls":6},"","WILLIS Demi",{"$nulls":6},"","WILLIS Demi",{"$nulls":6},"","WILLIS Demi",{"$nulls":6},"","WILLIS Demi",{"$nulls":51},0,0]
[{"$nulls":12},{"$f":"IFERROR(IF($Y$4=6,\"\",IF($Y$4=7,INDEX(indexdatabase,MATCH(M41&$AZ$14,name&Group2,0),MATCH($N$6,Sheet2rng!$A$1:$AK$1,0)))),\"\")","v":""},null,{"$f":"IFERROR(IF($Y$5=8,\"\",IF($Y$5=9,INDEX(Sheet2rng,MATCH(M41&$AZ$14,name&Group2,0),MATCH($P$6,sheet2columns,0)))),\"\")","v":""},null,{"$f":"IFERROR(IF($Y$4=6,\"\",IF($Y$4=7,INDEX(indexdatabase,MATCH(Q41&$AZ$14,name&Group2,0),MATCH($N$6,Sheet2rng!$A$1:$AK$1,0)))),\"\")","v":""},null,{"$f":"IFERROR(IF($Y$5=8,\"\",IF($Y$5=9,INDEX(Sheet2rng,MATCH(Q41&$AZ$14,name&Group2,0),MATCH($P$6,sheet2columns,0)))),\"\")","v":""},{"$nulls":6},{"$f":"IFERROR(IF($Y$4=6,\"\",IF($Y$4=7,INDEX(indexdatabase,MATCH(Z41&$AZ$14,name&Group2,0),MATCH($N$6,Sheet2rng!$A$1:$AK$1,0)))),\"\")","v":""},null,{"$f":"IFERROR(IF($Y$5=8,\"\",IF($Y$5=9,INDEX(Sheet2rng,MATCH(Z41&$AZ$14,name&Group2,0),MATCH($P$6,sheet2columns,0)))),\"\")","v":""},null,{"$f":"IFERROR(IF($Y$4=6,\"\",IF($Y$4=7,INDEX(indexdatabase,MATCH(AD41&$AZ$14,name&Group2,0),MATCH($N$6,Sheet2rng!$A$1:$AK$1,0)))),\"\")","v":""},null,{"$f":"IFERROR(IF($Y$5=8,\"\",IF($Y$5=9,INDEX(Sheet2rng,MATCH(AD41&$AZ$14,name&Group2,0),MATCH($P$6,sheet2columns,0)))),\"\")","v":""},{"$nulls":6},{"$f":"IFERROR(IF($Y$4=6,\"\",IF($Y$4=7,INDEX(indexdatabase,MATCH(AM41&$AZ$14,name&Group2,0),MATCH($N$6,Sheet2rng!$A$1:$AK$1,0)))),\"\")","v":""},null,{"$f":"IFERROR(IF($Y$5=8,\"\",IF($Y$5=9,INDEX(Sheet2rng,MATCH(AM41&$AZ$14,name&Group2,0),MATCH($P$6,sheet2columns,0)))),\"\")","v":""},null,{"$f":"IFERROR(IF($Y$4=6,\"\",IF($Y$4=7,INDEX(indexdatabase,MATCH(AQ41&$AZ$14,name&Group2,0),MATCH($N$6,Sheet2rng!$A$1:$AK$1,0)))),\"\")","v":""},null,{"$f":"IFERROR(IF($Y$5=8,\"\",IF($Y$5=9,INDEX(Sheet2rng,MATCH(AQ41&$AZ$14,name&Group2,0),MATCH($P$6,sheet2columns,0)))),\"\")","v":""},{"$nulls":7},{"$f":"IFERROR(INDEX(indexdatabase,MATCH(BQ43&$AZ$14,name&Group2,0),MATCH(\"AR\",Sheet2rng!$A$1:$AK$1,0)),\"\")","v":""},null,{"$f":"IFERROR(INDEX(indexdatabase,MATCH($BB47&$AZ$14,name&Group2,0),MATCH(\"SEND\",Sheet2rng!$A$1:$AO$1,0)),\"\")","v":""},{"$f":"IFERROR(INDEX(indexdatabase,MATCH($BB47&$AZ$14,name&Group2,0),MATCH(\"MAT\",Sheet2rng!$A$1:$AO$1,0)),\"\")","v":""},{"$f":"IFERROR(INDEX(indexdatabase,MATCH($BB47&$AZ$14,name&Group2,0),MATCH(\"EAL\",Sheet2rng!$A$1:$AO$1,0)),\"\")","v":""},"","","","    ",{"$nulls":4},"10a/Sc4",null,null,{"$f":"IF($BA$10=\"\",\"\",IFERROR(INDEX(name,BT47,1),\"\"))","v":""},"IFERROR(INDEX(Sheet2rng,MATCH(BA12,sheet2rows,0), MATCH($BB$11,sheet2columns,0)),\"\")",{"$f":"IFERROR(INDEX(indexdatabase,MATCH(BQ47&$AZ$14,name&Group2,0),MATCH(\"PPI\",Sheet2rng!$A$1:$AK$1,0)),\"\")","v":""},{"$f":"IFERROR(SMALL(IF(LEFT(Group2,LEN(SPtemplate2!$BA$10))=SPtemplate2!$BA$10,ROW(Group2)),ROW(A36)),\"\")","v":""},{"$nulls":62},"","WRIGHT Caitlin",{"$nulls":6},"","RIORDAN Robbie",{"$nulls":6},"","WRIGHT Caitlin",{"$nulls":6},"","WRIGHT Caitlin",{"$nulls":6},"","WRIGHT Caitlin",{"$nulls":6},"","WRIGHT Caitlin",{"$nulls":51},0,0]
[{"$nulls":12},{"$f":"IFERROR(IF(SEARCH(\"11\",BE57)=1,11),\"\")","v":""},{"$nulls":3},{"$f":"IFERROR(IF(SEARCH(\"11\",BI57)=1,11),\"\")","v":""},{"$nulls":12},{"$f":"IFERROR(IF(SEARCH(\"11\",BV57)=1,11),\"\")","v":""},{"$nulls":8},{"$f":"IFERROR(IF(SEARCH(\"11\",CE57)=1,11),\"\")","v":""},{"$nulls":3},{"$f":"IFERROR(IF(SEARCH(\"11\",CI57)=1,11),\"\")","v":""},{"$nulls":9},{"$f":"IFERROR(INDEX(indexdatabase,MATCH(BQ44&$AZ$14,name&Group2,0),MATCH(\"AR\",Sheet2rng!$A$1:$AK$1,0)),\"\")","v":""},null,{"$f":"IFERROR(INDEX(indexdatabase,MATCH($BB48&$AZ$14,name&Group2,0),MATCH(\"SEND\",Sheet2rng!$A$1:$AO$1,0)),\"\")","v":""},{"$f":"IFERROR(INDEX(indexdatabase,MATCH($BB48&$AZ$14,name&Group2,0),MATCH(\"MAT\",Sheet2rng!$A$1:$AO$1,0)),\"\")","v":""},{"$f":"IFERROR(INDEX(indexdatabase,MATCH($BB48&$AZ$14,name&Group2,0),MATCH(\"EAL\",Sheet2rng!$A$1:$AO$1,0)),\"\")","v":""},"","","",{"$f":"CONCATENATE(BF48,\"  \",BG48,\"  \",BH48)","v":"    "},{"$nulls":4},"10a/Sc5",null,null,"","IFERROR(INDEX(Sheet2rng,MATCH(BA12,sheet2rows,0), MATCH($BB$11,sheet2columns,0)),\"\")",{"$f":"IFERROR(INDEX(indexdatabase,MATCH(BQ48&$AZ$14,name&Group2,0),MATCH(\"PPI\",Sheet2rng!$A$1:$AK$1,0)),\"\")","v":""},{"$f":"IFERROR(SMALL(IF(LEFT(Group2,LEN(SPtemplate2!$BA$10))=SPtemplate2!$BA$10,ROW(Group2)),ROW(A37)),\"\")","v":""},{"$nulls":62},"","",{"$nulls":6},"","",{"$nulls":6},"","",{"$nulls":6},"","",{"$nulls":6},"","",{"$nulls":6},"","",{"$nulls":51},0,0]
[{"$nulls":65},"10a/Sc6",null,null,"","IFERROR(INDEX(Sheet2rng,MATCH(BA12,sheet2rows,0), MATCH($BB$11,sheet2columns,0)),\"\")",{"$f":"IFERROR(INDEX(indexdatabase,MATCH(BQ49&$AZ$14,name&Group2,0),MATCH(\"PPI\",Sheet2rng!$A$1:$AK$1,0)),\"\")","v":""},{"$f":"IFERROR(SMALL(IF(LEFT(Group2,LEN(SPtemplate2!$BA$10))=SPtemplate2!$BA$10,ROW(Group2)),ROW(A38)),\"\")","v":""},{"$nulls":155},0,0]
[{"$nulls":12},{"$f":"IFERROR(IF($Y$1=1,\"\",VLOOKUP(M48,needstable,8,FALSE)),\"\")","v":"    "},{"$nulls":3},{"$f":"IFERROR(IF($Y$1=1,\"\",VLOOKUP(Q48,needstable,8,FALSE)),\"\")","v":"    "},{"$nulls":8},{"$f":"IFERROR(IF($Y$1=1,\"\",VLOOKUP(Z48,needstable,8,FALSE)),\"\")","v":""},{"$nulls":3},{"$f":"IFERROR(IF($Y$1=1,\"\",VLOOKUP(AD48,needstable,8,FALSE)),\"\")","v":"    "},{"$nulls":8},{"$f":"IFERROR(IF($Y$1=1,\"\",VLOOKUP(AM48,needstable,8,FALSE)),\"\")","v":"    "},{"$nulls":3},{"$f":"IFERROR(IF($Y$1=1,\"\",VLOOKUP(AQ48,needstable,8,FALSE)),\"\")","v":"    "},{"$nulls":22},"10A/So1",null,null,"","IFERROR(INDEX(Sheet2rng,MATCH(BA12,sheet2rows,0), MATCH($BB$11,sheet2columns,0)),\"\")",{"$f":"IFERROR(INDEX(indexdatabase,MATCH(BQ50&$AZ$14,name&Group2,0),MATCH(\"PPI\",Sheet2rng!$A$1:$AK$1,0)),\"\")","v":""},{"$f":"IFERROR(SMALL(IF(LEFT(Group2,LEN(SPtemplate2!$BA$10))=SPtemplate2!$BA$10,ROW(Group2)),ROW(A39)),\"\")","v":""},{"$nulls":62},"","",{"$nulls":6},"","",{"$nulls":6},"","",{"$nulls":5},{"$f":"IF(FC50=1,1,IF(FC50=2,2,IF(FC50=FC49,FB49,IF(FC50>FC49,FB49+1))))","v":0},"","",{"$nulls":5},{"$f":"IF(FK50=1,1,IF(FK50=2,2,IF(FK50=FK49,FJ49,IF(FK50>FK49,FJ49+1))))","v":0},"","",{"$nulls":5},{"$f":"IF(FS50=1,1,IF(FS50=2,2,IF(FS50=FS49,FR49,IF(FS50>FS49,FR49+1))))","v":0},"","",{"$nulls":51},0,0]
[{"$nulls":12},"C/grade",null,{"$f":"Sheet2rng!$D$1","v":"KS2"},null,"C/grade",null,{"$f":"Sheet2rng!$D$1","v":"KS2"},{"$nulls":6},"C/grade",null,{"$f":"Sheet2rng!$D$1","v":"KS2"},null,"C/grade",null,{"$f":"Sheet2rng!$D$1","v":"KS2"},{"$nulls":6},"C/grade",null,{"$f":"Sheet2rng!$D$1","v":"KS2"},null,"C/grade",null,{"$f":"Sheet2rng!$D$1","v":"KS2"},{"$nulls":20},"10A/So2",null,null,"","IFERROR(INDEX(Sheet2rng,MATCH(BA12,sheet2rows,0), MATCH($BB$11,sheet2columns,0)),\"\")",{"$f":"IFERROR(INDEX(indexdatabase,MATCH(BQ51&$AZ$14,name&Group2,0),MATCH(\"PPI\",Sheet2rng!$A$1:$AK$1,0)),\"\")","v":""},{"$f":"IFERROR(SMALL(IF(LEFT(Group2,LEN(SPtemplate2!$BA$10))=SPtemplate2!$BA$10,ROW(Group2)),ROW(A40)),\"\")","v":""},{"$nulls":62},"","",{"$nulls":6},"","",{"$nulls":6},"","",{"$nulls":6},"","",{"$nulls":6},"","",{"$nulls":6},"","",{"$nulls":52},{"$f":"DU370","v":0}]
[{"$nulls":12},{"$f":"IFERROR(IF($Y$2=2,\"\",IF($Y$2=3,INDEX(indexdatabase,MATCH(M48&$AZ$14,name&Group2,0),MATCH($AZ$23,Sheet2rng!$A$1:$AK$1,0)))),\"\")","v":""},null,{"$f":"IFERROR(IF($Y$3=4,\"\",IF($Y$3=5,INDEX(indexdatabase,MATCH(M48&$AZ$14,name&Group2,0),MATCH($P$4,Sheet2rng!$A$1:$AK$1,0)))),\"\")","v":""},null,{"$f":"IFERROR(IF($Y$2=2,\"\",IF($Y$2=3,INDEX(indexdatabase,MATCH(Q48&$AZ$14,name&Group2,0),MATCH($AZ$23,Sheet2rng!$A$1:$AK$1,0)))),\"\")","v":""},null,{"$f":"IFERROR(IF($Y$3=4,\"\",IF($Y$3=5,INDEX(indexdatabase,MATCH(Q48&$AZ$14,name&Group2,0),MATCH($P$4,Sheet2rng!$A$1:$AK$1,0)))),\"\")","v":""},{"$nulls":6},{"$f":"IFERROR(IF($Y$2=2,\"\",IF($Y$2=3,INDEX(indexdatabase,MATCH(Z48&$AZ$14,name&Group2,0),MATCH($AZ$23,Sheet2rng!$A$1:$AK$1,0)))),\"\")","v":""},null,{"$f":"IFERROR(IF($Y$3=4,\"\",IF($Y$3=5,INDEX(indexdatabase,MATCH(Z48&$AZ$14,name&Group2,0),MATCH($P$4,Sheet2rng!$A$1:$AK$1,0)))),\"\")","v":""},null,{"$f":"IFERROR(IF($Y$2=2,\"\",IF($Y$2=3,INDEX(indexdatabase,MATCH(AD48&$AZ$14,name&Group2,0),MATCH($AZ$23,Sheet2rng!$A$1:$AK$1,0)))),\"\")","v":""},null,{"$f":"IFERROR(IF($Y$3=4,\"\",IF($Y$3=5,INDEX(indexdatabase,MATCH(AD48&$AZ$14,name&Group2,0),MATCH($P$4,Sheet2rng!$A$1:$AK$1,0)))),\"\")","v":""},{"$nulls":6},{"$f":"IFERROR(IF($Y$2=2,\"\",IF($Y$2=3,INDEX(indexdatabase,MATCH(AM48&$AZ$14,name&Group2,0),MATCH($AZ$23,Sheet2rng!$A$1:$AK$1,0)))),\"\")","v":""},null,{"$f":"IFERROR(IF($Y$3=4,\"\",IF($Y$3=5,INDEX(indexdatabase,MATCH(AM48&$AZ$14,name&Group2,0),MATCH($P$4,Sheet2rng!$A$1:$AK$1,0)))),\"\")","v":""},null,{"$f":"IFERROR(IF($Y$2=2,\"\",IF($Y$2=3,INDEX(indexdatabase,MATCH(AQ48&$AZ$14,name&Group2,0),MATCH($AZ$23,Sheet2rng!$A$1:$AK$1,0)))),\"\")","v":""},null,{"$f":"IFERROR(IF($Y$3=4,\"\",IF($Y$3=5,INDEX(indexdatabase,MATCH(AQ48&$AZ$14,name&Group2,0),MATCH($P$4,Sheet2rng!$A$1:$AK$1,0)))),\"\")","v":""},{"$nulls":20},"10A/Sp1",null,null,"","IFERROR(INDEX(Sheet2rng,MATCH(BA12,sheet2rows,0), MATCH($BB$11,sheet2columns,0)),\"\")",{"$f":"IFERROR(INDEX(indexdatabase,MATCH(BQ52&$AZ$14,name&Group2,0),MATCH(\"PPI\",Sheet2rng!$A$1:$AK$1,0)),\"\")","v":""},{"$f":"IFERROR(SMALL(IF(LEFT(Group2,LEN(SPtemplate2!$BA$10))=SPtemplate2!$BA$10,ROW(Group2)),ROW(A41)),\"\")","v":""},{"$nulls":62},"","",{"$nulls":6},"","",{"$nulls":6},"","",{"$nulls":6},"","",{"$nulls":6},"","",{"$nulls":6},"",""]
[{"$nulls":12},{"$f":"Sheet2rng!$C$1","v":"Target"},null,{"$f":"Sheet2rng!$E$1","v":"AR"},null,{"$f":"Sheet2rng!$C$1","v":"Target"},null,{"$f":"Sheet2rng!$E$1","v":"AR"},{"$nulls":6},{"$f":"Sheet2rng!$C$1","v":"Target"},null,{"$f":"Sheet2rng!$E$1","v":"AR"},null,{"$f":"Sheet2rng!$C$1","v":"Target"},null,{"$f":"Sheet2rng!$E$1","v":"AR"},{"$nulls":6},{"$f":"Sheet2rng!$C$1","v":"Target"},null,{"$f":"Sheet2rng!$E$1","v":"AR"},null,{"$f":"Sheet2rng!$C$1","v":"Target"},null,{"$f":"Sheet2rng!$E$1","v":"AR"},{"$nulls":20},"10B/Ab1",null,null,"","IFERROR(INDEX(Sheet2rng,MATCH(BA12,sheet2rows,0), MATCH($BB$11,sheet2columns,0)),\"\")",{"$f":"IFERROR(INDEX(indexdatabase,MATCH(BQ53&$AZ$14,name&Group2,0),MATCH(\"PPI\",Sheet2rng!$A$1:$AK$1,0)),\"\")","v":""},{"$f":"IFERROR(SMALL(IF(LEFT(Group2,LEN(SPtemplate2!$BA$10))=SPtemplate2!$BA$10,ROW(Group2)),ROW(A42)),\"\")","v":""},{"$nulls":62},"","",{"$nulls":6},"","",{"$nulls":6},"","",{"$nulls":6},"","",{"$nulls":6},"","",{"$nulls":6},"",""]
[{"$nulls":12},{"$f":"IFERROR(IF($Y$4=6,\"\",IF($Y$4=7,INDEX(indexdatabase,MATCH(M48&$AZ$14,name&Group2,0),MATCH($N$6,Sheet2rng!$A$1:$AK$1,0)))),\"\")","v":""},null,{"$f":"IFERROR(IF($Y$5=8,\"\",IF($Y$5=9,INDEX(Sheet2rng,MATCH(M48&$AZ$14,name&Group2,0),MATCH($P$6,sheet2columns,0)))),\"\")","v":""},null,{"$f":"IFERROR(IF($Y$4=6,\"\",IF($Y$4=7,INDEX(indexdatabase,MATCH(Q48&$AZ$14,name&Group2,0),MATCH($N$6,Sheet2rng!$A$1:$AK$1,0)))),\"\")","v":""},null,{"$f":"IFERROR(IF($Y$5=8,\"\",IF($Y$5=9,INDEX(Sheet2rng,MATCH(Q48&$AZ$14,name&Group2,0),MATCH($P$6,sheet2columns,0)))),\"\")","v":""},{"$nulls":6},{"$f":"IFERROR(IF($Y$4=6,\"\",IF($Y$4=7,INDEX(indexdatabase,MATCH(Z48&$AZ$14,name&Group2,0),MATCH($N$6,Sheet2rng!$A$1:$AK$1,0)))),\"\")","v":""},null,{"$f":"IFERROR(IF($Y$5=8,\"\",IF($Y$5=9,INDEX(Sheet2rng,MATCH(Z48&$AZ$14,name&Group2,0),MATCH($P$6,sheet2columns,0)))),\"\")","v":""},null,{"$f":"IFERROR(IF($Y$4=6,\"\",IF($Y$4=7,INDEX(indexdatabase,MATCH(AD48&$AZ$14,name&Group2,0),MATCH($N$6,Sheet2rng!$A$1:$AK$1,0)))),\"\")","v":""},null,{"$f":"IFERROR(IF($Y$5=8,\"\",IF($Y$5=9,INDEX(Sheet2rng,MATCH(AD48&$AZ$14,name&Group2,0),MATCH($P$6,sheet2columns,0)))),\"\")","v":""},{"$nulls":6},{"$f":"IFERROR(IF($Y$4=6,\"\",IF($Y$4=7,INDEX(indexdatabase,MATCH(AM48&$AZ$14,name&Group2,0),MATCH($N$6,Sheet2rng!$A$1:$AK$1,0)))),\"\")","v":""},null,{"$f":"IFERROR(IF($Y$5=8,\"\",IF($Y$5=9,INDEX(Sheet2rng,MATCH(AM48&$AZ$14,name&Group2,0),MATCH($P$6,sheet2columns,0)))),\"\")","v":""},null,{"$f":"IFERROR(IF($Y$4=6,\"\",IF($Y$4=7,INDEX(indexdatabase,MATCH(AQ48&$AZ$14,name&Group2,0),MATCH($N$6,Sheet2rng!$A$1:$AK$1,0)))),\"\")","v":""},null,{"$f":"IFERROR(IF($Y$5=8,\"\",IF($Y$5=9,INDEX(Sheet2rng,MATCH(AQ48&$AZ$14,name&Group2,0),MATCH($P$6,sheet2columns,0)))),\"\")","v":""},{"$nulls":20},"10B/Ad1",null,null,"","IFERROR(INDEX(Sheet2rng,MATCH(BA12,sheet2rows,0), MATCH($BB$11,sheet2columns,0)),\"\")",{"$f":"IFERROR(INDEX(indexdatabase,MATCH(BQ54&$AZ$14,name&Group2,0),MATCH(\"PPI\",Sheet2rng!$A$1:$AK$1,0)),\"\")","v":""},{"$f":"IFERROR(SMALL(IF(LEFT(Group2,LEN(SPtemplate2!$BA$10))=SPtemplate2!$BA$10,ROW(Group2)),ROW(A43)),\"\")","v":""},{"$nulls":62},"","",{"$nulls":6},"","",{"$nulls":6},"","",{"$nulls":6},"","",{"$nulls":6},"","",{"$nulls":6},"",""]
[{"$nulls":65},"10B/Bu1",null,null,"","IFERROR(INDEX(Sheet2rng,MATCH(BA12,sheet2rows,0), MATCH($BB$11,sheet2columns,0)),\"\")",{"$f":"IFERROR(INDEX(indexdatabase,MATCH(BQ55&$AZ$14,name&Group2,0),MATCH(\"PPI\",Sheet2rng!$A$1:$AK$1,0)),\"\")","v":""},{"$f":"IFERROR(SMALL(IF(LEFT(Group2,LEN(SPtemplate2!$BA$10))=SPtemplate2!$BA$10,ROW(Group2)),ROW(A44)),\"\")","v":""}]
[{"$nulls":65},"10B/Cs1",null,null,"","IFERROR(INDEX(Sheet2rng,MATCH(BA12,sheet2rows,0), MATCH($BB$11,sheet2columns,0)),\"\")",{"$f":"IFERROR(INDEX(indexdatabase,MATCH(BQ56&$AZ$14,name&Group2,0),MATCH(\"PPI\",Sheet2rng!$A$1:$AK$1,0)),\"\")","v":""},{"$f":"IFERROR(SMALL(IF(LEFT(Group2,LEN(SPtemplate2!$BA$10))=SPtemplate2!$BA$10,ROW(Group2)),ROW(A45)),\"\")","v":""}]
[{"$nulls":43},"Teacher's table",{"$nulls":21},"10B/Gg1",null,null,"","IFERROR(INDEX(Sheet2rng,MATCH(BA12,sheet2rows,0), MATCH($BB$11,sheet2columns,0)),\"\")",{"$f":"IFERROR(INDEX(indexdatabase,MATCH(BQ57&$AZ$14,name&Group2,0),MATCH(\"PPI\",Sheet2rng!$A$1:$AK$1,0)),\"\")","v":""},{"$f":"IFERROR(SMALL(IF(LEFT(Group2,LEN(SPtemplate2!$BA$10))=SPtemplate2!$BA$10,ROW(Group2)),ROW(A46)),\"\")","v":""}]
[{"$nulls":65},"10B/Hi1",null,null,"","IFERROR(INDEX(Sheet2rng,MATCH(BA12,sheet2rows,0), MATCH($BB$11,sheet2columns,0)),\"\")",{"$f":"IFERROR(INDEX(indexdatabase,MATCH(BQ58&$AZ$14,name&Group2,0),MATCH(\"PPI\",Sheet2rng!$A$1:$AK$1,0)),\"\")","v":""},{"$f":"IFERROR(SMALL(IF(LEFT(Group2,LEN(SPtemplate2!$BA$10))=SPtemplate2!$BA$10,ROW(Group2)),ROW(A47)),\"\")","v":""}]
[{"$nulls":65},"10B/Hi2",null,null,"","IFERROR(INDEX(Sheet2rng,MATCH(BA12,sheet2rows,0), MATCH($BB$11,sheet2columns,0)),\"\")",{"$f":"IFERROR(INDEX(indexdatabase,MATCH(BQ59&$AZ$14,name&Group2,0),MATCH(\"PPI\",Sheet2rng!$A$1:$AK$1,0)),\"\")","v":""},{"$f":"IFERROR(SMALL(IF(LEFT(Group2,LEN(SPtemplate2!$BA$10))=SPtemplate2!$BA$10,ROW(Group2)),ROW(A48)),\"\")","v":""}]
[{"$nulls":65},"10B/It1",null,null,"","IFERROR(INDEX(Sheet2rng,MATCH(BA12,sheet2rows,0), MATCH($BB$11,sheet2columns,0)),\"\")",{"$f":"IFERROR(INDEX(indexdatabase,MATCH(BQ60&$AZ$14,name&Group2,0),MATCH(\"PPI\",Sheet2rng!$A$1:$AK$1,0)),\"\")","v":""},{"$f":"IFERROR(SMALL(IF(LEFT(Group2,LEN(SPtemplate2!$BA$10))=SPtemplate2!$BA$10,ROW(Group2)),ROW(A49)),\"\")","v":""}]
[{"$nulls":65},"10b/Pe1",null,null,"","IFERROR(INDEX(Sheet2rng,MATCH(BA12,sheet2rows,0), MATCH($BB$11,sheet2columns,0)),\"\")",{"$f":"IFERROR(INDEX(indexdatabase,MATCH(BQ61&$AZ$14,name&Group2,0),MATCH(\"PPI\",Sheet2rng!$A$1:$AK$1,0)),\"\")","v":""},{"$f":"IFERROR(SMALL(IF(LEFT(Group2,LEN(SPtemplate2!$BA$10))=SPtemplate2!$BA$10,ROW(Group2)),ROW(A50)),\"\")","v":""}]
[{"$nulls":65},"10b/Pe2"]
[{"$nulls":65},"10b/Pe3"]
[{"$nulls":65},"10b/Pe4",{"$nulls":67},{"$f":"IF(EE64=1,1,IF(EE64=2,2,IF(EE64=EE63,ED63,IF(EE64>EE63,ED63+1))))","v":1},1,"ABU Aisha",{"$f":"ED64","v":1},{"$nulls":4},{"$f":"IF(EM64=1,1,IF(EM64=2,2,IF(EM64=EM63,EL63,IF(EM64>EM63,EL63+1))))","v":1},1,"GIBSON James",{"$f":"EL64","v":1},{"$nulls":4},{"$f":"IF(EU64=1,1,IF(EU64=2,2,IF(EU64=EU63,ET63,IF(EU64>EU63,ET63+1))))","v":0},"","ABU Aisha",{"$f":"ET64","v":0},{"$nulls":4},{"$f":"IF(FC64=1,1,IF(FC64=2,2,IF(FC64=FC63,FB63,IF(FC64>FC63,FB63+1))))","v":0},"","ABU Aisha",{"$f":"FB64","v":0},{"$nulls":4},{"$f":"IF(FK64=1,1,IF(FK64=2,2,IF(FK64=FK63,FJ63,IF(FK64>FK63,FJ63+1))))","v":0},"","ABU Aisha",{"$f":"FJ64","v":0},{"$nulls":4},{"$f":"IF(FS64=1,1,IF(FS64=2,2,IF(FS64=FS63,FR63,IF(FS64>FS63,FR63+1))))","v":0},"","ABU Aisha",{"$f":"FR64","v":0}]
[{"$nulls":65},"10B/Pt1"]
[{"$nulls":65},"10B/Pt2"]
[{"$nulls":65},"10B/Ts1"]
[{"$nulls":65},"10bc/En1"]
[{"$nulls":65},"10bc/En2"]
[{"$nulls":65},"10bc/En3"]
[{"$nulls":65},"10bc/En4"]
[{"$nulls":65},"10bc/En5"]
[{"$nulls":65},"10bc/En6"]
[{"$nulls":65},"10bc/En7"]
[{"$nulls":65},"10bc/Ep1"]
[{"$nulls":65},"10bc/Ep2"]
[{"$nulls":65},"10bc/Ep3"]
[{"$nulls":65},"10bc/Ep4"]
[{"$nulls":65},"10bc/Ep5"]
[{"$nulls":65},"10bc/Ep6"]
[{"$nulls":65},"10bc/Ep7"]
[{"$nulls":65},"10bc/Sc1"]
[{"$nulls":65},"10bc/Sc2"]
[{"$nulls":65},"10bc/Sc3"]
[{"$nulls":65},"10bc/Sc4"]
[{"$nulls":65},"10bc/Sc5"]
[{"$nulls":65},"10bc/Sc6"]
[{"$nulls":65},"10bc/Sc7"]
[{"$nulls":65},"10bd/Ma1"]
[{"$nulls":65},"10bd/Ma2"]
[{"$nulls":65},"10bd/Ma3"]
[{"$nulls":65},"10bd/Ma4"]
[{"$nulls":65},"10bd/Ma5"]
[{"$nulls":65},"10bd/Ma6"]
[{"$nulls":65},"10bd/Ma7"]
[{"$nulls":65},"10bd/Ma8"]
[{"$nulls":65},"10C/Be1"]
[{"$nulls":65},"10C/Dr1"]
[{"$nulls":65},"10C/Fr1"]
[{"$nulls":65},"10C/Gg1"]
[{"$nulls":65},"10C/Hi1"]
[{"$nulls":65},"10C/It1"]
[{"$nulls":65},"10C/Pg1"]
[{"$nulls":65},"10C/Rm1"]
[{"$nulls":65},"10C/So1"]
[{"$nulls":65},"10C/Ts1"]
[{"$nulls":65},"10cd/Pe1"]
[{"$nulls":65},"10cd/Pe2"]
[{"$nulls":65},"10cd/Pe3"]
[{"$nulls":65},"10cd/Pe4"]
[{"$nulls":65},"10cd/Pe5"]
[{"$nulls":65},"10D/Be1"]
[{"$nulls":65},"10d/En1"]
[{"$nulls":65},"10D/Gg1"]
[{"$nulls":65},"10D/It1"]
[{"$nulls":65},"10d/Sc1"]
[{"$nulls":65},"10D/So1"]
[{"$nulls":65},"10d/Vo1"]
[{"$nulls":65},"10E/Fc1"]
[{"$nulls":65},"10E/Pb1"]
[{"$nulls":65},"10E/Pb2"]
[{"$nulls":65},"10E/Pt1"]
[{"$nulls":65},"10E/Pt2"]
[{"$nulls":65},"10F/Ab1"]
[{"$nulls":65},"10F/It1"]
[{"$nulls":65},"10F/Rm1"]
[{"$nulls":65},"10F/Tt1"]
[{"$nulls":65},"11A/Cs1"]
[{"$nulls":65},"11A/Dr1"]
[{"$nulls":65},"11A/Ec1"]
[{"$nulls":65},"11a/En1"]
[{"$nulls":65},"11a/En2"]
[{"$nulls":65},"11a/En3"]
[{"$nulls":65},"11a/En4"]
[{"$nulls":65},"11a/En5"]
[{"$nulls":65},"11a/Ep1"]
[{"$nulls":65},"11a/Ep2"]
[{"$nulls":65},"11a/Ep3"]
[{"$nulls":65},"11a/Ep4"]
[{"$nulls":65},"11a/Ep5"]
[{"$nulls":65},"11A/Fr1"]
[{"$nulls":65},"11A/Gg1"]
[{"$nulls":65},"11A/Hi1"]
[{"$nulls":65},"11A/Hi2"]
[{"$nulls":65},"11a/Ma1"]
[{"$nulls":65},"11a/Ma2"]
[{"$nulls":65},"11a/Ma3"]
[{"$nulls":65},"11a/Ma4"]
[{"$nulls":65},"11a/Ma5"]
[{"$nulls":65},"11a/Pe1"]
[{"$nulls":65},"11a/Pe2"]
[{"$nulls":65},"11a/Pe3"]
[{"$nulls":65},"11a/Pe4"]
[{"$nulls":65},"11a/Pe5"]
[{"$nulls":65},"11a/Pe6"]
[{"$nulls":65},"11A/Pg1"]
[{"$nulls":65},"11A/Pg2"]
[{"$nulls":65},"11A/Pt1"]
[{"$nulls":65},"11A/Pt2"]
[{"$nulls":65},"11A/Rm1"]
[{"$nulls":65},"11a/Sc1"]
[{"$nulls":65},"11a/Sc2"]
[{"$nulls":65},"11a/Sc3"]
[{"$nulls":65},"11a/Sc4"]
[{"$nulls":65},"11a/Sc5"]
[{"$nulls":65},"11A/So1"]
[{"$nulls":65},"11B/Ar1"]
[{"$nulls":65},"11B/Bb1"]
[{"$nulls":65},"11B/Bu1"]
[{"$nulls":65},"11B/Cs1"]
[{"$nulls":65},"11B/Dr1"]
[{"$nulls":65},"11B/Gg1"]
[{"$nulls":65},"11B/Hg1"]
[{"$nulls":65},"11B/Hi1"]
[{"$nulls":65},"11b/Pe1"]
[{"$nulls":65},"11b/Pe2"]
[{"$nulls":65},"11b/Pe3"]
[{"$nulls":65},"11b/Pe4"]
[{"$nulls":65},"11B/Pg1"]
[{"$nulls":65},"11B/Pg2"]
[{"$nulls":65},"11B/So1"]
[{"$nulls":65},"11B/Sp1"]
[{"$nulls":65},"11bc/En1"]
[{"$nulls":65},"11bc/En2"]
[{"$nulls":65},"11bc/En3"]
[{"$nulls":65},"11bc/En4"]
[{"$nulls":65},"11bc/En5"]
[{"$nulls":65},"11bc/En6"]
[{"$nulls":65},"11bc/En7"]
[{"$nulls":65},"11bc/Ep1"]
[{"$nulls":65},"11bc/Ep2"]
[{"$nulls":65},"11bc/Ep3"]
[{"$nulls":65},"11bc/Ep4"]
[{"$nulls":65},"11bc/Ep5"]
[{"$nulls":65},"11bc/Ep6"]
[{"$nulls":65},"11bc/Ep7"]
[{"$nulls":65},"11bc/Sc1"]
[{"$nulls":65},"11bc/Sc2"]
[{"$nulls":65},"11bc/Sc3"]
[{"$nulls":65},"11bc/Sc4"]
[{"$nulls":65},"11bc/Sc5"]
[{"$nulls":65},"11bc/Sc6"]
[{"$nulls":65},"11bc/Sc7"]
[{"$nulls":65},"11bd/Ma1"]
[{"$nulls":65},"11bd/Ma2"]
[{"$nulls":65},"11bd/Ma3"]
[{"$nulls":65},"11bd/Ma4"]
[{"$nulls":65},"11bd/Ma5"]
[{"$nulls":65},"11bd/Ma6"]
[{"$nulls":65},"11bd/Ma7"]
[{"$nulls":65},"11bd/Ma8"]
[{"$nulls":65},"11C/Ab1"]
[{"$nulls":65},"11C/Bb1"]
[{"$nulls":65},"11C/Bu1"]
[{"$nulls":65},"11C/Cs1"]
[{"$nulls":65},"11C/Fr1"]
[{"$nulls":65},"11C/Gg1"]
[{"$nulls":65},"11C/Hi1"]
[{"$nulls":65},"11C/Ib1"]
[{"$nulls":65},"11C/It1"]
[{"$nulls":65},"11C/Mu1"]
[{"$nulls":65},"11C/So1"]
[{"$nulls":65},"11cd/Pe1"]
[{"$nulls":65},"11cd/Pe2"]
[{"$nulls":65},"11cd/Pe3"]
[{"$nulls":65},"11cd/Pe4"]
[{"$nulls":65},"11D/Ab1"]
[{"$nulls":65},"11D/Bb1"]
[{"$nulls":65},"11D/Dr1"]
[{"$nulls":65},"11d/En1"]
[{"$nulls":65},"11D/Fc1"]
[{"$nulls":65},"11d/Sc1"]
[{"$nulls":65},"11d/Vo1"]
[{"$nulls":65},"11E/Hi1"]
[{"$nulls":65},"11E/Ib1"]
[{"$nulls":65},"11E/Rm1"]
[{"$nulls":65},"11E/So1"]
[{"$nulls":65},"11F/Bb1"]
[{"$nulls":65},"11F/Fc1"]
[{"$nulls":65},"11F/Ib1"]
[{"$nulls":65},"11F/Pb1"]
[{"$nulls":65},"12A/Ac1"]
[{"$nulls":65},"12A/Ar1"]
[{"$nulls":65},"12A/En1"]
[{"$nulls":65},"12A/Fr1"]
[{"$nulls":65},"12A/Ma1"]
[{"$nulls":65},"12A/Pb1"]
[{"$nulls":65},"12A/Pv1"]
[{"$nulls":65},"12A/Py1"]
[{"$nulls":65},"12A/Sm1"]
[{"$nulls":65},"12A/So1"]
[{"$nulls":65},"12A/Ws1"]
[{"$nulls":65},"12B/Ch1"]
[{"$nulls":65},"12B/Ec1"]
[{"$nulls":65},"12B/It1"]
[{"$nulls":65},"12B/Ms1"]
[{"$nulls":65},"12B/Pb1"]
[{"$nulls":65},"12B/Pb2"]
[{"$nulls":65},"12B/Pi1"]
[{"$nulls":65},"12B/Pv1"]
[{"$nulls":65},"12B/Sm1"]
[{"$nulls":65},"12B/Tt1"]
[{"$nulls":65},"12C/Bb1"]
[{"$nulls":65},"12C/Bi1"]
[{"$nulls":65},"12C/Bu1"]
[{"$nulls":65},"12C/En1"]
[{"$nulls":65},"12C/Hi1"]
[{"$nulls":65},"12C/Pb1"]
[{"$nulls":65},"12C/Pf1"]
[{"$nulls":65},"12C/Pt1"]
[{"$nulls":65},"12C/Pv1"]
[{"$nulls":65},"12D/En1"]
[{"$nulls":65},"12D/It1"]
[{"$nulls":65},"12D/La1"]
[{"$nulls":65},"12D/Ma1"]
[{"$nulls":65},"12D/Pb1"]
[{"$nulls":65},"12D/Pb2"]
[{"$nulls":65},"12D/Pf1"]
[{"$nulls":65},"12D/Pv1"]
[{"$nulls":65},"12D1/Bb1"]
[{"$nulls":65},"12D1/Ma1"]
[{"$nulls":65},"12E/En1"]
[{"$nulls":65},"12E/En2"]
[{"$nulls":65},"12E/Fm1"]
[{"$nulls":65},"12E/Ma1"]
[{"$nulls":65},"12E/Ma2"]
[{"$nulls":65},"12E/Pe1"]
[{"$nulls":65},"12E/Pv1"]
[{"$nulls":65},"12f/En1"]
[{"$nulls":65},"12f/Fb1"]
[{"$nulls":65},"12f/Ma1"]
[{"$nulls":65},"12f/Pb1"]
[{"$nulls":65},"13A/Bb1"]
[{"$nulls":65},"13A/Bu1"]
[{"$nulls":65},"13A/Fs1"]
[{"$nulls":65},"13A/Hi1"]
[{"$nulls":65},"13A/Ma1"]
[{"$nulls":65},"13A/Pe1"]
[{"$nulls":65},"13A/Pf1"]
[{"$nulls":65},"13A/Pv1"]
[{"$nulls":65},"13B/Ac1"]
[{"$nulls":65},"13B/Ar1"]
[{"$nulls":65},"13B/La1"]
[{"$nulls":65},"13B/Pb1"]
[{"$nulls":65},"13B/Pf1"]
[{"$nulls":65},"13B/Pv1"]
[{"$nulls":65},"13B/So1"]
[{"$nulls":65},"13C/En1"]
[{"$nulls":65},"13C/It1"]
[{"$nulls":65},"13C/Pb1"]
[{"$nulls":65},"13C/Pe1"]
[{"$nulls":65},"13C/Pv1"]
[{"$nulls":65},"13C/Tt1"]
[{"$nulls":65},"13D/At1"]
[{"$nulls":65},"13D/Ms1"]
[{"$nulls":65},"13D/Pv1"]
[{"$nulls":65},"13D/Py1"]
[{"$nulls":65},"13E/Bi1"]
[{"$nulls":65},"13E/Ec1"]
[{"$nulls":65},"13E/En1"]
[{"$nulls":65},"13E/Ho1"]
[{"$nulls":65},"13E/Mu1"]
[{"$nulls":65},"13E/Or1"]
[{"$nulls":65},"13E/Pb1"]
[{"$nulls":65},"13E/Pv1"]
[{"$nulls":65},"7a/Ar1"]
[{"$nulls":65},"7a/Ar2"]
[{"$nulls":65},"7a/Ar3"]
[{"$nulls":65},"7a/Dr1"]
[{"$nulls":65},"7a/Dr2"]
[{"$nulls":65},"7a/Dr3"]
[{"$nulls":65},"7a/Dt1"]
[{"$nulls":65},"7a/Dt2"]
[{"$nulls":65},"7a/Dt3"]
[{"$nulls":65},"7a/Dt4"]
[{"$nulls":65},"7a/En1"]
[{"$nulls":65},"7a/En2"]
[{"$nulls":65},"7a/En3"]
[{"$nulls":65},"7a/Ep1"]
[{"$nulls":65},"7a/Ep2"]
[{"$nulls":65},"7a/Ep3"]
[{"$nulls":65},"7a/Fr1"]
[{"$nulls":65},"7a/Fr2"]
[{"$nulls":65},"7a/Gg1"]
[{"$nulls":65},"7a/Gg2"]

{"sheet":"10B-So1","index":5,"n_rows":345,"n_cols":229,"rows_kept":345,"hidden":true,"merged":[[0,20,0,22],[1,8,1,11],[1,20,1,22],[2,8,2,11],[2,20,2,22],[3,8,3,9],[3,10,3,11],[3,20,3,22],[4,8,4,9],[4,10,4,11],[4,20,4,22],[5,8,5,9],[5,10,5,11],[5,20,5,22],[6,8,6,9],[6,10,6,11],[6,20,6,22],[7,20,7,22],[8,20,8,22],[11,51,12,51],[13,51,14,51],[15,227,15,235],[16,227,16,235],[18,228,18,235],[19,13,19,16],[19,17,19,20],[19,23,19,26],[19,27,19,30],[19,31,19,34],[19,35,19,38],[19,41,19,44],[19,45,19,48],[19,51,21,51],[19,228,19,235],[20,13,20,16],[20,17,20,20],[20,23,20,26],[20,27,20,30],[20,31,20,34],[20,35,20,38],[20,41,20,44],[20,45,20,48],[20,228,20,235],[21,13,21,14],[21,15,21,16],[21,17,21,18],[21,19,21,20],[21,23,21,24],[21,25,21,26],[21,27,21,28],[21,29,21,30],[21,31,21,32],[21,33,21,34],[21,35,21,36],[21,37,21,38],[21,41,21,42],[21,43,21,44],[21,45,21,46],[21,47,21,48],[21,228,21,235],[22,13,22,14],[22,15,22,16],[22,17,22,18],[22,19,22,20],[22,23,22,24],[22,25,22,26],[22,27,22,28],[22,29,22,30],[22,31,22,32],[22,33,22,34],[22,35,22,36],[22,37,22,38],[22,41,22,42],[22,43,22,44],[22,45,22,46],[22,47,22,48],[22,51,23,51],[22,228,22,235],[23,13,23,14],[23,15,23,16],[23,17,23,18],[23,19,23,20],[23,23,23,24],[23,25,23,26],[23,27,23,28],[23,29,23,30],[23,31,23,32],[23,33,23,34],[23,35,23,36],[23,37,23,38],[23,41,23,42],[23,43,23,44],[23,45,23,46],[23,47,23,48],[23,228,23,235],[24,13,24,14],[24,15,24,16],[24,17,24,18],[24,19,24,20],[24,23,24,24],[24,25,24,26],[24,27,24,28],[24,29,24,30],[24,31,24,32],[24,33,24,34],[24,35,24,36],[24,37,24,38],[24,41,24,42],[24,43,24,44],[24,45,24,46],[24,47,24,48],[24,228,24,235],[25,228,25,235],[26,228,26,235],[27,228,27,235],[28,13,28,16],[28,17,28,20],[28,23,28,26],[28,27,28,30],[28,31,28,34],[28,35,28,38],[28,41,28,44],[28,45,28,48],[28,228,28,235],[29,13,29,16],[29,17,29,20],[29,23,29,26],[29,27,29,30],[29,31,29,34],[29,35,29,38],[29,41,29,44],[29,45,29,48],[29,228,29,235],[30,13,30,14],[30,15,30,16],[30,17,30,18],[30,19,30,20],[30,23,30,24],[30,25,30,26],[30,27,30,28],[30,29,30,30],[30,31,30,32],[30,33,30,34],[30,35,30,36],[30,37,30,38],[30,41,30,42],[30,43,30,44],[30,45,30,46],[30,47,30,48],[30,228,30,235],[31,13,31,14],[31,15,31,16],[31,17,31,18],[31,19,31,20],[31,23,31,24],[31,25,31,26],[31,27,31,28],[31,29,31,30],[31,31,31,32],[31,33,31,34],[31,35,31,36],[31,37,31,38],[31,41,31,42],[31,43,31,44],[31,45,31,46],[31,47,31,48],[31,228,31,235],[32,13,32,14],[32,15,32,16],[32,17,32,18],[32,19,32,20],[32,23,32,24],[32,25,32,26],[32,27,32,28],[32,29,32,30],[32,31,32,32],[32,33,32,34],[32,35,32,36],[32,37,32,38],[32,41,32,42],[32,43,32,44],[32,45,32,46],[32,47,32,48],[32,228,32,235],[33,13,33,14],[33,15,33,16],[33,17,33,18],[33,19,33,20],[33,23,33,24],[33,25,33,26],[33,27,33,28],[33,29,33,30],[33,31,33,32],[33,33,33,34],[33,35,33,36],[33,37,33,38],[33,41,33,42],[33,43,33,44],[33,45,33,46],[33,47,33,48],[33,228,33,235],[34,228,34,235],[35,228,35,235],[36,228,36,235],[37,13,37,16],[37,17,37,20],[37,23,37,26],[37,27,37,30],[37,31,37,34],[37,35,37,38],[37,41,37,44],[37,45,37,48],[37,228,37,235],[38,13,38,16],[38,17,38,20],[38,23,38,26],[38,27,38,30],[38,31,38,34],[38,35,38,38],[38,41,38,44],[38,45,38,48],[38,228,38,235],[39,13,39,14],[39,15,39,16],[39,17,39,18],[39,19,39,20],[39,23,39,24],[39,25,39,26],[39,27,39,28],[39,29,39,30],[39,31,39,32],[39,33,39,34],[39,35,39,36],[39,37,39,38],[39,41,39,42],[39,43,39,44],[39,45,39,46],[39,47,39,48],[39,228,39,235],[40,13,40,14],[40,15,40,16],[40,17,40,18],[40,19,40,20],[40,23,40,24],[40,25,40,26],[40,27,40,28],[40,29,40,30],[40,31,40,32],[40,33,40,34],[40,35,40,36],[40,37,40,38],[40,41,40,42],[40,43,40,44],[40,45,40,46],[40,47,40,48],[40,228,40,235],[41,13,41,14],[41,15,41,16],[41,17,41,18],[41,19,41,20],[41,23,41,24],[41,25,41,26],[41,27,41,28],[41,29,41,30],[41,31,41,32],[41,33,41,34],[41,35,41,36],[41,37,41,38],[41,41,41,42],[41,43,41,44],[41,45,41,46],[41,47,41,48],[41,228,41,235],[42,13,42,14],[42,15,42,16],[42,17,42,18],[42,19,42,20],[42,23,42,24],[42,25,42,26],[42,27,42,28],[42,29,42,30],[42,31,42,32],[42,33,42,34],[42,35,42,36],[42,37,42,38],[42,41,42,42],[42,43,42,44],[42,45,42,46],[42,47,42,48],[42,228,42,235],[43,228,43,235],[44,228,44,235],[45,228,45,235],[46,13,46,16],[46,17,46,20],[46,23,46,26],[46,27,46,30],[46,31,46,34],[46,35,46,38],[46,41,46,44],[46,45,46,48],[46,228,46,235],[47,13,47,16],[47,17,47,20],[47,23,47,26],[47,27,47,30],[47,31,47,34],[47,35,47,38],[47,41,47,44],[47,45,47,48],[47,228,47,235],[48,13,48,14],[48,15,48,16],[48,17,48,18],[48,19,48,20],[48,23,48,24],[48,25,48,26],[48,27,48,28],[48,29,48,30],[48,31,48,32],[48,33,48,34],[48,35,48,36],[48,37,48,38],[48,41,48,42],[48,43,48,44],[48,45,48,46],[48,47,48,48],[48,228,48,235],[49,13,49,14],[49,15,49,16],[49,17,49,18],[49,19,49,20],[49,23,49,24],[49,25,49,26],[49,27,49,28],[49,29,49,30],[49,31,49,32],[49,33,49,34],[49,35,49,36],[49,37,49,38],[49,41,49,42],[49,43,49,44],[49,45,49,46],[49,47,49,48],[49,228,49,235],[50,13,50,14],[50,15,50,16],[50,17,50,18],[50,19,50,20],[50,23,50,24],[50,25,50,26],[50,27,50,28],[50,29,50,30],[50,31,50,32],[50,33,50,34],[50,35,50,36],[50,37,50,38],[50,41,50,42],[50,43,50,44],[50,45,50,46],[50,47,50,48],[50,228,50,235],[51,13,51,14],[51,15,51,16],[51,17,51,18],[51,19,51,20],[51,23,51,24],[51,25,51,26],[51,27,51,28],[51,29,51,30],[51,31,51,32],[51,33,51,34],[51,35,51,36],[51,37,51,38],[51,41,51,42],[51,43,51,44],[51,45,51,46],[51,47,51,48],[51,228,51,235],[74,18,76,25],[74,26,76,29],[154,18,156,25],[154,26,156,29],[253,18,255,25],[253,26,255,29],[339,18,341,25],[339,26,341,29],[444,18,446,25],[444,26,446,29],[551,18,553,25],[551,26,553,29],[662,18,664,25],[662,26,664,29],[728,18,730,25],[728,26,730,29],[815,19,817,26],[815,27,817,30],[914,19,916,26],[914,27,916,30],[1000,19,1002,26],[1000,27,1002,30],[1105,19,1107,26],[1105,27,1107,30],[1212,19,1214,26],[1212,27,1214,30],[1323,19,1325,26],[1323,27,1325,30]]}
[{"$f":"Main!H2","v":"SPR 1"},0,1,null,{"$f":"IFERROR(IF(SEARCH(\"7\",BA10)=1,7),\"\")","v":""},{"$f":"IFERROR(IF(SEARCH(\"8\",BA10)=1,8),\"\")","v":""},{"$f":"IFERROR(IF(SEARCH(\"9\",BA10)=1,9),\"\")","v":""},{"$f":"IFERROR(IF(SEARCH(\"10\",BA10)=1,10),\"\")","v":""},{"$f":"IFERROR(IF(SEARCH(\"11\",BA10)=1,11),\"\")","v":11},{"$f":"IFERROR(IF(SEARCH(\"12\",BA10)=1,12),\"\")","v":""},{"$f":"IFERROR(IF(SEARCH(\"13\",BA10)=1,13),\"\")","v":""},{"$f":"AZ23","v":"Sum 1"},64,{"$f":"IF(ISODD(M1),\"Disable Table Creation\",\"Enable Table Creation\")","v":"Enable Table Creation"},1,{"$nulls":5},"hide/show needs",null,null,"0to1",0,{"$nulls":29},"Aut 1",{"$nulls":13},"Classlist"]
[{"$nulls":8},"",{"$nulls":11},"hide/show c/grade",null,null,"2to3",3,{"$nulls":29},"Aut 2",{"$nulls":13},"Classlist"]
[null,null,{"$f":"MATCH(I2&$AZ$14,name&Group2,0)","v":{"$error":"#N/A"}},{"$nulls":5},{"$f":"IFERROR(IF($Y$1=1,\"\",VLOOKUP(I2,needstable,8,FALSE)),\"\")","v":"    "},{"$nulls":11},"hide/show KS2",null,null,"4to5",5,{"$nulls":29},"Spr 1",{"$nulls":13},"Classlist"]
[{"$nulls":8},"C/grade",null,"KS2",{"$nulls":9},"hide/show target",null,null,"6to7",7,{"$nulls":29},"Spr 2",{"$nulls":13},"Classlist"]
[{"$nulls":8},{"$f":"IFERROR(IF($Y$2=2,\"\",IF($Y$2=3,INDEX(indexdatabase,MATCH(I2&$AZ$14,name&Group2,0),MATCH($AZ$23,Sheet2rng!$A$1:$AK$1,0)))),\"\")","v":""},null,{"$f":"IFERROR(IF($Y$3=4,\"\",IF($Y$3=5,INDEX(indexdatabase,MATCH(I2&$AZ$14,name&Group2,0),MATCH(\"KS2\",Sheet2rng!$A$1:$AK$1,0)))),\"\")","v":""},{"$nulls":9},"hide/show AR",null,null,"8to9",9,{"$nulls":29},"Sum 1",{"$nulls":13},"Classlist"]
[{"$nulls":8},"Target",null,"AR",{"$nulls":43},"Sum 2",{"$nulls":13},"Classlist"]
[{"$nulls":8},{"$f":"IFERROR(IF($Y$4=6,\"\",IF($Y$4=7,INDEX(indexdatabase,MATCH(I2&$AZ$14,name&Group2,0),MATCH(\"Target\",Sheet2rng!$A$1:$AK$1,0)))),\"\")","v":""},null,{"$f":"IFERROR(IF($Y$5=8,\"\",IF($Y$5=9,INDEX(Sheet2rng,MATCH(I2&$AZ$14,name&Group2,0),MATCH(K6,sheet2columns,0)))),\"\")","v":""},{"$nulls":57},"Classlist"]
[{"$nulls":68},"Classlist"]
[{"$nulls":68},"Classlist",{"$nulls":9},{"$f":"IFERROR(INDEX(indexdatabase,MATCH(I2&$AZ$14,name&Group2,0),MATCH($A$1,Sheet2rng!$F$1:$K$1,0)+27),\"\")","v":""},{"$f":"IF(OR(AZ27=\"Aut 1\",AZ27=\"Aut 2\",AZ27=\"Spr 1\"),1,2)","v":2},{"$f":"IF(AZ4018=\"Sum 2\",3,\"\")","v":""},{"$f":"IFERROR(INDEX(Sheet2rng!$A$1:$AK$2500,MATCH(I2&AZ14,Sheet2rng!$A$1:$A$2500&Sheet2rng!$B$1:$B$28,0),MATCH(\"Target\",Sheet2rng!$A$1:$AK$1,0)),\"\")","v":""}]
[{"$nulls":52},{"$f":"AZ14","v":"11Q/So1"},{"$nulls":15},"Classlist",{"$nulls":9},{"$f":"CONCATENATE(I2,AZ14)","v":"11Q/So1"}]
[{"$nulls":52},"Class","FSM","PPI",{"$nulls":13},"Classlist",null,"PPI"]
[{"$nulls":51},"Class select",{"$nulls":13},"11B/So1",null,null,{"$f":"IF($BA$10=\"\",\"\",IFERROR(INDEX(name,BT12,1),\"\"))","v":""},"IFERROR(INDEX(Sheet2rng,MATCH(BA12,sheet2rows,0), MATCH($BB$11,sheet2columns,0)),\"\")",{"$f":"IFERROR(INDEX(indexdatabase,MATCH(BQ12&$AZ$14,name&Group2,0),MATCH(\"PPI\",Sheet2rng!$A$1:$AK$1,0)),\"\")","v":""},{"$f":"IFERROR(SMALL(IF(LEFT(Group2,LEN('10B-So1'!$BA$10))='10B-So1'!$BA$10,ROW(Group2)),ROW(A1)),\"\")","v":""},{"$nulls":4},"SONG Patrick"]
[{"$nulls":65},"11A/So1",null,null,"","IFERROR(INDEX(Sheet2rng,MATCH(BA12,sheet2rows,0), MATCH($BB$11,sheet2columns,0)),\"\")",{"$f":"IFERROR(INDEX(indexdatabase,MATCH(BQ13&$AZ$14,name&Group2,0),MATCH(\"PPI\",Sheet2rng!$A$1:$AK$1,0)),\"\")","v":""},{"$f":"IFERROR(SMALL(IF(LEFT(Group2,LEN('10B-So1'!$BA$10))='10B-So1'!$BA$10,ROW(Group2)),ROW(A2)),\"\")","v":""},{"$nulls":4},"BENDER Hazel"]
[{"$nulls":51},"11Q/So1",{"$nulls":13},"11P/So1",null,null,"","IFERROR(INDEX(Sheet2rng,MATCH(BA12,sheet2rows,0), MATCH($BB$11,sheet2columns,0)),\"\")",{"$f":"IFERROR(INDEX(indexdatabase,MATCH(BQ14&$AZ$14,name&Group2,0),MATCH(\"PPI\",Sheet2rng!$A$1:$AK$1,0)),\"\")","v":""},{"$f":"IFERROR(SMALL(IF(LEFT(Group2,LEN('10B-So1'!$BA$10))='10B-So1'!$BA$10,ROW(Group2)),ROW(A3)),\"\")","v":""},{"$nulls":4},"WOODARD Beth"]
[{"$nulls":54},"SEND","MAT","EAL","SEND/","MAT/","EAL/",{"$nulls":5},"11Q/So1",null,null,"","IFERROR(INDEX(Sheet2rng,MATCH(BA12,sheet2rows,0), MATCH($BB$11,sheet2columns,0)),\"\")",{"$f":"IFERROR(INDEX(indexdatabase,MATCH(BQ15&$AZ$14,name&Group2,0),MATCH(\"PPI\",Sheet2rng!$A$1:$AK$1,0)),\"\")","v":""},{"$f":"IFERROR(SMALL(IF(LEFT(Group2,LEN('10B-So1'!$BA$10))='10B-So1'!$BA$10,ROW(Group2)),ROW(A4)),\"\")","v":""},{"$nulls":4},"WALLACE Jerome"]
[{"$nulls":52},{"$f":"IFERROR(INDEX(indexdatabase,MATCH(BQ12&$AZ$14,name&Group2,0),MATCH(\"AR\",Sheet2rng!$A$1:$AK$1,0)),\"\")","v":""},{"$f":"BQ12","v":""},{"$f":"IFERROR(INDEX(indexdatabase,MATCH($BB16&$AZ$14,name&Group2,0),MATCH(\"SEND\",Sheet2rng!$A$1:$AO$1,0)),\"\")","v":""},{"$f":"IFERROR(INDEX(indexdatabase,MATCH($BB16&$AZ$14,name&Group2,0),MATCH(\"MAT\",Sheet2rng!$A$1:$AO$1,0)),\"\")","v":""},{"$f":"IFERROR(INDEX(indexdatabase,MATCH($BB16&$AZ$14,name&Group2,0),MATCH(\"EAL\",Sheet2rng!$A$1:$AO$1,0)),\"\")","v":""},{"$f":"IF($BC16=0,\"\",IF($BC16=\"\",\"\",IF($BC16=\"N\",\"\",$BF$15&$BC16)))","v":""},{"$f":"IF($BD16=0,\"\",IF($BD16=\"\",\"\",IF($BD16=\"N\",\"\",$BG$15&$BD16)))","v":""},{"$f":"IF($BE16=0,\"\",IF($BE16=\"\",\"\",IF($BE16=\"N\",\"\",$BH$15&$BE16)))","v":""},{"$f":"CONCATENATE(BF16,\"  \",BG16,\"  \",BH16)","v":"    "},{"$nulls":4},"11B/So2",null,null,"","IFERROR(INDEX(Sheet2rng,MATCH(BA12,sheet2rows,0), MATCH($BB$11,sheet2columns,0)),\"\")",{"$f":"IFERROR(INDEX(indexdatabase,MATCH(BQ16&$AZ$14,name&Group2,0),MATCH(\"PPI\",Sheet2rng!$A$1:$AK$1,0)),\"\")","v":""},{"$f":"IFERROR(SMALL(IF(LEFT(Group2,LEN('10B-So1'!$BA$10))='10B-So1'!$BA$10,ROW(Group2)),ROW(A5)),\"\")","v":""},{"$nulls":4},"DOUGHERTY Kristine",{"$nulls":150},{"$f":"BA10","v":"11Q/So1"}]
[{"$nulls":52},{"$f":"IFERROR(INDEX(indexdatabase,MATCH(BQ13&$AZ$14,name&Group2,0),MATCH(\"AR\",Sheet2rng!$A$1:$AK$1,0)),\"\")","v":""},{"$f":"BQ13","v":""},{"$f":"IFERROR(INDEX(indexdatabase,MATCH($BB17&$AZ$14,name&Group2,0),MATCH(\"SEND\",Sheet2rng!$A$1:$AO$1,0)),\"\")","v":""},{"$f":"IFERROR(INDEX(indexdatabase,MATCH($BB17&$AZ$14,name&Group2,0),MATCH(\"MAT\",Sheet2rng!$A$1:$AO$1,0)),\"\")","v":""},{"$f":"IFERROR(INDEX(indexdatabase,MATCH($BB17&$AZ$14,name&Group2,0),MATCH(\"EAL\",Sheet2rng!$A$1:$AO$1,0)),\"\")","v":""},{"$f":"IF($BC17=0,\"\",IF($BC17=\"\",\"\",IF($BC17=\"N\",\"\",$BF$15&$BC17)))","v":""},{"$f":"IF($BD17=0,\"\",IF($BD17=\"\",\"\",IF($BD17=\"N\",\"\",$BG$15&$BD17)))","v":""},{"$f":"IF($BE17=0,\"\",IF($BE17=\"\",\"\",IF($BE17=\"N\",\"\",$BH$15&$BE17)))","v":""},{"$f":"CONCATENATE(BF17,\"  \",BG17,\"  \",BH17)","v":"    "},{"$nulls":7},"","IFERROR(INDEX(Sheet2rng,MATCH(BA12,sheet2rows,0), MATCH($BB$11,sheet2columns,0)),\"\")",{"$f":"IFERROR(INDEX(indexdatabase,MATCH(BQ17&$AZ$14,name&Group2,0),MATCH(\"PPI\",Sheet2rng!$A$1:$AK$1,0)),\"\")","v":""},{"$f":"IFERROR(SMALL(IF(LEFT(Group2,LEN('10B-So1'!$BA$10))='10B-So1'!$BA$10,ROW(Group2)),ROW(A6)),\"\")","v":""},{"$nulls":4},"POWERS Crystal",{"$nulls":150},"Progress since AUT1"]
[{"$nulls":52},{"$f":"IFERROR(INDEX(indexdatabase,MATCH(BQ14&$AZ$14,name&Group2,0),MATCH(\"AR\",Sheet2rng!$A$1:$AK$1,0)),\"\")","v":""},"",{"$f":"IFERROR(INDEX(indexdatabase,MATCH($BB18&$AZ$14,name&Group2,0),MATCH(\"SEND\",Sheet2rng!$A$1:$AO$1,0)),\"\")","v":""},{"$f":"IFERROR(INDEX(indexdatabase,MATCH($BB18&$AZ$14,name&Group2,0),MATCH(\"MAT\",Sheet2rng!$A$1:$AO$1,0)),\"\")","v":""},{"$f":"IFERROR(INDEX(indexdatabase,MATCH($BB18&$AZ$14,name&Group2,0),MATCH(\"EAL\",Sheet2rng!$A$1:$AO$1,0)),\"\")","v":""},"","","","    ",{"$nulls":7},"","IFERROR(INDEX(Sheet2rng,MATCH(BA12,sheet2rows,0), MATCH($BB$11,sheet2columns,0)),\"\")",{"$f":"IFERROR(INDEX(indexdatabase,MATCH(BQ18&$AZ$14,name&Group2,0),MATCH(\"PPI\",Sheet2rng!$A$1:$AK$1,0)),\"\")","v":""},{"$f":"IFERROR(SMALL(IF(LEFT(Group2,LEN('10B-So1'!$BA$10))='10B-So1'!$BA$10,ROW(Group2)),ROW(A7)),\"\")","v":""},{"$nulls":4},"HAWKINS Stephanie"]
[{"$nulls":52},{"$f":"IFERROR(INDEX(indexdatabase,MATCH(BQ15&$AZ$14,name&Group2,0),MATCH(\"AR\",Sheet2rng!$A$1:$AK$1,0)),\"\")","v":""},"",{"$f":"IFERROR(INDEX(indexdatabase,MATCH($BB19&$AZ$14,name&Group2,0),MATCH(\"SEND\",Sheet2rng!$A$1:$AO$1,0)),\"\")","v":""},{"$f":"IFERROR(INDEX(indexdatabase,MATCH($BB19&$AZ$14,name&Group2,0),MATCH(\"MAT\",Sheet2rng!$A$1:$AO$1,0)),\"\")","v":""},{"$f":"IFERROR(INDEX(indexdatabase,MATCH($BB19&$AZ$14,name&Group2,0),MATCH(\"EAL\",Sheet2rng!$A$1:$AO$1,0)),\"\")","v":""},"","","","    ",{"$nulls":7},"","IFERROR(INDEX(Sheet2rng,MATCH(BA12,sheet2rows,0), MATCH($BB$11,sheet2columns,0)),\"\")",{"$f":"IFERROR(INDEX(indexdatabase,MATCH(BQ19&$AZ$14,name&Group2,0),MATCH(\"PPI\",Sheet2rng!$A$1:$AK$1,0)),\"\")","v":""},{"$f":"IFERROR(SMALL(IF(LEFT(Group2,LEN('10B-So1'!$BA$10))='10B-So1'!$BA$10,ROW(Group2)),ROW(A8)),\"\")","v":""},{"$nulls":4},"BARTON Elsie",{"$nulls":150},{"$f":"DT338","v":0},0]
[{"$nulls":13},"CHUNG Kristina",{"$nulls":3},"MORGAN Glenda",{"$nulls":5},"",{"$nulls":3},"",{"$nulls":3},"",{"$nulls":3},"",{"$nulls":5},"",{"$nulls":3},"",{"$nulls":5},"Assessment period",{"$f":"IFERROR(INDEX(indexdatabase,MATCH(BQ16&$AZ$14,name&Group2,0),MATCH(\"AR\",Sheet2rng!$A$1:$AK$1,0)),\"\")","v":""},"",{"$f":"IFERROR(INDEX(indexdatabase,MATCH($BB20&$AZ$14,name&Group2,0),MATCH(\"SEND\",Sheet2rng!$A$1:$AO$1,0)),\"\")","v":""},{"$f":"IFERROR(INDEX(indexdatabase,MATCH($BB20&$AZ$14,name&Group2,0),MATCH(\"MAT\",Sheet2rng!$A$1:$AO$1,0)),\"\")","v":""},{"$f":"IFERROR(INDEX(indexdatabase,MATCH($BB20&$AZ$14,name&Group2,0),MATCH(\"EAL\",Sheet2rng!$A$1:$AO$1,0)),\"\")","v":""},"","","","    ",{"$nulls":7},"","IFERROR(INDEX(Sheet2rng,MATCH(BA12,sheet2rows,0), MATCH($BB$11,sheet2columns,0)),\"\")",{"$f":"IFERROR(INDEX(indexdatabase,MATCH(BQ20&$AZ$14,name&Group2,0),MATCH(\"PPI\",Sheet2rng!$A$1:$AK$1,0)),\"\")","v":""},{"$f":"IFERROR(SMALL(IF(LEFT(Group2,LEN('10B-So1'!$BA$10))='10B-So1'!$BA$10,ROW(Group2)),ROW(A9)),\"\")","v":""},{"$nulls":4},"HALL Erica",{"$nulls":56},{"$f":"IF(EE20=1,1,IF(EE20=2,2,IF(EE20=EE19,ED19,IF(EE20>EE19,ED19+1))))","v":0},"","ABU Aisha",{"$nulls":5},{"$f":"IF(EM20=1,1,IF(EM20=2,2,IF(EM20=EM19,EL19,IF(EM20>EM19,EL19+1))))","v":1},1,"CHATTEN Zoe",{"$nulls":5},{"$f":"IF(EU20=1,1,IF(EU20=2,2,IF(EU20=EU19,ET19,IF(EU20>EU19,ET19+1))))","v":0},"","ABU Aisha",{"$nulls":5},{"$f":"IF(FC20=1,1,IF(FC20=2,2,IF(FC20=FC19,FB19,IF(FC20>FC19,FB19+1))))","v":0},"","ABU Aisha",{"$nulls":5},{"$f":"IF(FK20=1,1,IF(FK20=2,2,IF(FK20=FK19,FJ19,IF(FK20>FK19,FJ19+1))))","v":0},"","ABU Aisha",{"$nulls":5},{"$f":"IF(FS20=1,1,IF(FS20=2,2,IF(FS20=FS19,FR19,IF(FS20>FS19,FR19+1))))","v":0},"","ABU Aisha",{"$nulls":51},0,0]
[{"$nulls":13},{"$f":"IFERROR(IF($Y$1=1,\"\",VLOOKUP(N20,needstable,8,FALSE)),\"\")","v":""},{"$nulls":3},{"$f":"IFERROR(IF($Y$1=1,\"\",VLOOKUP(R20,needstable,8,FALSE)),\"\")","v":""},{"$nulls":5},{"$f":"IFERROR(IF($Y$1=1,\"\",VLOOKUP(X20,needstable,8,FALSE)),\"\")","v":"    "},{"$nulls":3},{"$f":"IFERROR(IF($Y$1=1,\"\",VLOOKUP(AB20,needstable,8,FALSE)),\"\")","v":"    "},{"$nulls":3},{"$f":"IFERROR(IF($Y$1=1,\"\",VLOOKUP(AF20,needstable,8,FALSE)),\"\")","v":"    "},{"$nulls":3},{"$f":"IFERROR(IF($Y$1=1,\"\",VLOOKUP(AJ20,needstable,8,FALSE)),\"\")","v":"    "},{"$nulls":5},{"$f":"IFERROR(IF($Y$1=1,\"\",VLOOKUP(AP20,needstable,8,FALSE)),\"\")","v":"    "},{"$nulls":3},{"$f":"IFERROR(IF($Y$1=1,\"\",VLOOKUP(AT20,needstable,8,FALSE)),\"\")","v":"    "},{"$nulls":6},{"$f":"IFERROR(INDEX(indexdatabase,MATCH(BQ17&$AZ$14,name&Group2,0),MATCH(\"AR\",Sheet2rng!$A$1:$AK$1,0)),\"\")","v":""},"",{"$f":"IFERROR(INDEX(indexdatabase,MATCH($BB21&$AZ$14,name&Group2,0),MATCH(\"SEND\",Sheet2rng!$A$1:$AO$1,0)),\"\")","v":""},{"$f":"IFERROR(INDEX(indexdatabase,MATCH($BB21&$AZ$14,name&Group2,0),MATCH(\"MAT\",Sheet2rng!$A$1:$AO$1,0)),\"\")","v":""},{"$f":"IFERROR(INDEX(indexdatabase,MATCH($BB21&$AZ$14,name&Group2,0),MATCH(\"EAL\",Sheet2rng!$A$1:$AO$1,0)),\"\")","v":""},"","","","    ",{"$nulls":7},"","IFERROR(INDEX(Sheet2rng,MATCH(BA12,sheet2rows,0), MATCH($BB$11,sheet2columns,0)),\"\")",{"$f":"IFERROR(INDEX(indexdatabase,MATCH(BQ21&$AZ$14,name&Group2,0),MATCH(\"PPI\",Sheet2rng!$A$1:$AK$1,0)),\"\")","v":""},{"$f":"IFERROR(SMALL(IF(LEFT(Group2,LEN('10B-So1'!$BA$10))='10B-So1'!$BA$10,ROW(Group2)),ROW(A10)),\"\")","v":""},{"$nulls":4},"ROSS Douglas",{"$nulls":56},{"$f":"IF(EE21=1,1,IF(EE21=2,2,IF(EE21=EE20,ED20,IF(EE21>EE20,ED20+1))))","v":0},"","ALFORD Harry",{"$nulls":5},{"$f":"IF(EM21=1,1,IF(EM21=2,2,IF(EM21=EM20,EL20,IF(EM21>EM20,EL20+1))))","v":2},2,"ALFORD Harry",{"$nulls":5},{"$f":"IF(EU21=1,1,IF(EU21=2,2,IF(EU21=EU20,ET20,IF(EU21>EU20,ET20+1))))","v":0},"","ALFORD Harry",{"$nulls":5},{"$f":"IF(FC21=1,1,IF(FC21=2,2,IF(FC21=FC20,FB20,IF(FC21>FC20,FB20+1))))","v":0},"","ALFORD Harry",{"$nulls":5},{"$f":"IF(FK21=1,1,IF(FK21=2,2,IF(FK21=FK20,FJ20,IF(FK21>FK20,FJ20+1))))","v":0},"","ALFORD Harry",{"$nulls":5},{"$f":"IF(FS21=1,1,IF(FS21=2,2,IF(FS21=FS20,FR20,IF(FS21>FS20,FR20+1))))","v":0},"","ALFORD Harry",{"$nulls":51},0,0]
[{"$nulls":13},"C/grade",null,"KS2",null,"C/grade",null,"KS2",{"$nulls":3},"C/grade",null,"KS2",null,"C/grade",null,"KS2",null,"C/grade",null,"KS2",null,"C/grade",null,"KS2",{"$nulls":3},"C/grade",null,"KS2",null,"C/grade",null,"KS2",{"$nulls":4},{"$f":"IFERROR(INDEX(indexdatabase,MATCH(BQ18&$AZ$14,name&Group2,0),MATCH(\"AR\",Sheet2rng!$A$1:$AK$1,0)),\"\")","v":""},"",{"$f":"IFERROR(INDEX(indexdatabase,MATCH($BB22&$AZ$14,name&Group2,0),MATCH(\"SEND\",Sheet2rng!$A$1:$AO$1,0)),\"\")","v":""},{"$f":"IFERROR(INDEX(indexdatabase,MATCH($BB22&$AZ$14,name&Group2,0),MATCH(\"MAT\",Sheet2rng!$A$1:$AO$1,0)),\"\")","v":""},{"$f":"IFERROR(INDEX(indexdatabase,MATCH($BB22&$AZ$14,name&Group2,0),MATCH(\"EAL\",Sheet2rng!$A$1:$AO$1,0)),\"\")","v":""},"","","","    ",{"$nulls":7},"","IFERROR(INDEX(Sheet2rng,MATCH(BA12,sheet2rows,0), MATCH($BB$11,sheet2columns,0)),\"\")",{"$f":"IFERROR(INDEX(indexdatabase,MATCH(BQ22&$AZ$14,name&Group2,0),MATCH(\"PPI\",Sheet2rng!$A$1:$AK$1,0)),\"\")","v":""},{"$f":"IFERROR(SMALL(IF(LEFT(Group2,LEN('10B-So1'!$BA$10))='10B-So1'!$BA$10,ROW(Group2)),ROW(A11)),\"\")","v":""},{"$nulls":4},"PROCTOR Melinda",{"$nulls":56},0,"","BAKER Lucy",{"$nulls":5},2,2,"DONNELLY Kirsten",{"$nulls":5},0,"","BAKER Lucy",{"$nulls":5},0,"","BAKER Lucy",{"$nulls":5},0,"","BAKER Lucy",{"$nulls":5},0,"","BAKER Lucy",{"$nulls":51},0,0]
[{"$nulls":13},{"$f":"IFERROR(IF($Y$2=2,\"\",IF($Y$2=3,INDEX(indexdatabase,MATCH(N20&$AZ$14,name&Group2,0),MATCH($AZ$23,Sheet2rng!$A$1:$AK$1,0)))),\"\")","v":""},null,{"$f":"IFERROR(IF($Y$3=4,\"\",IF($Y$3=5,INDEX(indexdatabase,MATCH(N20&$AZ$14,name&Group2,0),MATCH(\"KS2\",Sheet2rng!$A$1:$AK$1,0)))),\"\")","v":""},null,{"$f":"IFERROR(IF($Y$2=2,\"\",IF($Y$2=3,INDEX(indexdatabase,MATCH(R20&$AZ$14,name&Group2,0),MATCH($AZ$23,Sheet2rng!$A$1:$AK$1,0)))),\"\")","v":""},null,{"$f":"IFERROR(IF($Y$3=4,\"\",IF($Y$3=5,INDEX(indexdatabase,MATCH(R20&$AZ$14,name&Group2,0),MATCH(\"KS2\",Sheet2rng!$A$1:$AK$1,0)))),\"\")","v":""},{"$nulls":3},{"$f":"IFERROR(IF($Y$2=2,\"\",IF($Y$2=3,INDEX(indexdatabase,MATCH(X20&$AZ$14,name&Group2,0),MATCH($AZ$23,Sheet2rng!$A$1:$AK$1,0)))),\"\")","v":""},null,{"$f":"IFERROR(IF($Y$3=4,\"\",IF($Y$3=5,INDEX(indexdatabase,MATCH(X20&$AZ$14,name&Group2,0),MATCH(\"KS2\",Sheet2rng!$A$1:$AK$1,0)))),\"\")","v":""},null,{"$f":"IFERROR(IF($Y$2=2,\"\",IF($Y$2=3,INDEX(indexdatabase,MATCH(AB20&$AZ$14,name&Group2,0),MATCH($AZ$23,Sheet2rng!$A$1:$AK$1,0)))),\"\")","v":""},null,{"$f":"IFERROR(IF($Y$3=4,\"\",IF($Y$3=5,INDEX(indexdatabase,MATCH(AB20&$AZ$14,name&Group2,0),MATCH(\"KS2\",Sheet2rng!$A$1:$AK$1,0)))),\"\")","v":""},null,{"$f":"IFERROR(IF($Y$2=2,\"\",IF($Y$2=3,INDEX(indexdatabase,MATCH(AF20&$AZ$14,name&Group2,0),MATCH($AZ$23,Sheet2rng!$A$1:$AK$1,0)))),\"\")","v":""},null,{"$f":"IFERROR(IF($Y$3=4,\"\",IF($Y$3=5,INDEX(indexdatabase,MATCH(AF20&$AZ$14,name&Group2,0),MATCH(\"KS2\",Sheet2rng!$A$1:$AK$1,0)))),\"\")","v":""},null,{"$f":"IFERROR(IF($Y$2=2,\"\",IF($Y$2=3,INDEX(indexdatabase,MATCH(AJ20&$AZ$14,name&Group2,0),MATCH($AZ$23,Sheet2rng!$A$1:$AK$1,0)))),\"\")","v":""},null,{"$f":"IFERROR(IF($Y$3=4,\"\",IF($Y$3=5,INDEX(indexdatabase,MATCH(AJ20&$AZ$14,name&Group2,0),MATCH(\"KS2\",Sheet2rng!$A$1:$AK$1,0)))),\"\")","v":""},{"$nulls":3},{"$f":"IFERROR(IF($Y$2=2,\"\",IF($Y$2=3,INDEX(indexdatabase,MATCH(AP20&$AZ$14,name&Group2,0),MATCH($AZ$23,Sheet2rng!$A$1:$AK$1,0)))),\"\")","v":""},null,{"$f":"IFERROR(IF($Y$3=4,\"\",IF($Y$3=5,INDEX(indexdatabase,MATCH(AP20&$AZ$14,name&Group2,0),MATCH(\"KS2\",Sheet2rng!$A$1:$AK$1,0)))),\"\")","v":""},null,{"$f":"IFERROR(IF($Y$2=2,\"\",IF($Y$2=3,INDEX(indexdatabase,MATCH(AT20&$AZ$14,name&Group2,0),MATCH($AZ$23,Sheet2rng!$A$1:$AK$1,0)))),\"\")","v":""},null,{"$f":"IFERROR(IF($Y$3=4,\"\",IF($Y$3=5,INDEX(indexdatabase,MATCH(AT20&$AZ$14,name&Group2,0),MATCH(\"KS2\",Sheet2rng!$A$1:$AK$1,0)))),\"\")","v":""},{"$nulls":3},"Sum 1",{"$f":"IFERROR(INDEX(indexdatabase,MATCH(BQ19&$AZ$14,name&Group2,0),MATCH(\"AR\",Sheet2rng!$A$1:$AK$1,0)),\"\")","v":""},"",{"$f":"IFERROR(INDEX(indexdatabase,MATCH($BB23&$AZ$14,name&Group2,0),MATCH(\"SEND\",Sheet2rng!$A$1:$AO$1,0)),\"\")","v":""},{"$f":"IFERROR(INDEX(indexdatabase,MATCH($BB23&$AZ$14,name&Group2,0),MATCH(\"MAT\",Sheet2rng!$A$1:$AO$1,0)),\"\")","v":""},{"$f":"IFERROR(INDEX(indexdatabase,MATCH($BB23&$AZ$14,name&Group2,0),MATCH(\"EAL\",Sheet2rng!$A$1:$AO$1,0)),\"\")","v":""},"","","","    ",{"$nulls":7},"","IFERROR(INDEX(Sheet2rng,MATCH(BA12,sheet2rows,0), MATCH($BB$11,sheet2columns,0)),\"\")",{"$f":"IFERROR(INDEX(indexdatabase,MATCH(BQ23&$AZ$14,name&Group2,0),MATCH(\"PPI\",Sheet2rng!$A$1:$AK$1,0)),\"\")","v":""},{"$f":"IFERROR(SMALL(IF(LEFT(Group2,LEN('10B-So1'!$BA$10))='10B-So1'!$BA$10,ROW(Group2)),ROW(A12)),\"\")","v":""},{"$nulls":4},"WATKINS Vickie",{"$nulls":56},0,"","BAVERSTOCK Adam",{"$nulls":5},2,2,"DOWN Keiran",{"$nulls":5},0,"","BAVERSTOCK Adam",{"$nulls":5},0,"","BAVERSTOCK Adam",{"$nulls":5},0,"","BAVERSTOCK Adam",{"$nulls":5},0,"","BAVERSTOCK Adam",{"$nulls":51},0,0]
[{"$nulls":13},"Target",null,"AR",null,"Target",null,"AR",{"$nulls":3},"Target",null,"AR",null,"Target",null,"AR",null,"Target",null,"AR",null,"Target",null,"AR",{"$nulls":3},"Target",null,"AR",null,"Target",null,"AR",{"$nulls":4},{"$f":"IFERROR(INDEX(indexdatabase,MATCH(BQ20&$AZ$14,name&Group2,0),MATCH(\"AR\",Sheet2rng!$A$1:$AK$1,0)),\"\")","v":""},"",{"$f":"IFERROR(INDEX(indexdatabase,MATCH($BB24&$AZ$14,name&Group2,0),MATCH(\"SEND\",Sheet2rng!$A$1:$AO$1,0)),\"\")","v":""},{"$f":"IFERROR(INDEX(indexdatabase,MATCH($BB24&$AZ$14,name&Group2,0),MATCH(\"MAT\",Sheet2rng!$A$1:$AO$1,0)),\"\")","v":""},{"$f":"IFERROR(INDEX(indexdatabase,MATCH($BB24&$AZ$14,name&Group2,0),MATCH(\"EAL\",Sheet2rng!$A$1:$AO$1,0)),\"\")","v":""},"","","","    ",{"$nulls":7},"","IFERROR(INDEX(Sheet2rng,MATCH(BA12,sheet2rows,0), MATCH($BB$11,sheet2columns,0)),\"\")",{"$f":"IFERROR(INDEX(indexdatabase,MATCH(BQ24&$AZ$14,name&Group2,0),MATCH(\"PPI\",Sheet2rng!$A$1:$AK$1,0)),\"\")","v":""},{"$f":"IFERROR(SMALL(IF(LEFT(Group2,LEN('10B-So1'!$BA$10))='10B-So1'!$BA$10,ROW(Group2)),ROW(A13)),\"\")","v":""},{"$nulls":4},"HEWITT Melanie",{"$nulls":56},0,"","BLE Grace",{"$nulls":5},2,2,"HARRIS Christian",{"$nulls":5},0,"","BLE Grace",{"$nulls":5},0,"","BLE Grace",{"$nulls":5},0,"","BLE Grace",{"$nulls":5},0,"","BLE Grace",{"$nulls":51},0,0]
[{"$nulls":13},{"$f":"IFERROR(IF($Y$4=6,\"\",IF($Y$4=7,INDEX(indexdatabase,MATCH(N20&$AZ$14,name&Group2,0),MATCH(\"Target\",Sheet2rng!$A$1:$AK$1,0)))),\"\")","v":""},null,{"$f":"IFERROR(IF($Y$5=8,\"\",IF($Y$5=9,INDEX(Sheet2rng,MATCH(N20&$AZ$14,name&Group2,0),MATCH(P24,sheet2columns,0)))),\"\")","v":""},null,{"$f":"IFERROR(IF($Y$4=6,\"\",IF($Y$4=7,INDEX(indexdatabase,MATCH(R20&$AZ$14,name&Group2,0),MATCH(\"Target\",Sheet2rng!$A$1:$AK$1,0)))),\"\")","v":""},null,{"$f":"IFERROR(IF($Y$5=8,\"\",IF($Y$5=9,INDEX(Sheet2rng,MATCH(R20&$AZ$14,name&Group2,0),MATCH(T24,sheet2columns,0)))),\"\")","v":""},{"$nulls":3},{"$f":"IFERROR(IF($Y$4=6,\"\",IF($Y$4=7,INDEX(indexdatabase,MATCH(X20&$AZ$14,name&Group2,0),MATCH(\"Target\",Sheet2rng!$A$1:$AK$1,0)))),\"\")","v":""},null,{"$f":"IFERROR(IF($Y$5=8,\"\",IF($Y$5=9,INDEX(Sheet2rng,MATCH(X20&$AZ$14,name&Group2,0),MATCH(Z24,sheet2columns,0)))),\"\")","v":""},null,{"$f":"IFERROR(IF($Y$4=6,\"\",IF($Y$4=7,INDEX(indexdatabase,MATCH(AB20&$AZ$14,name&Group2,0),MATCH(\"Target\",Sheet2rng!$A$1:$AK$1,0)))),\"\")","v":""},null,{"$f":"IFERROR(IF($Y$5=8,\"\",IF($Y$5=9,INDEX(Sheet2rng,MATCH(AB20&$AZ$14,name&Group2,0),MATCH(AD24,sheet2columns,0)))),\"\")","v":""},null,{"$f":"IFERROR(IF($Y$4=6,\"\",IF($Y$4=7,INDEX(indexdatabase,MATCH(AF20&$AZ$14,name&Group2,0),MATCH(\"Target\",Sheet2rng!$A$1:$AK$1,0)))),\"\")","v":""},null,{"$f":"IFERROR(IF($Y$5=8,\"\",IF($Y$5=9,INDEX(Sheet2rng,MATCH(AF20&$AZ$14,name&Group2,0),MATCH(AH24,sheet2columns,0)))),\"\")","v":""},null,{"$f":"IFERROR(IF($Y$4=6,\"\",IF($Y$4=7,INDEX(indexdatabase,MATCH(AJ20&$AZ$14,name&Group2,0),MATCH(\"Target\",Sheet2rng!$A$1:$AK$1,0)))),\"\")","v":""},null,{"$f":"IFERROR(IF($Y$5=8,\"\",IF($Y$5=9,INDEX(Sheet2rng,MATCH(AJ20&$AZ$14,name&Group2,0),MATCH(AL24,sheet2columns,0)))),\"\")","v":""},{"$nulls":3},{"$f":"IFERROR(IF($Y$4=6,\"\",IF($Y$4=7,INDEX(indexdatabase,MATCH(AP20&$AZ$14,name&Group2,0),MATCH(\"Target\",Sheet2rng!$A$1:$AK$1,0)))),\"\")","v":""},null,{"$f":"IFERROR(IF($Y$5=8,\"\",IF($Y$5=9,INDEX(Sheet2rng,MATCH(AP20&$AZ$14,name&Group2,0),MATCH(AR24,sheet2columns,0)))),\"\")","v":""},null,{"$f":"IFERROR(IF($Y$4=6,\"\",IF($Y$4=7,INDEX(indexdatabase,MATCH(AT20&$AZ$14,name&Group2,0),MATCH(\"Target\",Sheet2rng!$A$1:$AK$1,0)))),\"\")","v":""},null,{"$f":"IFERROR(IF($Y$5=8,\"\",IF($Y$5=9,INDEX(Sheet2rng,MATCH(AT20&$AZ$14,name&Group2,0),MATCH(AV24,sheet2columns,0)))),\"\")","v":""},{"$nulls":4},{"$f":"IFERROR(INDEX(indexdatabase,MATCH(BQ21&$AZ$14,name&Group2,0),MATCH(\"AR\",Sheet2rng!$A$1:$AK$1,0)),\"\")","v":""},"",{"$f":"IFERROR(INDEX(indexdatabase,MATCH($BB25&$AZ$14,name&Group2,0),MATCH(\"SEND\",Sheet2rng!$A$1:$AO$1,0)),\"\")","v":""},{"$f":"IFERROR(INDEX(indexdatabase,MATCH($BB25&$AZ$14,name&Group2,0),MATCH(\"MAT\",Sheet2rng!$A$1:$AO$1,0)),\"\")","v":""},{"$f":"IFERROR(INDEX(indexdatabase,MATCH($BB25&$AZ$14,name&Group2,0),MATCH(\"EAL\",Sheet2rng!$A$1:$AO$1,0)),\"\")","v":""},"","","","    ",{"$nulls":7},"","IFERROR(INDEX(Sheet2rng,MATCH(BA12,sheet2rows,0), MATCH($BB$11,sheet2columns,0)),\"\")",{"$f":"IFERROR(INDEX(indexdatabase,MATCH(BQ25&$AZ$14,name&Group2,0),MATCH(\"PPI\",Sheet2rng!$A$1:$AK$1,0)),\"\")","v":""},{"$f":"IFERROR(SMALL(IF(LEFT(Group2,LEN('10B-So1'!$BA$10))='10B-So1'!$BA$10,ROW(Group2)),ROW(A14)),\"\")","v":""},{"$nulls":4},"CASE Arlene",{"$nulls":56},0,"","CHATTEN Zoe",{"$nulls":5},2,2,"MURPHY Shannon",{"$nulls":5},0,"","CHATTEN Zoe",{"$nulls":5},0,"","CHATTEN Zoe",{"$nulls":5},0,"","CHATTEN Zoe",{"$nulls":5},0,"","CHATTEN Zoe",{"$nulls":51},0,0]
[{"$nulls":52},{"$f":"IFERROR(INDEX(indexdatabase,MATCH(BQ22&$AZ$14,name&Group2,0),MATCH(\"AR\",Sheet2rng!$A$1:$AK$1,0)),\"\")","v":""},"",{"$f":"IFERROR(INDEX(indexdatabase,MATCH($BB26&$AZ$14,name&Group2,0),MATCH(\"SEND\",Sheet2rng!$A$1:$AO$1,0)),\"\")","v":""},{"$f":"IFERROR(INDEX(indexdatabase,MATCH($BB26&$AZ$14,name&Group2,0),MATCH(\"MAT\",Sheet2rng!$A$1:$AO$1,0)),\"\")","v":""},{"$f":"IFERROR(INDEX(indexdatabase,MATCH($BB26&$AZ$14,name&Group2,0),MATCH(\"EAL\",Sheet2rng!$A$1:$AO$1,0)),\"\")","v":""},"","","","    ",{"$nulls":7},"","IFERROR(INDEX(Sheet2rng,MATCH(BA12,sheet2rows,0), MATCH($BB$11,sheet2columns,0)),\"\")",{"$f":"IFERROR(INDEX(indexdatabase,MATCH(BQ26&$AZ$14,name&Group2,0),MATCH(\"PPI\",Sheet2rng!$A$1:$AK$1,0)),\"\")","v":""},{"$f":"IFERROR(SMALL(IF(LEFT(Group2,LEN('10B-So1'!$BA$10))='10B-So1'!$BA$10,ROW(Group2)),ROW(A15)),\"\")","v":""},{"$nulls":4},"CHRISTENSEN Calvin",{"$nulls":56},0,"","CHEEMA Gurvinder",{"$nulls":5},2,2,"PIDDINGTON Ellie",{"$nulls":5},0,"","CHEEMA Gurvinder",{"$nulls":5},0,"","CHEEMA Gurvinder",{"$nulls":5},0,"","CHEEMA Gurvinder",{"$nulls":5},0,"","CHEEMA Gurvinder",{"$nulls":51},0,0]
[{"$nulls":51},{"$f":"AZ23","v":"Sum 1"},{"$f":"IFERROR(INDEX(indexdatabase,MATCH(BQ23&$AZ$14,name&Group2,0),MATCH(\"AR\",Sheet2rng!$A$1:$AK$1,0)),\"\")","v":""},"",{"$f":"IFERROR(INDEX(indexdatabase,MATCH($BB27&$AZ$14,name&Group2,0),MATCH(\"SEND\",Sheet2rng!$A$1:$AO$1,0)),\"\")","v":""},{"$f":"IFERROR(INDEX(indexdatabase,MATCH($BB27&$AZ$14,name&Group2,0),MATCH(\"MAT\",Sheet2rng!$A$1:$AO$1,0)),\"\")","v":""},{"$f":"IFERROR(INDEX(indexdatabase,MATCH($BB27&$AZ$14,name&Group2,0),MATCH(\"EAL\",Sheet2rng!$A$1:$AO$1,0)),\"\")","v":""},"","","","    ",{"$nulls":7},"","IFERROR(INDEX(Sheet2rng,MATCH(BA12,sheet2rows,0), MATCH($BB$11,sheet2columns,0)),\"\")",{"$f":"IFERROR(INDEX(indexdatabase,MATCH(BQ27&$AZ$14,name&Group2,0),MATCH(\"PPI\",Sheet2rng!$A$1:$AK$1,0)),\"\")","v":""},{"$f":"IFERROR(SMALL(IF(LEFT(Group2,LEN('10B-So1'!$BA$10))='10B-So1'!$BA$10,ROW(Group2)),ROW(A16)),\"\")","v":""},{"$nulls":4},"WHITEHEAD Mike",{"$nulls":56},0,"","DONNELLY Kirsten",{"$nulls":5},2,2,"QUILALA Angela",{"$nulls":5},0,"","DONNELLY Kirsten",{"$nulls":5},0,"","DONNELLY Kirsten",{"$nulls":5},0,"","DONNELLY Kirsten",{"$nulls":5},0,"","DONNELLY Kirsten",{"$nulls":51},0,0]
[{"$nulls":52},{"$f":"IFERROR(INDEX(indexdatabase,MATCH(BQ24&$AZ$14,name&Group2,0),MATCH(\"AR\",Sheet2rng!$A$1:$AK$1,0)),\"\")","v":""},"",{"$f":"IFERROR(INDEX(indexdatabase,MATCH($BB28&$AZ$14,name&Group2,0),MATCH(\"SEND\",Sheet2rng!$A$1:$AO$1,0)),\"\")","v":""},{"$f":"IFERROR(INDEX(indexdatabase,MATCH($BB28&$AZ$14,name&Group2,0),MATCH(\"MAT\",Sheet2rng!$A$1:$AO$1,0)),\"\")","v":""},{"$f":"IFERROR(INDEX(indexdatabase,MATCH($BB28&$AZ$14,name&Group2,0),MATCH(\"EAL\",Sheet2rng!$A$1:$AO$1,0)),\"\")","v":""},"","","","    ",{"$nulls":7},"","IFERROR(INDEX(Sheet2rng,MATCH(BA12,sheet2rows,0), MATCH($BB$11,sheet2columns,0)),\"\")",{"$f":"IFERROR(INDEX(indexdatabase,MATCH(BQ28&$AZ$14,name&Group2,0),MATCH(\"PPI\",Sheet2rng!$A$1:$AK$1,0)),\"\")","v":""},{"$f":"IFERROR(SMALL(IF(LEFT(Group2,LEN('10B-So1'!$BA$10))='10B-So1'!$BA$10,ROW(Group2)),ROW(A17)),\"\")","v":""},{"$nulls":4},"RODGERS Ethel",{"$nulls":56},0,"","DOWN Keiran",{"$nulls":5},2,2,"SMITH Jade",{"$nulls":5},0,"","DOWN Keiran",{"$nulls":5},0,"","DOWN Keiran",{"$nulls":5},0,"","DOWN Keiran",{"$nulls":5},0,"","DOWN Keiran",{"$nulls":51},0,0]
[{"$nulls":13},"",{"$nulls":3},"",{"$nulls":5},"",{"$nulls":3},"",{"$nulls":3},"",{"$nulls":3},"",{"$nulls":5},"",{"$nulls":3},"",{"$nulls":6},{"$f":"IFERROR(INDEX(indexdatabase,MATCH(BQ25&$AZ$14,name&Group2,0),MATCH(\"AR\",Sheet2rng!$A$1:$AK$1,0)),\"\")","v":""},"",{"$f":"IFERROR(INDEX(indexdatabase,MATCH($BB29&$AZ$14,name&Group2,0),MATCH(\"SEND\",Sheet2rng!$A$1:$AO$1,0)),\"\")","v":""},{"$f":"IFERROR(INDEX(indexdatabase,MATCH($BB29&$AZ$14,name&Group2,0),MATCH(\"MAT\",Sheet2rng!$A$1:$AO$1,0)),\"\")","v":""},{"$f":"IFERROR(INDEX(indexdatabase,MATCH($BB29&$AZ$14,name&Group2,0),MATCH(\"EAL\",Sheet2rng!$A$1:$AO$1,0)),\"\")","v":""},"","","","    ",{"$nulls":7},"","IFERROR(INDEX(Sheet2rng,MATCH(BA12,sheet2rows,0), MATCH($BB$11,sheet2columns,0)),\"\")",{"$f":"IFERROR(INDEX(indexdatabase,MATCH(BQ29&$AZ$14,name&Group2,0),MATCH(\"PPI\",Sheet2rng!$A$1:$AK$1,0)),\"\")","v":""},{"$f":"IFERROR(SMALL(IF(LEFT(Group2,LEN('10B-So1'!$BA$10))='10B-So1'!$BA$10,ROW(Group2)),ROW(A18)),\"\")","v":""},{"$nulls":4},"SCARBOROUGH Alison",{"$nulls":56},0,"","GIBSON James",{"$nulls":5},2,2,"TURNER Liberty",{"$nulls":5},0,"","GIBSON James",{"$nulls":5},0,"","GIBSON James",{"$nulls":5},0,"","GIBSON James",{"$nulls":5},0,"","GIBSON James",{"$nulls":51},0,0]
[{"$nulls":13},{"$f":"IFERROR(IF($Y$1=1,\"\",VLOOKUP(N29,needstable,8,FALSE)),\"\")","v":"    "},{"$nulls":3},{"$f":"IFERROR(IF($Y$1=1,\"\",VLOOKUP(R29,needstable,8,FALSE)),\"\")","v":"    "},{"$nulls":5},{"$f":"IFERROR(IF($Y$1=1,\"\",VLOOKUP(X29,needstable,8,FALSE)),\"\")","v":"    "},{"$nulls":3},{"$f":"IFERROR(IF($Y$1=1,\"\",VLOOKUP(AB29,needstable,8,FALSE)),\"\")","v":"    "},{"$nulls":3},{"$f":"IFERROR(IF($Y$1=1,\"\",VLOOKUP(AF29,needstable,8,FALSE)),\"\")","v":"    "},{"$nulls":3},{"$f":"IFERROR(IF($Y$1=1,\"\",VLOOKUP(AJ29,needstable,8,FALSE)),\"\")","v":"    "},{"$nulls":5},{"$f":"IFERROR(IF($Y$1=1,\"\",VLOOKUP(AP29,needstable,8,FALSE)),\"\")","v":"    "},{"$nulls":3},{"$f":"IFERROR(IF($Y$1=1,\"\",VLOOKUP(AT29,needstable,8,FALSE)),\"\")","v":"    "},{"$nulls":6},{"$f":"IFERROR(INDEX(indexdatabase,MATCH(BQ26&$AZ$14,name&Group2,0),MATCH(\"AR\",Sheet2rng!$A$1:$AK$1,0)),\"\")","v":""},"",{"$f":"IFERROR(INDEX(indexdatabase,MATCH($BB30&$AZ$14,name&Group2,0),MATCH(\"SEND\",Sheet2rng!$A$1:$AO$1,0)),\"\")","v":""},{"$f":"IFERROR(INDEX(indexdatabase,MATCH($BB30&$AZ$14,name&Group2,0),MATCH(\"MAT\",Sheet2rng!$A$1:$AO$1,0)),\"\")","v":""},{"$f":"IFERROR(INDEX(indexdatabase,MATCH($BB30&$AZ$14,name&Group2,0),MATCH(\"EAL\",Sheet2rng!$A$1:$AO$1,0)),\"\")","v":""},"","","","    ",{"$nulls":7},"","IFERROR(INDEX(Sheet2rng,MATCH(BA12,sheet2rows,0), MATCH($BB$11,sheet2columns,0)),\"\")",{"$f":"IFERROR(INDEX(indexdatabase,MATCH(BQ30&$AZ$14,name&Group2,0),MATCH(\"PPI\",Sheet2rng!$A$1:$AK$1,0)),\"\")","v":""},{"$f":"IFERROR(SMALL(IF(LEFT(Group2,LEN('10B-So1'!$BA$10))='10B-So1'!$BA$10,ROW(Group2)),ROW(A19)),\"\")","v":""},{"$nulls":4},"LAMB Brett",{"$nulls":56},0,"","HARRIS Christian",{"$nulls":5},3,11,"BAKER Lucy",{"$nulls":5},0,"","HARRIS Christian",{"$nulls":5},0,"","HARRIS Christian",{"$nulls":5},0,"","HARRIS Christian",{"$nulls":5},0,"","HARRIS Christian",{"$nulls":51},0,0]
[{"$nulls":13},"C/grade",null,"KS2",null,"C/grade",null,"KS2",{"$nulls":3},"C/grade",null,"KS2",null,"C/grade",null,"KS2",null,"C/grade",null,"KS2",null,"C/grade",null,"KS2",{"$nulls":3},"C/grade",null,"KS2",null,"C/grade",null,"KS2",{"$nulls":4},{"$f":"IFERROR(INDEX(indexdatabase,MATCH(BQ27&$AZ$14,name&Group2,0),MATCH(\"AR\",Sheet2rng!$A$1:$AK$1,0)),\"\")","v":""},"",{"$f":"IFERROR(INDEX(indexdatabase,MATCH($BB31&$AZ$14,name&Group2,0),MATCH(\"SEND\",Sheet2rng!$A$1:$AO$1,0)),\"\")","v":""},{"$f":"IFERROR(INDEX(indexdatabase,MATCH($BB31&$AZ$14,name&Group2,0),MATCH(\"MAT\",Sheet2rng!$A$1:$AO$1,0)),\"\")","v":""},{"$f":"IFERROR(INDEX(indexdatabase,MATCH($BB31&$AZ$14,name&Group2,0),MATCH(\"EAL\",Sheet2rng!$A$1:$AO$1,0)),\"\")","v":""},"","","","    ",{"$nulls":7},"","IFERROR(INDEX(Sheet2rng,MATCH(BA12,sheet2rows,0), MATCH($BB$11,sheet2columns,0)),\"\")",{"$f":"IFERROR(INDEX(indexdatabase,MATCH(BQ31&$AZ$14,name&Group2,0),MATCH(\"PPI\",Sheet2rng!$A$1:$AK$1,0)),\"\")","v":""},{"$f":"IFERROR(SMALL(IF(LEFT(Group2,LEN('10B-So1'!$BA$10))='10B-So1'!$BA$10,ROW(Group2)),ROW(A20)),\"\")","v":""},{"$nulls":4},"DAVIDSON Danny",{"$nulls":56},0,"","HARVEY Megan",{"$nulls":5},3,11,"BAVERSTOCK Adam",{"$nulls":5},0,"","HARVEY Megan",{"$nulls":5},0,"","HARVEY Megan",{"$nulls":5},0,"","HARVEY Megan",{"$nulls":5},0,"","HARVEY Megan",{"$nulls":51},0,0]
[{"$nulls":13},{"$f":"IFERROR(IF($Y$2=2,\"\",IF($Y$2=3,INDEX(indexdatabase,MATCH(N29&$AZ$14,name&Group2,0),MATCH($AZ$23,Sheet2rng!$A$1:$AK$1,0)))),\"\")","v":""},null,{"$f":"IFERROR(IF($Y$3=4,\"\",IF($Y$3=5,INDEX(indexdatabase,MATCH(N29&$AZ$14,name&Group2,0),MATCH(\"KS2\",Sheet2rng!$A$1:$AK$1,0)))),\"\")","v":""},null,{"$f":"IFERROR(IF($Y$2=2,\"\",IF($Y$2=3,INDEX(indexdatabase,MATCH(R29&$AZ$14,name&Group2,0),MATCH($AZ$23,Sheet2rng!$A$1:$AK$1,0)))),\"\")","v":""},null,{"$f":"IFERROR(IF($Y$3=4,\"\",IF($Y$3=5,INDEX(indexdatabase,MATCH(R29&$AZ$14,name&Group2,0),MATCH(\"KS2\",Sheet2rng!$A$1:$AK$1,0)))),\"\")","v":""},{"$nulls":3},{"$f":"IFERROR(IF($Y$2=2,\"\",IF($Y$2=3,INDEX(indexdatabase,MATCH(X29&$AZ$14,name&Group2,0),MATCH($AZ$23,Sheet2rng!$A$1:$AK$1,0)))),\"\")","v":""},null,{"$f":"IFERROR(IF($Y$3=4,\"\",IF($Y$3=5,INDEX(indexdatabase,MATCH(X29&$AZ$14,name&Group2,0),MATCH(\"KS2\",Sheet2rng!$A$1:$AK$1,0)))),\"\")","v":""},null,{"$f":"IFERROR(IF($Y$2=2,\"\",IF($Y$2=3,INDEX(indexdatabase,MATCH(AB29&$AZ$14,name&Group2,0),MATCH($AZ$23,Sheet2rng!$A$1:$AK$1,0)))),\"\")","v":""},null,{"$f":"IFERROR(IF($Y$3=4,\"\",IF($Y$3=5,INDEX(indexdatabase,MATCH(AB29&$AZ$14,name&Group2,0),MATCH(\"KS2\",Sheet2rng!$A$1:$AK$1,0)))),\"\")","v":""},null,{"$f":"IFERROR(IF($Y$2=2,\"\",IF($Y$2=3,INDEX(indexdatabase,MATCH(AF29&$AZ$14,name&Group2,0),MATCH($AZ$23,Sheet2rng!$A$1:$AK$1,0)))),\"\")","v":""},null,{"$f":"IFERROR(IF($Y$3=4,\"\",IF($Y$3=5,INDEX(indexdatabase,MATCH(AF29&$AZ$14,name&Group2,0),MATCH(\"KS2\",Sheet2rng!$A$1:$AK$1,0)))),\"\")","v":""},null,{"$f":"IFERROR(IF($Y$2=2,\"\",IF($Y$2=3,INDEX(indexdatabase,MATCH(AJ29&$AZ$14,name&Group2,0),MATCH($AZ$23,Sheet2rng!$A$1:$AK$1,0)))),\"\")","v":""},null,{"$f":"IFERROR(IF($Y$3=4,\"\",IF($Y$3=5,INDEX(indexdatabase,MATCH(AJ29&$AZ$14,name&Group2,0),MATCH(\"KS2\",Sheet2rng!$A$1:$AK$1,0)))),\"\")","v":""},{"$nulls":3},{"$f":"IFERROR(IF($Y$2=2,\"\",IF($Y$2=3,INDEX(indexdatabase,MATCH(AP29&$AZ$14,name&Group2,0),MATCH($AZ$23,Sheet2rng!$A$1:$AK$1,0)))),\"\")","v":""},null,{"$f":"IFERROR(IF($Y$3=4,\"\",IF($Y$3=5,INDEX(indexdatabase,MATCH(AP29&$AZ$14,name&Group2,0),MATCH(\"KS2\",Sheet2rng!$A$1:$AK$1,0)))),\"\")","v":""},null,{"$f":"IFERROR(IF($Y$2=2,\"\",IF($Y$2=3,INDEX(indexdatabase,MATCH(AT29&$AZ$14,name&Group2,0),MATCH($AZ$23,Sheet2rng!$A$1:$AK$1,0)))),\"\")","v":""},null,{"$f":"IFERROR(IF($Y$3=4,\"\",IF($Y$3=5,INDEX(indexdatabase,MATCH(AT29&$AZ$14,name&Group2,0),MATCH(\"KS2\",Sheet2rng!$A$1:$AK$1,0)))),\"\")","v":""},{"$nulls":4},{"$f":"IFERROR(INDEX(indexdatabase,MATCH(BQ28&$AZ$14,name&Group2,0),MATCH(\"AR\",Sheet2rng!$A$1:$AK$1,0)),\"\")","v":""},"",{"$f":"IFERROR(INDEX(indexdatabase,MATCH($BB32&$AZ$14,name&Group2,0),MATCH(\"SEND\",Sheet2rng!$A$1:$AO$1,0)),\"\")","v":""},{"$f":"IFERROR(INDEX(indexdatabase,MATCH($BB32&$AZ$14,name&Group2,0),MATCH(\"MAT\",Sheet2rng!$A$1:$AO$1,0)),\"\")","v":""},{"$f":"IFERROR(INDEX(indexdatabase,MATCH($BB32&$AZ$14,name&Group2,0),MATCH(\"EAL\",Sheet2rng!$A$1:$AO$1,0)),\"\")","v":""},"","","","    ",{"$nulls":7},"","IFERROR(INDEX(Sheet2rng,MATCH(BA12,sheet2rows,0), MATCH($BB$11,sheet2columns,0)),\"\")",{"$f":"IFERROR(INDEX(indexdatabase,MATCH(BQ32&$AZ$14,name&Group2,0),MATCH(\"PPI\",Sheet2rng!$A$1:$AK$1,0)),\"\")","v":""},{"$f":"IFERROR(SMALL(IF(LEFT(Group2,LEN('10B-So1'!$BA$10))='10B-So1'!$BA$10,ROW(Group2)),ROW(A21)),\"\")","v":""},{"$nulls":4},"HEATH Charlene",{"$nulls":56},0,"","HEATH Emily-Jayne",{"$nulls":5},3,11,"CHEEMA Gurvinder",{"$nulls":5},0,"","HEATH Emily-Jayne",{"$nulls":5},0,"","HEATH Emily-Jayne",{"$nulls":5},0,"","HEATH Emily-Jayne",{"$nulls":5},0,"","HEATH Emily-Jayne",{"$nulls":51},0,0]
[{"$nulls":13},"Target",null,"AR",null,"Target",null,"AR",{"$nulls":3},"Target",null,"AR",null,"Target",null,"AR",null,"Target",null,"AR",null,"Target",null,"AR",{"$nulls":3},"Target",null,"AR",null,"Target",null,"AR",{"$nulls":4},{"$f":"IFERROR(INDEX(indexdatabase,MATCH(BQ29&$AZ$14,name&Group2,0),MATCH(\"AR\",Sheet2rng!$A$1:$AK$1,0)),\"\")","v":""},"",{"$f":"IFERROR(INDEX(indexdatabase,MATCH($BB33&$AZ$14,name&Group2,0),MATCH(\"SEND\",Sheet2rng!$A$1:$AO$1,0)),\"\")","v":""},{"$f":"IFERROR(INDEX(indexdatabase,MATCH($BB33&$AZ$14,name&Group2,0),MATCH(\"MAT\",Sheet2rng!$A$1:$AO$1,0)),\"\")","v":""},{"$f":"IFERROR(INDEX(indexdatabase,MATCH($BB33&$AZ$14,name&Group2,0),MATCH(\"EAL\",Sheet2rng!$A$1:$AO$1,0)),\"\")","v":""},"","","","    ",{"$nulls":7},"","IFERROR(INDEX(Sheet2rng,MATCH(BA12,sheet2rows,0), MATCH($BB$11,sheet2columns,0)),\"\")",{"$f":"IFERROR(INDEX(indexdatabase,MATCH(BQ33&$AZ$14,name&Group2,0),MATCH(\"PPI\",Sheet2rng!$A$1:$AK$1,0)),\"\")","v":""},{"$f":"IFERROR(SMALL(IF(LEFT(Group2,LEN('10B-So1'!$BA$10))='10B-So1'!$BA$10,ROW(Group2)),ROW(A22)),\"\")","v":""},{"$nulls":4},"MCALLISTER Joan",{"$nulls":56},0,"","HOWELL Megan",{"$nulls":5},3,11,"GIBSON James",{"$nulls":5},0,"","HOWELL Megan",{"$nulls":5},0,"","HOWELL Megan",{"$nulls":5},0,"","HOWELL Megan",{"$nulls":5},0,"","HOWELL Megan",{"$nulls":51},0,0]
[{"$nulls":13},{"$f":"IFERROR(IF($Y$4=6,\"\",IF($Y$4=7,INDEX(indexdatabase,MATCH(N29&$AZ$14,name&Group2,0),MATCH(\"Target\",Sheet2rng!$A$1:$AK$1,0)))),\"\")","v":""},null,{"$f":"IFERROR(IF($Y$5=8,\"\",IF($Y$5=9,INDEX(Sheet2rng,MATCH(N29&$AZ$14,name&Group2,0),MATCH(P33,sheet2columns,0)))),\"\")","v":""},null,{"$f":"IFERROR(IF($Y$4=6,\"\",IF($Y$4=7,INDEX(indexdatabase,MATCH(R29&$AZ$14,name&Group2,0),MATCH(\"Target\",Sheet2rng!$A$1:$AK$1,0)))),\"\")","v":""},null,{"$f":"IFERROR(IF($Y$5=8,\"\",IF($Y$5=9,INDEX(Sheet2rng,MATCH(R29&$AZ$14,name&Group2,0),MATCH(T33,sheet2columns,0)))),\"\")","v":""},{"$nulls":3},{"$f":"IFERROR(IF($Y$4=6,\"\",IF($Y$4=7,INDEX(indexdatabase,MATCH(X29&$AZ$14,name&Group2,0),MATCH(\"Target\",Sheet2rng!$A$1:$AK$1,0)))),\"\")","v":""},null,{"$f":"IFERROR(IF($Y$5=8,\"\",IF($Y$5=9,INDEX(Sheet2rng,MATCH(X29&$AZ$14,name&Group2,0),MATCH(Z33,sheet2columns,0)))),\"\")","v":""},null,{"$f":"IFERROR(IF($Y$4=6,\"\",IF($Y$4=7,INDEX(indexdatabase,MATCH(AB29&$AZ$14,name&Group2,0),MATCH(\"Target\",Sheet2rng!$A$1:$AK$1,0)))),\"\")","v":""},null,{"$f":"IFERROR(IF($Y$5=8,\"\",IF($Y$5=9,INDEX(Sheet2rng,MATCH(AB29&$AZ$14,name&Group2,0),MATCH(AD33,sheet2columns,0)))),\"\")","v":""},null,{"$f":"IFERROR(IF($Y$4=6,\"\",IF($Y$4=7,INDEX(indexdatabase,MATCH(AF29&$AZ$14,name&Group2,0),MATCH(\"Target\",Sheet2rng!$A$1:$AK$1,0)))),\"\")","v":""},null,{"$f":"IFERROR(IF($Y$5=8,\"\",IF($Y$5=9,INDEX(Sheet2rng,MATCH(AF29&$AZ$14,name&Group2,0),MATCH(AH33,sheet2columns,0)))),\"\")","v":""},null,{"$f":"IFERROR(IF($Y$4=6,\"\",IF($Y$4=7,INDEX(indexdatabase,MATCH(AJ29&$AZ$14,name&Group2,0),MATCH(\"Target\",Sheet2rng!$A$1:$AK$1,0)))),\"\")","v":""},null,{"$f":"IFERROR(IF($Y$5=8,\"\",IF($Y$5=9,INDEX(Sheet2rng,MATCH(AJ29&$AZ$14,name&Group2,0),MATCH(AL33,sheet2columns,0)))),\"\")","v":""},{"$nulls":3},{"$f":"IFERROR(IF($Y$4=6,\"\",IF($Y$4=7,INDEX(indexdatabase,MATCH(AP29&$AZ$14,name&Group2,0),MATCH(\"Target\",Sheet2rng!$A$1:$AK$1,0)))),\"\")","v":""},null,{"$f":"IFERROR(IF($Y$5=8,\"\",IF($Y$5=9,INDEX(Sheet2rng,MATCH(AP29&$AZ$14,name&Group2,0),MATCH(AR33,sheet2columns,0)))),\"\")","v":""},null,{"$f":"IFERROR(IF($Y$4=6,\"\",IF($Y$4=7,INDEX(indexdatabase,MATCH(AT29&$AZ$14,name&Group2,0),MATCH(\"Target\",Sheet2rng!$A$1:$AK$1,0)))),\"\")","v":""},null,{"$f":"IFERROR(IF($Y$5=8,\"\",IF($Y$5=9,INDEX(Sheet2rng,MATCH(AT29&$AZ$14,name&Group2,0),MATCH(AV33,sheet2columns,0)))),\"\")","v":""},{"$nulls":4},{"$f":"IFERROR(INDEX(indexdatabase,MATCH(BQ30&$AZ$14,name&Group2,0),MATCH(\"AR\",Sheet2rng!$A$1:$AK$1,0)),\"\")","v":""},"",{"$f":"IFERROR(INDEX(indexdatabase,MATCH($BB34&$AZ$14,name&Group2,0),MATCH(\"SEND\",Sheet2rng!$A$1:$AO$1,0)),\"\")","v":""},{"$f":"IFERROR(INDEX(indexdatabase,MATCH($BB34&$AZ$14,name&Group2,0),MATCH(\"MAT\",Sheet2rng!$A$1:$AO$1,0)),\"\")","v":""},{"$f":"IFERROR(INDEX(indexdatabase,MATCH($BB34&$AZ$14,name&Group2,0),MATCH(\"EAL\",Sheet2rng!$A$1:$AO$1,0)),\"\")","v":""},"","","","    ",{"$nulls":7},"","IFERROR(INDEX(Sheet2rng,MATCH(BA12,sheet2rows,0), MATCH($BB$11,sheet2columns,0)),\"\")",{"$f":"IFERROR(INDEX(indexdatabase,MATCH(BQ34&$AZ$14,name&Group2,0),MATCH(\"PPI\",Sheet2rng!$A$1:$AK$1,0)),\"\")","v":""},{"$f":"IFERROR(SMALL(IF(LEFT(Group2,LEN('10B-So1'!$BA$10))='10B-So1'!$BA$10,ROW(Group2)),ROW(A23)),\"\")","v":""},{"$nulls":4},"MCKENZIE Betty",{"$nulls":56},0,"","JAMESON Amy",{"$nulls":5},3,11,"HARVEY Megan",{"$nulls":5},0,"","JAMESON Amy",{"$nulls":5},0,"","JAMESON Amy",{"$nulls":5},0,"","JAMESON Amy",{"$nulls":5},0,"","JAMESON Amy",{"$nulls":51},0,0]
[{"$nulls":52},{"$f":"IFERROR(INDEX(indexdatabase,MATCH(BQ31&$AZ$14,name&Group2,0),MATCH(\"AR\",Sheet2rng!$A$1:$AK$1,0)),\"\")","v":""},"",{"$f":"IFERROR(INDEX(indexdatabase,MATCH($BB35&$AZ$14,name&Group2,0),MATCH(\"SEND\",Sheet2rng!$A$1:$AO$1,0)),\"\")","v":""},{"$f":"IFERROR(INDEX(indexdatabase,MATCH($BB35&$AZ$14,name&Group2,0),MATCH(\"MAT\",Sheet2rng!$A$1:$AO$1,0)),\"\")","v":""},{"$f":"IFERROR(INDEX(indexdatabase,MATCH($BB35&$AZ$14,name&Group2,0),MATCH(\"EAL\",Sheet2rng!$A$1:$AO$1,0)),\"\")","v":""},"","","","    ",{"$nulls":7},"","IFERROR(INDEX(Sheet2rng,MATCH(BA12,sheet2rows,0), MATCH($BB$11,sheet2columns,0)),\"\")",{"$f":"IFERROR(INDEX(indexdatabase,MATCH(BQ35&$AZ$14,name&Group2,0),MATCH(\"PPI\",Sheet2rng!$A$1:$AK$1,0)),\"\")","v":""},{"$f":"IFERROR(SMALL(IF(LEFT(Group2,LEN('10B-So1'!$BA$10))='10B-So1'!$BA$10,ROW(Group2)),ROW(A24)),\"\")","v":""},{"$nulls":4},"PERKINS Sara",{"$nulls":56},0,"","KERWICK Georgie",{"$nulls":5},3,11,"HEATH Emily-Jayne",{"$nulls":5},0,"","KERWICK Georgie",{"$nulls":5},0,"","KERWICK Georgie",{"$nulls":5},0,"","KERWICK Georgie",{"$nulls":5},0,"","KERWICK Georgie",{"$nulls":51},0,0]
[{"$nulls":52},{"$f":"IFERROR(INDEX(indexdatabase,MATCH(BQ32&$AZ$14,name&Group2,0),MATCH(\"AR\",Sheet2rng!$A$1:$AK$1,0)),\"\")","v":""},"",{"$f":"IFERROR(INDEX(indexdatabase,MATCH($BB36&$AZ$14,name&Group2,0),MATCH(\"SEND\",Sheet2rng!$A$1:$AO$1,0)),\"\")","v":""},{"$f":"IFERROR(INDEX(indexdatabase,MATCH($BB36&$AZ$14,name&Group2,0),MATCH(\"MAT\",Sheet2rng!$A$1:$AO$1,0)),\"\")","v":""},{"$f":"IFERROR(INDEX(indexdatabase,MATCH($BB36&$AZ$14,name&Group2,0),MATCH(\"EAL\",Sheet2rng!$A$1:$AO$1,0)),\"\")","v":""},"","","","    ",{"$nulls":7},"","IFERROR(INDEX(Sheet2rng,MATCH(BA12,sheet2rows,0), MATCH($BB$11,sheet2columns,0)),\"\")",{"$f":"IFERROR(INDEX(indexdatabase,MATCH(BQ36&$AZ$14,name&Group2,0),MATCH(\"PPI\",Sheet2rng!$A$1:$AK$1,0)),\"\")","v":""},{"$f":"IFERROR(SMALL(IF(LEFT(Group2,LEN('10B-So1'!$BA$10))='10B-So1'!$BA$10,ROW(Group2)),ROW(A25)),\"\")","v":""},{"$nulls":4},"JUSTICE Martin",{"$nulls":56},0,"","MURPHY Shannon",{"$nulls":5},3,11,"HOWELL Megan",{"$nulls":5},0,"","MURPHY Shannon",{"$nulls":5},0,"","MURPHY Shannon",{"$nulls":5},0,"","MURPHY Shannon",{"$nulls":5},0,"","MURPHY Shannon",{"$nulls":51},0,0]
[{"$nulls":52},{"$f":"IFERROR(INDEX(indexdatabase,MATCH(BQ33&$AZ$14,name&Group2,0),MATCH(\"AR\",Sheet2rng!$A$1:$AK$1,0)),\"\")","v":""},"",{"$f":"IFERROR(INDEX(indexdatabase,MATCH($BB37&$AZ$14,name&Group2,0),MATCH(\"SEND\",Sheet2rng!$A$1:$AO$1,0)),\"\")","v":""},{"$f":"IFERROR(INDEX(indexdatabase,MATCH($BB37&$AZ$14,name&Group2,0),MATCH(\"MAT\",Sheet2rng!$A$1:$AO$1,0)),\"\")","v":""},{"$f":"IFERROR(INDEX(indexdatabase,MATCH($BB37&$AZ$14,name&Group2,0),MATCH(\"EAL\",Sheet2rng!$A$1:$AO$1,0)),\"\")","v":""},"","","","    ",{"$nulls":7},"","IFERROR(INDEX(Sheet2rng,MATCH(BA12,sheet2rows,0), MATCH($BB$11,sheet2columns,0)),\"\")",{"$f":"IFERROR(INDEX(indexdatabase,MATCH(BQ37&$AZ$14,name&Group2,0),MATCH(\"PPI\",Sheet2rng!$A$1:$AK$1,0)),\"\")","v":""},{"$f":"IFERROR(SMALL(IF(LEFT(Group2,LEN('10B-So1'!$BA$10))='10B-So1'!$BA$10,ROW(Group2)),ROW(A26)),\"\")","v":""},{"$nulls":4},"WILLIS Beth",{"$nulls":56},0,"","PIDDINGTON Ellie",{"$nulls":5},3,11,"SAHOTA Callum",{"$nulls":5},0,"","PIDDINGTON Ellie",{"$nulls":5},0,"","PIDDINGTON Ellie",{"$nulls":5},0,"","PIDDINGTON Ellie",{"$nulls":5},0,"","PIDDINGTON Ellie",{"$nulls":51},0,0]
[{"$nulls":13},"",{"$nulls":3},"",{"$nulls":5},"",{"$nulls":3},"",{"$nulls":3},"",{"$nulls":3},"",{"$nulls":5},"",{"$nulls":3},"",{"$nulls":6},{"$f":"IFERROR(INDEX(indexdatabase,MATCH(BQ34&$AZ$14,name&Group2,0),MATCH(\"AR\",Sheet2rng!$A$1:$AK$1,0)),\"\")","v":""},"",{"$f":"IFERROR(INDEX(indexdatabase,MATCH($BB38&$AZ$14,name&Group2,0),MATCH(\"SEND\",Sheet2rng!$A$1:$AO$1,0)),\"\")","v":""},{"$f":"IFERROR(INDEX(indexdatabase,MATCH($BB38&$AZ$14,name&Group2,0),MATCH(\"MAT\",Sheet2rng!$A$1:$AO$1,0)),\"\")","v":""},{"$f":"IFERROR(INDEX(indexdatabase,MATCH($BB38&$AZ$14,name&Group2,0),MATCH(\"EAL\",Sheet2rng!$A$1:$AO$1,0)),\"\")","v":""},"","","","    ",{"$nulls":7},"","IFERROR(INDEX(Sheet2rng,MATCH(BA12,sheet2rows,0), MATCH($BB$11,sheet2columns,0)),\"\")",{"$f":"IFERROR(INDEX(indexdatabase,MATCH(BQ38&$AZ$14,name&Group2,0),MATCH(\"PPI\",Sheet2rng!$A$1:$AK$1,0)),\"\")","v":""},{"$f":"IFERROR(SMALL(IF(LEFT(Group2,LEN('10B-So1'!$BA$10))='10B-So1'!$BA$10,ROW(Group2)),ROW(A27)),\"\")","v":""},{"$nulls":4},"BYRD Mary",{"$nulls":56},0,"","QUILALA Angela",{"$nulls":5},3,11,"WRIGHT Caitlin",{"$nulls":5},0,"","QUILALA Angela",{"$nulls":5},0,"","QUILALA Angela",{"$nulls":5},0,"","QUILALA Angela",{"$nulls":5},0,"","QUILALA Angela",{"$nulls":51},0,0]
[{"$nulls":13},{"$f":"IFERROR(IF($Y$1=1,\"\",VLOOKUP(N38,needstable,8,FALSE)),\"\")","v":"    "},{"$nulls":3},{"$f":"IFERROR(IF($Y$1=1,\"\",VLOOKUP(R38,needstable,8,FALSE)),\"\")","v":"    "},{"$nulls":5},{"$f":"IFERROR(IF($Y$1=1,\"\",VLOOKUP(X38,needstable,8,FALSE)),\"\")","v":"    "},{"$nulls":3},{"$f":"IFERROR(IF($Y$1=1,\"\",VLOOKUP(AB38,needstable,8,FALSE)),\"\")","v":"    "},{"$nulls":3},{"$f":"IFERROR(IF($Y$1=1,\"\",VLOOKUP(AF38,needstable,8,FALSE)),\"\")","v":"    "},{"$nulls":3},{"$f":"IFERROR(IF($Y$1=1,\"\",VLOOKUP(AJ38,needstable,8,FALSE)),\"\")","v":"    "},{"$nulls":5},{"$f":"IFERROR(IF($Y$1=1,\"\",VLOOKUP(AP38,needstable,8,FALSE)),\"\")","v":"    "},{"$nulls":3},{"$f":"IFERROR(IF($Y$1=1,\"\",VLOOKUP(AT38,needstable,8,FALSE)),\"\")","v":"    "},{"$nulls":6},{"$f":"IFERROR(INDEX(indexdatabase,MATCH(BQ35&$AZ$14,name&Group2,0),MATCH(\"AR\",Sheet2rng!$A$1:$AK$1,0)),\"\")","v":""},"",{"$f":"IFERROR(INDEX(indexdatabase,MATCH($BB39&$AZ$14,name&Group2,0),MATCH(\"SEND\",Sheet2rng!$A$1:$AO$1,0)),\"\")","v":""},{"$f":"IFERROR(INDEX(indexdatabase,MATCH($BB39&$AZ$14,name&Group2,0),MATCH(\"MAT\",Sheet2rng!$A$1:$AO$1,0)),\"\")","v":""},{"$f":"IFERROR(INDEX(indexdatabase,MATCH($BB39&$AZ$14,name&Group2,0),MATCH(\"EAL\",Sheet2rng!$A$1:$AO$1,0)),\"\")","v":""},"","","","    ",{"$nulls":7},"","IFERROR(INDEX(Sheet2rng,MATCH(BA12,sheet2rows,0), MATCH($BB$11,sheet2columns,0)),\"\")",{"$f":"IFERROR(INDEX(indexdatabase,MATCH(BQ39&$AZ$14,name&Group2,0),MATCH(\"PPI\",Sheet2rng!$A$1:$AK$1,0)),\"\")","v":""},{"$f":"IFERROR(SMALL(IF(LEFT(Group2,LEN('10B-So1'!$BA$10))='10B-So1'!$BA$10,ROW(Group2)),ROW(A28)),\"\")","v":""},{"$nulls":4},"NORMAN Amy",{"$nulls":56},0,"","RIORDAN Robbie",{"$nulls":5},4,20,"ABU Aisha",{"$nulls":5},0,"","RIORDAN Robbie",{"$nulls":5},0,"","RIORDAN Robbie",{"$nulls":5},0,"","RIORDAN Robbie",{"$nulls":5},0,"","RIORDAN Robbie",{"$nulls":51},0,0]
[{"$nulls":13},"C/grade",null,"KS2",null,"C/grade",null,"KS2",{"$nulls":3},"C/grade",null,"KS2",null,"C/grade",null,"KS2",null,"C/grade",null,"KS2",null,"C/grade",null,"KS2",{"$nulls":3},"C/grade",null,"KS2",null,"C/grade",null,"KS2",{"$nulls":4},{"$f":"IFERROR(INDEX(indexdatabase,MATCH(BQ36&$AZ$14,name&Group2,0),MATCH(\"AR\",Sheet2rng!$A$1:$AK$1,0)),\"\")","v":""},"",{"$f":"IFERROR(INDEX(indexdatabase,MATCH($BB40&$AZ$14,name&Group2,0),MATCH(\"SEND\",Sheet2rng!$A$1:$AO$1,0)),\"\")","v":""},{"$f":"IFERROR(INDEX(indexdatabase,MATCH($BB40&$AZ$14,name&Group2,0),MATCH(\"MAT\",Sheet2rng!$A$1:$AO$1,0)),\"\")","v":""},{"$f":"IFERROR(INDEX(indexdatabase,MATCH($BB40&$AZ$14,name&Group2,0),MATCH(\"EAL\",Sheet2rng!$A$1:$AO$1,0)),\"\")","v":""},"","","","    ",{"$nulls":7},"","IFERROR(INDEX(Sheet2rng,MATCH(BA12,sheet2rows,0), MATCH($BB$11,sheet2columns,0)),\"\")",{"$f":"IFERROR(INDEX(indexdatabase,MATCH(BQ40&$AZ$14,name&Group2,0),MATCH(\"PPI\",Sheet2rng!$A$1:$AK$1,0)),\"\")","v":""},{"$f":"IFERROR(SMALL(IF(LEFT(Group2,LEN('10B-So1'!$BA$10))='10B-So1'!$BA$10,ROW(Group2)),ROW(A29)),\"\")","v":""},{"$nulls":4},"CHANDLER Pauline",{"$nulls":56},0,"","SAHOTA Callum",{"$nulls":5},4,20,"BLE Grace",{"$nulls":5},0,"","SAHOTA Callum",{"$nulls":5},0,"","SAHOTA Callum",{"$nulls":5},0,"","SAHOTA Callum",{"$nulls":5},0,"","SAHOTA Callum",{"$nulls":51},0,0]
[{"$nulls":13},{"$f":"IFERROR(IF($Y$2=2,\"\",IF($Y$2=3,INDEX(indexdatabase,MATCH(N38&$AZ$14,name&Group2,0),MATCH($AZ$23,Sheet2rng!$A$1:$AK$1,0)))),\"\")","v":""},null,{"$f":"IFERROR(IF($Y$3=4,\"\",IF($Y$3=5,INDEX(indexdatabase,MATCH(N38&$AZ$14,name&Group2,0),MATCH(\"KS2\",Sheet2rng!$A$1:$AK$1,0)))),\"\")","v":""},null,{"$f":"IFERROR(IF($Y$2=2,\"\",IF($Y$2=3,INDEX(indexdatabase,MATCH(R38&$AZ$14,name&Group2,0),MATCH($AZ$23,Sheet2rng!$A$1:$AK$1,0)))),\"\")","v":""},null,{"$f":"IFERROR(IF($Y$3=4,\"\",IF($Y$3=5,INDEX(indexdatabase,MATCH(R38&$AZ$14,name&Group2,0),MATCH(\"KS2\",Sheet2rng!$A$1:$AK$1,0)))),\"\")","v":""},{"$nulls":3},{"$f":"IFERROR(IF($Y$2=2,\"\",IF($Y$2=3,INDEX(indexdatabase,MATCH(X38&$AZ$14,name&Group2,0),MATCH($AZ$23,Sheet2rng!$A$1:$AK$1,0)))),\"\")","v":""},null,{"$f":"IFERROR(IF($Y$3=4,\"\",IF($Y$3=5,INDEX(indexdatabase,MATCH(X38&$AZ$14,name&Group2,0),MATCH(\"KS2\",Sheet2rng!$A$1:$AK$1,0)))),\"\")","v":""},null,{"$f":"IFERROR(IF($Y$2=2,\"\",IF($Y$2=3,INDEX(indexdatabase,MATCH(AB38&$AZ$14,name&Group2,0),MATCH($AZ$23,Sheet2rng!$A$1:$AK$1,0)))),\"\")","v":""},null,{"$f":"IFERROR(IF($Y$3=4,\"\",IF($Y$3=5,INDEX(indexdatabase,MATCH(AB38&$AZ$14,name&Group2,0),MATCH(\"KS2\",Sheet2rng!$A$1:$AK$1,0)))),\"\")","v":""},null,{"$f":"IFERROR(IF($Y$2=2,\"\",IF($Y$2=3,INDEX(indexdatabase,MATCH(AF38&$AZ$14,name&Group2,0),MATCH($AZ$23,Sheet2rng!$A$1:$AK$1,0)))),\"\")","v":""},null,{"$f":"IFERROR(IF($Y$3=4,\"\",IF($Y$3=5,INDEX(indexdatabase,MATCH(AF38&$AZ$14,name&Group2,0),MATCH(\"KS2\",Sheet2rng!$A$1:$AK$1,0)))),\"\")","v":""},null,{"$f":"IFERROR(IF($Y$2=2,\"\",IF($Y$2=3,INDEX(indexdatabase,MATCH(AJ38&$AZ$14,name&Group2,0),MATCH($AZ$23,Sheet2rng!$A$1:$AK$1,0)))),\"\")","v":""},null,{"$f":"IFERROR(IF($Y$3=4,\"\",IF($Y$3=5,INDEX(indexdatabase,MATCH(AJ38&$AZ$14,name&Group2,0),MATCH(\"KS2\",Sheet2rng!$A$1:$AK$1,0)))),\"\")","v":""},{"$nulls":3},{"$f":"IFERROR(IF($Y$2=2,\"\",IF($Y$2=3,INDEX(indexdatabase,MATCH(AP38&$AZ$14,name&Group2,0),MATCH($AZ$23,Sheet2rng!$A$1:$AK$1,0)))),\"\")","v":""},null,{"$f":"IFERROR(IF($Y$3=4,\"\",IF($Y$3=5,INDEX(indexdatabase,MATCH(AP38&$AZ$14,name&Group2,0),MATCH(\"KS2\",Sheet2rng!$A$1:$AK$1,0)))),\"\")","v":""},null,{"$f":"IFERROR(IF($Y$2=2,\"\",IF($Y$2=3,INDEX(indexdatabase,MATCH(AT38&$AZ$14,name&Group2,0),MATCH($AZ$23,Sheet2rng!$A$1:$AK$1,0)))),\"\")","v":""},null,{"$f":"IFERROR(IF($Y$3=4,\"\",IF($Y$3=5,INDEX(indexdatabase,MATCH(AT38&$AZ$14,name&Group2,0),MATCH(\"KS2\",Sheet2rng!$A$1:$AK$1,0)))),\"\")","v":""},{"$nulls":4},{"$f":"IFERROR(INDEX(indexdatabase,MATCH(BQ37&$AZ$14,name&Group2,0),MATCH(\"AR\",Sheet2rng!$A$1:$AK$1,0)),\"\")","v":""},"",{"$f":"IFERROR(INDEX(indexdatabase,MATCH($BB41&$AZ$14,name&Group2,0),MATCH(\"SEND\",Sheet2rng!$A$1:$AO$1,0)),\"\")","v":""},{"$f":"IFERROR(INDEX(indexdatabase,MATCH($BB41&$AZ$14,name&Group2,0),MATCH(\"MAT\",Sheet2rng!$A$1:$AO$1,0)),\"\")","v":""},{"$f":"IFERROR(INDEX(indexdatabase,MATCH($BB41&$AZ$14,name&Group2,0),MATCH(\"EAL\",Sheet2rng!$A$1:$AO$1,0)),\"\")","v":""},"","","","    ",{"$nulls":7},"","IFERROR(INDEX(Sheet2rng,MATCH(BA12,sheet2rows,0), MATCH($BB$11,sheet2columns,0)),\"\")",{"$f":"IFERROR(INDEX(indexdatabase,MATCH(BQ41&$AZ$14,name&Group2,0),MATCH(\"PPI\",Sheet2rng!$A$1:$AK$1,0)),\"\")","v":""},{"$f":"IFERROR(SMALL(IF(LEFT(Group2,LEN('10B-So1'!$BA$10))='10B-So1'!$BA$10,ROW(Group2)),ROW(A30)),\"\")","v":""},{"$nulls":4},"FOX Sarah",{"$nulls":56},0,"","SAWYER Cicarna-Lee",{"$nulls":5},4,20,"JAMESON Amy",{"$nulls":5},0,"","SAWYER Cicarna-Lee",{"$nulls":5},0,"","SAWYER Cicarna-Lee",{"$nulls":5},0,"","SAWYER Cicarna-Lee",{"$nulls":5},0,"","SAWYER Cicarna-Lee",{"$nulls":51},0,0]
[{"$nulls":13},"Target",null,"AR",null,"Target",null,"AR",{"$nulls":3},"Target",null,"AR",null,"Target",null,"AR",null,"Target",null,"AR",null,"Target",null,"AR",{"$nulls":3},"Target",null,"AR",null,"Target",null,"AR",{"$nulls":4},{"$f":"IFERROR(INDEX(indexdatabase,MATCH(BQ38&$AZ$14,name&Group2,0),MATCH(\"AR\",Sheet2rng!$A$1:$AK$1,0)),\"\")","v":""},"",{"$f":"IFERROR(INDEX(indexdatabase,MATCH($BB42&$AZ$14,name&Group2,0),MATCH(\"SEND\",Sheet2rng!$A$1:$AO$1,0)),\"\")","v":""},{"$f":"IFERROR(INDEX(indexdatabase,MATCH($BB42&$AZ$14,name&Group2,0),MATCH(\"MAT\",Sheet2rng!$A$1:$AO$1,0)),\"\")","v":""},{"$f":"IFERROR(INDEX(indexdatabase,MATCH($BB42&$AZ$14,name&Group2,0),MATCH(\"EAL\",Sheet2rng!$A$1:$AO$1,0)),\"\")","v":""},"","","","    ",{"$nulls":4},"10a/Pe6",null,null,"","IFERROR(INDEX(Sheet2rng,MATCH(BA12,sheet2rows,0), MATCH($BB$11,sheet2columns,0)),\"\")",{"$f":"IFERROR(INDEX(indexdatabase,MATCH(BQ42&$AZ$14,name&Group2,0),MATCH(\"PPI\",Sheet2rng!$A$1:$AK$1,0)),\"\")","v":""},{"$f":"IFERROR(SMALL(IF(LEFT(Group2,LEN('10B-So1'!$BA$10))='10B-So1'!$BA$10,ROW(Group2)),ROW(A31)),\"\")","v":""},{"$nulls":4},"JOYCE Jerome",{"$nulls":56},0,"","SEHMI Natalie",{"$nulls":5},4,20,"KERWICK Georgie",{"$nulls":5},0,"","SEHMI Natalie",{"$nulls":5},0,"","SEHMI Natalie",{"$nulls":5},0,"","SEHMI Natalie",{"$nulls":5},0,"","SEHMI Natalie",{"$nulls":51},0,0]
[{"$nulls":13},{"$f":"IFERROR(IF($Y$4=6,\"\",IF($Y$4=7,INDEX(indexdatabase,MATCH(N38&$AZ$14,name&Group2,0),MATCH(\"Target\",Sheet2rng!$A$1:$AK$1,0)))),\"\")","v":""},null,{"$f":"IFERROR(IF($Y$5=8,\"\",IF($Y$5=9,INDEX(Sheet2rng,MATCH(N38&$AZ$14,name&Group2,0),MATCH(P42,sheet2columns,0)))),\"\")","v":""},null,{"$f":"IFERROR(IF($Y$4=6,\"\",IF($Y$4=7,INDEX(indexdatabase,MATCH(R38&$AZ$14,name&Group2,0),MATCH(\"Target\",Sheet2rng!$A$1:$AK$1,0)))),\"\")","v":""},null,{"$f":"IFERROR(IF($Y$5=8,\"\",IF($Y$5=9,INDEX(Sheet2rng,MATCH(R38&$AZ$14,name&Group2,0),MATCH(T42,sheet2columns,0)))),\"\")","v":""},{"$nulls":3},{"$f":"IFERROR(IF($Y$4=6,\"\",IF($Y$4=7,INDEX(indexdatabase,MATCH(X38&$AZ$14,name&Group2,0),MATCH(\"Target\",Sheet2rng!$A$1:$AK$1,0)))),\"\")","v":""},null,{"$f":"IFERROR(IF($Y$5=8,\"\",IF($Y$5=9,INDEX(Sheet2rng,MATCH(X38&$AZ$14,name&Group2,0),MATCH(Z42,sheet2columns,0)))),\"\")","v":""},null,{"$f":"IFERROR(IF($Y$4=6,\"\",IF($Y$4=7,INDEX(indexdatabase,MATCH(AB38&$AZ$14,name&Group2,0),MATCH(\"Target\",Sheet2rng!$A$1:$AK$1,0)))),\"\")","v":""},null,{"$f":"IFERROR(IF($Y$5=8,\"\",IF($Y$5=9,INDEX(Sheet2rng,MATCH(AB38&$AZ$14,name&Group2,0),MATCH(AD42,sheet2columns,0)))),\"\")","v":""},null,{"$f":"IFERROR(IF($Y$4=6,\"\",IF($Y$4=7,INDEX(indexdatabase,MATCH(AF38&$AZ$14,name&Group2,0),MATCH(\"Target\",Sheet2rng!$A$1:$AK$1,0)))),\"\")","v":""},null,{"$f":"IFERROR(IF($Y$5=8,\"\",IF($Y$5=9,INDEX(Sheet2rng,MATCH(AF38&$AZ$14,name&Group2,0),MATCH(AH42,sheet2columns,0)))),\"\")","v":""},null,{"$f":"IFERROR(IF($Y$4=6,\"\",IF($Y$4=7,INDEX(indexdatabase,MATCH(AJ38&$AZ$14,name&Group2,0),MATCH(\"Target\",Sheet2rng!$A$1:$AK$1,0)))),\"\")","v":""},null,{"$f":"IFERROR(IF($Y$5=8,\"\",IF($Y$5=9,INDEX(Sheet2rng,MATCH(AJ38&$AZ$14,name&Group2,0),MATCH(AL42,sheet2columns,0)))),\"\")","v":""},{"$nulls":3},{"$f":"IFERROR(IF($Y$4=6,\"\",IF($Y$4=7,INDEX(indexdatabase,MATCH(AP38&$AZ$14,name&Group2,0),MATCH(\"Target\",Sheet2rng!$A$1:$AK$1,0)))),\"\")","v":""},null,{"$f":"IFERROR(IF($Y$5=8,\"\",IF($Y$5=9,INDEX(Sheet2rng,MATCH(AP38&$AZ$14,name&Group2,0),MATCH(AR42,sheet2columns,0)))),\"\")","v":""},null,{"$f":"IFERROR(IF($Y$4=6,\"\",IF($Y$4=7,INDEX(indexdatabase,MATCH(AT38&$AZ$14,name&Group2,0),MATCH(\"Target\",Sheet2rng!$A$1:$AK$1,0)))),\"\")","v":""},null,{"$f":"IFERROR(IF($Y$5=8,\"\",IF($Y$5=9,INDEX(Sheet2rng,MATCH(AT38&$AZ$14,name&Group2,0),MATCH(AV42,sheet2columns,0)))),\"\")","v":""},{"$nulls":4},{"$f":"IFERROR(INDEX(indexdatabase,MATCH(BQ39&$AZ$14,name&Group2,0),MATCH(\"AR\",Sheet2rng!$A$1:$AK$1,0)),\"\")","v":""},"",{"$f":"IFERROR(INDEX(indexdatabase,MATCH($BB43&$AZ$14,name&Group2,0),MATCH(\"SEND\",Sheet2rng!$A$1:$AO$1,0)),\"\")","v":""},{"$f":"IFERROR(INDEX(indexdatabase,MATCH($BB43&$AZ$14,name&Group2,0),MATCH(\"MAT\",Sheet2rng!$A$1:$AO$1,0)),\"\")","v":""},{"$f":"IFERROR(INDEX(indexdatabase,MATCH($BB43&$AZ$14,name&Group2,0),MATCH(\"EAL\",Sheet2rng!$A$1:$AO$1,0)),\"\")","v":""},"","","","    ",{"$nulls":4},"10A/Pg1",null,null,"","IFERROR(INDEX(Sheet2rng,MATCH(BA12,sheet2rows,0), MATCH($BB$11,sheet2columns,0)),\"\")",{"$f":"IFERROR(INDEX(indexdatabase,MATCH(BQ43&$AZ$14,name&Group2,0),MATCH(\"PPI\",Sheet2rng!$A$1:$AK$1,0)),\"\")","v":""},{"$f":"IFERROR(SMALL(IF(LEFT(Group2,LEN('10B-So1'!$BA$10))='10B-So1'!$BA$10,ROW(Group2)),ROW(A32)),\"\")","v":""},{"$nulls":4},"",{"$nulls":56},0,"","SMITH Jade",{"$nulls":5},4,20,"SAWYER Cicarna-Lee",{"$nulls":5},0,"","SMITH Jade",{"$nulls":5},0,"","SMITH Jade",{"$nulls":5},0,"","SMITH Jade",{"$nulls":5},0,"","SMITH Jade",{"$nulls":51},0,0]
[{"$nulls":52},{"$f":"IFERROR(INDEX(indexdatabase,MATCH(BQ40&$AZ$14,name&Group2,0),MATCH(\"AR\",Sheet2rng!$A$1:$AK$1,0)),\"\")","v":""},"",{"$f":"IFERROR(INDEX(indexdatabase,MATCH($BB44&$AZ$14,name&Group2,0),MATCH(\"SEND\",Sheet2rng!$A$1:$AO$1,0)),\"\")","v":""},{"$f":"IFERROR(INDEX(indexdatabase,MATCH($BB44&$AZ$14,name&Group2,0),MATCH(\"MAT\",Sheet2rng!$A$1:$AO$1,0)),\"\")","v":""},{"$f":"IFERROR(INDEX(indexdatabase,MATCH($BB44&$AZ$14,name&Group2,0),MATCH(\"EAL\",Sheet2rng!$A$1:$AO$1,0)),\"\")","v":""},"","","","    ",{"$nulls":4},"10a/Sc1",null,null,"","IFERROR(INDEX(Sheet2rng,MATCH(BA12,sheet2rows,0), MATCH($BB$11,sheet2columns,0)),\"\")",{"$f":"IFERROR(INDEX(indexdatabase,MATCH(BQ44&$AZ$14,name&Group2,0),MATCH(\"PPI\",Sheet2rng!$A$1:$AK$1,0)),\"\")","v":""},{"$f":"IFERROR(SMALL(IF(LEFT(Group2,LEN('10B-So1'!$BA$10))='10B-So1'!$BA$10,ROW(Group2)),ROW(A33)),\"\")","v":""},{"$nulls":61},0,"","SWAN Callum",{"$nulls":5},4,20,"SEHMI Natalie",{"$nulls":5},0,"","SWAN Callum",{"$nulls":5},0,"","SWAN Callum",{"$nulls":5},0,"","SWAN Callum",{"$nulls":5},0,"","SWAN Callum",{"$nulls":51},0,0]
[{"$nulls":52},{"$f":"IFERROR(INDEX(indexdatabase,MATCH(BQ41&$AZ$14,name&Group2,0),MATCH(\"AR\",Sheet2rng!$A$1:$AK$1,0)),\"\")","v":""},"",{"$f":"IFERROR(INDEX(indexdatabase,MATCH($BB45&$AZ$14,name&Group2,0),MATCH(\"SEND\",Sheet2rng!$A$1:$AO$1,0)),\"\")","v":""},{"$f":"IFERROR(INDEX(indexdatabase,MATCH($BB45&$AZ$14,name&Group2,0),MATCH(\"MAT\",Sheet2rng!$A$1:$AO$1,0)),\"\")","v":""},{"$f":"IFERROR(INDEX(indexdatabase,MATCH($BB45&$AZ$14,name&Group2,0),MATCH(\"EAL\",Sheet2rng!$A$1:$AO$1,0)),\"\")","v":""},"","","","    ",{"$nulls":4},"10a/Sc2",null,null,"","IFERROR(INDEX(Sheet2rng,MATCH(BA12,sheet2rows,0), MATCH($BB$11,sheet2columns,0)),\"\")",{"$f":"IFERROR(INDEX(indexdatabase,MATCH(BQ45&$AZ$14,name&Group2,0),MATCH(\"PPI\",Sheet2rng!$A$1:$AK$1,0)),\"\")","v":""},{"$f":"IFERROR(SMALL(IF(LEFT(Group2,LEN('10B-So1'!$BA$10))='10B-So1'!$BA$10,ROW(Group2)),ROW(A34)),\"\")","v":""},{"$nulls":62},"","TURNER Liberty",{"$nulls":6},20,"SWAN Callum",{"$nulls":6},"","TURNER Liberty",{"$nulls":6},"","TURNER Liberty",{"$nulls":6},"","TURNER Liberty",{"$nulls":6},"","TURNER Liberty",{"$nulls":51},0,0]
[{"$nulls":52},{"$f":"IFERROR(INDEX(indexdatabase,MATCH(BQ42&$AZ$14,name&Group2,0),MATCH(\"AR\",Sheet2rng!$A$1:$AK$1,0)),\"\")","v":""},"",{"$f":"IFERROR(INDEX(indexdatabase,MATCH($BB46&$AZ$14,name&Group2,0),MATCH(\"SEND\",Sheet2rng!$A$1:$AO$1,0)),\"\")","v":""},{"$f":"IFERROR(INDEX(indexdatabase,MATCH($BB46&$AZ$14,name&Group2,0),MATCH(\"MAT\",Sheet2rng!$A$1:$AO$1,0)),\"\")","v":""},{"$f":"IFERROR(INDEX(indexdatabase,MATCH($BB46&$AZ$14,name&Group2,0),MATCH(\"EAL\",Sheet2rng!$A$1:$AO$1,0)),\"\")","v":""},"","","","    ",{"$nulls":4},"10a/Sc3",null,null,"","IFERROR(INDEX(Sheet2rng,MATCH(BA12,sheet2rows,0), MATCH($BB$11,sheet2columns,0)),\"\")",{"$f":"IFERROR(INDEX(indexdatabase,MATCH(BQ46&$AZ$14,name&Group2,0),MATCH(\"PPI\",Sheet2rng!$A$1:$AK$1,0)),\"\")","v":""},{"$f":"IFERROR(SMALL(IF(LEFT(Group2,LEN('10B-So1'!$BA$10))='10B-So1'!$BA$10,ROW(Group2)),ROW(A35)),\"\")","v":""},{"$nulls":62},"","WILLIS Demi",{"$nulls":6},20,"WILLIS Demi",{"$nulls":6},"","WILLIS Demi",{"$nulls":6},"","WILLIS Demi",{"$nulls":6},"","WILLIS Demi",{"$nulls":6},"","WILLIS Demi",{"$nulls":51},0,0]
[{"$nulls":13},"",{"$nulls":3},"",{"$nulls":5},"",{"$nulls":3},"",{"$nulls":3},"",{"$nulls":3},"",{"$nulls":5},"",{"$nulls":3},"",{"$nulls":6},{"$f":"IFERROR(INDEX(indexdatabase,MATCH(BQ43&$AZ$14,name&Group2,0),MATCH(\"AR\",Sheet2rng!$A$1:$AK$1,0)),\"\")","v":""},null,{"$f":"IFERROR(INDEX(indexdatabase,MATCH($BB47&$AZ$14,name&Group2,0),MATCH(\"SEND\",Sheet2rng!$A$1:$AO$1,0)),\"\")","v":""},{"$f":"IFERROR(INDEX(indexdatabase,MATCH($BB47&$AZ$14,name&Group2,0),MATCH(\"MAT\",Sheet2rng!$A$1:$AO$1,0)),\"\")","v":""},{"$f":"IFERROR(INDEX(indexdatabase,MATCH($BB47&$AZ$14,name&Group2,0),MATCH(\"EAL\",Sheet2rng!$A$1:$AO$1,0)),\"\")","v":""},"","","","    ",{"$nulls":4},"10a/Sc4",null,null,"","IFERROR(INDEX(Sheet2rng,MATCH(BA12,sheet2rows,0), MATCH($BB$11,sheet2columns,0)),\"\")",{"$f":"IFERROR(INDEX(indexdatabase,MATCH(BQ47&$AZ$14,name&Group2,0),MATCH(\"PPI\",Sheet2rng!$A$1:$AK$1,0)),\"\")","v":""},{"$f":"IFERROR(SMALL(IF(LEFT(Group2,LEN('10B-So1'!$BA$10))='10B-So1'!$BA$10,ROW(Group2)),ROW(A36)),\"\")","v":""},{"$nulls":62},"","WRIGHT Caitlin",{"$nulls":6},"","RIORDAN Robbie",{"$nulls":6},"","WRIGHT Caitlin",{"$nulls":6},"","WRIGHT Caitlin",{"$nulls":6},"","WRIGHT Caitlin",{"$nulls":6},"","WRIGHT Caitlin",{"$nulls":51},0,0]
[{"$nulls":13},{"$f":"IFERROR(IF($Y$1=1,\"\",VLOOKUP(N47,needstable,8,FALSE)),\"\")","v":"    "},{"$nulls":3},{"$f":"IFERROR(IF($Y$1=1,\"\",VLOOKUP(R47,needstable,8,FALSE)),\"\")","v":"    "},{"$nulls":5},{"$f":"IFERROR(IF($Y$1=1,\"\",VLOOKUP(X47,needstable,8,FALSE)),\"\")","v":"    "},{"$nulls":3},{"$f":"IFERROR(IF($Y$1=1,\"\",VLOOKUP(AB47,needstable,8,FALSE)),\"\")","v":"    "},{"$nulls":3},{"$f":"IFERROR(IF($Y$1=1,\"\",VLOOKUP(AF47,needstable,8,FALSE)),\"\")","v":"    "},{"$nulls":3},{"$f":"IFERROR(IF($Y$1=1,\"\",VLOOKUP(AJ47,needstable,8,FALSE)),\"\")","v":"    "},{"$nulls":5},{"$f":"IFERROR(IF($Y$1=1,\"\",VLOOKUP(AP47,needstable,8,FALSE)),\"\")","v":"    "},{"$nulls":3},{"$f":"IFERROR(IF($Y$1=1,\"\",VLOOKUP(AT47,needstable,8,FALSE)),\"\")","v":"    "},{"$nulls":6},{"$f":"IFERROR(INDEX(indexdatabase,MATCH(BQ44&$AZ$14,name&Group2,0),MATCH(\"AR\",Sheet2rng!$A$1:$AK$1,0)),\"\")","v":""},null,{"$f":"IFERROR(INDEX(indexdatabase,MATCH($BB48&$AZ$14,name&Group2,0),MATCH(\"SEND\",Sheet2rng!$A$1:$AO$1,0)),\"\")","v":""},{"$f":"IFERROR(INDEX(indexdatabase,MATCH($BB48&$AZ$14,name&Group2,0),MATCH(\"MAT\",Sheet2rng!$A$1:$AO$1,0)),\"\")","v":""},{"$f":"IFERROR(INDEX(indexdatabase,MATCH($BB48&$AZ$14,name&Group2,0),MATCH(\"EAL\",Sheet2rng!$A$1:$AO$1,0)),\"\")","v":""},"","","",{"$f":"CONCATENATE(BF48,\"  \",BG48,\"  \",BH48)","v":"    "},{"$nulls":4},"10a/Sc5",null,null,"","IFERROR(INDEX(Sheet2rng,MATCH(BA12,sheet2rows,0), MATCH($BB$11,sheet2columns,0)),\"\")",{"$f":"IFERROR(INDEX(indexdatabase,MATCH(BQ48&$AZ$14,name&Group2,0),MATCH(\"PPI\",Sheet2rng!$A$1:$AK$1,0)),\"\")","v":""},{"$f":"IFERROR(SMALL(IF(LEFT(Group2,LEN('10B-So1'!$BA$10))='10B-So1'!$BA$10,ROW(Group2)),ROW(A37)),\"\")","v":""},{"$nulls":62},"","",{"$nulls":6},"","",{"$nulls":6},"","",{"$nulls":6},"","",{"$nulls":6},"","",{"$nulls":6},"","",{"$nulls":51},0,0]
[{"$nulls":13},"C/grade",null,"KS2",null,"C/grade",null,"KS2",{"$nulls":3},"C/grade",null,"KS2",null,"C/grade",null,"KS2",null,"C/grade",null,"KS2",null,"C/grade",null,"KS2",{"$nulls":3},"C/grade",null,"KS2",null,"C/grade",null,"KS2",{"$nulls":17},"10a/Sc6",null,null,"","IFERROR(INDEX(Sheet2rng,MATCH(BA12,sheet2rows,0), MATCH($BB$11,sheet2columns,0)),\"\")",{"$f":"IFERROR(INDEX(indexdatabase,MATCH(BQ49&$AZ$14,name&Group2,0),MATCH(\"PPI\",Sheet2rng!$A$1:$AK$1,0)),\"\")","v":""},{"$f":"IFERROR(SMALL(IF(LEFT(Group2,LEN('10B-So1'!$BA$10))='10B-So1'!$BA$10,ROW(Group2)),ROW(A38)),\"\")","v":""},{"$nulls":155},0,0]
[{"$nulls":13},{"$f":"IFERROR(IF($Y$2=2,\"\",IF($Y$2=3,INDEX(indexdatabase,MATCH(N47&$AZ$14,name&Group2,0),MATCH($AZ$23,Sheet2rng!$A$1:$AK$1,0)))),\"\")","v":""},null,{"$f":"IFERROR(IF($Y$3=4,\"\",IF($Y$3=5,INDEX(indexdatabase,MATCH(N47&$AZ$14,name&Group2,0),MATCH(\"KS2\",Sheet2rng!$A$1:$AK$1,0)))),\"\")","v":""},null,{"$f":"IFERROR(IF($Y$2=2,\"\",IF($Y$2=3,INDEX(indexdatabase,MATCH(R47&$AZ$14,name&Group2,0),MATCH($AZ$23,Sheet2rng!$A$1:$AK$1,0)))),\"\")","v":""},null,{"$f":"IFERROR(IF($Y$3=4,\"\",IF($Y$3=5,INDEX(indexdatabase,MATCH(R47&$AZ$14,name&Group2,0),MATCH(\"KS2\",Sheet2rng!$A$1:$AK$1,0)))),\"\")","v":""},{"$nulls":3},{"$f":"IFERROR(IF($Y$2=2,\"\",IF($Y$2=3,INDEX(indexdatabase,MATCH(X47&$AZ$14,name&Group2,0),MATCH($AZ$23,Sheet2rng!$A$1:$AK$1,0)))),\"\")","v":""},null,{"$f":"IFERROR(IF($Y$3=4,\"\",IF($Y$3=5,INDEX(indexdatabase,MATCH(X47&$AZ$14,name&Group2,0),MATCH(\"KS2\",Sheet2rng!$A$1:$AK$1,0)))),\"\")","v":""},null,{"$f":"IFERROR(IF($Y$2=2,\"\",IF($Y$2=3,INDEX(indexdatabase,MATCH(AB47&$AZ$14,name&Group2,0),MATCH($AZ$23,Sheet2rng!$A$1:$AK$1,0)))),\"\")","v":""},null,{"$f":"IFERROR(IF($Y$3=4,\"\",IF($Y$3=5,INDEX(indexdatabase,MATCH(AB47&$AZ$14,name&Group2,0),MATCH(\"KS2\",Sheet2rng!$A$1:$AK$1,0)))),\"\")","v":""},null,{"$f":"IFERROR(IF($Y$2=2,\"\",IF($Y$2=3,INDEX(indexdatabase,MATCH(AF47&$AZ$14,name&Group2,0),MATCH($AZ$23,Sheet2rng!$A$1:$AK$1,0)))),\"\")","v":""},null,{"$f":"IFERROR(IF($Y$3=4,\"\",IF($Y$3=5,INDEX(indexdatabase,MATCH(AF47&$AZ$14,name&Group2,0),MATCH(\"KS2\",Sheet2rng!$A$1:$AK$1,0)))),\"\")","v":""},null,{"$f":"IFERROR(IF($Y$2=2,\"\",IF($Y$2=3,INDEX(indexdatabase,MATCH(AJ47&$AZ$14,name&Group2,0),MATCH($AZ$23,Sheet2rng!$A$1:$AK$1,0)))),\"\")","v":""},null,{"$f":"IFERROR(IF($Y$3=4,\"\",IF($Y$3=5,INDEX(indexdatabase,MATCH(AJ47&$AZ$14,name&Group2,0),MATCH(\"KS2\",Sheet2rng!$A$1:$AK$1,0)))),\"\")","v":""},{"$nulls":3},{"$f":"IFERROR(IF($Y$2=2,\"\",IF($Y$2=3,INDEX(indexdatabase,MATCH(AP47&$AZ$14,name&Group2,0),MATCH($AZ$23,Sheet2rng!$A$1:$AK$1,0)))),\"\")","v":""},null,{"$f":"IFERROR(IF($Y$3=4,\"\",IF($Y$3=5,INDEX(indexdatabase,MATCH(AP47&$AZ$14,name&Group2,0),MATCH(\"KS2\",Sheet2rng!$A$1:$AK$1,0)))),\"\")","v":""},null,{"$f":"IFERROR(IF($Y$2=2,\"\",IF($Y$2=3,INDEX(indexdatabase,MATCH(AT47&$AZ$14,name&Group2,0),MATCH($AZ$23,Sheet2rng!$A$1:$AK$1,0)))),\"\")","v":""},null,{"$f":"IFERROR(IF($Y$3=4,\"\",IF($Y$3=5,INDEX(indexdatabase,MATCH(AT47&$AZ$14,name&Group2,0),MATCH(\"KS2\",Sheet2rng!$A$1:$AK$1,0)))),\"\")","v":""},{"$nulls":17},"10A/So1",null,null,"","IFERROR(INDEX(Sheet2rng,MATCH(BA12,sheet2rows,0), MATCH($BB$11,sheet2columns,0)),\"\")",{"$f":"IFERROR(INDEX(indexdatabase,MATCH(BQ50&$AZ$14,name&Group2,0),MATCH(\"PPI\",Sheet2rng!$A$1:$AK$1,0)),\"\")","v":""},{"$f":"IFERROR(SMALL(IF(LEFT(Group2,LEN('10B-So1'!$BA$10))='10B-So1'!$BA$10,ROW(Group2)),ROW(A39)),\"\")","v":""},{"$nulls":62},"","",{"$nulls":6},"","",{"$nulls":6},"","",{"$nulls":5},{"$f":"IF(FC50=1,1,IF(FC50=2,2,IF(FC50=FC49,FB49,IF(FC50>FC49,FB49+1))))","v":0},"","",{"$nulls":5},{"$f":"IF(FK50=1,1,IF(FK50=2,2,IF(FK50=FK49,FJ49,IF(FK50>FK49,FJ49+1))))","v":0},"","",{"$nulls":5},{"$f":"IF(FS50=1,1,IF(FS50=2,2,IF(FS50=FS49,FR49,IF(FS50>FS49,FR49+1))))","v":0},"","",{"$nulls":51},0,0]
[{"$nulls":13},"Target",null,"AR",null,"Target",null,"AR",{"$nulls":3},"Target",null,"AR",null,"Target",null,"AR",null,"Target",null,"AR",null,"Target",null,"AR",{"$nulls":3},"Target",null,"AR",null,"Target",null,"AR",{"$nulls":17},"10A/So2",null,null,"","IFERROR(INDEX(Sheet2rng,MATCH(BA12,sheet2rows,0), MATCH($BB$11,sheet2columns,0)),\"\")",{"$f":"IFERROR(INDEX(indexdatabase,MATCH(BQ51&$AZ$14,name&Group2,0),MATCH(\"PPI\",Sheet2rng!$A$1:$AK$1,0)),\"\")","v":""},{"$f":"IFERROR(SMALL(IF(LEFT(Group2,LEN('10B-So1'!$BA$10))='10B-So1'!$BA$10,ROW(Group2)),ROW(A40)),\"\")","v":""},{"$nulls":62},"","",{"$nulls":6},"","",{"$nulls":6},"","",{"$nulls":6},"","",{"$nulls":6},"","",{"$nulls":6},"","",{"$nulls":52},{"$f":"DU370","v":0}]
[{"$nulls":13},{"$f":"IFERROR(IF($Y$4=6,\"\",IF($Y$4=7,INDEX(indexdatabase,MATCH(N47&$AZ$14,name&Group2,0),MATCH(\"Target\",Sheet2rng!$A$1:$AK$1,0)))),\"\")","v":""},null,{"$f":"IFERROR(IF($Y$5=8,\"\",IF($Y$5=9,INDEX(Sheet2rng,MATCH(N47&$AZ$14,name&Group2,0),MATCH(P51,sheet2columns,0)))),\"\")","v":""},null,{"$f":"IFERROR(IF($Y$4=6,\"\",IF($Y$4=7,INDEX(indexdatabase,MATCH(R47&$AZ$14,name&Group2,0),MATCH(\"Target\",Sheet2rng!$A$1:$AK$1,0)))),\"\")","v":""},null,{"$f":"IFERROR(IF($Y$5=8,\"\",IF($Y$5=9,INDEX(Sheet2rng,MATCH(R47&$AZ$14,name&Group2,0),MATCH(T51,sheet2columns,0)))),\"\")","v":""},{"$nulls":3},{"$f":"IFERROR(IF($Y$4=6,\"\",IF($Y$4=7,INDEX(indexdatabase,MATCH(X47&$AZ$14,name&Group2,0),MATCH(\"Target\",Sheet2rng!$A$1:$AK$1,0)))),\"\")","v":""},null,{"$f":"IFERROR(IF($Y$5=8,\"\",IF($Y$5=9,INDEX(Sheet2rng,MATCH(X47&$AZ$14,name&Group2,0),MATCH(Z51,sheet2columns,0)))),\"\")","v":""},null,{"$f":"IFERROR(IF($Y$4=6,\"\",IF($Y$4=7,INDEX(indexdatabase,MATCH(AB47&$AZ$14,name&Group2,0),MATCH(\"Target\",Sheet2rng!$A$1:$AK$1,0)))),\"\")","v":""},null,{"$f":"IFERROR(IF($Y$5=8,\"\",IF($Y$5=9,INDEX(Sheet2rng,MATCH(AB47&$AZ$14,name&Group2,0),MATCH(AD51,sheet2columns,0)))),\"\")","v":""},null,{"$f":"IFERROR(IF($Y$4=6,\"\",IF($Y$4=7,INDEX(indexdatabase,MATCH(AF47&$AZ$14,name&Group2,0),MATCH(\"Target\",Sheet2rng!$A$1:$AK$1,0)))),\"\")","v":""},null,{"$f":"IFERROR(IF($Y$5=8,\"\",IF($Y$5=9,INDEX(Sheet2rng,MATCH(AF47&$AZ$14,name&Group2,0),MATCH(AH51,sheet2columns,0)))),\"\")","v":""},null,{"$f":"IFERROR(IF($Y$4=6,\"\",IF($Y$4=7,INDEX(indexdatabase,MATCH(AJ47&$AZ$14,name&Group2,0),MATCH(\"Target\",Sheet2rng!$A$1:$AK$1,0)))),\"\")","v":""},null,{"$f":"IFERROR(IF($Y$5=8,\"\",IF($Y$5=9,INDEX(Sheet2rng,MATCH(AJ47&$AZ$14,name&Group2,0),MATCH(AL51,sheet2columns,0)))),\"\")","v":""},{"$nulls":3},{"$f":"IFERROR(IF($Y$4=6,\"\",IF($Y$4=7,INDEX(indexdatabase,MATCH(AP47&$AZ$14,name&Group2,0),MATCH(\"Target\",Sheet2rng!$A$1:$AK$1,0)))),\"\")","v":""},null,{"$f":"IFERROR(IF($Y$5=8,\"\",IF($Y$5=9,INDEX(Sheet2rng,MATCH(AP47&$AZ$14,name&Group2,0),MATCH(AR51,sheet2columns,0)))),\"\")","v":""},null,{"$f":"IFERROR(IF($Y$4=6,\"\",IF($Y$4=7,INDEX(indexdatabase,MATCH(AT47&$AZ$14,name&Group2,0),MATCH(\"Target\",Sheet2rng!$A$1:$AK$1,0)))),\"\")","v":""},null,{"$f":"IFERROR(IF($Y$5=8,\"\",IF($Y$5=9,INDEX(Sheet2rng,MATCH(AT47&$AZ$14,name&Group2,0),MATCH(AV51,sheet2columns,0)))),\"\")","v":""},{"$nulls":17},"10A/Sp1",null,null,"","IFERROR(INDEX(Sheet2rng,MATCH(BA12,sheet2rows,0), MATCH($BB$11,sheet2columns,0)),\"\")",{"$f":"IFERROR(INDEX(indexdatabase,MATCH(BQ52&$AZ$14,name&Group2,0),MATCH(\"PPI\",Sheet2rng!$A$1:$AK$1,0)),\"\")","v":""},{"$f":"IFERROR(SMALL(IF(LEFT(Group2,LEN('10B-So1'!$BA$10))='10B-So1'!$BA$10,ROW(Group2)),ROW(A41)),\"\")","v":""},{"$nulls":62},"","",{"$nulls":6},"","",{"$nulls":6},"","",{"$nulls":6},"","",{"$nulls":6},"","",{"$nulls":6},"",""]
[{"$nulls":65},"10B/Ab1",null,null,"","IFERROR(INDEX(Sheet2rng,MATCH(BA12,sheet2rows,0), MATCH($BB$11,sheet2columns,0)),\"\")",{"$f":"IFERROR(INDEX(indexdatabase,MATCH(BQ53&$AZ$14,name&Group2,0),MATCH(\"PPI\",Sheet2rng!$A$1:$AK$1,0)),\"\")","v":""},{"$f":"IFERROR(SMALL(IF(LEFT(Group2,LEN('10B-So1'!$BA$10))='10B-So1'!$BA$10,ROW(Group2)),ROW(A42)),\"\")","v":""},{"$nulls":62},"","",{"$nulls":6},"","",{"$nulls":6},"","",{"$nulls":6},"","",{"$nulls":6},"","",{"$nulls":6},"",""]
[{"$nulls":65},"10B/Ad1",null,null,"","IFERROR(INDEX(Sheet2rng,MATCH(BA12,sheet2rows,0), MATCH($BB$11,sheet2columns,0)),\"\")",{"$f":"IFERROR(INDEX(indexdatabase,MATCH(BQ54&$AZ$14,name&Group2,0),MATCH(\"PPI\",Sheet2rng!$A$1:$AK$1,0)),\"\")","v":""},{"$f":"IFERROR(SMALL(IF(LEFT(Group2,LEN('10B-So1'!$BA$10))='10B-So1'!$BA$10,ROW(Group2)),ROW(A43)),\"\")","v":""},{"$nulls":62},"","",{"$nulls":6},"","",{"$nulls":6},"","",{"$nulls":6},"","",{"$nulls":6},"","",{"$nulls":6},"",""]
[{"$nulls":65},"10B/Bu1",null,null,"","IFERROR(INDEX(Sheet2rng,MATCH(BA12,sheet2rows,0), MATCH($BB$11,sheet2columns,0)),\"\")",{"$f":"IFERROR(INDEX(indexdatabase,MATCH(BQ55&$AZ$14,name&Group2,0),MATCH(\"PPI\",Sheet2rng!$A$1:$AK$1,0)),\"\")","v":""},{"$f":"IFERROR(SMALL(IF(LEFT(Group2,LEN('10B-So1'!$BA$10))='10B-So1'!$BA$10,ROW(Group2)),ROW(A44)),\"\")","v":""}]
[{"$nulls":65},"10B/Cs1",null,null,"","IFERROR(INDEX(Sheet2rng,MATCH(BA12,sheet2rows,0), MATCH($BB$11,sheet2columns,0)),\"\")",{"$f":"IFERROR(INDEX(indexdatabase,MATCH(BQ56&$AZ$14,name&Group2,0),MATCH(\"PPI\",Sheet2rng!$A$1:$AK$1,0)),\"\")","v":""},{"$f":"IFERROR(SMALL(IF(LEFT(Group2,LEN('10B-So1'!$BA$10))='10B-So1'!$BA$10,ROW(Group2)),ROW(A45)),\"\")","v":""}]
[{"$nulls":65},"10B/Gg1",null,null,"","IFERROR(INDEX(Sheet2rng,MATCH(BA12,sheet2rows,0), MATCH($BB$11,sheet2columns,0)),\"\")",{"$f":"IFERROR(INDEX(indexdatabase,MATCH(BQ57&$AZ$14,name&Group2,0),MATCH(\"PPI\",Sheet2rng!$A$1:$AK$1,0)),\"\")","v":""},{"$f":"IFERROR(SMALL(IF(LEFT(Group2,LEN('10B-So1'!$BA$10))='10B-So1'!$BA$10,ROW(Group2)),ROW(A46)),\"\")","v":""}]
[{"$nulls":65},"10B/Hi1",null,null,"","IFERROR(INDEX(Sheet2rng,MATCH(BA12,sheet2rows,0), MATCH($BB$11,sheet2columns,0)),\"\")",{"$f":"IFERROR(INDEX(indexdatabase,MATCH(BQ58&$AZ$14,name&Group2,0),MATCH(\"PPI\",Sheet2rng!$A$1:$AK$1,0)),\"\")","v":""},{"$f":"IFERROR(SMALL(IF(LEFT(Group2,LEN('10B-So1'!$BA$10))='10B-So1'!$BA$10,ROW(Group2)),ROW(A47)),\"\")","v":""}]
[{"$nulls":65},"10B/Hi2",null,null,"","IFERROR(INDEX(Sheet2rng,MATCH(BA12,sheet2rows,0), MATCH($BB$11,sheet2columns,0)),\"\")",{"$f":"IFERROR(INDEX(indexdatabase,MATCH(BQ59&$AZ$14,name&Group2,0),MATCH(\"PPI\",Sheet2rng!$A$1:$AK$1,0)),\"\")","v":""},{"$f":"IFERROR(SMALL(IF(LEFT(Group2,LEN('10B-So1'!$BA$10))='10B-So1'!$BA$10,ROW(Group2)),ROW(A48)),\"\")","v":""}]
[{"$nulls":65},"10B/It1",null,null,"","IFERROR(INDEX(Sheet2rng,MATCH(BA12,sheet2rows,0), MATCH($BB$11,sheet2columns,0)),\"\")",{"$f":"IFERROR(INDEX(indexdatabase,MATCH(BQ60&$AZ$14,name&Group2,0),MATCH(\"PPI\",Sheet2rng!$A$1:$AK$1,0)),\"\")","v":""},{"$f":"IFERROR(SMALL(IF(LEFT(Group2,LEN('10B-So1'!$BA$10))='10B-So1'!$BA$10,ROW(Group2)),ROW(A49)),\"\")","v":""}]
[{"$nulls":65},"10b/Pe1",null,null,"","IFERROR(INDEX(Sheet2rng,MATCH(BA12,sheet2rows,0), MATCH($BB$11,sheet2columns,0)),\"\")",{"$f":"IFERROR(INDEX(indexdatabase,MATCH(BQ61&$AZ$14,name&Group2,0),MATCH(\"PPI\",Sheet2rng!$A$1:$AK$1,0)),\"\")","v":""},{"$f":"IFERROR(SMALL(IF(LEFT(Group2,LEN('10B-So1'!$BA$10))='10B-So1'!$BA$10,ROW(Group2)),ROW(A50)),\"\")","v":""}]
[{"$nulls":65},"10b/Pe2"]
[{"$nulls":65},"10b/Pe3"]
[{"$nulls":65},"10b/Pe4",{"$nulls":67},{"$f":"IF(EE64=1,1,IF(EE64=2,2,IF(EE64=EE63,ED63,IF(EE64>EE63,ED63+1))))","v":1},1,"ABU Aisha",{"$f":"ED64","v":1},{"$nulls":4},{"$f":"IF(EM64=1,1,IF(EM64=2,2,IF(EM64=EM63,EL63,IF(EM64>EM63,EL63+1))))","v":1},1,"GIBSON James",{"$f":"EL64","v":1},{"$nulls":4},{"$f":"IF(EU64=1,1,IF(EU64=2,2,IF(EU64=EU63,ET63,IF(EU64>EU63,ET63+1))))","v":0},"","ABU Aisha",{"$f":"ET64","v":0},{"$nulls":4},{"$f":"IF(FC64=1,1,IF(FC64=2,2,IF(FC64=FC63,FB63,IF(FC64>FC63,FB63+1))))","v":0},"","ABU Aisha",{"$f":"FB64","v":0},{"$nulls":4},{"$f":"IF(FK64=1,1,IF(FK64=2,2,IF(FK64=FK63,FJ63,IF(FK64>FK63,FJ63+1))))","v":0},"","ABU Aisha",{"$f":"FJ64","v":0},{"$nulls":4},{"$f":"IF(FS64=1,1,IF(FS64=2,2,IF(FS64=FS63,FR63,IF(FS64>FS63,FR63+1))))","v":0},"","ABU Aisha",{"$f":"FR64","v":0}]
[{"$nulls":65},"10B/Pt1"]
[{"$nulls":65},"10B/Pt2"]
[{"$nulls":65},"10B/Ts1"]
[{"$nulls":65},"10bc/En1"]
[{"$nulls":65},"10bc/En2"]
[{"$nulls":65},"10bc/En3"]
[{"$nulls":65},"10bc/En4"]
[{"$nulls":65},"10bc/En5"]
[{"$nulls":65},"10bc/En6"]
[{"$nulls":65},"10bc/En7"]
[{"$nulls":65},"10bc/Ep1"]
[{"$nulls":65},"10bc/Ep2"]
[{"$nulls":65},"10bc/Ep3"]
[{"$nulls":65},"10bc/Ep4"]
[{"$nulls":65},"10bc/Ep5"]
[{"$nulls":65},"10bc/Ep6"]
[{"$nulls":65},"10bc/Ep7"]
[{"$nulls":65},"10bc/Sc1"]
[{"$nulls":65},"10bc/Sc2"]
[{"$nulls":65},"10bc/Sc3"]
[{"$nulls":65},"10bc/Sc4"]
[{"$nulls":65},"10bc/Sc5"]
[{"$nulls":65},"10bc/Sc6"]
[{"$nulls":65},"10bc/Sc7"]
[{"$nulls":65},"10bd/Ma1"]
[{"$nulls":65},"10bd/Ma2"]
[{"$nulls":65},"10bd/Ma3"]
[{"$nulls":65},"10bd/Ma4"]
[{"$nulls":65},"10bd/Ma5"]
[{"$nulls":65},"10bd/Ma6"]
[{"$nulls":65},"10bd/Ma7"]
[{"$nulls":65},"10bd/Ma8"]
[{"$nulls":65},"10C/Be1"]
[{"$nulls":65},"10C/Dr1"]
[{"$nulls":65},"10C/Fr1"]
[{"$nulls":65},"10C/Gg1"]
[{"$nulls":65},"10C/Hi1"]
[{"$nulls":65},"10C/It1"]
[{"$nulls":65},"10C/Pg1"]
[{"$nulls":65},"10C/Rm1"]
[{"$nulls":65},"10C/So1"]
[{"$nulls":65},"10C/Ts1"]
[{"$nulls":65},"10cd/Pe1"]
[{"$nulls":65},"10cd/Pe2"]
[{"$nulls":65},"10cd/Pe3"]
[{"$nulls":65},"10cd/Pe4"]
[{"$nulls":65},"10cd/Pe5"]
[{"$nulls":65},"10D/Be1"]
[{"$nulls":65},"10d/En1"]
[{"$nulls":65},"10D/Gg1"]
[{"$nulls":65},"10D/It1"]
[{"$nulls":65},"10d/Sc1"]
[{"$nulls":65},"10D/So1"]
[{"$nulls":65},"10d/Vo1"]
[{"$nulls":65},"10E/Fc1"]
[{"$nulls":65},"10E/Pb1"]
[{"$nulls":65},"10E/Pb2"]
[{"$nulls":65},"10E/Pt1"]
[{"$nulls":65},"10E/Pt2"]
[{"$nulls":65},"10F/Ab1"]
[{"$nulls":65},"10F/It1"]
[{"$nulls":65},"10F/Rm1"]
[{"$nulls":65},"10F/Tt1"]
[{"$nulls":65},"11A/Cs1"]
[{"$nulls":65},"11A/Dr1"]
[{"$nulls":65},"11A/Ec1"]
[{"$nulls":65},"11a/En1"]
[{"$nulls":65},"11a/En2"]
[{"$nulls":65},"11a/En3"]
[{"$nulls":65},"11a/En4"]
[{"$nulls":65},"11a/En5"]
[{"$nulls":65},"11a/Ep1"]
[{"$nulls":65},"11a/Ep2"]
[{"$nulls":65},"11a/Ep3"]
[{"$nulls":65},"11a/Ep4"]
[{"$nulls":65},"11a/Ep5"]
[{"$nulls":65},"11A/Fr1"]
[{"$nulls":65},"11A/Gg1"]
[{"$nulls":65},"11A/Hi1"]
[{"$nulls":65},"11A/Hi2"]
[{"$nulls":65},"11a/Ma1"]
[{"$nulls":65},"11a/Ma2"]
[{"$nulls":65},"11a/Ma3"]
[{"$nulls":65},"11a/Ma4"]
[{"$nulls":65},"11a/Ma5"]
[{"$nulls":65},"11a/Pe1"]
[{"$nulls":65},"11a/Pe2"]
[{"$nulls":65},"11a/Pe3"]
[{"$nulls":65},"11a/Pe4"]
[{"$nulls":65},"11a/Pe5"]
[{"$nulls":65},"11a/Pe6"]
[{"$nulls":65},"11A/Pg1"]
[{"$nulls":65},"11A/Pg2"]
[{"$nulls":65},"11A/Pt1"]
[{"$nulls":65},"11A/Pt2"]
[{"$nulls":65},"11A/Rm1"]
[{"$nulls":65},"11a/Sc1"]
[{"$nulls":65},"11a/Sc2"]
[{"$nulls":65},"11a/Sc3"]
[{"$nulls":65},"11a/Sc4"]
[{"$nulls":65},"11a/Sc5"]
[{"$nulls":65},"11A/So1"]
[{"$nulls":65},"11B/Ar1"]
[{"$nulls":65},"11B/Bb1"]
[{"$nulls":65},"11B/Bu1"]
[{"$nulls":65},"11B/Cs1"]
[{"$nulls":65},"11B/Dr1"]
[{"$nulls":65},"11B/Gg1"]
[{"$nulls":65},"11B/Hg1"]
[{"$nulls":65},"11B/Hi1"]
[{"$nulls":65},"11b/Pe1"]
[{"$nulls":65},"11b/Pe2"]
[{"$nulls":65},"11b/Pe3"]
[{"$nulls":65},"11b/Pe4"]
[{"$nulls":65},"11B/Pg1"]
[{"$nulls":65},"11B/Pg2"]
[{"$nulls":65},"11B/So1"]
[{"$nulls":65},"11B/Sp1"]
[{"$nulls":65},"11bc/En1"]
[{"$nulls":65},"11bc/En2"]
[{"$nulls":65},"11bc/En3"]
[{"$nulls":65},"11bc/En4"]
[{"$nulls":65},"11bc/En5"]
[{"$nulls":65},"11bc/En6"]
[{"$nulls":65},"11bc/En7"]
[{"$nulls":65},"11bc/Ep1"]
[{"$nulls":65},"11bc/Ep2"]
[{"$nulls":65},"11bc/Ep3"]
[{"$nulls":65},"11bc/Ep4"]
[{"$nulls":65},"11bc/Ep5"]
[{"$nulls":65},"11bc/Ep6"]
[{"$nulls":65},"11bc/Ep7"]
[{"$nulls":65},"11bc/Sc1"]
[{"$nulls":65},"11bc/Sc2"]
[{"$nulls":65},"11bc/Sc3"]
[{"$nulls":65},"11bc/Sc4"]
[{"$nulls":65},"11bc/Sc5"]
[{"$nulls":65},"11bc/Sc6"]
[{"$nulls":65},"11bc/Sc7"]
[{"$nulls":65},"11bd/Ma1"]
[{"$nulls":65},"11bd/Ma2"]
[{"$nulls":65},"11bd/Ma3"]
[{"$nulls":65},"11bd/Ma4"]
[{"$nulls":65},"11bd/Ma5"]
[{"$nulls":65},"11bd/Ma6"]
[{"$nulls":65},"11bd/Ma7"]
[{"$nulls":65},"11bd/Ma8"]
[{"$nulls":65},"11C/Ab1"]
[{"$nulls":65},"11C/Bb1"]
[{"$nulls":65},"11C/Bu1"]
[{"$nulls":65},"11C/Cs1"]
[{"$nulls":65},"11C/Fr1"]
[{"$nulls":65},"11C/Gg1"]
[{"$nulls":65},"11C/Hi1"]
[{"$nulls":65},"11C/Ib1"]
[{"$nulls":65},"11C/It1"]
[{"$nulls":65},"11C/Mu1"]
[{"$nulls":65},"11C/So1"]
[{"$nulls":65},"11cd/Pe1"]
[{"$nulls":65},"11cd/Pe2"]
[{"$nulls":65},"11cd/Pe3"]
[{"$nulls":65},"11cd/Pe4"]
[{"$nulls":65},"11D/Ab1"]
[{"$nulls":65},"11D/Bb1"]
[{"$nulls":65},"11D/Dr1"]
[{"$nulls":65},"11d/En1"]
[{"$nulls":65},"11D/Fc1"]
[{"$nulls":65},"11d/Sc1"]
[{"$nulls":65},"11d/Vo1"]
[{"$nulls":65},"11E/Hi1"]
[{"$nulls":65},"11E/Ib1"]
[{"$nulls":65},"11E/Rm1"]
[{"$nulls":65},"11E/So1"]
[{"$nulls":65},"11F/Bb1"]
[{"$nulls":65},"11F/Fc1"]
[{"$nulls":65},"11F/Ib1"]
[{"$nulls":65},"11F/Pb1"]
[{"$nulls":65},"12A/Ac1"]
[{"$nulls":65},"12A/Ar1"]
[{"$nulls":65},"12A/En1"]
[{"$nulls":65},"12A/Fr1"]
[{"$nulls":65},"12A/Ma1"]
[{"$nulls":65},"12A/Pb1"]
[{"$nulls":65},"12A/Pv1"]
[{"$nulls":65},"12A/Py1"]
[{"$nulls":65},"12A/Sm1"]
[{"$nulls":65},"12A/So1"]
[{"$nulls":65},"12A/Ws1"]
[{"$nulls":65},"12B/Ch1"]
[{"$nulls":65},"12B/Ec1"]
[{"$nulls":65},"12B/It1"]
[{"$nulls":65},"12B/Ms1"]
[{"$nulls":65},"12B/Pb1"]
[{"$nulls":65},"12B/Pb2"]
[{"$nulls":65},"12B/Pi1"]
[{"$nulls":65},"12B/Pv1"]
[{"$nulls":65},"12B/Sm1"]
[{"$nulls":65},"12B/Tt1"]
[{"$nulls":65},"12C/Bb1"]
[{"$nulls":65},"12C/Bi1"]
[{"$nulls":65},"12C/Bu1"]
[{"$nulls":65},"12C/En1"]
[{"$nulls":65},"12C/Hi1"]
[{"$nulls":65},"12C/Pb1"]
[{"$nulls":65},"12C/Pf1"]
[{"$nulls":65},"12C/Pt1"]
[{"$nulls":65},"12C/Pv1"]
[{"$nulls":65},"12D/En1"]
[{"$nulls":65},"12D/It1"]
[{"$nulls":65},"12D/La1"]
[{"$nulls":65},"12D/Ma1"]
[{"$nulls":65},"12D/Pb1"]
[{"$nulls":65},"12D/Pb2"]
[{"$nulls":65},"12D/Pf1"]
[{"$nulls":65},"12D/Pv1"]
[{"$nulls":65},"12D1/Bb1"]
[{"$nulls":65},"12D1/Ma1"]
[{"$nulls":65},"12E/En1"]
[{"$nulls":65},"12E/En2"]
[{"$nulls":65},"12E/Fm1"]
[{"$nulls":65},"12E/Ma1"]
[{"$nulls":65},"12E/Ma2"]
[{"$nulls":65},"12E/Pe1"]
[{"$nulls":65},"12E/Pv1"]
[{"$nulls":65},"12f/En1"]
[{"$nulls":65},"12f/Fb1"]
[{"$nulls":65},"12f/Ma1"]
[{"$nulls":65},"12f/Pb1"]
[{"$nulls":65},"13A/Bb1"]
[{"$nulls":65},"13A/Bu1"]
[{"$nulls":65},"13A/Fs1"]
[{"$nulls":65},"13A/Hi1"]
[{"$nulls":65},"13A/Ma1"]
[{"$nulls":65},"13A/Pe1"]
[{"$nulls":65},"13A/Pf1"]
[{"$nulls":65},"13A/Pv1"]
[{"$nulls":65},"13B/Ac1"]
[{"$nulls":65},"13B/Ar1"]
[{"$nulls":65},"13B/La1"]
[{"$nulls":65},"13B/Pb1"]
[{"$nulls":65},"13B/Pf1"]
[{"$nulls":65},"13B/Pv1"]
[{"$nulls":65},"13B/So1"]
[{"$nulls":65},"13C/En1"]
[{"$nulls":65},"13C/It1"]
[{"$nulls":65},"13C/Pb1"]
[{"$nulls":65},"13C/Pe1"]
[{"$nulls":65},"13C/Pv1"]
[{"$nulls":65},"13C/Tt1"]
[{"$nulls":65},"13D/At1"]
[{"$nulls":65},"13D/Ms1"]
[{"$nulls":65},"13D/Pv1"]
[{"$nulls":65},"13D/Py1"]
[{"$nulls":65},"13E/Bi1"]
[{"$nulls":65},"13E/Ec1"]
[{"$nulls":65},"13E/En1"]
[{"$nulls":65},"13E/Ho1"]
[{"$nulls":65},"13E/Mu1"]
[{"$nulls":65},"13E/Or1"]
[{"$nulls":65},"13E/Pb1"]
[{"$nulls":65},"13E/Pv1"]
[{"$nulls":65},"7a/Ar1"]
[{"$nulls":65},"7a/Ar2"]
[{"$nulls":65},"7a/Ar3"]
[{"$nulls":65},"7a/Dr1"]
[{"$nulls":65},"7a/Dr2"]
[{"$nulls":65},"7a/Dr3"]
[{"$nulls":65},"7a/Dt1"]
[{"$nulls":65},"7a/Dt2"]
[{"$nulls":65},"7a/Dt3"]
[{"$nulls":65},"7a/Dt4"]
[{"$nulls":65},"7a/En1"]
[{"$nulls":65},"7a/En2"]
[{"$nulls":65},"7a/En3"]
[{"$nulls":65},"7a/Ep1"]
[{"$nulls":65},"7a/Ep2"]
[{"$nulls":65},"7a/Ep3"]
[{"$nulls":65},"7a/Fr1"]
[{"$nulls":65},"7a/Fr2"]
[{"$nulls":65},"7a/Gg1"]
[{"$nulls":65},"7a/Gg2"]

{"sheet":"Sheet2rng","index":6,"n_rows":2016,"n_cols":119,"rows_kept":2016,"hidden":true,"merged":[[7,41,7,44],[7,45,7,53],[8,41,8,44],[8,45,8,53],[10,41,10,44],[11,41,11,44],[12,41,12,42],[12,43,12,44],[13,41,13,42],[13,43,13,44],[14,41,14,42],[14,43,14,44],[15,41,15,42],[15,43,15,44]]}
["Name","Group","Target","KS2","AR","AUT 1","AUT 2","SPR 1","SPR 2","SUM 1","SUM 2","PPI","EAL","MAT","SEND",{"$nulls":8},"Tutor Group","Blank","Base","Attendance","Blank3",null,"KS2 ENG SAT","KS2 MAT SAT",null,null,"Teacher",null,"Spelling age","DUM20",{"$nulls":40},"blank",{"$nulls":5},"Classlist"]
["Kristina","8C-RE","1+",3,"H",1,1,2,2,null,null,"Y","OTH",{"$nulls":12},"x","ABU Aisha1","CHUNG Kristina11B/So1",null,"3a","3b",null,null,"CML",null,"13Y 5M",{"$nulls":41},"blank",{"$nulls":5},"all classes"]
["Gretchen","8I-RE",3,null,null,1,1,2,2,null,null,"Y","OTH",{"$nulls":12},"E","ADAMS Josie1","HILL Gretchen11A/So1",null,"3a","4b",null,null,"CML",null,"10Y 6M",{"$nulls":41},"8A-RE",{"$nulls":5},"11B/So1",{"$nulls":20},"Blank","11P/So1","Blank","Blank","Blank","Blank","Blank","Blank","Blank","Blank","Blank","Blank","Blank","Blank","Blank"]
["Karen","8O-RE",3,null,null,1,1,3,3,{"$nulls":3},"NOT/kn",{"$nulls":12},"B","ADEBIYI Francesca1","PUCKETT Karen11P/So1",null,"5c","5b",null,null,"ELD",null,"15Y 5M",{"$nulls":41},"8C-RE",{"$nulls":5},"11A/So1",{"$nulls":20},"Blank","11Q/So1","Blank","Blank","Blank","Blank","Blank","Blank","Blank","Blank","Blank","Blank","Blank","Blank","Blank"]
["Patrick","8O-RE","2+",null,null,2,2,"1+","1+",null,null,"Y",{"$nulls":13},"C+","AKINTUNDE April-Magic1","SONG Patrick11Q/So1",null,"5c","4c",null,null,"RHE",null,"14Y 7M",{"$nulls":41},"8H-RE",{"$nulls":5},"11P/So1",{"$nulls":20},"Blank","11B/So1","Blank","Blank","Blank","Blank","Blank","Blank","Blank","Blank","Blank","Blank","Blank","Blank","Blank"]
["Elsie","8O-RE",3,null,null,"0+","0+","1+","1+",{"$nulls":3},"ENB",{"$nulls":12},"D+","ALFORD Harry1","HAMILTON Elsie11B/So1",null,"4b","4b",null,null,"CML",null,"13Y 7M",{"$nulls":41},"8I-RE",{"$nulls":5},"11B/So1"]
["Hazel","8L-RE","2+",null,null,"1+","1+","2+","2+",{"$nulls":3},"OTH",null,"K",{"$nulls":10},"B-","ALI Annei1","BENDER Hazel11Q/So1",null,"4a","5b",null,null,"RHE",null,"15Y",{"$nulls":41},"8L-RE"]
["Dolores","8O-RE","3+",null,null,2,2,"3+","3+",{"$nulls":3},"OTH",{"$nulls":12},"X","ALLEN Sinead1","MCLAUGHLIN Dolores11A/So1",null,"3c","4b",null,null,"CML",null,"11Y",{"$nulls":9},"Essential categories",{"$nulls":31},"8N-RE"]
["Francis","8A-RE","2+",null,null,1,1,2,2,null,null,"Y","OTH",{"$nulls":12},"C+","ALLISON Abbie-Jade1","MCNAMARA Francis11P/So1",null,"4a","5b",null,null,"ELD",null,"15Y",{"$nulls":9},"Optional categories",{"$nulls":31},"8O-RE"]
["Beth","8-RE","3+",null,null,3,3,3,3,{"$nulls":3},"NOT/kn",{"$nulls":12},"C+","AMOSUN Joshua1","WOODARD Beth11Q/So1",null,"5c","4a",null,null,"RHE",null,"13Y 7M",{"$nulls":41},"8-RE"]
["Julia","8O-RE",3,null,null,1,1,"3+","3+",null,null,"Y","OTH",{"$nulls":12},"F+","ANDERSON Jack1","DESAI Julia11B/So2",null,"4c","4c",null,null,"LML",null,"14Y",{"$nulls":5},"",{"$nulls":35},"9A-RE"]
["Jerome","8-RE",3,null,null,"2+","2+","3+","3+",{"$nulls":3},"OTH",{"$nulls":12},"D+","ASH Eleanor1","WALLACE Jerome11Q/So1",null,"4b","3a",null,null,"RHE",null,"13Y 6M",{"$nulls":5},"    ",{"$nulls":35},"9C-RE"]
["Jean","8N-RE",3,null,null,2,2,1,1,{"$nulls":3},"OTH",{"$nulls":12},"D-","ATSE Joanna1","GRIFFIN Jean11B/So2",null,"4c","3b",null,null,"LML",null,"13 yrs 1 mth",{"$nulls":5},"C/grade",null,{"$f":"D1","v":"KS2"},{"$nulls":33},"9H-RE"]
["Kristine","8A-RE","2+",null,null,1,1,"1+","1+",{"$nulls":3},"OTH",{"$nulls":12},"C+","ATWAL Kiranpreet1","DOUGHERTY Kristine11Q/So1",null,"5b","5b",null,null,"RHE",null,"14 yrs 1 mth",{"$nulls":41},"9I-RE"]
["Crystal","8A-RE","2+",null,null,1,1,1,1,{"$nulls":3},"OTH",{"$nulls":12},"C+","AXON Molly1","POWERS Crystal11Q/So1",null,"5c","5b",null,null,"RHE",null,"14Y 2M",{"$nulls":5},{"$f":"C1","v":"Target"},null,{"$f":"E1","v":"AR"},{"$nulls":33},"9L-RE",{"$nulls":5},"10C/Pg1"]
["Alex","8I-RE","3+",null,null,"1+","1+",3,3,null,null,"Y","ENB",{"$nulls":12},"C","BAKER Lucy1","MAY Alex11B/So1",null,"3b","3c",null,null,"CML",null,"10Y 4M",{"$nulls":41},"9N-RE",{"$nulls":5},"10C/Rm1"]
["Eric","8L-RE",2,null,null,1,1,2,2,{"$nulls":3},"OTH",{"$nulls":12},"E-","BARNES Ryan1","STEELE Eric11A/So1",null,"3b","3b",null,null,"CML",null,"11Y",{"$nulls":41},"9O-RE",{"$nulls":5},"10C/So1"]
["Wesley","8I-RE",3,null,null,"0+","0+",4,4,{"$nulls":3},"ENB",null,"K",{"$nulls":10},"F","BAVERSTOCK Adam1","TEAGUE Wesley11B/So1",null,"4c","4c",null,null,"CML",null,"13 yrs 1 mth",{"$nulls":41},"9S-RE",{"$nulls":5},"10C/Ts1"]
["Franklin","8L-RE",4,null,null,"3+","3+",4,4,null,null,"Y","OTH",{"$nulls":12},"E-","BAWOR Eileen1","VICK Franklin11A/So1",null,"4b","4c",null,null,"CML",null,"10Y 9M",{"$nulls":47},"10cd/Pe1"]
["Claire","8L-RE",3,null,null,"0+","0+","1+","1+",{"$nulls":3},"ENG",{"$nulls":12},"B","BELKACEMI Amelia1","GALLAGHER Claire11P/So1",null,"4b","4b",null,null,"ELD",null,"14Y 9M",{"$nulls":47},"10cd/Pe2"]
["Marian","8N-RE","2+",null,null,2,2,3,3,null,null,"Y","NOT/kn",{"$nulls":12},"B-","BETTS Stuart1","SOLOMON Marian11P/So1",null,"5c","4b",null,null,"ELD",null,"15Y 5M",{"$nulls":47},"10cd/Pe3"]
["Dwight","8-RE","3+",null,null,3,3,"3+","3+",{"$nulls":3},"NOT/kn",{"$nulls":12},"E+","BISHOP Aaliyah1","MONROE Dwight11B/So2",null,"4a","4b",null,null,"LML",null,"14Y 6M",{"$nulls":47},"10cd/Pe4"]
["Stephanie","8-RE","2+",null,null,"2+","2+",3,3,null,null,"Y","ENG",null,"K",{"$nulls":10},"C+","BLACK Emma1","HAWKINS Stephanie11Q/So1",null,"5c","5b",null,null,"RHE",null,"14Y 7M",{"$nulls":47},"10cd/Pe5"]
["Gretchen","8C-RE","3+",null,null,3,3,4,4,{"$nulls":3},"OTH",{"$nulls":12},"D","BLANCHARD La-Keisha1","GOLDSTEIN Gretchen11A/So1",null,"4b","3b",null,null,"CML",null,"9Y 9M",{"$nulls":47},"10D/Be1"]
["Tim","8C-RE",3,null,null,"1+","1+",2,2,null,null,"Y","OTH",null,"K",{"$nulls":10},"D","BLE Grace1","WATTS Tim11B/So1",null,"4c","3c",null,null,"CML",null,"13Y 2M",{"$nulls":47},"10d/En1"]
["Jerome","8-RE",2,null,null,2,2,2,2,null,null,"Y","ENG",{"$nulls":12},"D+","BORN Katie1","JOHNSTON Jerome11B/So2",null,"4c","4c",null,null,"LML",null,"13Y 8M",{"$nulls":47},"10D/Gg1"]
["Priscilla","8A-RE","3+",null,null,"1+","1+",4,4,null,null,"Y","OTH",{"$nulls":12},"U","BORRETT Thomas1","WILKERSON Priscilla11B/So2",{"$nulls":5},"LML",null,"11Y 9M",{"$nulls":47},"10D/It1"]
["Elsie","8A-RE","3+",null,null,"1+","1+",2,2,null,null,"Y","NOT/kn",{"$nulls":12},"C-","BRESNAHAN Luke1","BARTON Elsie11Q/So1",null,"4a","5b",null,null,"RHE",null,"12Y 8M",{"$nulls":47},"10d/Sc1"]
["Beth","8N-RE","2+",null,null,2,2,"1+","1+",null,null,"Y","ENG",{"$nulls":12},"D+","BRITTON-WILLIAMS Jade1","WALTON Beth11B/So2",null,"4c","4b",null,null,"LML",null,"12Y 5M",{"$nulls":47},"10D/So1"]
["Erica","8N-RE","3+",null,null,3,3,3,3,{"$nulls":3},"OTH",{"$nulls":12},"C-","BURGESS Oliver1","HALL Erica11Q/So1",null,"5c","5b",null,null,"RHE",null,"14Y 4M",{"$nulls":47},"10d/Vo1"]
["Douglas","8H-RE",3,null,null,"1+","1+","0+","0+",null,null,"Y","ENG",{"$nulls":12},"C+","CAMPBELL Louise1","ROSS Douglas11Q/So1",null,"5c","4a",null,null,"RHE",null,"14Y 4M",{"$nulls":47},"10E/Fc1"]
["Donald","8C-RE","3+",null,null,"2+","2+",4,4,{"$nulls":3},"ENG",{"$nulls":12},"E","CHATTEN Zoe1","CHUNG Donald11B/So1",null,"4b","4a",null,null,"CML",null,"14Y 7M",{"$nulls":47},"10E/Pb1"]
["Katherine","8L-RE",3,null,null,"1+","1+",2,2,{"$nulls":3},"NOT/kn",{"$nulls":12},"F+","CHEEMA Gurvinder1","BENDER Katherine11B/So1",null,"3a","2b",null,null,"CML",null,"12Y 8M",{"$nulls":47},"10E/Pb2"]
["Paul","8C-RE","2+",null,null,"1+","1+",1,1,{"$nulls":3},"ENG",null,"K",{"$nulls":10},"E-","CHILDE Harry1","WOODS Paul11B/So2",null,"4c","4b",null,null,"LML",null,"13Y 2M",{"$nulls":47},"10E/Pt1"]
["Patricia","8N-RE","2+",null,null,2,2,"3+","3+",{"$nulls":3},"OTH",{"$nulls":12},"C+","CLARK Alfie1","MANGUM Patricia11A/So1",null,"4b","5b",null,null,"CML",null,"12Y 4M",{"$nulls":47},"10E/Pt2"]
["Christina","8L-RE","3+",null,null,2,2,2,2,null,null,"Y","NOT/kn",null,"K",{"$nulls":10},"C+","CLARK Jordan1","BOWDEN Christina11P/So1",null,"5c","4b",null,null,"ELD",null,"14Y 7M",{"$nulls":47},"10F/Ab1"]
["Darlene","8A-RE","2+",null,null,"0+","0+",2,2,{"$nulls":3},"ENG",{"$nulls":12},"C+","COLLIER Emily1","BARTON Darlene11P/So1",null,"5c","4a",null,null,"ELD",null,"14Y 4M",{"$nulls":47},"10F/It1"]
["Harvey","8H-RE",3,null,null,"1+","1+","2+","2+",{"$nulls":3},"OTH",{"$nulls":12},"E-","COOPER Nicole1","UNDERWOOD Harvey11B/So2",null,"4c","3c",null,null,"LML",null,"13Y",{"$nulls":47},"10F/Rm1"]
["William","8L-RE",3,null,null,2,2,2,2,null,null,"Y","OTH",{"$nulls":12},"C-","CRABTREE Alfie1","JONES William11P/So1",null,"4b","4c",null,null,"ELD",null,"14Y 9M",{"$nulls":47},"10F/Tt1"]
["Frederick","8H-RE",3,null,null,2,2,"2+","2+",null,null,"Y","OTH",{"$nulls":12},"E+","CREW Jesse1","BAKER Frederick11B/So2",null,"4c","4b",null,null,"LML",null,"13Y",{"$nulls":47},"11A/Cs1"]
["Shirley","8-RE",3,null,null,2,2,"2+","2+",null,null,"Y","NOT/kn",{"$nulls":12},"D","CROW Sophie1","MERRITT Shirley11A/So1",null,"4b","4b",null,null,"CML",null,"11Y 6M",{"$nulls":47},"11A/Dr1"]
["Jason","8N-RE",2,null,null,1,1,1,1,{"$nulls":3},"ENG",null,"K",{"$nulls":10},"B+","DEBENHAM Chloe1","CROSS Jason11P/So1",null,"4a","5b",null,null,"ELD",null,"13Y 3M",{"$nulls":47},"11A/Ec1"]
["Judith","8H-RE","3+",null,null,"1-","1-",1,1,null,null,"Y","ENG",{"$nulls":12},"E-","DONNELLY Kirsten1","COOPER Judith11B/So1",null,"4a","4b",null,null,"CML",null,"13Y 2M",{"$nulls":47},"11a/En1"]
["Gretchen","8I-RE",2,null,null,1,1,"1+","1+",null,null,"Y","ENG",null,"K",{"$nulls":10},"F-","DOWN Keiran1","HOLMES Gretchen11B/So1",null,"3b","3b",null,null,"CML",null,"10Y",{"$nulls":47},"11a/En2"]
["Glenda","8A-RE",3,null,null,1,1,"2+","2+",null,null,"Y","NOT/kn",{"$nulls":12},"E+","DRAPER Samuel1","MORGAN Glenda11A/So1",null,"4b","4c",null,null,"CML",null,"13Y 6M",{"$nulls":47},"11a/En3"]
["Jessica","8H-RE","3+",null,null,2,2,"2+","2+",null,null,"Y","NOT/kn",{"$nulls":12},"G","DUFFIN Kayleigh-Ann1","RICH Jessica11A/So1",null,"4b","4b",null,null,"CML",null,"14Y 2M",{"$nulls":47},"11a/En4"]
["Melinda","8L-RE","2+",null,null,1,1,1,1,null,null,"Y","ENG",null,"K",{"$nulls":10},"B","EDWARDS Ben1","PROCTOR Melinda11Q/So1",null,"4b","5b",null,null,"RHE",null,"14Y 2M",{"$nulls":47},"11a/En5"]
["Calvin","8H-RE","2+",null,null,"0+","0+",1,1,{"$nulls":3},"NOT/kn",{"$nulls":12},"C-","EDWARDS Chloe1","DIAZ Calvin11P/So1",null,"5c","4b",null,null,"ELD",null,"13Y 7M",{"$nulls":47},"11a/Ep1"]
["Vickie","8A-RE","3+",null,null,2,2,3,3,{"$nulls":3},"OTH",{"$nulls":12},"C+","ELLIS Myles1","WATKINS Vickie11Q/So1",null,"4a","5b",null,null,"RHE",null,"13Y 8M",{"$nulls":47},"11a/Ep2"]
["Luis","8L-RE","2+",null,null,"1+","1+","1+","1+",{"$nulls":3},"OTH",{"$nulls":12},"B-","ELPHICK Lauren1","HINTON Luis11A/So1",null,"5c","4c",null,null,"CML",null,"15Y",{"$nulls":47},"11a/Ep3"]
["Allan","8A-RE","2+",null,null,"0+","0+","1+","1+",{"$nulls":3},"OTH",{"$nulls":12},"B-","EVBUOMWAN Tracy1","MARSH Allan11B/So2",null,"3b","4b",null,null,"LML",null,"14Y 3M",{"$nulls":47},"11a/Ep4"]
["Melanie","8C-RE","3+",null,null,2,2,3,3,{"$nulls":3},"NOT/kn",{"$nulls":12},"D","GAMMON Nicholas1","HEWITT Melanie11Q/So1",null,"4b","5b",null,null,"RHE",null,"14Y 7M",{"$nulls":47},"11a/Ep5"]
["Marianne","8N-RE",3,null,null,2,2,2,2,null,null,"Y","NOT/kn",{"$nulls":12},"B+","GATES Emily1","BRANCH Marianne11P/So1",null,"5a","5b",null,null,"ELD",null,"15Y 6M",{"$nulls":47},"11A/Fr1"]
["Caroline","8L-RE",3,null,null,1,1,"2+","2+",{"$nulls":3},"OTH",{"$nulls":12},"E-","GIBSON James1","O'BRIEN Caroline11B/So1",null,"3b","4b",null,null,"CML",null,"12Y 6M",{"$nulls":47},"11A/Gg1"]
["Arlene","8-RE","2+",null,null,"1+","1+",3,3,null,null,"Y","OTH",{"$nulls":12},"B+","GLOVER Gillian1","CASE Arlene11Q/So1",null,"5b","5b",null,null,"RHE",null,"15 yrs 1 mth",{"$nulls":47},"11A/Hi1"]
["Calvin","8A-RE","3+",null,null,1,1,3,3,{"$nulls":3},"OTH",{"$nulls":12},"C+","GOLDING Shannon1","CHRISTENSEN Calvin11Q/So1",null,"4a","5c",null,null,"RHE",null,"12Y 7M",{"$nulls":47},"11A/Hi2"]
["Gary","8I-RE",3,null,null,1,1,2,2,{"$nulls":3},"OTH",{"$nulls":12},"U","HALLINAN Raegan1","PARKS Gary11A/So1",null,"3b","4b",null,null,"CML",null,0,{"$nulls":47},"11a/Ma1"]
["Samantha","8I-RE","2+",null,null,2,2,2,2,null,null,"Y","OTH",{"$nulls":12},"C","HARRIGAN Rosie1","HARDIN Samantha11P/So1",null,"4b","4a",null,null,"ELD",null,"15Y 3M",{"$nulls":47},"11a/Ma2"]
["Sara","8O-RE",3,null,null,"0+","0+","1+","1+",{"$nulls":3},"NOT/kn",{"$nulls":12},"F-","HARRIS Christian1","LUCAS Sara11B/So1",null,"3a","4c",null,null,"CML",null,"13Y",{"$nulls":47},"11a/Ma3"]
["Gladys","8H-RE",3,null,null,1,1,3,3,{"$nulls":3},"ENG",{"$nulls":12},"D","HARVEY Megan1","DAVIDSON Gladys11B/So1",null,"5c","4c",null,null,"CML",null,"13Y 9M",{"$nulls":47},"11a/Ma4"]
["Mike","8N-RE","3+",null,null,2,2,2,2,{"$nulls":3},"NOT/kn",{"$nulls":12},"C+","HARWOOD Molly1","WHITEHEAD Mike11Q/So1",null,"5c","4a",null,null,"RHE",null,"14 yrs 1 mth",{"$nulls":47},"11a/Ma5"]
["Lynne","8-RE","2+",null,null,"1+","1+",2,2,null,null,"Y","OTH",null,"K",{"$nulls":10},"B","HE David1","ROSE Lynne11P/So1",null,"4b","5b",null,null,"ELD",null,"14Y 3M",{"$nulls":47},"11a/Pe1"]
["Faye","8A-RE","3+",null,null,2,2,4,4,{"$nulls":3},"NOT/kn",{"$nulls":12},"B","HEAD Chloe1","SPARKS Faye11P/So1",null,"5b","5c",null,null,"ELD",null,"14Y 9M",{"$nulls":47},"11a/Pe2"]
["Diana","8H-RE","1+",null,null,"2+","2+","1+","1+",null,null,"Y","ENG",null,"K",{"$nulls":10},"E","HEATH Emily-Jayne1","MOORE Diana11B/So1",null,"4a","4b",null,null,"CML",null,"13Y 6M",{"$nulls":47},"11a/Pe3"]
["Ethel","8L-RE",3,null,null,3,3,3,3,null,null,"Y","NOT/kn",{"$nulls":12},"C+","HEMMINGS Benjamin1","RODGERS Ethel11Q/So1",null,"5c","5c",null,null,"RHE",null,"14Y",{"$nulls":47},"11a/Pe4"]
["Steve","8-RE","2+",null,null,1,1,2,2,null,null,"Y","ENG",{"$nulls":12},"B-","HESELDEN Bethany1","GRAVES Steve11B/So2",null,"4a","3b",null,null,"LML",null,"11Y 6M",{"$nulls":47},"11a/Pe5"]
["Alison","8C-RE",2,null,null,"1-","1-",1,1,null,null,"Y","NOT/kn",{"$nulls":12},"D","HOLLIS Luke1","SCARBOROUGH Alison11Q/So1",null,"4b","4b",null,null,"RHE",null,"14Y 5M",{"$nulls":47},"11a/Pe6"]
["Kelly","8-RE","2+",null,null,2,2,"2+","2+",{"$nulls":3},"OTH",{"$nulls":12},"E+","HOPKINSON Megan1","BOWMAN Kelly11B/So2",null,"4a","5b",null,null,"LML",null,"13Y 8M",{"$nulls":47},"11A/Pg1"]
["Jennifer","8A-RE","1+",null,null,"1-","1-",1,1,{"$nulls":3},"NOT/kn",null,"E",{"$nulls":10},"D+","HOWELL Megan1","CHRISTIAN Jennifer11B/So1",null,"4a","4c",null,null,"CML",null,"13Y 4M",{"$nulls":47},"11A/Pg2"]
["Brett","8N-RE",3,null,null,"2+","2+",3,3,{"$nulls":3},"ENG",{"$nulls":12},"B","HOWES Katie1","LAMB Brett11Q/So1",null,"5c","4a",null,null,"RHE",null,"15Y 3M",{"$nulls":47},"11A/Pt1"]
["Brandon","8C-RE","2+",null,null,2,2,"2+","2+",{"$nulls":3},"OTH",{"$nulls":12},"C","HUGHES Abbey1","JAMES Brandon11B/So2",null,"4c","3b",null,null,"LML",null,"11Y 7M",{"$nulls":47},"11A/Pt2"]
["Joann","8N-RE",2,null,null,"1+","1+",1,1,{"$nulls":3},"OTH",null,"K",{"$nulls":10},"B","HUMPHREY George1","STOUT Joann11P/So1",null,"5b","5a",null,null,"ELD",null,"14Y 6M",{"$nulls":47},"11A/Rm1"]
["Ronnie","8I-RE","3+",null,null,"1+","1+","2+","2+",null,null,"Y","OTH",{"$nulls":12},"B+","HUNT Georgia1","COWAN Ronnie11P/So1",null,"5c","5a",null,null,"ELD",null,"15 yrs 1 mth",{"$nulls":47},"11a/Sc1"]
["Geoffrey","8H-RE",4,null,null,2,2,"3+","3+",{"$nulls":3},"OTH",{"$nulls":12},"C+","HUSSEIN Angie1","CLAPP Geoffrey11P/So1",null,"5b","5b",null,null,"ELD",null,"14Y 5M",{"$nulls":47},"11a/Sc2"]
["Patricia","8C-RE","2+",null,null,"1+","1+","2+","2+",{"$nulls":3},"NOT/kn",{"$nulls":12},"B","ISMAIL Jordan1","ABRAMS Patricia11A/So1",null,"4b","3b",null,null,"CML",null,"13Y 8M",{"$nulls":47},"11a/Sc3"]
["Jennifer","8C-RE",3,null,null,"1+","1+","2+","2+",{"$nulls":3},"ENG",{"$nulls":12},"F","JACKSON Hollie1","TILLEY Jennifer11A/So1",null,"3b","4b",null,null,"CML",null,"12Y 4M",{"$nulls":47},"11a/Sc4"]
["Mary","8C-RE","2+",null,null,2,2,2,2,null,null,"Y","ENG",{"$nulls":12},"E","JAMESON Amy1","MORSE Mary11B/So1",null,"3b","3b",null,null,"CML",null,"12Y 9M",{"$nulls":47},"11a/Sc5"]
["Vincent","8O-RE",2,null,null,1,1,1,1,null,null,"Y","ENG",{"$nulls":12},"U","JEEVES Chloe1","SUMNER Vincent11A/So1",null,"3a","3b",null,null,"CML",null,"12Y 5M",{"$nulls":47},"11B/Ar1"]
["Danny","8A-RE","2+",null,null,1,1,2,2,null,null,"Y","NOT/kn",{"$nulls":12},"B","JENNINGS Chloe1","DAVIDSON Danny11Q/So1",null,"4b","5c",null,null,"RHE",null,"14Y 3M",{"$nulls":47},"11B/Bb1"]
["Charlene","8I-RE",3,null,null,2,2,"3+","3+",null,null,"Y","NOT/kn",{"$nulls":12},"A*","KELLEHER Jessica1","HEATH Charlene11Q/So1",null,"5b","5b",null,null,"RHE",null,"15Y 5M",{"$nulls":47},"11B/Bu1"]
["Alice","8A-RE",3,null,null,"0+","0+","2+","2+",null,null,"Y","OTH",null,"K",{"$nulls":10},"E","KERWICK Georgie1","BLANCHARD Alice11B/So1",null,"4b","4b",null,null,"CML",null,"14Y 3M",{"$nulls":47},"11B/Cs1"]
["Joan","8N-RE",3,null,null,"1+","1+",2,2,{"$nulls":3},"ENG",{"$nulls":12},"A","KILLICK Harry1","MCALLISTER Joan11Q/So1",null,"5c","4b",null,null,"RHE",null,"14Y 6M",{"$nulls":47},"11B/Dr1"]
["Betty","8I-RE",3,null,null,2,2,4,4,{"$nulls":3},"OTH",{"$nulls":12},"B-","LAING Amy1","MCKENZIE Betty11Q/So1",null,"5b","5b",null,null,"RHE",null,"14Y 6M",{"$nulls":47},"11B/Gg1"]
["Danny","8I-RE",3,null,null,"0+","0+","2+","2+",{"$nulls":3},"ENG",{"$nulls":12},"E-","LAUNDY Megan1","BYRNE Danny11A/So1",null,0,0,null,null,"CML",null,"14Y 4M",{"$nulls":47},"11B/Hg1"]
["Leslie","8H-RE","2+",null,null,"1-","1-",3,3,null,null,"Y","OTH",{"$nulls":12},"C","LEWIS Alfie1","GRIFFIN Leslie11P/So1",null,"4b","5b",null,null,"ELD",null,"14Y 6M",{"$nulls":47},"11B/Hi1"]
["Sara","8H-RE","2+",null,null,"1-","1-","0+","0+",null,null,"Y","NOT/kn",null,"K",{"$nulls":10},"B+","MASTERS Megan1","PERKINS Sara11Q/So1",null,"5b","5c",null,null,"RHE",null,"15Y 6M",{"$nulls":47},"11b/Pe1"]
["Martha","8L-RE","2+",null,null,1,1,"0+","0+",{"$nulls":3},"OTH",{"$nulls":12},"F+","MCCARTHY Nathan1","ROBERTSON Martha11A/So1",null,"2b","4c",null,null,"CML",null,"9Y 8M",{"$nulls":47},"11b/Pe2"]
["Jack","8I-RE",2,null,null,1,1,"1+","1+",null,null,"Y","NOT/kn",{"$nulls":12},"E+","MCINTOSH Lucy1","PALMER Jack11A/So1",null,"3a","3c",null,null,"CML",null,"12Y 9M",{"$nulls":47},"11b/Pe3"]
["Benjamin","8O-RE",3,null,null,"0+","0+",1,1,null,null,"Y","OTH",{"$nulls":12},"D-","MILLS Laynie1","ROWE Benjamin11A/So1",null,"4a","4c",null,null,"CML",null,"12Y 2M",{"$nulls":47},"11b/Pe4"]
["Roberta","8-RE",3,null,null,"2+","2+",4,4,{"$nulls":3},"OTH",{"$nulls":12},"C","MURPHY Amy1","ZHANG Roberta11B/So2",null,"5c","4b",null,null,"LML",null,"14Y 5M",{"$nulls":47},"11B/Pg1"]
["Patricia","8L-RE",3,null,null,"0+","0+","0+","0+",{"$nulls":3},"NOT/kn",null,"K",{"$nulls":10},"E","MURPHY Shannon1","HODGE Patricia11B/So1",null,"4b","4a",null,null,"CML",null,"10Y 7M",{"$nulls":47},"11B/Pg2"]
["Clifford","8N-RE",3,null,null,2,2,"0+","0+",null,null,"Y","NOT/kn",null,"K",{"$nulls":10},"E+","MURSELAJ Jasmine1","LI Clifford11B/So2",null,"4b","4b",null,null,"LML",null,"14 yrs 1 mth",{"$nulls":47},"11B/Sp1"]
["Joanne","8I-RE","2+",null,null,1,1,2,2,{"$nulls":3},"OTH",{"$nulls":12},"C+","MUSPRATT Philip1","BOWLING Joanne11P/So1",null,"4a","5a",null,null,"ELD",null,"13Y 4M",{"$nulls":47},"11bc/En1"]
["Martin","8A-RE","2+",null,null,1,1,"1+","1+",null,null,"Y","ENG",{"$nulls":12},"C+","ODIGIE Erunmwunse1","JUSTICE Martin11Q/So1",null,"5c","4a",null,null,"RHE",null,"14Y 7M",{"$nulls":47},"11bc/En2"]
["Beth","8-RE","2+",null,null,2,2,"2+","2+",{"$nulls":3},"NOT/kn",{"$nulls":12},"A*","OKORONKWO Imanuella1","WILLIS Beth11Q/So1",null,"5c","4b",null,null,"RHE",null,"15Y 6M",{"$nulls":47},"11bc/En3"]
["Jessica","8A-RE",3,null,null,"1+","1+","2+","2+",{"$nulls":3},"OTH",{"$nulls":12},"F","PAGE Callum1","HESTER Jessica11A/So1",null,"4b","4b",null,null,"CML",null,"14 yrs 1 mth",{"$nulls":47},"11bc/En4"]
["Samantha","8L-RE",2,null,null,1,1,1,1,{"$nulls":3},"NOT/kn",{"$nulls":12},"B+","PARSONS Maria1","FLOYD Samantha11P/So1",null,"5b","5c",null,null,"ELD",null,"15Y 3M",{"$nulls":47},"11bc/En5"]
["Jimmy","8L-RE","2+",null,null,1,1,3,3,null,null,"Y","OTH",{"$nulls":12},"A*","PEEL Sophie1","GRAVES Jimmy11P/So1",null,"5b","5b",null,null,"ELD",null,"15Y 8M",{"$nulls":47},"11bc/En6"]
["Vincent","8C-RE",3,null,null,"2+","2+","3+","3+",{"$nulls":3},"NOT/kn",null,"K",{"$nulls":10},"F","PIDDINGTON Ellie1","FISCHER Vincent11B/So1",null,"3b","3a",null,null,"CML",null,"12Y 2M",{"$nulls":47},"11bc/En7"]
["Dianne","8-RE","3+",null,null,2,2,"3+","3+",{"$nulls":3},"OTH",{"$nulls":12},"E+","QUILALA Angela1","NORMAN Dianne11B/So1",null,"4a","4b",null,null,"CML",null,"14Y 4M",{"$nulls":47},"11bc/Ep1"]
["Mary","8O-RE",3,null,null,"0+","0+","1+","1+",null,null,"Y","ENG",{"$nulls":12},"B-","REID Molly1","BYRD Mary11Q/So1",null,"5c","5b",null,null,"RHE",null,"13Y 7M",{"$nulls":47},"11bc/Ep2"]
["Jeff","8-RE","2+",null,null,"2+","2+","2+","2+",null,null,"Y","ENG",{"$nulls":12},"X","RIORDAN Robbie1","KAPLAN Jeff11B/So1",{"$nulls":5},"CML",null,"13Y",{"$nulls":47},"11bc/Ep3"]
["Sandra","8O-RE","2+",null,null,1,1,1,1,{"$nulls":3},"ENG",{"$nulls":12},"F-","SAHOTA Callum1","HELLER Sandra11B/So1",null,"4b","3a",null,null,"CML",null,"12Y 2M",{"$nulls":47},"11bc/Ep4"]
["Katie","8C-RE","2+",null,null,"1+","1+",1,1,{"$nulls":3},"NOT/kn",{"$nulls":12},"A*","SAN Katie1","MAY Katie11P/So1",null,"5b","5b",null,null,"ELD",null,"15Y 5M",{"$nulls":47},"11bc/Ep5"]
["Raymond","8A-RE","3+",null,null,1,1,"2+","2+",{"$nulls":3},"OTH",{"$nulls":12},"D-","SANGAR Sade1","JENNINGS Raymond11B/So2",null,"3b","4b",null,null,"LML",null,"14Y 2M",{"$nulls":47},"11bc/Ep6"]
["Roger","8N-RE","3+",null,null,2,2,"2+","2+",{"$nulls":3},"NOT/kn",{"$nulls":12},"C","SANGHA Naveena1","HANNA Roger11P/So1",null,"4b","4a",null,null,"ELD",null,"15Y",{"$nulls":47},"11bc/Ep7"]
["Kathy","8O-RE",3,null,null,1,1,"1+","1+",{"$nulls":3},"OTH",{"$nulls":12},"D","SAWYER Cicarna-Lee1","HOLLOWAY Kathy11B/So1",null,"4c","4b",null,null,"CML",null,"13Y",{"$nulls":47},"11bc/Sc1"]
["Troy","8I-RE","2+",null,null,"0+","0+","2+","2+",{"$nulls":3},"NOT/kn",{"$nulls":12},"D","SEHMI Natalie1","JONES Troy11B/So1",null,"4b","4b",null,null,"CML",null,"12Y 4M",{"$nulls":47},"11bc/Sc2"]
["Martin","8L-RE",3,null,null,"0+","0+",1,1,null,null,"Y","NOT/kn",{"$nulls":12},"D-","SMALL Morgan1","VICK Martin11B/So2",null,"3a","4a",null,null,"LML",null,"12Y 5M",{"$nulls":47},"11bc/Sc3"]
["Jack","8C-RE","2+",null,null,1,1,"2+","2+",null,null,"Y","NOT/kn",{"$nulls":12},"F+","SMITH Jade1","O'DONNELL Jack11B/So1",null,"4b","4b",null,null,"CML",null,"13Y 6M",{"$nulls":47},"11bc/Sc4"]
["Vincent","8N-RE","2+",null,null,1,1,1,1,{"$nulls":3},"ENG",null,"K",{"$nulls":10},"E-","SMITH Jordanna1","GOLDMAN Vincent11A/So1",null,"4a","4b",null,null,"CML",null,"14Y 8M",{"$nulls":47},"11bc/Sc5"]
["Beth","8-RE",3,null,null,2,2,3,3,{"$nulls":3},"ENG",{"$nulls":12},"E-","SMITH Katie1","MCKENNA Beth11A/So1",null,"3b","4b",null,null,"CML",null,"11Y 9M",{"$nulls":47},"11bc/Sc6"]
["Franklin","8I-RE","3+",null,null,"1+","1+","2+","2+",{"$nulls":3},"ENG",{"$nulls":12},"C","SMITH Megan1","WATSON Franklin11P/So1",null,"4b","4a",null,null,"ELD",null,"15Y 6M",{"$nulls":47},"11bc/Sc7"]
["Glen","8L-RE",2,null,null,"1-","1-","1+","1+",{"$nulls":3},"NOT/kn",null,"K",{"$nulls":10},"C","SMITH Peter1","ABBOTT Glen11B/So2",null,"3b","4b",null,null,"LML",null,"11Y 2M",{"$nulls":47},"11bd/Ma1"]
["Judith","8I-RE","2+",null,null,2,2,3,3,{"$nulls":3},"ENG",null,"K",{"$nulls":10},"B-","STACEY Leah1","SINGER Judith11B/So2",null,"4a","4a",null,null,"LML",null,"14Y",{"$nulls":47},"11bd/Ma2"]
["Alice","8H-RE","3+",null,null,2,2,2,2,{"$nulls":3},"ENG",{"$nulls":12},"B","STONE Chloe1","HALL Alice11P/So1",null,"4a","5c",null,null,"ELD",null,"13Y 9M",{"$nulls":47},"11bd/Ma3"]
["Bruce","8I-RE",2,null,null,"1+","1+","1+","1+",null,null,"Y","OTH",null,"K",{"$nulls":10},"U","SWAN Callum1","FARRELL Bruce11B/So1",null,"2a","2c",null,null,"CML",null,"13Y 4M",{"$nulls":47},"11bd/Ma4"]
["Kathleen","8I-RE","3+",null,null,"0+","0+","2+","2+",{"$nulls":3},"NOT/kn",{"$nulls":12},"C-","SWANDALE George1","LUCAS Kathleen11P/So1",null,"4b","5b",null,null,"ELD",null,"14Y 9M",{"$nulls":47},"11bd/Ma5"]
["Amy","8C-RE",2,null,null,1,1,1,1,null,null,"Y","ENG",{"$nulls":12},"D+","SWANNELL Sam1","NORMAN Amy11Q/So1",null,"4b","4b",null,null,"RHE",null,"13Y 4M",{"$nulls":47},"11bd/Ma6"]
["Ronnie","8H-RE","2+",null,null,"1-","1-",2,2,null,null,"Y","OTH",{"$nulls":12},"X","TATTERS Ryan1","ATKINS Ronnie11B/So2",{"$nulls":5},"LML",null,"14Y 3M",{"$nulls":47},"11bd/Ma7"]
["Martha","8O-RE",2,null,null,"0+","0+","1+","1+",null,null,"Y","NOT/kn",null,"K",{"$nulls":10},"B-","THOMPSON Ellie1","MONROE Martha11P/So1",null,"4a","5c",null,null,"ELD",null,"15Y 4M",{"$nulls":47},"11bd/Ma8"]
["Lynn","8C-RE",3,null,null,"1+","1+",2,2,{"$nulls":3},"OTH",null,"K",{"$nulls":10},"C+","THOMPSON Riley1","ROBERTSON Lynn11P/So1",null,"5b","5b",null,null,"ELD",null,"14Y 4M",{"$nulls":47},"11C/Ab1"]
["Robert","8O-RE","3+",null,null,"0+","0+",2,2,{"$nulls":3},"OTH",{"$nulls":12},"E-","TURNER Liberty1","REID Robert11B/So1",null,"4b","4a",null,null,"CML",null,"14Y",{"$nulls":47},"11C/Bb1"]
["Pauline","8H-RE",3,null,null,"1-","1-","2+","2+",{"$nulls":3},"NOT/kn",{"$nulls":12},"B-","UKANDU Jessica1","CHANDLER Pauline11Q/So1",null,"4b","4b",null,null,"RHE",null,"13Y",{"$nulls":47},"11C/Bu1"]
["Stephen","8L-RE",3,null,null,1,1,"1+","1+",{"$nulls":3},"OTH",{"$nulls":12},"D-","VANDEPEER Chloe1","FINCH Stephen11A/So1",null,"3a","3a",null,null,"CML",null,"11Y",{"$nulls":47},"11C/Cs1"]
["Donna","8H-RE",3,null,null,"1+","1+","1+","1+",{"$nulls":3},"ENG",{"$nulls":12},"E+","WADDELL Annie1","ADKINS Donna11B/So2",null,"4c","4a",null,null,"LML",null,"14Y 4M",{"$nulls":47},"11C/Fr1"]
["Ben","8C-RE",3,null,null,"1+","1+","2+","2+",null,null,"Y","OTH",{"$nulls":12},"B+","WATERS Rebecca1","WHITAKER Ben11P/So1",null,"4a","5b",null,null,"ELD",null,"15Y 4M",{"$nulls":47},"11C/Gg1"]
["Kristin","8H-RE","2+",null,null,"0+","0+",1,1,null,null,"Y","NOT/kn",null,"K",{"$nulls":10},"B-","WATSHAM Samuel1","ALEXANDER Kristin11P/So1",null,"4a","5c",null,null,"ELD",null,"14Y 6M",{"$nulls":47},"11C/Hi1"]
["Ryan","8I-RE","3+",null,null,2,2,2,2,{"$nulls":3},"OTH",{"$nulls":12},"X","WATTON Kayleigh1","CONNER Ryan11A/So1",{"$nulls":5},"CML",null,"14Y 7M",{"$nulls":47},"11C/Ib1"]
["Tracey","8A-RE","3+",null,null,"2+","2+","3+","3+",{"$nulls":3},"ENB",{"$nulls":12},"E+","WHITE Emily-Jo1","WATERS Tracey11B/So2",null,"4b","4c",null,null,"LML",null,"12Y 3M",{"$nulls":47},"11C/It1"]
["Mark","8H-RE",3,null,null,"1-","1-","3+","3+",null,null,"Y","ENG",{"$nulls":12},"C+","WHITE Ryan1","BECKER Mark11P/So1",null,"5b","5b",null,null,"ELD",null,"15Y",{"$nulls":47},"11C/Mu1"]
["Janet","8N-RE","2+",null,null,2,2,"2+","2+",{"$nulls":3},"ENB",{"$nulls":12},"D+","WILKINSON Molly-Mae1","LOVE Janet11B/So2",null,"4a","3b",null,null,"LML",null,"11Y 3M",{"$nulls":47},"11C/So1"]
["Leo","8A-RE","3+",null,null,1,1,3,3,{"$nulls":3},"ENG",{"$nulls":12},"F-","WILLIS Demi1","ADKINS Leo11B/So1",null,"2b","2b",null,null,"CML",null,0,{"$nulls":47},"11cd/Pe1"]
["Sarah","8C-RE","2+",null,null,2,2,3,3,{"$nulls":3},"NOT/kn",{"$nulls":12},"B+","WILSON Megan1","FOX Sarah11Q/So1",null,"4a","4a",null,null,"RHE",null,"15Y 3M",{"$nulls":47},"11cd/Pe2"]
["Gladys","8O-RE",3,null,null,1,1,2,2,null,null,"Y","OTH",{"$nulls":12},"C-","WOOD Chevonne1","HATCHER Gladys11B/So2",null,"5c","4b",null,null,"LML",null,"14 yrs 1 mth",{"$nulls":47},"11cd/Pe3"]
["Hazel","8H-RE",3,null,null,2,2,2,2,{"$nulls":3},"NOT/kn",{"$nulls":12},"C","WOODBRIDGE Ryan1","WU Hazel11P/So1",null,"4b","4b",null,null,"ELD",null,"15Y",{"$nulls":47},"11cd/Pe4"]
["Hazel","8-RE","2+",null,null,1,1,3,3,null,null,"Y","ENG",null,"K",{"$nulls":10},"E-","WRIGHT Caitlin1","LLOYD Hazel11B/So1",null,"4c","4c",null,null,"CML",null,"13Y 5M",{"$nulls":47},"11D/Ab1"]
["Jerome","8H-RE",3,null,null,"1+","1+","1+","1+",{"$nulls":3},"ENG",{"$nulls":12},"B+","YATES Safara1","JOYCE Jerome11Q/So1",null,"5b","5b",null,null,"RHE",null,"15Y 7M",{"$nulls":47},"11D/Bb1"]
["Vincent","8-RE",3,null,null,"2+","2+",3,3,{"$nulls":3},"OTH",{"$nulls":12},"C+","ADU-POKU Georgia1","WELCH Vincent10B/So1",null,"5c","4a",null,null,"JBT",null,"14Y 7M",{"$nulls":47},"11D/Dr1"]
["Joseph","8N-RE",4,null,null,3,3,"2+","2+",{"$nulls":3},"OTH",{"$nulls":12},"D","AGA Regis1","CHAPPELL Joseph10B/So1",null,"4a","5b",null,null,"JBT",null,"14Y 8M",{"$nulls":47},"11d/En1"]
["Alison","8H-RE",3,null,null,1,1,"1+","1+",null,null,"Y","ENB",{"$nulls":12},"B-","ALBON Rhiann1","MACDONALD Alison10C/So1",null,"5c","4a",null,null,"LML",null,"15Y 4M",{"$nulls":47},"11D/Fc1"]
["Eric","8L-RE","2+",null,null,2,2,"2+","2+",{"$nulls":3},"ENB",{"$nulls":12},"C-","ALDRIDGE Alfie1","KANE Eric10C/So1",null,"5c","4a",null,null,"LML",null,"14Y 9M",{"$nulls":47},"11d/Sc1"]
["Claire","8-RE",3,null,null,2,2,"2+","2+",{"$nulls":3},"ENG",{"$nulls":13},"ALDRIDGE Joseph1","PICKETT Claire10D/So1",null,"4b","4a",null,null,"RHE",null,"13Y 9M",{"$nulls":47},"11d/Vo1"]
["Judy","8-RE",3,null,null,1,1,0,0,null,null,"Y","ENG",{"$nulls":13},"ALIAHMED Junead1","BRANCH Judy10F/So1",null,"4b","4b",null,null,"LML",null,"14Y 5M",{"$nulls":47},"11E/Hi1"]
["Timothy","8C-RE","2+",null,null,1,1,"2+","2+",{"$nulls":3},"NOT/kn",{"$nulls":12},"B-","AUSTIN Benjamin1","MCNEILL Timothy10C/So1",null,"4a","4a",null,null,"LML",null,"15Y",{"$nulls":47},"11E/Ib1"]
["Ted","8H-RE",4,null,null,"1-","1-",1,1,{"$nulls":3},"OTH",{"$nulls":13},"AYINDE-USMAN Siddiq1","WEINSTEIN Ted10D/So1",null,"3a","4c",null,null,"RHE",null,"13Y 4M",{"$nulls":47},"11E/Rm1"]
["Sandra","8N-RE",2,null,null,"1+","1+",2,2,null,null,"Y","NOT/kn",{"$nulls":12},"D","BARNES Callum1","MIDDLETON Sandra10C/So1",null,"4a","5b",null,null,"LML",null,"11Y 3M",{"$nulls":47},"11E/So1"]
["Lester","8O-RE","2+",null,null,1,1,1,1,null,null,"Y","NOT/kn",{"$nulls":13},"BATLEY Jade1","RICH Lester10F/So1",null,"4a","4b",null,null,"LML",null,"14Y 7M",{"$nulls":47},"11F/Bb1"]
["Johnny","8N-RE",3,null,null,2,2,"3+","3+",null,null,"Y","OTH",{"$nulls":13},"BATTY Jade1","CARLTON Johnny10F/So1",null,"4b","4b",null,null,"LML",null,"13Y 5M",{"$nulls":47},"11F/Fc1"]
["Lauren","8N-RE",3,null,null,"2+","2+",3,3,null,null,"Y","NOT/kn",{"$nulls":13},"BELCHER Daniel1","SCHULTZ Lauren10D/So1",null,"4b","4c",null,null,"RHE",null,"14Y 3M",{"$nulls":47},"11F/Ib1"]
["Carolyn","8O-RE",3,null,null,"0+","0+",1,1,{"$nulls":3},"OTH",{"$nulls":13},"BELLO Elizabeth1","NICHOLS Carolyn10F/So1",null,"4a","3a",null,null,"LML",null,"15Y",{"$nulls":47},"11F/Pb1"]
["Charlene","8L-RE","3+",null,null,"1+","1+",1,1,null,null,"Y","OTH",{"$nulls":13},"BELLO Grace1","STEVENSON Charlene10D/So1",null,"3a","3a",null,null,"RHE",null,"11Y 4M",{"$nulls":47},"12A/Ac1"]
["Sheryl","8N-RE",3,null,null,2,2,"2+","2+",{"$nulls":3},"OTH",{"$nulls":12},"C","BIRD Bethany1","DUNN Sheryl10C/So1",null,"5c","4a",null,null,"LML",null,"14Y 4M",{"$nulls":47},"12A/Ar1"]
["Ben","8O-RE",3,null,null,"0+","0+",1,1,{"$nulls":3},"NOT/kn",{"$nulls":12},"C+","BLAKE Nathan1","WEST Ben10C/So1",null,"4a","5a",null,null,"LML",null,"15Y 3M",{"$nulls":47},"12A/En1"]
["Linda","8I-RE",3,null,null,2,2,"3+","3+",null,null,"Y","NOT/kn",{"$nulls":12},"B-","BROOKER MAHAL Millie1","O'BRIEN Linda10C/So1",null,"4b","5b",null,null,"LML",null,"14 yrs 1 mth",{"$nulls":47},"12A/Fr1"]
["Sarah","8I-RE",2,null,null,"0+","0+",1,1,null,null,"Y","ENG",{"$nulls":12},"C+","BROUGHTON Nicole1","BARR Sarah10B/So1",null,"5b","5c",null,null,"JBT",null,"15Y 2M",{"$nulls":47},"12A/Ma1"]
["Rebecca","8C-RE",2,null,null,2,2,2,2,{"$nulls":3},"OTH",{"$nulls":13},"BROWN Sadie1","HEATH Rebecca10D/So1",null,"3a","4c",null,null,"RHE",null,"11Y 4M",{"$nulls":47},"12A/Pb1"]
["Glenda","8-RE","2+",null,null,"1+","1+","3+","3+",null,null,"Y","ENG",null,"K",{"$nulls":11},"BURKE Michaela1","BOSWELL Glenda10F/So1",null,"4b","4b",null,null,"LML",null,"13Y 3M",{"$nulls":47},"12A/Pv1"]
["Don","8-RE",1,null,null,1,1,2,2,null,null,"Y","NOT/kn",{"$nulls":13},"BYRNE Leah1","PITTMAN Don10F/So1",null,"4b","4b",null,null,"LML",null,"14Y 4M",{"$nulls":47},"12A/Py1"]
["Gregory","8A-RE","2+",null,null,1,1,2,2,{"$nulls":3},"ENG",{"$nulls":13},"CAIELS Siana1","WEINER Gregory10F/So1",null,"4a","4b",null,null,"LML",null,"14Y 4M",{"$nulls":47},"12A/Sm1"]
["Randy","8A-RE",3,null,null,"1+","1+","2+","2+",{"$nulls":3},"OTH",{"$nulls":12},"C","CAKEBREAD Oliver1","PETERSEN Randy10C/So1",null,"5c","4b",null,null,"LML",null,"14Y 3M",{"$nulls":47},"12A/So1"]
["Geraldine","8H-RE",4,null,null,"1+","1+","3+","3+",{"$nulls":3},"NOT/kn",{"$nulls":13},"CAMPBELL Archie1","DAVIS Geraldine10D/So1",null,"5c","4a",null,null,"RHE",null,"13Y 2M",{"$nulls":47},"12A/Ws1"]
["Edna","8-RE","3+",null,null,"2+","2+",3,3,null,null,"Y","OTH",{"$nulls":12},"B","CANIK Isabel1","COLEMAN Edna10B/So1",null,"5c","5a",null,null,"JBT",null,"15Y 6M",{"$nulls":47},"12B/Ch1"]
["Faye","8C-RE",3,null,null,1,1,"2+","2+",{"$nulls":3},"OTH",{"$nulls":13},"CASSIDY Mason1","NORMAN Faye10D/So1",null,"3b","3a",null,null,"RHE",null,"12Y 3M",{"$nulls":47},"12B/Ec1"]
["Kathy","8I-RE",3,null,null,"0+","0+",{"$nulls":5},"ENG",{"$nulls":12},"C+","CHANT Matthew1","BURCH Kathy10B/So1",null,"4a","5c",null,null,"JBT",null,"13Y 8M",{"$nulls":47},"12B/It1"]
["Marguerite","8O-RE",3,null,null,2,2,"2+","2+",{"$nulls":3},"OTH",{"$nulls":13},"CONFREY Sam1","WEINER Marguerite10F/So1",null,"4c","4a",null,null,"LML",null,"14Y 7M",{"$nulls":47},"12B/Ms1"]
["Marvin","8N-RE",3,null,null,"2+","2+","2+","2+",{"$nulls":3},"OTH",{"$nulls":12},"C+","CONNIGALE Shelley1","PARROTT Marvin10B/So1",null,"4a","5c",null,null,"JBT",null,"14Y 9M",{"$nulls":47},"12B/Pb1"]
["Alex","8O-RE",2,null,null,"0+","0+",2,2,null,null,"Y","NOT/kn",{"$nulls":12},"C+","COOMBER Max1","HENRY Alex10B/So1",null,"5b","5c",null,null,"JBT",null,"15Y 3M",{"$nulls":47},"12B/Pb2"]
["Alexander","8O-RE","2+",null,null,1,1,3,3,{"$nulls":3},"ENG",{"$nulls":12},"D+","CORDREY Harrison1","GRAY Alexander10B/So1",null,"4a","5c",null,null,"JBT",null,"13Y 8M",{"$nulls":47},"12B/Pi1"]
["Karl","8C-RE",2,null,null,"1+","1+","2+","2+",null,null,"Y","NOT/kn",{"$nulls":12},"C+","COYNE Eleanor1","MCLEAN Karl10B/So1",null,"4a","4c",null,null,"JBT",null,"11Y 7M",{"$nulls":47},"12B/Pv1"]
["Laura","8-RE",3,null,null,"2+","2+","3+","3+",{"$nulls":3},"NOT/kn",{"$nulls":12},"B-","CROFT Sophie1","EASON Laura10C/So1",null,"4a","5a",null,null,"LML",null,"15Y",{"$nulls":47},"12B/Sm1"]
["Melinda","8I-RE","2+",null,null,"1+","1+",3,3,{"$nulls":3},"OTH",{"$nulls":13},"DAVIES Drew1","WEEKS Melinda10D/So1",{"$nulls":5},"RHE",null,0,{"$nulls":47},"12B/Tt1"]
["Eva","8N-RE",3,null,null,"1-","1-",0,0,null,null,"Y","OTH",{"$nulls":13},"DIGHTON Charlotte1","SIEGEL Eva10F/So1",null,"4a","5c",null,null,"LML",null,"13Y 7M",{"$nulls":47},"12C/Bb1"]
["Robert","8L-RE","2+",null,null,1,1,"1+","1+",{"$nulls":3},"NOT/kn",null,"K",{"$nulls":10},"C","DOWN Jenna1","PUCKETT Robert10C/So1",null,"5c","5c",null,null,"LML",null,"14Y 5M",{"$nulls":47},"12C/Bi1"]
["Bill","8H-RE",4,null,null,"1-","1-",2,2,{"$nulls":3},"OTH",null,"K",{"$nulls":10},"B","EHIKIOYA Martha1","HEATH Bill10B/So1",null,"5c","5c",null,null,"JBT",null,"15Y 7M",{"$nulls":47},"12C/Bu1"]
["Edna","9I-RE","2+",3.64,"L","1-","1-",2,2,null,null,"Y","OTH",{"$nulls":12},"C+","GALLAGHER Harry1","HOYLE Edna10B/So1",null,"4a","5b",null,null,"JBT",null,"14Y 6M",{"$nulls":47},"12C/En1"]
["Clifford","9O-RE","4+",5.56,"H","3+","3+",5,5,{"$nulls":3},"NOT",{"$nulls":12},"D+","GREEN Taylor1","GARRETT Clifford10B/So1",null,"4a","4a",null,null,"JBT",null,"14Y 8M",{"$nulls":47},"12C/Hi1"]
["Glenda","9N-RE",4,5,"H",3,3,4,4,{"$nulls":3},"ENG",{"$nulls":12},"D-","GRIFFIN Oliver1","BAKER Glenda10C/So1",null,"5c","5c",null,null,"LML",null,"13Y",{"$nulls":47},"12C/Pb1"]
["Arthur","9L-RE",4,4.83,"M","0+","0+","2+","2+",null,null,"Y","NOT/kn",{"$nulls":13},"HALL Alicia1","GOLDMAN Arthur10F/So1",null,"4b","4c",null,null,"LML",null,"13Y 6M",{"$nulls":47},"12C/Pf1"]
["Wesley","9S-RE","4+",5.59,"H","1-","1-",2,2,{"$nulls":3},"OTH",{"$nulls":12},"C+","HANDLEY Alex1","SHAFFER Wesley10B/So1",null,"5c","4a",null,null,"JBT",null,"15Y 5M",{"$nulls":47},"12C/Pt1"]
["Allison","9C-RE","4+",5.44,"H","3+","3+",5,5,{"$nulls":3},"OTH",{"$nulls":13},"HANKS Kieran1","CHOI Allison10D/So1",null,"3b","3b",null,null,"RHE",null,"11Y 6M",{"$nulls":47},"12C/Pv1"]
["Claire","9C-RE",4,5.06,"H",2,2,1,1,null,null,"Y","OTH",null,"S",{"$nulls":10},"B-","HARRIS Kayleigh1","SHELTON Claire10B/So1",null,"5b","5b",null,null,"JBT",null,"15Y 4M",{"$nulls":47},"12D/En1"]
["Jeremy","9I-RE",4,4.88,"M",1,1,4,4,{"$nulls":3},"ENB",{"$nulls":12},"D-","HARRIS Madison1","HOUSE Jeremy10C/So1",null,"5c","4a",null,null,"LML",null,"15Y 2M",{"$nulls":47},"12D/It1"]
["Christy","9O-RE",4,4.9,"M","1+","1+",2,2,null,null,"Y","OTH",{"$nulls":12},"D-","HAYES Paddy1","LYONS Christy10C/So1",null,"5c","4b",null,null,"LML",null,"14Y 8M",{"$nulls":47},"12D/La1"]
["Wesley","9C-RE","4+",5.42,"H","3+","3+",5,5,null,null,"Y","OTH",{"$nulls":13},"HEARN Rosie1","MOSER Wesley10F/So1",null,"5c","4c",null,null,"LML",null,"14Y 8M",{"$nulls":47},"12D/Ma1"]
["Lucy","9L-RE",4,5.24,"H",2,2,4,4,null,null,"Y","OTH",{"$nulls":13},"HEBBLEWHITE Daisy1","DICKINSON Lucy10F/So1",null,"4c","4c",null,null,"LML",null,"12 yrs 1 mth",{"$nulls":47},"12D/Pb1"]
["Susan","9N-RE","3+",4.54,"M","2+","2+","2+","2+",null,null,"Y","NOT/kn",{"$nulls":12},"C","HOARE Cody1","ABBOTT Susan10B/So1",null,"4b","5c",null,null,"JBT",null,"15Y 4M",{"$nulls":47},"12D/Pb2"]
["Nancy","9C-RE",4,5.05,"H","3+","3+",5,5,{"$nulls":3},"NOT",{"$nulls":12},"D","HODDER Gemma1","HOBBS Nancy10B/So1",null,"4b","4a",null,null,"JBT",null,"13Y 8M",{"$nulls":47},"12D/Pf1"]
["Monica","9N-RE","3+",4.6,"M",3,3,"2+","2+",null,null,"Y","NOT",{"$nulls":12},"C+","HODGSON Callum1","DODSON Monica10C/So1",null,"5c","5c",null,null,"LML",null,"15Y",{"$nulls":47},"12D/Pv1"]
["Justin","9L-RE","2+",3.56,"L",1,1,"1+","1+",null,null,"Y","OTB",null,"K",{"$nulls":10},"D-","HOLLMAN Kim1","SPENCER Justin10B/So1",null,"4a","4a",null,null,"JBT",null,"14Y 4M",{"$nulls":47},"12D1/Bb1"]
["Margaret","9L-RE",4,5.05,"H",1,1,"3+","3+",{"$nulls":3},"ENG",{"$nulls":12},"B-","HONOUR Amy1","BURGESS Margaret10B/So1",null,"4c","4a",null,null,"JBT",null,"14Y 6M",{"$nulls":47},"12D1/Ma1"]
["Philip","9H-RE",3,3.49,"L",1,1,"0+","0+",{"$nulls":3},"OTH",null,"S",{"$nulls":10},"D","IVESON Paige1","LIU Philip10B/So1",null,"4b","4a",null,null,"JBT",null,"13Y 3M",{"$nulls":47},"12E/En1"]
["Miriam","9C-RE",4,5.36,"H","3+","3+",5,5,{"$nulls":3},"OTH",{"$nulls":13},"JACKSON Saskia1","WONG Miriam10F/So1",null,"4b","4b",null,null,"LML",null,"13Y 5M",{"$nulls":47},"12E/En2"]
["Miriam","9S-RE",4,5.16,"H","2+","2+","1+","1+",null,null,"Y","ENG",{"$nulls":13},"KAFESCI Ozan1","BLACKBURN Miriam10D/So1",null,"4c","4b",null,null,"RHE",null,"14Y 6M",{"$nulls":47},"12E/Fm1"]
["Christopher","9I-RE",4,4.89,"M","0+","0+",4,4,null,null,"Y","ENG",{"$nulls":13},"KHAKH Aaron1","MCKAY Christopher10F/So1",null,"4c","3b",null,null,"LML",null,"13Y 6M",{"$nulls":47},"12E/Ma1"]
["Joanna","9N-RE","4+",5.65,"H","2+","2+",3,3,null,null,"Y","ENG",{"$nulls":13},"KINGHAM Abbie1","MIDDLETON Joanna10F/So1",null,"5c","4b",null,null,"LML",null,"14Y 2M",{"$nulls":47},"12E/Ma2"]
["Janice","9S-RE","3+",4.53,"M","1-","1-",2,2,null,null,"Y","OTH",{"$nulls":12},"B-","KUDZMINSKAITE Brigita1","REID Janice10C/So1",null,"4a","5c",null,null,"LML",null,"14Y 6M",{"$nulls":47},"12E/Pe1"]
["Brian","9C-RE",3,4.11,"M",3,3,4,4,null,null,"Y","OTH",{"$nulls":12},"A","LATO Victory1","BRASWELL Brian10C/So1",null,"4a","5b",null,null,"LML",null,"15Y 3M",{"$nulls":47},"12E/Pv1"]
["Juan","9I-RE","3+",4.61,"M","0+","0+",4,4,null,null,"Y","NOT/kn",{"$nulls":12},"C+","LEACH Joshua1","STEELE Juan10C/So1",null,"4b","4a",null,null,"LML",null,"12Y",{"$nulls":47},"12f/En1"]
["Tommy","9S-RE",4,4.93,"M",2,2,"1+","1+",null,null,"Y","OTH",null,"K",{"$nulls":11},"LEWIS Nicholas1","BARRETT Tommy10D/So1",null,"3b","4b",null,null,"RHE",null,"10Y 9M",{"$nulls":47},"12f/Fb1"]
["Alice","9S-RE",4,5.38,"H",1,1,"2+","2+",{"$nulls":3},"OTH",{"$nulls":13},"LOVERIDGE James1","NANCE Alice10F/So1",null,"4b","4a",null,null,"LML",null,"14Y 4M",{"$nulls":47},"12f/Ma1"]
["Adam","9O-RE",4,5.16,"H",3,3,4,4,{"$nulls":3},"NOT",{"$nulls":13},"MARSH Katie1","WASHINGTON Adam10F/So1",null,"4c","4c",null,null,"LML",null,"11Y 6M",{"$nulls":47},"12f/Pb1"]
["Larry","9A-RE",4,4.82,"M","2+","2+","2+","2+",null,null,"Y","ENG",{"$nulls":12},"C+","MARSH Samuel1","ROGERS Larry10C/So1",null,"4b","5b",null,null,"LML",null,"15Y 3M",{"$nulls":47},"13A/Bb1"]
["Angela","9N-RE",4,4.83,"M",3,3,2,2,{"$nulls":3},"ENG",{"$nulls":12},"C","MATTHEWS Ellena1","MCMAHON Angela10C/So1",null,"5c","4c",null,null,"LML",null,"15Y 6M",{"$nulls":47},"13A/Bu1"]
["Lawrence","9A-RE",4,4.72,"M","1+","1+",2,2,null,null,"Y","ENG",{"$nulls":12},"C","MCCARTNEY Alexandra1","MILES Lawrence10B/So1",null,"4a","4a",null,null,"JBT",null,"14Y 9M",{"$nulls":47},"13A/Fs1"]
["Glen","9H-RE","3+",4.68,"M","2+","2+",3,3,{"$nulls":3},"ENG",{"$nulls":13},"MCDONALD-ALLEN Max1","KRAMER Glen10D/So1",null,"4c","4a",null,null,"RHE",null,"13Y 5M",{"$nulls":47},"13A/Hi1"]
["Valerie","9O-RE",4,5.14,"H","3+","3+",4,4,null,null,"Y","ENG",null,"K",{"$nulls":10},"C-","MCGILLICUDDY Haydn1","JENNINGS Valerie10C/So1",null,"5c","4b",null,null,"LML",null,"14Y 7M",{"$nulls":47},"13A/Ma1"]
["Lillian","9A-RE","4+",5.56,"H",4,4,"5+","5+",{"$nulls":3},"OTH",{"$nulls":13},"MCGIRR Leah1","BOLTON Lillian10D/So1",null,"4b","5b",null,null,"RHE",null,"13Y 6M",{"$nulls":47},"13A/Pe1"]
["Ashley","9A-RE","4+",5.51,"H",4,4,"5+","5+",null,null,"Y","ENG",{"$nulls":12},"C+","MCKEY Jordon1","HENDRIX Ashley10C/So1",null,"5c","4b",null,null,"LML",null,"14Y 8M",{"$nulls":47},"13A/Pf1"]
["Ian","9L-RE",4,5.12,"H","0+","0+","3+","3+",null,null,"Y","ENG",null,"K",{"$nulls":11},"MEHMETI Donit1","NICHOLS Ian10D/So1",null,"4a","4c",null,null,"RHE",null,"13Y 9M",{"$nulls":47},"13A/Pv1"]
["Gina","9H-RE",4,5.08,"H","0+","0+",2,2,{"$nulls":3},"ENG",{"$nulls":13},"MIDDLETON Morgan1","SAUNDERS Gina10F/So1",null,"4b","3a",null,null,"LML",null,"15Y 5M",{"$nulls":47},"13B/Ac1"]
["Donna","9S-RE",4,4.87,"M","1+","1+",2,2,{"$nulls":3},"ENG",{"$nulls":13},"MIDDLETON Sophie1","LEHMAN Donna10D/So1",null,"A","W",null,null,"RHE",null,"11Y 9M",{"$nulls":47},"13B/Ar1"]
["Catherine","9O-RE","4+",5.61,"H","3+","3+",4,4,null,null,"Y","ENG",{"$nulls":12},"B+","MOON Phoebe1","SHERRILL Catherine10C/So1",null,"5b","5b",null,null,"LML",null,"15Y 4M",{"$nulls":47},"13B/La1"]
["Lester","9C-RE",4,5.23,"H",2,2,"3+","3+",{"$nulls":3},"ENG",null,"K",{"$nulls":10},"D","MORGAN Reagan1","CASH Lester10C/So1",null,"5c","5c",null,null,"LML",null,"15Y 3M",{"$nulls":47},"13B/Pb1"]
["Jacob","9H-RE",4,5.06,"H",1,1,2,2,null,null,"Y","ENG",{"$nulls":12},"C+","NASH Amy1","PITTMAN Jacob10B/So1",null,"4b","5c",null,null,"JBT",null,"14Y 7M",{"$nulls":47},"13B/Pf1"]
["Nancy","9S-RE","3+",4.67,"M",2,2,3,3,null,null,"Y","OTH",{"$nulls":12},"B-","NICHOLLS Ellie1","SULLIVAN Nancy10C/So1",null,"5c","5c",null,null,"LML",null,"15Y 4M",{"$nulls":47},"13B/Pv1"]
["Lloyd","9A-RE",4,4.76,"M","2+","2+","2+","2+",{"$nulls":3},"ENG",{"$nulls":13},"NOSIB Moesha1","MACK Lloyd10F/So1",null,"4b","4a",null,null,"LML",null,"14Y 8M",{"$nulls":47},"13B/So1"]
["Donna","9N-RE","3+",4.6,"M","2+","2+","1+","1+",{"$nulls":3},"OTH",{"$nulls":12},"C+","OAKINS Ellie1","RICE Donna10B/So1",null,"5c","5c",null,null,"JBT",null,"15Y",{"$nulls":47},"13C/En1"]
["Wendy","9L-RE","3+",4.5,"M",1,1,"3+","3+",null,null,"Y","ENG",{"$nulls":12},"B-","O'BRIEN Lucy1","CHERRY Wendy10B/So1",null,"5c","4a",null,null,"JBT",null,"15Y 3M",{"$nulls":47},"13C/It1"]
["Lucille","9I-RE",4,5.15,"H",1,1,"1+","1+",null,null,"Y","NOT/kn",{"$nulls":12},"B-","ONU Ellys Abeth1","RICHMOND Lucille10B/So1",null,"4c","4b",null,null,"JBT",null,"15Y",{"$nulls":47},"13C/Pb1"]
["Virginia","9L-RE",4,4.99,"M","0+","0+",5,5,null,null,"Y","ENG",{"$nulls":13},"OOZAGEER Kevin1","YORK Virginia10D/So1",null,"4c","3a",null,null,"RHE",null,"11Y 3M",{"$nulls":47},"13C/Pe1"]
["Bruce","9S-RE",4,4.76,"M","1-","1-","1+","1+",null,null,"Y","NOT",{"$nulls":13},"OSBORNE Teigan1","WILEY Bruce10D/So1",null,"4a","5c",null,null,"RHE",null,"14Y 3M",{"$nulls":47},"13C/Pv1"]
["Geoffrey","9N-RE",5,5.77,"H",3,3,5,5,null,null,"Y","NOT/kn",{"$nulls":12},"E+","OSMANI Amarildo1","REED Geoffrey10B/So1",null,"4a","5a",null,null,"JBT",null,"14Y",{"$nulls":47},"13C/Tt1"]
["Tiffany","9L-RE","3+",4.52,"M",2,2,4,4,{"$nulls":3},"OTH",{"$nulls":12},"B","PADDINGTON Caitlin1","NASH Tiffany10B/So1",null,"5c","5a",null,null,"JBT",null,"15Y 4M",{"$nulls":47},"13D/At1"]
["Melinda","9L-RE",4,5.15,"H","0+","0+","2+","2+",null,null,"Y","OTH",{"$nulls":12},"C","PALMER Stephanie1","STARR Melinda10B/So1",null,"4a","4b",null,null,"JBT",null,"14 yrs 1 mth",{"$nulls":47},"13D/Ms1"]
["Julie","9O-RE",3,3.93,"L",1,1,"1+","1+",{"$nulls":3},"ENG",null,"K",{"$nulls":11},"PENFOLD Louisa1","HOLLAND Julie10F/So1",null,"4a","4c",null,null,"LML",null,"13Y 6M",{"$nulls":47},"13D/Pv1"]
["Karen","9L-RE",4,4.94,"M","0+","0+",3,3,null,null,"Y","ENG",{"$nulls":13},"PHILLPOTT Callum1","CLEMENTS Karen10F/So1",null,"4b","4b",null,null,"LML",null,"12Y 4M",{"$nulls":47},"13D/Py1"]
["Judy","9I-RE",5,5.77,"H",2,2,5,5,{"$nulls":3},"NOT/kn",{"$nulls":13},"PHIPPS Paris1","SCHULTZ Judy10F/So1",null,"4b","4c",null,null,"LML",null,"13 yrs 1 mth",{"$nulls":47},"13E/Bi1"]
["Raymond","9S-RE",3,3.98,"L","0+","0+","1+","1+",null,null,"Y","ENG",null,"K",{"$nulls":11},"PINNER Jamie1","HAWLEY Raymond10D/So1",null,"4c","3c",null,null,"RHE",null,"13Y 5M",{"$nulls":47},"13E/Ec1"]
["Julie","9O-RE",4,5.35,"H",3,3,4,4,null,null,"Y","OTH",{"$nulls":13},"POLSON Joseph1","SKINNER Julie10F/So1",null,"3a","4b",null,null,"LML",null,"12Y 3M",{"$nulls":47},"13E/En1"]
["Colleen","9S-RE",4,4.76,"M",2,2,"2+","2+",{"$nulls":3},"NOT/kn",{"$nulls":13},"REED Kelsey1","WINTERS Colleen10F/So1",null,"4b","4c",null,null,"LML",null,"14Y 7M",{"$nulls":47},"13E/Ho1"]
["Judith","9L-RE","3+",4.51,"M","0+","0+",2,2,null,null,"Y","ENB",{"$nulls":13},"RIDDALL Dylan1","DOLAN Judith10F/So1",null,"4c","5b",null,null,"LML",null,"11Y 4M",{"$nulls":47},"13E/Mu1"]
["Luis","9A-RE","4+",5.5,"H",4,4,"5+","5+",null,null,"Y","ENG",{"$nulls":12},"C+","ROBERTSON Callum1","TURNER Luis10C/So1",null,"5b","5c",null,null,"LML",null,"15Y 6M",{"$nulls":47},"13E/Or1"]
["Bradley","9N-RE",3,3.9,"L",2,2,"1+","1+",null,null,"Y","OTB",{"$nulls":13},"ROOPRAI Amrit1","BEATTY Bradley10D/So1",null,"3a","3c",null,null,"RHE",null,"14Y 4M",{"$nulls":47},"13E/Pb1"]
["Glenda","9H-RE",4,4.98,"M",2,2,"1+","1+",{"$nulls":3},"ENB",{"$nulls":13},"RUBENGA Leeco1","DOUGLAS Glenda10D/So1",null,"4c","3a",null,null,"RHE",null,"14Y 7M",{"$nulls":47},"13E/Pv1"]
["Brent","9H-RE",4,5.23,"H","0+","0+","1+","1+",null,null,"Y","ENG",null,"K",{"$nulls":10},"C+","RYAN-BENNETT Katie1","BYRNE Brent10C/So1",null,"4a","5c",null,null,"LML",null,"15Y 6M",{"$nulls":47},"7a/Ar1"]
["Sharon","9N-RE",4,4.75,"M",3,3,2,2,null,null,"Y","NOT/kn",null,"K",{"$nulls":11},"SADHRA Arjan1","MAYER Sharon10F/So1",null,"3c","3b",null,null,"LML",null,"13Y 3M",{"$nulls":47},"7a/Ar2"]
["Mary","9O-RE",4,4.75,"M","2+","2+",3,3,null,null,"Y","ENG",{"$nulls":13},"SALIAJ Claudia1","COCHRAN Mary10F/So1",null,"4c","4c",null,null,"LML",null,"10Y 5M",{"$nulls":47},"7a/Ar3"]
["Geraldine","9O-RE",5,5.7,"H",4,4,5,5,null,null,"Y","ENG",{"$nulls":12},"B+","SHAH Aselah1","JENSEN Geraldine10C/So1",null,"4a","5b",null,null,"LML",null,"15Y",{"$nulls":47},"7a/Dr1"]
["Rita","9N-RE",4,5.33,"H","3+","3+",3,3,{"$nulls":3},"OTH",{"$nulls":13},"SHARMA Denysha1","YATES Rita10F/So1",null,"4c","3a",null,null,"LML",null,"14Y 7M",{"$nulls":47},"7a/Dr2"]
["Annie","9H-RE",4,5.23,"H",1,1,1,1,null,null,"Y","OTH",null,"K",{"$nulls":10},"C+","SHEPPARD Ben1","HAYNES Annie10B/So1",null,"5c","5a",null,null,"JBT",null,"14 yrs 1 mth",{"$nulls":47},"7a/Dr3"]
["Ruth","9N-RE",4,4.33,"M","3+","3+","2+","2+",{"$nulls":3},"OTH",{"$nulls":12},"B-","SLATER Elle1","HARMON Ruth10B/So1",null,"4a","5b",null,null,"JBT",null,"12Y 7M",{"$nulls":47},"7a/Dt1"]
["Jane","9S-RE",3,5.32,"H","1+","1+","1+","1+",null,null,"Y","OTH",{"$nulls":12},"A","SMITH Shane1","BAREFOOT Jane10C/So1",null,"5c","5b",null,null,"LML",null,"15Y 7M",{"$nulls":47},"7a/Dt2"]
["Kimberly","9S-RE",4,4.81,"M",1,1,"1+","1+",null,null,"Y","ENB",{"$nulls":12},"C","STENING Robyn1","GROSS Kimberly10B/So1",null,"5c","4c",null,null,"JBT",null,"15 yrs 1 mth",{"$nulls":47},"7a/Dt3"]
["Kenneth","9A-RE",4,5.54,"H",3,3,4,4,null,null,"Y","ENG",{"$nulls":12},"C+","STOCKER Luke1","PICKETT Kenneth10B/So1",null,"5c","5c",null,null,"JBT",null,"14Y 5M",{"$nulls":47},"7a/Dt4"]
["Jim","9O-RE","4+",4.62,"M","3+","3+",5,5,null,null,"Y","ENG",{"$nulls":12},"D+","SUMAN Sophina1","SINGLETON Jim10C/So1",null,"5c","4a",null,null,"LML",null,"15Y 6M",{"$nulls":47},"7a/En1"]
["Steven","9A-RE",3,5.1,"H","2+","2+",2,2,null,null,"Y","OTH",null,"K",{"$nulls":10},"C+","TAYLOR Charlotte1","BALLARD Steven10B/So1",null,"5c","5b",null,null,"JBT",null,"14Y 9M",{"$nulls":47},"7a/En2"]
["Pauline","9L-RE",4,5.27,"H","0+","0+",2,2,{"$nulls":3},"ENG",null,"K",{"$nulls":11},"TEKYI Myles1","SPIVEY Pauline10D/So1",null,"4b","4b",null,null,"RHE",null,"11Y 2M",{"$nulls":47},"7a/En3"]
["Lynne","9O-RE",4,5.22,"H","2+","2+","3+","3+",null,null,"Y","OTH",{"$nulls":13},"VINCE Talia1","MANGUM Lynne10F/So1",null,"4b","4a",null,null,"LML",null,"13Y",{"$nulls":47},"7a/Ep1"]
["Rose","9C-RE","3+",4.44,"M","2+","2+","2+","2+",null,null,"Y","OTH",{"$nulls":13},"WELDON-REYES Anna1","MCCALL Rose10F/So1",null,0,0,null,null,"LML",null,"13Y 6M",{"$nulls":47},"7a/Ep2"]
["Kathy","9O-RE","4+",5.49,"H","3+","3+",3,3,null,null,"Y","NOT/kn",{"$nulls":13},"WILLIAMS Chelsea1","POLLARD Kathy10D/So1",null,"4b","3a",null,null,"RHE",null,"15Y 2M",{"$nulls":47},"7a/Ep3"]
["Catherine","9L-RE",3,4.07,"M",1,1,"2+","2+",null,null,"Y","OTH",{"$nulls":12},"C","WOOD James1","GARCIA Catherine10C/So1",null,"4b","5c",null,null,"LML",null,"15Y 3M",{"$nulls":47},"7a/Fr1"]
["Diana","9H-RE","3+",4.6,"M","0+","0+",2,2,{"$nulls":3},"OTB",{"$nulls":12},"5a","ABOU-TALEB Talia1","CRANE Diana9c/Re4",null,"4a","4c",null,null,"GMT",{"$nulls":49},"7a/Fr2"]
["Marian","9A-RE",4,5.2,"H",2,2,2,2,{"$nulls":3},"ENG",{"$nulls":12},"5a","ADHAR Jaydeep1","CRANE Marian9a/Re1",null,"5c","5b",null,null,"GMT",{"$nulls":49},"7a/Gg1"]
["Sheryl","9C-RE","3+",4.68,"M",3,3,4,4,null,null,"Y","OTH",{"$nulls":12},"5a","AHENKORAH Jannis1","DIAZ Sheryl9c/Re4",null,"4a","3a",null,null,"GMT",{"$nulls":49},"7a/Gg2"]
["Vivian","9A-RE",4,5.27,"H",2,2,"2+","2+",null,null,"Y","OTH",null,"K",{"$nulls":10},"5b","AHMED Nadir1","CAREY Vivian9c/Re4",null,"4c","4b",null,null,"GMT",{"$nulls":49},"lastclass"]
["Harold","9A-RE",5,5.73,"H","1+","1+",3,3,null,null,"Y","OTH",{"$nulls":12},"4a","AHNIEN Anwar1","LI Harold9d/Re1",null,"2c","4c",null,null,"GGE"]
["Vicki","9H-RE",4,4.72,"M",1,1,3,3,null,null,"Y","OTH",{"$nulls":12},"6c","ALEXANDER Zoe1","MILLS Vicki9b/Re3",null,"5c","4b",null,null,"GMT"]
["Alvin","9N-RE",4,5.1,"H",3,3,"2+","2+",null,null,"Y","ENB",{"$nulls":12},"5c","ALLARD Callum1","MCDONALD Alvin9b/Re1",null,"4c","4a",null,null,"GGE"]
["Jacob","9I-RE",4,5.25,"H",1,1,"2+","2+",{"$nulls":3},"OTH",{"$nulls":12},"4a","ANDERSON Elaina1","MOORE Jacob9d/Re2",null,"2b","2b",null,null,"GMT"]
["Audrey","9I-RE",4,4.89,"M",1,1,"3+","3+",{"$nulls":3},"OTH",{"$nulls":12},"F+","ANDERSON Jack2","LANIER Audrey11B/So2",null,"4c","4c",null,null,"LML",null,"14Y"]
["Christina","9L-RE","3+",4.55,"M",1,1,4,4,{"$nulls":3},"NOT",{"$nulls":12},"5b","ANDERSON Joel1","HARRIS Christina9b/Re2",null,"4a","4a",null,null,"KKA"]
["Joseph","9H-RE",4,4.79,"M","0+","0+",1,1,null,null,"Y","OTH",null,"K",{"$nulls":10},"6b","ANKOMAH Duphney1","UNDERWOOD Joseph9a/Re2",null,"5b","5b",null,null,"GGE"]
["Evelyn","9H-RE","3+",4.43,"M",1,1,"1+","1+",null,null,"Y","NOT/kn",{"$nulls":12},"6c","ANNETT Luke1","PARSONS Evelyn9b/Re1",null,"4b","4a",null,null,"GGE"]
["Ben","9C-RE",4,5.14,"H","3+","3+",4,4,{"$nulls":3},"OTH",{"$nulls":12},"6c","ARROWSMITH Rosie1","BANKS Ben9b/Re3",null,"4a","4a",null,null,"GMT"]
["Dorothy","9O-RE",4,5.31,"H",3,3,3,3,{"$nulls":3},"ENG",{"$nulls":12},"5b","ATHWAL Amanvir1","SHERRILL Dorothy9c/Re1",null,"4c","3a",null,null,"GGE"]
["Theresa","9A-RE",4,4.72,"M",3,3,5,5,{"$nulls":3},"OTH",{"$nulls":12},"6b","AWOLESI Oluwafisayo1","OAKLEY Theresa9a/Re4",null,"5a","5a",null,null,"KKA"]
["Barry","9I-RE",4,4.88,"M",1,1,"3+","3+",{"$nulls":3},"OTH",null,"K",{"$nulls":10},"4a","BACON Luke1","MAYNARD Barry9c/Re1",null,"5c","4a",null,null,"GGE"]
["Jerome","9S-RE","4+",5.51,"H","1-","1-","2+","2+",{"$nulls":3},"OTH",{"$nulls":12},"5a","BADHAN Arpit1","HILL Jerome9a/Re1",null,"5c","4b",null,null,"GMT"]
["Jason","9C-RE","3+",4.41,"M",2,2,1,1,null,null,"Y","OTH",{"$nulls":12},"5b","BADHAN Natasha1","LIVINGSTON Jason9b/Re2",null,"5c","4b",null,null,"KKA"]
["Norman","9L-RE","3+",4.62,"M",1,1,"3+","3+",{"$nulls":3},"ENB",{"$nulls":12},"5a","BAILEY Cameron1","LAM Norman9a/Re3",null,"5c","4a",null,null,"SBK"]
["Glen","9A-RE",4,5.07,"H",1,1,"1+","1+",null,null,"Y","ENG",null,"K",{"$nulls":10},"5c","BAILLEUL-REYES Louis1","THOMPSON Glen9a/Re1",null,"4c","5c",null,null,"GMT"]
["Ellen","9S-RE",4,5.03,"H","1+","1+","1+","1+",null,null,"Y","NOT/kn",{"$nulls":12},"5c","BAKALOVA Katrin1","CREECH Ellen9b/Re1",null,"4b","4b",null,null,"GGE"]
["Dianne","9O-RE",4,5.18,"H",3,3,"3+","3+",null,null,"Y","NOT/kn",null,"K",{"$nulls":10},"4a","BAKER Sophie1","DILLON Dianne9c/Re4",null,"4b","4b",null,null,"GMT"]
["Harry","9A-RE",4,5.3,"H",2,2,"3+","3+",null,null,"Y","OTH",{"$nulls":12},"6c","BARCI Kejsi1","FOSTER Harry9a/Re4",null,"5c","5a",null,null,"KKA"]
["Tim","9L-RE",4,5.35,"H",1,1,3,3,null,null,"Y","NOT/kn",{"$nulls":12},"5c","BARKER William1","STARR Tim9a/Re1",null,"5c","5c",null,null,"GMT"]
["Eddie","9O-RE",4,4.89,"M",3,3,3,3,{"$nulls":3},"ENG",{"$nulls":12},"5c","BARNES Reese1","BARBOUR Eddie9b/Re3",null,"5c","4b",null,null,"GMT"]
["Arnold","9A-RE","4+",5.53,"H","3+","3+","5+","5+",null,null,"Y","ENG",{"$nulls":12},"5b","BARTLETT Georgia1","BURKE Arnold9b/Re3",null,"4a","5c",null,null,"GMT"]
["Melanie","9I-RE",4,4.87,"M",1,1,"2+","2+",null,null,"Y","ENG",{"$nulls":12},"4c","BECKETT Aaron1","RITCHIE Melanie9c/Re1",null,"4b","4b",null,null,"GGE"]
["Ronald","9S-RE","2+",3.61,"L","0+","0+","1+","1+",null,null,"Y","ENG",null,"S",{"$nulls":10},"5a","BENTLEY Amy1","ODOM Ronald9a/Re4",null,"5c","5c",null,null,"KKA"]
["Peter","9H-RE",4,4.99,"M",2,2,1,1,{"$nulls":3},"OTH",{"$nulls":12},"6b","BETTS Chloe1","ROSENBERG Peter9b/Re2",null,"4a","5c",null,null,"KKA"]
["Jean","9L-RE",4,4.72,"M","0+","0+","2+","2+",null,null,"Y","NOT",{"$nulls":12},"4a","BEWSY Freddy1","GARRETT Jean9d/Re2",null,"4b","3a",null,null,"GMT"]
["Tracy","9I-RE","3+",4.62,"M","0+","0+",1,1,{"$nulls":3},"ENG",null,"K",{"$nulls":10},"5c","BLADE Ryan1","CATES Tracy9c/Re4",null,"3a","4b",null,null,"GMT"]
["Emma","9H-RE",3,4.16,"M",1,1,"1+","1+",null,null,"Y","NOT/kn",null,"K",{"$nulls":10},"5c","BLOOMFIELD Maddie1","OLSON Emma9c/Re3",null,"5c","3a",null,null,"SBK"]
["Molly","9S-RE",3,4.26,"M","1+","1+",2,2,null,null,"Y","OTH",{"$nulls":12},"5a","BOLTON Charlie1","COX Molly9a/Re2",null,"5c","5b",null,null,"GGE"]
["Carlos","9I-RE","2+",3.27,"L","0+","0+",1,1,null,null,"Y","ENG",{"$nulls":12},"5a","BONES Chelsea1","ERICKSON Carlos9b/Re1",null,"5b","4b",null,null,"GGE"]
["Andrew","9I-RE",4,5.34,"H",1,1,2,2,null,null,"Y","ENG",{"$nulls":12},"5c","BORN Charlotte1","BRIGGS Andrew9c/Re1",null,"5c","4c",null,null,"GGE"]
["Bill","9L-RE",4,5.07,"H",1,1,3,3,{"$nulls":3},"OTB",{"$nulls":12},"5b","BOSWELL Levi1","KLEIN Bill9b/Re3",null,"4a","5c",null,null,"GMT"]
["Eileen","9C-RE","4+",5.43,"H",3,3,5,5,{"$nulls":3},"OTH",{"$nulls":12},"5a","BOYLE Brandon1","GOLDBERG Eileen9a/Re3",null,"5c","4a",null,null,"SBK"]
["Randall","9H-RE","3+",4.55,"M",1,1,"1+","1+",{"$nulls":3},"OTH",{"$nulls":12},"5c","BOYLE Louie1","HINSON Randall9c/Re1",null,"4b","5b",null,null,"GGE"]
["Kelly","9C-RE",4,5.17,"H",3,3,"1-","1-",{"$nulls":3},"OTH",{"$nulls":12},"5a","BRANWHITE Toby1","WEISS Kelly9a/Re3",null,"5b","5b",null,null,"SBK"]
["Elaine","9H-RE",4,4.99,"M",2,2,2,2,null,null,"Y","ENG",null,"K",{"$nulls":10},"4b","BRAY Jordan1","PRITCHARD Elaine9d/Re1",null,"3c","4c",null,null,"GGE"]
["Rhonda","9N-RE",4,4.25,"M","2+","2+","2+","2+",{"$nulls":3},"ENG",{"$nulls":12},"6c","BRITLAND Kavan1","GOLDMAN Rhonda9a/Re2",null,"5a","5a",null,null,"GGE"]
["Leo","9C-RE",3,5.18,"H",2,2,"1+","1+",null,null,"Y","ENG",{"$nulls":12},"5b","BROCKLEHURST Charlie1","LASSITER Leo9b/Re1",null,"4a","4b",null,null,"GGE"]
["Clarence","9S-RE",4,4.85,"M","0+","0+","1+","1+",null,null,"Y","NOT/kn",{"$nulls":12},"5c","BROCKLEHURST George1","MASSEY Clarence9c/Re4",null,"4c","4a",null,null,"GMT"]
["Grace","9C-RE","3+",4.5,"M","2+","2+",3,3,{"$nulls":3},"OTH",{"$nulls":12},"5a","BROMFIELD Isabelle1","STARK Grace9a/Re1",null,"5c","5c",null,null,"GMT"]
["Jordan","9A-RE",4,5.07,"H","3+","3+","2+","2+",{"$nulls":3},"ENB",{"$nulls":12},"5b","BROWN Amy1","DUNLAP Jordan9a/Re3",null,"4a","5c",null,null,"SBK"]
["Glenda","9C-RE",3,4.12,"M",0,0,"","",{"$nulls":3},"OTH",{"$nulls":12},"4a","BRYAN Rory1","HUMPHREY Glenda9c/Re3",null,"4c","4b",null,null,"SBK"]
["Jacob","9A-RE",4,4.99,"M",2,2,"2+","2+",{"$nulls":3},"ENB",{"$nulls":12},"6c","BURT Louise1","SINGLETON Jacob9c/Re2",null,"4c","5c",null,null,"KKA"]
["Jordan","9N-RE","3+",4.56,"M","2+","2+",2,2,null,null,"Y","ENB",{"$nulls":12},"6b","BUSHIQI Sara1","HOROWITZ Jordan9a/Re4",null,"5b","5a",null,null,"KKA"]
["Joanna","9O-RE",4,4.92,"M",4,4,"2+","2+",{"$nulls":3},"NOT/kn",{"$nulls":12},"4a","BUTLER Mitchel1","HOOVER Joanna9c/Re1",null,"4b","4a",null,null,"GGE"]
["Sandra","9L-RE","3+",4.6,"M",1,1,"2+","2+",null,null,"Y","ENG",null,"K",{"$nulls":10},"5c","BUTTERFIELD Jack1","KANG Sandra9c/Re4",null,"4b","4b",null,null,"GMT"]
["Stephen","9H-RE",4,5.2,"H",2,2,3,3,null,null,"Y","OTH",{"$nulls":12},"5a","BUTTERWORTH Nathan1","MELTON Stephen9b/Re3",null,"4a","4b",null,null,"GMT"]
["Jessica","9N-RE",4,5.32,"H",2,2,3,3,null,null,"Y","OTH",{"$nulls":12},"4a","BUXTON Connor1","TEAGUE Jessica9a/Re1",null,"4a","5b",null,null,"GMT"]
["Regina","9L-RE","4+",5.53,"H","0+","0+",3,3,null,null,"Y","ENG",{"$nulls":12},"5c","CADMAN Daisy1","ELLINGTON Regina9c/Re1",null,"3a","3a",null,null,"GGE"]
["Joyce","9H-RE",4,4.77,"M","0+","0+",2,2,{"$nulls":3},"NOT/kn",{"$nulls":12},"5b","CARPENTER Joseph1","JENNINGS Joyce9a/Re4",null,"4a","5b",null,null,"KKA"]
["Betty","9H-RE",4,4.92,"M","3+","3+",2,2,{"$nulls":3},"ENG",{"$nulls":12},"5c","CASE Billy1","ALBRIGHT Betty9c/Re2",null,"4a","4a",null,null,"KKA"]
["Jerry","9C-RE",3,4.01,"M",2,2,3,3,{"$nulls":3},"OTH",{"$nulls":12},"4b","CASTLETON Samuel1","ALSTON Jerry9c/Re3",null,"4a","4c",null,null,"SBK"]
["Tommy","9A-RE",5,5.75,"H","4+","4+","5+","5+",{"$nulls":3},"ENG",{"$nulls":12},"5a","CELLA Libby1","BURNETTE Tommy9a/Re3",null,"5c","5c",null,null,"SBK"]
["Alan","9N-RE","4+",5.66,"H",4,4,"5+","5+",null,null,"Y","OTH",{"$nulls":12},"5b","CHANDRAKUMAR Soumeya1","O'NEAL Alan9b/Re3",null,"4a","4b",null,null,"GMT"]
["Christina","9C-RE",4,5.24,"H",2,2,"3+","3+",null,null,"Y","ENB",{"$nulls":12},"5b","CHAPMAN Molly1","MORRIS Christina9b/Re1",null,"5c","4b",null,null,"GGE"]
["Veronica","9A-RE",4,5.06,"H",2,2,3,3,null,null,"Y","OTH",null,"K",{"$nulls":10},"5a","CHU Shannon1","CALLAHAN Veronica9a/Re2",null,"4a","4a",null,null,"GGE"]
["Kelly","9O-RE",4,4.87,"M","2+","2+","3+","3+",null,null,"Y","NOT/kn",null,"K",{"$nulls":10},"4c","CLARK Harry1","CONWAY Kelly9d/Re3",null,"3c","3b",null,null,"KKA"]
["George","9L-RE",4,5.11,"H",1,1,2,2,{"$nulls":3},"ENG",null,"K",{"$nulls":10},"5a","COLE Elleanor1","GLOVER George9b/Re3",null,"4a","4b",null,null,"GMT"]
["Nina","9S-RE",4,5,"H","1+","1+",3,3,null,null,"Y","ENG",{"$nulls":12},"4a","COLES Lewis1","SAVAGE Nina9c/Re2",null,"5c","4a",null,null,"KKA"]
["Jay","9O-RE",3,4.22,"M","1+","1+","1+","1+",null,null,"Y","ENG",{"$nulls":12},"5a","COLYER Archie1","WANG Jay9a/Re3",null,"5c","5b",null,null,"SBK"]
["Brenda","9O-RE",4,4.97,"M","1+","1+","2+","2+",{"$nulls":3},"ENG",null,"K",{"$nulls":10},"5a","CONNOR Cayleigh1","BARBOUR Brenda9a/Re3",null,"5c","5c",null,null,"SBK"]
["Joshua","9L-RE","3+",4.45,"M","0+","0+","2+","2+",{"$nulls":3},"ENG",{"$nulls":12},"5c","COOK Reggie1","SHERRILL Joshua9c/Re2",null,"3b","4c",null,null,"KKA"]
["Nelson","9S-RE",3,3.9,"L","1-","1-","1+","1+",null,null,"Y","ENG",null,"K",{"$nulls":10},"4b","COOMBES Charley1","PIERCE Nelson9c/Re2",null,"4c","4b",null,null,"KKA"]
["Vincent","9I-RE","3+",4.48,"M","0+","0+","1+","1+",null,null,"Y","ENG",{"$nulls":12},"4b","COOPER Rhys1","WOODWARD Vincent9b/Re2",null,"4c","5b",null,null,"KKA"]
["Hannah","9O-RE","3+",4.63,"M",1,1,1,1,null,null,"Y","ENG",{"$nulls":12},"4c","CORIBEL Edward1","LANGSTON Hannah9c/Re4",null,"4a","3a",null,null,"GMT"]
["Alice","9L-RE",4,4.89,"M","0+","0+","2+","2+",null,null,"Y","ENB",{"$nulls":12},"4a","COTTRELL Gary1","EATON Alice9b/Re2",null,"4a","5c",null,null,"KKA"]
["Elisabeth","9C-RE",4,5.08,"H","2+","2+",2,2,{"$nulls":3},"OTH",{"$nulls":12},"6b","CRABTREE Macy1","LOWE Elisabeth9a/Re1",null,"5b","4a",null,null,"GMT"]
["Matthew","9H-RE",4,4.89,"M",2,2,4,4,null,null,"Y","ENG",{"$nulls":12},"5a","CRAMER Megan1","STANTON Matthew9a/Re2",null,"5b","5b",null,null,"GGE"]
["Thomas","9A-RE",3,4.37,"M","1+","1+",2,2,null,null,"Y","NOT/kn",null,"K",{"$nulls":10},"5c","CUBBAGE Bayleigh1","FULLER Thomas9a/Re3",null,"5b","4b",null,null,"SBK"]
["Benjamin","9I-RE",4,5.19,"H","0+","0+","2+","2+",{"$nulls":3},"ENG",{"$nulls":12},"4a","DAVIDSON Benjamin1","SIMMONS Benjamin9a/Re4",null,"5b","4a",null,null,"KKA"]
["Kristine","9N-RE",4,5.17,"H",3,3,3,3,{"$nulls":3},"OTH",{"$nulls":12},"4b","DAVISON Max1","SCHULTZ Kristine9d/Re2",null,"3b","3b",null,null,"GMT"]
["Jordan","9C-RE",4,4.87,"M",3,3,4,4,null,null,"Y","OTH",{"$nulls":12},"5b","DAY Daisy1","KNIGHT Jordan9b/Re1",null,"5c","4c",null,null,"GGE"]
["Floyd","9L-RE",4,4.86,"M","1-","1-",3,3,null,null,"Y","OTH",{"$nulls":12},"5c","DEAN Ella1","SCHROEDER Floyd9b/Re2",null,"5b","4a",null,null,"KKA"]
["Virginia","9I-RE","3+",4.54,"M","0+","0+",3,3,null,null,"Y","ENG",{"$nulls":12},"4a","DENNISON Brendon1","TURNER Virginia9c/Re3",null,"5c","4c",null,null,"SBK"]
["Deborah","9H-RE",4,5.16,"H",1,1,"1+","1+",null,null,"Y","NOT/kn",null,"K",{"$nulls":10},"4c","DJIMA Karim1","FRENCH Deborah9c/Re3",null,"4a","4b",null,null,"SBK"]
["Peter","9N-RE",4,5.06,"H","4+","4+",5,5,null,null,"Y","OTH",{"$nulls":12},"5a","DONNELLY Callum1","HUGHES Peter9a/Re2",null,"5a","6c",null,null,"GGE"]
["Bernard","9N-RE",4,4.71,"M","2+","2+","3+","3+",null,null,"Y","NOT/kn",{"$nulls":12},"6c","DORAN Adam1","PATE Bernard9a/Re1",null,"5c","5a",null,null,"GMT"]
["Harold","9N-RE",4,5.22,"H","2+","2+",3,3,null,null,"Y","ENB",{"$nulls":12},"4a","DRYDEN Danny1","BURNETT Harold9c/Re3",null,"4b","4a",null,null,"SBK"]
["Gretchen","9I-RE",4,5.25,"H","0+","0+","3+","3+",{"$nulls":3},"OTH",{"$nulls":12},"5c","DUFF Jami1","FRANCIS Gretchen9b/Re2",null,"5b","4b",null,null,"KKA"]
["Cheryl","9A-RE",4,5.05,"H",2,2,3,3,null,null,"Y","NOT/kn",{"$nulls":12},"5c","DUGGAN Courtney1","HORN Cheryl9d/Re3",null,"3c","4b",null,null,"KKA"]
["Audrey","9I-RE",4,4.97,"M",1,1,"2+","2+",{"$nulls":3},"REF",{"$nulls":12},"5b","DYRA Joshua1","FORREST Audrey9b/Re2",null,"5c","3a",null,null,"KKA"]
["Alan","9S-RE",4,5.18,"H","1-","1-",2,2,null,null,"Y","OTH",null,"K",{"$nulls":10},"4b","EARLEY Alfie1","LEVIN Alan9a/Re3",null,"4a","4a",null,null,"SBK"]
["Nancy","9N-RE",4,5.1,"H",3,3,5,5,{"$nulls":3},"REF",{"$nulls":12},"5c","ELLIOTT Harry1","DURHAM Nancy9a/Re3",null,"5c","4a",null,null,"SBK"]
["Peter","9I-RE",3,4.01,"M",1,1,"1+","1+",null,null,"Y","OTH",null,"K",{"$nulls":10},"5a","ELLIS Harry1","GUTHRIE Peter9a/Re4",null,"5b","4a",null,null,"KKA"]
["Benjamin","9S-RE","3+",5.08,"H","0+","0+","2+","2+",null,null,"Y","ENG",{"$nulls":12},"5b","ELLIS Jack1","HENSLEY Benjamin9a/Re1",null,"4a","5b",null,null,"GMT"]
["Derek","9S-RE",4,5.01,"H","2+","2+","3+","3+",null,null,"Y","ENG",{"$nulls":12},"5b","ENGLISH Jessica1","FREEDMAN Derek9b/Re1",null,"5c","4b",null,null,"GGE"]
["Marlene","9C-RE","4+",5.47,"H","3+","3+",4,4,null,null,"Y","ENB",{"$nulls":12},"5b","ESSAM Archie1","WIGGINS Marlene9a/Re2",null,"5c","4a",null,null,"GGE"]
["Clara","9C-RE",4,4.78,"M",3,3,"1+","1+",null,null,"Y","OTH",null,"K",{"$nulls":10},"5a","EVANS Adam1","BEST Clara9a/Re2",null,"4c","4a",null,null,"GGE"]
["Kara","9A-RE",4,5.22,"H",2,2,4,4,null,null,"Y","OTH",{"$nulls":12},"4a","EVBUOMWAN Marvis1","CRAWFORD Kara9d/Re3",null,"3c","4c",null,null,"KKA"]
["Kristin","9A-RE","3+",4.49,"M","2+","2+",2,2,{"$nulls":3},"ENG",{"$nulls":12},"4a","EVES Jack1","DRAKE Kristin9c/Re2",null,"4a","4c",null,null,"KKA"]
["Edwin","9C-RE",4,4.95,"M",2,2,3,3,null,null,"Y","OTH",{"$nulls":12},"5a","FABIYI Buky1","CURTIS Edwin9c/Re2",null,"4b","4a",null,null,"KKA"]
["Molly","9O-RE",4,4.77,"M",2,2,3,3,null,null,"Y","ENB",{"$nulls":12},"5b","FAIREY Megan1","WALTER Molly9c/Re3",null,"4b","4b",null,null,"SBK"]
["Elaine","9N-RE",3,4.03,"M","2+","2+","2+","2+",{"$nulls":3},"ENB",{"$nulls":12},"5c","FARRELL Daniel1","JENKINS Elaine9b/Re2",null,"5c","4a",null,null,"KKA"]
[{"$nulls":25},"5b","FARRELL Tommy1","HOOD Victor9a/Re2",null,"5b","4a",null,null,"GGE"]
[{"$nulls":25},"5c","FAY Ellisha1","JIANG Cecil9c/Re2",null,"4c","4c",null,null,"KKA"]
[{"$nulls":25},"6b","FERREIRA Lorena1","JOHNSON Melissa9a/Re2",{"$nulls":5},"GGE"]
[{"$nulls":25},"4b","FFRENCH Jordan1","CRAIG Christina9d/Re2",null,"4b","4b",null,null,"GMT"]
[{"$nulls":25},"5c","FLEMING Chloe1","NORMAN Allison9d/Re1",null,"4c","3b",null,null,"GGE"]
[{"$nulls":25},"4a","FLOOD Daisy-Leigh1","MCINTYRE Gretchen9c/Re3",null,"4a","4b",null,null,"SBK"]
[{"$nulls":25},"4a","FOSTER Lacey1","KELLEY George9d/Re2",null,"3b","4b",null,null,"GMT"]
[{"$nulls":25},"5a","FRAMPTON Charlotte1","SMITH Barbara9b/Re3",null,"5c","4c",null,null,"GMT"]
[{"$nulls":25},"4c","FREEMAN Callum1","LYONS Evelyn9d/Re3",null,"3b","4b",null,null,"KKA"]
[{"$nulls":25},"4a","GADBURY Jack1","WALL Rita9c/Re1",null,"4b","4b",null,null,"GGE"]
[{"$nulls":25},"6c","GALLAGHER Shannon1","QUINN Dan9a/Re2",null,"5b","5b",null,null,"GGE"]
[{"$nulls":25},"5c","GASPER-OZIM Gerald1","HICKS Juan9b/Re3",null,"4a","5b",null,null,"GMT"]
[{"$nulls":25},"5a","GATES Charlotte1","WATTS Ronnie9a/Re4",null,"5b","5b",null,null,"KKA"]
[{"$nulls":25},"4a","GIBBS Toby1","DICKERSON Hilda9d/Re2",null,"4c","3c",null,null,"GMT"]
[{"$nulls":25},"5a","GIBSON Martyn1","WALLER Stephen9b/Re2",null,"5c","4b",null,null,"KKA"]
[{"$nulls":25},"5b","GILES Alexis1","CARTER Lorraine9a/Re3",null,"5b","4b",null,null,"SBK"]
[{"$nulls":25},"X","GILL Lenny1","ROBINSON Chris9c/Re2",null,"4b","4c",null,null,"KKA"]
[{"$nulls":25},"5a","GILLESPIE Connor1","KATZ Katie9a/Re2",null,"5c","5c",null,null,"GGE"]
[{"$nulls":25},"6b","GIRLING Daisy1","HULL Richard9a/Re3",null,"5c","5c",null,null,"SBK"]
[{"$nulls":25},"5c","GLASSCOCK Alfie1","BOWLING Steve9c/Re4",null,"4a","4a",null,null,"GMT"]
[{"$nulls":25},"5b","GLAYSHER Ellie1","BRANTLEY Monica9b/Re2",null,"4a","5c",null,null,"KKA"]
[{"$nulls":25},"6c","GLOVER Melanie1","BROCK Kenneth9a/Re2",null,"5c","5b",null,null,"GGE"]
[{"$nulls":25},"5b","GNAHORE Keris Anne1","MCMILLAN Glenda9c/Re4",null,"3b","3b",null,null,"GMT"]
[{"$nulls":25},"3a","GOBLE Jordan1","HU Ricky9d/Re2",null,"4a","2a",null,null,"GMT"]
[{"$nulls":25},"4a","GODBOLT Charlie-Rene1","WALLER Rick9d/Re3",null,"3b","3a",null,null,"KKA"]
[{"$nulls":25},"6c","GOKTAS Filiz1","ABBOTT Wanda9a/Re3",null,"5c","4a",null,null,"SBK"]
[{"$nulls":25},"5b","GOLDING Coral1","WATERS Robin9a/Re4",null,"5c","4a",null,null,"KKA"]
[{"$nulls":25},"5b","GOLIGHER Lucy1","SIMS Dan9d/Re2",null,"4c","4c",null,null,"GMT"]
[{"$nulls":25},"5c","GOOCH Joe1","HENDERSON Kathy9b/Re3",null,"5c","4a",null,null,"GMT"]
[{"$nulls":25},"5b","GOODBAN Casey1","RAO Alicia9d/Re1",null,"4b","3a",null,null,"GGE"]
[{"$nulls":25},"4a","GREEN George1","BRAY Sherry9b/Re3",null,"4a","4b",null,null,"GMT"]
[{"$nulls":25},"5a","GREEN Lucy1","SCARBOROUGH Chris9a/Re3",null,"5b","4b",null,null,"SBK"]
[{"$nulls":25},"5c","HAJDARI Sabrina1","FORD Nathan9c/Re3",null,"4c","3a",null,null,"SBK"]
[{"$nulls":25},"5b","HALIMI Saimir1","GORDON Barry9a/Re1",null,"5b","5a",null,null,"GMT"]
[{"$nulls":25},"5b","HALL Bethany1","MOORE Melinda9a/Re2",null,"5c","5c",null,null,"GGE"]
[{"$nulls":25},"5c","HALL Connor1","KEMP Maureen9c/Re4",null,"4b","4a",null,null,"GMT"]
[{"$nulls":25},"5c","HALL Taylor1","LITTLE Anne9c/Re4",null,"5c","4c",null,null,"GMT"]
[{"$nulls":25},"5c","HARRISON Chloe1","GILL Clifford9c/Re4",null,"4c","4b",null,null,"GMT"]
[{"$nulls":25},"5c","HARVEY Scott1","KELLER Nicole9c/Re3",null,"4b","4c",null,null,"SBK"]
[{"$nulls":25},"5a","HAWKINS-KHAN Macy1","ROSENTHAL Rachel9b/Re1",null,"5b","4c",null,null,"GGE"]
[{"$nulls":25},"5b","HAYES Tyler1","MCCONNELL Carolyn9a/Re3",null,"5b","5b",null,null,"SBK"]
[{"$nulls":25},"5a","HAYWARD Kayleigh1","SAWYER Samuel9b/Re1",null,"4a","4b",null,null,"GGE"]
[{"$nulls":25},"4a","HEDGES Pashie1","MCCALL Theodore9d/Re3",null,"4c","3b",null,null,"KKA"]
[{"$nulls":25},"6c","HEMMINGS Bethany1","COATES Eleanor9a/Re1",null,"4a","5b",null,null,"GMT"]
[{"$nulls":25},"6c","HERATH Ishara1","HICKS Glenn9b/Re2",null,"4a","4a",null,null,"KKA"]
[{"$nulls":25},"5c","HIGGOTT Elizabeth1","DAVIDSON Wesley9c/Re4",null,"4b","3c",null,null,"GMT"]
[{"$nulls":25},"5a","HIGGOTT William1","HAWKINS Ralph9a/Re1",null,"5c","5a",null,null,"GMT"]
[{"$nulls":25},"5b","HILTON Amy1","LINDSAY Annie9a/Re4",null,"5c","4a",null,null,"KKA"]
[{"$nulls":25},"5c","HOBBS Archie1","GONZALEZ Beth9a/Re1",null,"4b","4a",null,null,"GMT"]
[{"$nulls":25},"5a","HODSON Liam1","GRAY Claire9c/Re1",null,"4c","4a",null,null,"GGE"]
[{"$nulls":25},"5a","HOPE Sarah1","ENGLISH Jonathan9a/Re3",null,"5b","4a",null,null,"SBK"]
[{"$nulls":25},"4b","HOWARD Reece1","DUKE Bradley9d/Re1",null,"2b","3c",null,null,"GGE"]
[{"$nulls":25},"5c","HOWARD-MORONEY Chelsea1","BALDWIN Nicholas9c/Re3",null,"4c","4b",null,null,"SBK"]
[{"$nulls":25},"4c","HOY Harry1","SHAFFER Gloria9d/Re3",null,"2b","2b",null,null,"KKA"]
[{"$nulls":25},"5b","HUMPHREYS Elliemay1","WANG Kelly9b/Re3",null,"5c","4c",null,null,"GMT"]
[{"$nulls":25},"6b","HUMPHREYS Kristian1","BURGESS Tommy9a/Re4",null,"5b","5c",null,null,"KKA"]
[{"$nulls":25},"4a","HUNT Owen1","FLETCHER Calvin9d/Re2",null,"4a","3c",null,null,"GMT"]
[{"$nulls":25},"5b","HUSSEY Alexa1","BOYD Emily9a/Re3",null,"4a","4b",null,null,"SBK"]
[{"$nulls":25},"5b","HYLAND Ellie1","HIRSCH Luis9c/Re2",null,"4a","4c",null,null,"KKA"]
[{"$nulls":25},"5c","IMAGHODOR Abraham1","CURRIE Kimberly9b/Re3",null,"4b","4b",null,null,"GMT"]
[{"$nulls":25},"5b","IRESON Alicia1","HONEYCUTT Robert9c/Re4",null,"4b","4a",null,null,"GMT"]
[{"$nulls":25},"4b","IZOD Sophie1","MANNING Karen9d/Re1",null,"3a","2a",null,null,"GGE"]
[{"$nulls":25},"4a","JACKSON Sophia1","RITCHIE Mary9d/Re2",null,"2a","4a",null,null,"GMT"]
[{"$nulls":25},"5b","JARVIS Elise1","BALDWIN Evelyn9b/Re2",null,"4a","5c",null,null,"KKA"]
[{"$nulls":25},"5a","JARVIS Rosie1","RILEY Lynda9a/Re4",null,"4a","4a",null,null,"KKA"]
[{"$nulls":25},"5a","JEFFRIES Katie1","SWANSON Beth9a/Re1",null,"5c","4a",null,null,"GMT"]
[{"$nulls":25},"6b","JHAMAT Karina1","GIBSON James9b/Re1",null,"5c","4b",null,null,"GGE"]
[{"$nulls":25},"5a","JHEETA Abinaash1","WRENN Jordan9a/Re1",null,"5b","5b",null,null,"GMT"]
[{"$nulls":25},"6c","JOHNSON Bobby1","GREEN Willie9b/Re2",null,"4a","4a",null,null,"KKA"]
[{"$nulls":25},"5b","JOHNSON Carling1","HAMRICK Charlotte9c/Re3",null,"3a","5c",null,null,"SBK"]
[{"$nulls":25},"4b","JOHNSON Lacie1","HAWLEY Rhonda9d/Re3",null,"2b","2b",null,null,"KKA"]
[{"$nulls":25},"4b","JOHNSON Selin1","KOCH Steve9d/Re2",null,"3b","3a",null,null,"GMT"]
[{"$nulls":25},"6b","KADIMA Merdie1","MCKENZIE Nicholas9b/Re2",null,"4a","5c",null,null,"KKA"]
[{"$nulls":25},"5b","KANDEEPAN Kowsik1","HARRELL Vicki9c/Re2",null,"4b","4b",null,null,"KKA"]
[{"$nulls":25},"3a","KAPP Amy1","PARSONS Stephanie9d/Re1",null,"3a","3b",null,null,"GGE"]
[{"$nulls":25},"5c","KEEBLE Charley1","MCGUIRE Jose9c/Re1",null,"4b","4a",null,null,"GGE"]
[{"$nulls":25},"5b","KEEGAN Connor1","STEPHENSON George9a/Re2",null,"5c","5c",null,null,"GGE"]
[{"$nulls":25},"4a","KEMBER-HOLLANDS Toby1","BAXTER Marlene9d/Re2",null,"4b","4c",null,null,"GMT"]
[{"$nulls":25},"5c","KERNOTT Taylor1","SUMMERS Catherine9b/Re1",null,"5b","3a",null,null,"GGE"]
[{"$nulls":25},"5a","KHAN Alina1","NIXON Leo9a/Re1",null,"5c","4a",null,null,"GMT"]
[{"$nulls":25},"5a","KHANOM Tangina1","KELLY Rita9a/Re4",null,"5c","5c",null,null,"KKA"]
[{"$nulls":25},"6c","KHATUN Naeema1","SUMNER Joan9c/Re2",null,"4c","5c",null,null,"KKA"]
[{"$nulls":25},"6b","KHELLA Karambir1","BRUCE Wesley9a/Re3",null,"5b","5a",null,null,"SBK"]
[{"$nulls":25},"5a","KING Skye1","NEWTON Cathy9a/Re2",null,"5c","5b",null,null,"GGE"]
[{"$nulls":25},"4b","KUCH Liam1","ROGERS Kevin9d/Re2",null,"2b","3a",null,null,"GMT"]
[{"$nulls":25},"4b","KUCINSKAS Ignas1","FINCH Lester9c/Re3",null,"4b","4a",null,null,"SBK"]
[{"$nulls":25},"5b","LATTER Britney1","SILVERMAN Joy9a/Re1",null,"5b","4b",null,null,"GMT"]
[{"$nulls":25},"5c","LAWRENCE Eliza1","HORN Kate9d/Re3",null,"3a","3c",null,null,"KKA"]
[{"$nulls":25},"5b","LAWSON Joseph1","GAY Theodore9a/Re2",null,"4a","5b",null,null,"GGE"]
[{"$nulls":25},"5a","LEEDS Shaun1","CHASE Cheryl9a/Re4",null,"4b","5b",null,null,"KKA"]
[{"$nulls":25},"4a","LEWIS Christopher1","GALLAGHER Jamie9d/Re1",null,"4c","4c",null,null,"GGE"]
[{"$nulls":25},"5c","LIGUORI Oliver1","KERN Audrey9d/Re1",null,"5c","3c",null,null,"GGE"]
[{"$nulls":25},"5a","LINDO Loren1","SCOTT Jennifer9c/Re3",null,"4b","4b",null,null,"SBK"]
[{"$nulls":25},"5c","LINDUS Luke1","PUCKETT Ben9b/Re3",null,"5c","4b",null,null,"GMT"]
[{"$nulls":25},"5b","LLOYD Rhea1","YANG Alex9c/Re4",null,"4c","3a",null,null,"GMT"]
[{"$nulls":25},"6b","LONGHURST Joshua1","BRANTLEY Jennifer9a/Re3",null,"5b","4b",null,null,"SBK"]
[{"$nulls":25},"5a","LOOR YUNDA Nicola1","LINK Jonathan9b/Re2",null,"5c","4c",null,null,"KKA"]
[{"$nulls":25},"4a","LOVERIDGE Joseph1","NGUYEN Allan9c/Re3",null,"4b","4a",null,null,"SBK"]
[{"$nulls":25},"5a","MACMILLAN Aidan1","HORNE Stephanie9a/Re2",null,"5c","5b",null,null,"GGE"]
[{"$nulls":25},"4b","MALONE Rian1","BURTON Carol9d/Re1",null,"3b","4b",null,null,"GGE"]
[{"$nulls":25},"4a","MARKIN Kyle1","DIAZ Melanie9c/Re2",null,"3c","5c",null,null,"KKA"]
[{"$nulls":25},"5a","MASHEDER Corinne1","BERRY Samantha9a/Re2",null,"5c","5c",null,null,"GGE"]
[{"$nulls":25},"5c","MASLEN Danny1","FREEMAN Cathy9a/Re4",null,"5c","5c",null,null,"KKA"]
[{"$nulls":25},"6c","MASTERS Lauren1","HARDISON Rita9b/Re1",null,"4a","5c",null,null,"GGE"]
[{"$nulls":25},"5b","MAWA Luc1","WOLF Jacob9a/Re2",null,"5b","5b",null,null,"GGE"]
[{"$nulls":25},"5b","MAXTED Jack1","BOYD Steven9b/Re2",null,"4c","4a",null,null,"KKA"]
[{"$nulls":25},"5b","MCCOMBIE Freddie1","CALDWELL Tracy9c/Re2",null,"4a","4c",null,null,"KKA"]
[{"$nulls":25},"6c","MCCORMICK Rhys1","MANN Eva9a/Re1",null,"5b","5a",null,null,"GMT"]
[{"$nulls":25},"5b","MCDERMOTT Charley1","MCLEOD Lorraine9c/Re3",null,"4b","3b",null,null,"SBK"]
[{"$nulls":25},"5a","MEAGHER Jack1","STANTON Willie9a/Re1",null,"5c","6b",null,null,"GMT"]
[{"$nulls":25},"5a","MIAH Jakiya1","PARK Joel9a/Re2",null,"5c","4a",null,null,"GGE"]
[{"$nulls":25},"4a","MIDDLETON Ben1","CHANG Vanessa9c/Re4",null,"4b","4b",null,null,"GMT"]
[{"$nulls":25},"4a","MILNER Lewis1","NEWTON Becky9a/Re4",null,"5c","4a",null,null,"KKA"]
[{"$nulls":25},"5b","MITCHELL-CHARLES Karna1","PHILLIPS Melinda9b/Re2",null,"4a","5c",null,null,"KKA"]
[{"$nulls":25},"5a","MOMODU Kerry1","WHITAKER Harvey9d/Re2",null,0,0,null,null,"GMT"]
[{"$nulls":25},"4b","MORGAN Freddie1","MCLEAN Aaron9c/Re3",null,"4c","3a",null,null,"SBK"]
[{"$nulls":25},"5a","MORGANS Emily1","BARTON Jack9c/Re2",null,"4b","4a",null,null,"KKA"]
[{"$nulls":25},"5a","MORRIS Madeleine1","GOULD Suzanne9c/Re1",null,"4a","4c",null,null,"GGE"]
[{"$nulls":25},"6c","MOTSI Taffy1","ATKINS Katherine9a/Re3",null,"4b","5c",null,null,"SBK"]
[{"$nulls":25},"4a","MOTT Candie1","VINCENT Julia9c/Re1",null,"4b","4c",null,null,"GGE"]
[{"$nulls":25},"4a","MUCHINJIKO Craig1","HARRELL Bob9c/Re2",null,"4a","4c",null,null,"KKA"]
[{"$nulls":25},"5c","MUCHINJIKO Kuzivakwashe1","LASSITER Janet9c/Re3",null,"4a","3b",null,null,"SBK"]
[{"$nulls":25},"4a","MUPFURURIRWA Shaun1","FISHER Kristen9c/Re4",null,"4b","4a",null,null,"GMT"]
[{"$nulls":25},"4b","MURSELAJ Qendrim1","CASE Jenny9c/Re3",null,"4c","4a",null,null,"SBK"]
[{"$nulls":25},"5a","NEWLAND Sonny1","PARSONS Jeanette9a/Re4",null,"5b","5b",null,null,"KKA"]
[{"$nulls":25},"4a","NEWTON Macey1","MCPHERSON Megan9d/Re3",null,"4c","3b",null,null,"KKA"]
[{"$nulls":25},"6c","NIBI Chenise1","WILEY Joel9b/Re3",null,"5c","4c",null,null,"GMT"]
[{"$nulls":25},"4c","OAKES Mitchel1","SCHWARTZ Don9d/Re2",null,"3b","3b",null,null,"GMT"]
[{"$nulls":25},"5a","O'BRIEN Sara1","BAKER Jon9a/Re1",null,"5c","4c",null,null,"GMT"]
[{"$nulls":25},"4a","O'BRIEN William1","HOLDEN Annie9d/Re1",null,"4c","3c",null,null,"GGE"]
[{"$nulls":25},"6b","ODEDERE Simi1","SCHWARTZ Eleanor9a/Re3",null,"5b","5b",null,null,"SBK"]
[{"$nulls":25},"3b","ODUYEMI Michael1","NGUYEN Nina9d/Re1",null,"2b","2b",null,null,"GGE"]
[{"$nulls":25},"5a","OLIVER-LINES Molleigh1","HOUSTON Clara9a/Re1",null,"4b","4a",null,null,"GMT"]
[{"$nulls":25},"6c","OLOYEDE Sofia1","ADCOCK Dwight9a/Re2",null,"5c","5b",null,null,"GGE"]
[{"$nulls":25},"6c","ONU Mary1","STEPHENS Angela9a/Re1",null,"5b","5b",null,null,"GMT"]
[{"$nulls":25},"5a","OSBON Kelsey1","BERGER Gilbert9c/Re1",null,"4a","4c",null,null,"GGE"]
[{"$nulls":25},"5b","PALMER Celine1","ALDRIDGE Edwin9c/Re2",null,"4b","4b",null,null,"KKA"]
[{"$nulls":25},"4a","PARMENTER Danny1","DAVIES Emily9b/Re1",null,"4a","4a",null,null,"GGE"]
[{"$nulls":25},"4a","PARMENTER Jack1","WALL Hannah9d/Re3",null,"3a","4a",null,null,"KKA"]
[{"$nulls":25},"5c","PATEL Prit1","MILES Ronald9c/Re3",null,"4a","3b",null,null,"SBK"]
[{"$nulls":25},"5a","PAVEY Jake1","BOLTON Helen9a/Re2",null,"5c","5c",null,null,"GGE"]
[{"$nulls":25},"5a","PAYNE Ellie1","MORGAN Barbara9b/Re1",null,"4a","4a",null,null,"GGE"]
[{"$nulls":25},"5b","PIPER George1","STEPHENS Anne9b/Re1",null,"4b","4b",null,null,"GGE"]
[{"$nulls":25},"5c","PLAYLE Libby1","FERRELL Dorothy9b/Re2",null,"4a","4b",null,null,"KKA"]
[{"$nulls":25},"5b","PRENDERGAST Lewis1","HENRY Claire9c/Re4",null,"4a","4c",null,null,"GMT"]
[{"$nulls":25},"4b","PRITCHARD Max1","HEDRICK Anita9d/Re1",null,"4c","4b",null,null,"GGE"]
[{"$nulls":25},"3a","PROCTOR Blake1","HORNE Ronald9d/Re3",null,"3c","4b",null,null,"KKA"]
[{"$nulls":25},"4b","PSEMENECKAITE Neda1","RITCHIE Jeff9c/Re3",null,"2b","4c",null,null,"SBK"]
[{"$nulls":25},"4a","PYM Megan1","GROSSMAN Sandra9d/Re2",null,"4c","3b",null,null,"GMT"]
[{"$nulls":25},"5a","QUADRI Ayotunde1","OLSON Audrey9b/Re3",null,"4a","4a",null,null,"GMT"]
[{"$nulls":25},"5b","QUINNELL Harry1","ARNOLD Hazel9a/Re1",null,"4a","4c",null,null,"GMT"]
[{"$nulls":25},"5a","RADENHURST Ben1","STANLEY Joann9b/Re2",null,"4b","4b",null,null,"KKA"]
[{"$nulls":25},"5c","RAINBOW Aimee1","FIELD Audrey9c/Re1",null,"4b","4b",null,null,"GGE"]
[{"$nulls":25},"5c","RANDALL Bethany1","FARMER Walter9c/Re2",null,"4b","3b",null,null,"KKA"]
[{"$nulls":25},"5c","RANDALL Lewis1","JERNIGAN Herbert9c/Re3",null,"4c","4b",null,null,"SBK"]
[{"$nulls":25},"4a","REA Holly1","BOWERS Harold9d/Re2",null,"4c","4a",null,null,"GMT"]
[{"$nulls":25},"5b","REDSELL Jack1","CRABTREE Sherry9c/Re2",null,"4c","4b",null,null,"KKA"]
[{"$nulls":25},"4b","REED Jay1","CRABTREE Jeanne9d/Re2",null,"2b","4c",null,null,"GMT"]
[{"$nulls":25},"5c","REEVE Kira1","CLEMENTS Rick9d/Re3",null,"4c","4b",null,null,"KKA"]
[{"$nulls":25},"5a","REPAJ John1","SPIVEY Kristen9a/Re3",null,"4b","4a",null,null,"SBK"]
[{"$nulls":25},"5b","RICHARDS Trey1","ARCHER Patrick9a/Re3",null,"5c","4a",null,null,"SBK"]
[{"$nulls":25},"4a","RICKMAN Kane1","STRICKLAND Herbert9d/Re3",null,"4c","4c",null,null,"KKA"]
[{"$nulls":25},"5a","ROBINS Harry1","BERG Miriam9a/Re3",null,"5b","5b",null,null,"SBK"]
[{"$nulls":25},"5b","ROCK Callum1","GIBBONS Maurice9b/Re1",null,"4a","4b",null,null,"GGE"]
[{"$nulls":25},"5c","ROLANDSEN Brendan1","EASON Bradley9c/Re2",null,"5c","4b",null,null,"KKA"]
[{"$nulls":25},"6b","ROSSI Francesca1","HOOVER Lester9a/Re2",null,"5c","5a",null,null,"GGE"]
[{"$nulls":25},"4b","ROSSITER James1","PARK Tom9d/Re3",null,"3c","3c",null,null,"KKA"]
[{"$nulls":25},"5b","RUDKIN Michael1","ANDERSON Chris9a/Re4",null,"3b","5b",null,null,"KKA"]
[{"$nulls":25},"4a","RUMBOL Harry1","PEARSON Ashley9b/Re1",null,"5c","4b",null,null,"GGE"]
[{"$nulls":25},"6b","RUSHBROOK Sammy1","CHU Annette9a/Re1",null,"5c","5a",null,null,"GMT"]
[{"$nulls":25},"4a","RUTHERFORD Jamie1","SCHULTZ Jenny9d/Re1",null,"4c","3a",null,null,"GGE"]
[{"$nulls":25},"4b","RUTHERFORD Phoebe1","MITCHELL Barry9d/Re3",null,"4c","3c",null,null,"KKA"]
[{"$nulls":25},"5b","SAINE Kareem1","SHARP Jerome9a/Re2",{"$nulls":5},"GGE"]
[{"$nulls":25},"5b","SALTER Maizie1","GLOVER Cynthia9b/Re3",null,"4b","4b",null,null,"GMT"]
[{"$nulls":25},"5c","SANDERSON Jack1","CATES Marilyn9c/Re2",null,"5c","4c",null,null,"KKA"]
[{"$nulls":25},"5a","SANDHU Jusdip1","LOWRY Brenda9c/Re2",null,"4b","4b",null,null,"KKA"]
[{"$nulls":25},"5b","SANDHU Kimran1","COOKE Marsha9b/Re3",null,"4b","4b",null,null,"GMT"]
[{"$nulls":25},"4b","SANGSTER Kelsey1","FINK William9d/Re3",null,"2c","5c",null,null,"KKA"]
[{"$nulls":25},"4a","SAUNDERS Billy1","BARRETT Gloria9a/Re2",null,"4a","5b",null,null,"GGE"]
[{"$nulls":25},"6c","SAVAGE Taylah1","OLSON Lester9a/Re4",null,"5c","4a",null,null,"KKA"]
[{"$nulls":25},"5b","SCILLITOE Bethany1","MELTON Vanessa9a/Re4",null,"5c","4b",null,null,"KKA"]
[{"$nulls":25},"5b","SEARLE Amy1","COLEY Pauline9d/Re1",null,"3b","3c",null,null,"GGE"]
[{"$nulls":25},"4a","SEIBERT George1","MUELLER Hannah9c/Re4",null,"4a","3a",null,null,"GMT"]
[{"$nulls":25},"5b","SELBY-GANGERA Shirin1","PAUL Warren9a/Re4",null,"5c","4a",null,null,"KKA"]
[{"$nulls":25},"4a","SEVENOAKS Lucy1","DANIEL Teresa9d/Re1",null,"4b","3b",null,null,"GGE"]
[{"$nulls":25},"5c","SHAKPOKE Ronny1","PADGETT Joan9b/Re3",null,"5b","4a",null,null,"GMT"]
[{"$nulls":25},"6c","SHARMA Eshita1","DANIELS Jonathan9a/Re1",null,"4a","5b",null,null,"GMT"]
[{"$nulls":25},"5a","SHOKO Vanessa1","HINES Bobby9c/Re2",null,"4b","4b",null,null,"KKA"]
[{"$nulls":25},"5a","SHOKO Victoria1","STONE Harry9a/Re3",null,"5c","4b",null,null,"SBK"]
[{"$nulls":25},"5a","SIMON-CHAMBERLAIN Lia1","HAYES Priscilla9b/Re2",null,"4a","4a",null,null,"KKA"]
[{"$nulls":25},"4a","SINGH Gurbaksh1","WALTER Bob9c/Re1",null,"5c","4a",null,null,"GGE"]
[{"$nulls":25},"4a","SMART Jakob1","JENNINGS Annie9d/Re2",null,"3b","4c",null,null,"GMT"]
[{"$nulls":25},"4b","SMITH Christopher1","LOPEZ Wendy9d/Re1",null,"5b","4b",null,null,"GGE"]
[{"$nulls":25},"5c","SMITH Luis1","MCCARTHY Bernard9c/Re2",null,"4c","3a",null,null,"KKA"]
[{"$nulls":25},"C","SMITH Megan2","FREDERICK Alvin11P/So1",null,"4b","4a",null,null,"ELD",null,"15Y 6M"]
[{"$nulls":25},"5c","SMITH Samuel1","SCARBOROUGH Gary9d/Re1",null,"4b","3c",null,null,"GGE"]
[{"$nulls":25},"5c","SPEARMAN Phoebe1","BRANDT Oscar9b/Re2",null,"4a","4a",null,null,"KKA"]
[{"$nulls":25},"6c","SPEARMAN Reese1","NOLAN Nina9b/Re3",null,"4a","4a",null,null,"GMT"]
[{"$nulls":25},"5a","SPROUL Tommy1","CHANDLER Ann9a/Re4",null,"5b","5c",null,null,"KKA"]
[{"$nulls":25},"4b","STACEY Georgia1","CARLTON Shirley9c/Re1",null,"4b","4c",null,null,"GGE"]
[{"$nulls":25},"5a","STEPHENS Melanie1","KATZ Joanne9a/Re4",null,"5c","4a",null,null,"KKA"]
[{"$nulls":25},"4a","STEVENSON Tara1","CORBETT Franklin9c/Re1",null,"4b","4a",null,null,"GGE"]
[{"$nulls":25},"4b","STEWART Ella-Mae1","GODFREY Bradley9d/Re1",null,"3a","3c",null,null,"GGE"]
[{"$nulls":25},"5b","STOW Harley1","COOKE Marguerite9b/Re3",null,"4a","4b",null,null,"GMT"]
[{"$nulls":25},"4a","SULLIVAN Ronnie1","BARBER Dorothy9d/Re2",null,"2b","2b",null,null,"GMT"]
[{"$nulls":25},"5b","SWAIN Tyler1","FLETCHER Brent9c/Re2",null,"5c","4b",null,null,"KKA"]
[{"$nulls":25},"4a","SWEENEY Harry1","SCHROEDER Regina9d/Re1",null,"4c","4a",null,null,"GGE"]
[{"$nulls":25},"5c","TATTERSALL Tammiah1","LINDSAY Calvin9c/Re3",null,"4c","5c",null,null,"SBK"]
[{"$nulls":25},"6b","THACKRAY Grace1","BOSWELL Gilbert9a/Re4",null,"5b","5c",null,null,"KKA"]
[{"$nulls":25},"5a","THOMPSON Kai1","BUCKLEY Wesley9a/Re3",null,"5b","4a",null,null,"SBK"]
[{"$nulls":25},"5b","THURSTON Isobel1","HARMON Erika9a/Re2",null,"5b","4b",null,null,"GGE"]
[{"$nulls":25},"5a","TIDMAN Abby1","WALTERS Don9a/Re1",null,"5b","5b",null,null,"GMT"]
[{"$nulls":25},"4b","TREVEIL Cameron1","STEVENS Ethel9d/Re3",null,"4a","3a",null,null,"KKA"]
[{"$nulls":25},"6c","TREZIES Kiera1","KNIGHT Rodney9a/Re1",null,"5b","5b",null,null,"GMT"]
[{"$nulls":25},"5b","TRINDER Lauren1","ROWLAND Dennis9b/Re1",null,"4a","4a",null,null,"GGE"]
[{"$nulls":25},"5b","TRUKSANE Angelina1","KIRBY Amanda9b/Re1",null,"5c","4c",null,null,"GGE"]
[{"$nulls":25},"5b","TYE Luke1","BENSON Jose9b/Re1",null,"4a","4a",null,null,"GGE"]
[{"$nulls":25},"X","TYE Tyler1","ANTHONY Lynn9c/Re1",null,"4b","4a",null,null,"GGE"]
[{"$nulls":25},"5b","TYSON-MCLEAN Jayda1","HILL Mike9c/Re4",null,"4c","4a",null,null,"GMT"]
[{"$nulls":25},"5b","UFUMWEN Trevor1","LANG Laurence9b/Re3",null,"5c","5c",null,null,"GMT"]
[{"$nulls":25},"4a","VARNEY Lauren1","GRIMES Amanda9c/Re1",null,"4b","4b",null,null,"GGE"]
[{"$nulls":25},"4a","VITTE Marcel1","BOWERS Bernard9c/Re1",null,"4c","4b",null,null,"GGE"]
[{"$nulls":25},"5b","VOSPER Ella1","BOWDEN Janice9b/Re1",null,"5c","4c",null,null,"GGE"]
[{"$nulls":25},"5b","WAKE Alfie1","UNDERWOOD Hazel9b/Re3",null,"5c","4b",null,null,"GMT"]
[{"$nulls":25},"6c","WANDEREMA Esther1","ZHANG Luis9b/Re3",null,"5c","4b",null,null,"GMT"]
[{"$nulls":25},"4a","WANDEREMA Samuel1","GODWIN Ralph9c/Re1",null,"4b","4b",null,null,"GGE"]
[{"$nulls":25},"4b","WARD Callum1","RICE Geraldine9c/Re3",null,"3a","4b",null,null,"SBK"]
[{"$nulls":25},"5a","WATERS Chloe1","TOWNSEND Claire9a/Re3",null,"5b","4b",null,null,"SBK"]
[{"$nulls":25},"5b","WATT Zakiya1","LIN Jeanne9c/Re4",null,"4b","4b",null,null,"GMT"]
[{"$nulls":25},"4b","WEARON Lewis1","PITTS Willie9c/Re1",null,"4b","4b",null,null,"GGE"]
[{"$nulls":25},"4a","WEARON Tyler1","KOCH Alfred9b/Re1",null,"4a","4b",null,null,"GGE"]
[{"$nulls":25},"5c","WEBSTER Eryca1","CALLAHAN Eddie9c/Re4",null,"4c","4a",null,null,"GMT"]
[{"$nulls":25},"5b","WELLER Rhiannon1","LONG Christopher9d/Re3",null,"4c","3a",null,null,"KKA"]
[{"$nulls":25},"5a","WELLS Thomas1","O'CONNELL Elaine9a/Re4",null,"5b","5c",null,null,"KKA"]
[{"$nulls":25},"5b","WHITE Charlie1","BOWLING Jason9b/Re1",null,"4b","5b",null,null,"GGE"]
[{"$nulls":25},"5a","WILLIAMS Ben1","PRITCHARD Diana9b/Re2",null,"4a","5c",null,null,"KKA"]
[{"$nulls":25},"5b","WILLIAMS Charlie1","LAWSON Nina9c/Re3",null,"3b","3a",null,null,"SBK"]
[{"$nulls":25},"5c","WILLIAMS Reece1","DICKERSON Maxine9c/Re1",null,"3a","5c",null,null,"GGE"]
[{"$nulls":25},"5b","WILLSON Macy1","LIVINGSTON Ted9c/Re1",null,"4c","4b",null,null,"GGE"]
[{"$nulls":25},"4a","WITHAM Ryan1","BERMAN Gordon9c/Re4",null,"4a","4a",null,null,"GMT"]
[{"$nulls":25},"5b","WRIGHT Erin1","CARROLL Billy9b/Re2",null,"5c","4b",null,null,"KKA"]
[{"$nulls":25},"6b","YAN Denise1","KEARNEY Veronica9a/Re4",null,"5b","4a",null,null,"KKA"]
[{"$nulls":25},"5c","ABOU-ELMAJD Kamilah1","PETERSON Hazel8b/Cp1",null,"4a","5b",null,null,"LML"]
[{"$nulls":25},"5a","ADAMS Autumn1","RICHARDS Eddie8a/Cp1",null,"5b","5b",null,null,"SBK"]
[{"$nulls":25},"5c","ADEBAMBO Dami1","SUTHERLAND Katherine8a/Cp3",null,"5c","4a",null,null,"GGE"]
[{"$nulls":25},"5c","AFSHAR Melody1","MCCORMICK William8c/Cp1",null,"5c","3a",null,null,"SBK"]
[{"$nulls":25},"5b","AIDOO Tanisha1","BEACH Nina8a/Cp2",null,"5c","5c",null,null,"LML"]
[{"$nulls":25},"4b","ALDRIDGE Louis1","WU Ben8b/Cp1",null,"4b","4b",null,null,"LML"]
[{"$nulls":25},"5c","ALEY Ryan1","CARVER Thelma8c/Cp1",null,"4b","5c",null,null,"SBK"]
[{"$nulls":25},"4b","ALLIU Ayishat1","ANTHONY Dennis8c/Cp3",null,"4b","4c",null,null,"LML"]
[{"$nulls":25},"5c","ALMOND Sami1","LIVINGSTON Christina8b/Cp2",null,"5c","5c",null,null,"GGE"]
[{"$nulls":25},"4a","AMOS George1","FLOYD James8c/Cp3",null,"4b","4b",null,null,"LML"]
[{"$nulls":25},"3a","ANDERSON Joseph1","MCCALL Frederick8d/Cp1",null,"2a","4c",null,null,"LML"]
[{"$nulls":25},"5b","ANDREWS Maria1","HAYNES Alfred8a/Cp3",null,"5c","5a",null,null,"GGE"]
[{"$nulls":25},"5b","ARNOLD Ellie1","GUNTER Oscar8a/Cp1",null,"5c","5a",null,null,"SBK"]
[{"$nulls":25},"5c","ASARE-BEDIAKO Kieron1","SOLOMON Joanne8b/Cp3",null,"5c","5b",null,null,"GMT"]
[{"$nulls":25},"5b","ASHFORTH Ezra1","HARRIS Richard8b/Cp1",{"$nulls":5},"LML"]
[{"$nulls":25},"4a","ATANDA Tohibu1","CLINE Christine8b/Cp2",null,"4a","3a",null,null,"GGE"]
[{"$nulls":25},"4c","ATAOGLU Naim1","BRAUN Jack8d/Cp2",null,"N","3b",null,null,"GGE"]
[{"$nulls":25},"5a","BAKHT Umamah1","PRESTON Rhonda8a/Cp2",null,"5c","4a",null,null,"LML"]
[{"$nulls":25},"5a","BALL Megan1","HAYES Beth8a/Cp3",null,"5b","5a",null,null,"GGE"]
[{"$nulls":25},"4b","BARHAM Ella1","BURNETTE Douglas8d/Cp1",null,"3a","4b",null,null,"LML"]
[{"$nulls":25},"4a","BARKER George1","FINCH Joe8a/Cp1",null,"5c","5a",null,null,"SBK"]
[{"$nulls":25},"4b","BARNES Charlotte1","LYNCH Dennis8b/Cp2",null,"4a","5b",null,null,"GGE"]
[{"$nulls":25},"4a","BATCHELOR Kyesha1","SIMPSON Sandra8c/Cp1",null,"5b","4b",null,null,"SBK"]
[{"$nulls":25},"5b","BATLEY Lauren1","GALLOWAY Julie8d/Cp2",null,"4b","3a",null,null,"GGE"]
[{"$nulls":25},"4c","BATTY Zoe1","DICKSON Henry8b/Cp3",null,"4a","4b",null,null,"GMT"]
[{"$nulls":25},"5b","BAXTER Ellie1","CANNON Lloyd8b/Cp1",null,"5c","4c",null,null,"LML"]
[{"$nulls":25},"5c","BELL Kacey1","FLEMING Chris8a/Cp1",null,"5c","5c",null,null,"SBK"]
[{"$nulls":25},"5a","BENNETT Connor1","HANSON George8a/Cp2",null,"5c","5b",null,null,"LML"]
[{"$nulls":25},"4a","BENSON Harry1","BLACKWELL Warren8d/Cp3",null,"3a","4c",null,null,"SBK"]
[{"$nulls":25},"5b","BHOGUN-SCOTT Gyanee1","ZIMMERMAN Connie8a/Cp2",null,"5b","5b",null,null,"LML"]
[{"$nulls":25},"4b","BILLINGHURST Ryan1","DYER Theresa8d/Cp1",null,"3a","4b",null,null,"LML"]
[{"$nulls":25},"4b","BISHOP Bethany1","GREENBERG Harvey8c/Cp3",null,"4b","4c",null,null,"LML"]
[{"$nulls":25},"4a","BISHOP Codie1","QUINN Janet8b/Cp2",null,"4a","4b",null,null,"GGE"]
[{"$nulls":25},"4b","BISHOP Kai1","SULLIVAN Charlene8b/Cp3",null,"5c","5b",null,null,"GMT"]
[{"$nulls":25},"4c","BISHOP Natasha1","BARBER Paula8c/Cp1",null,"4a","4b",null,null,"SBK"]
[{"$nulls":25},"4a","BLACK Poppy1","HIGH Geraldine8a/Cp3",null,"5b","4a",null,null,"GGE"]
[{"$nulls":25},"4a","BLACK Ryan1","COPELAND Brian8a/Cp3",null,"5c","5b",null,null,"GGE"]
[{"$nulls":25},"4c","BLAND Jack1","BECK Vivian8c/Cp2",null,"4b","3a",null,null,"GGE"]
[{"$nulls":25},"5b","BLOOMFIELD William1","KING Sarah8a/Cp1",null,"5c","5a",null,null,"SBK"]
[{"$nulls":25},"5c","BODYCOMB Kyle1","BENTON Brett8a/Cp2",null,"5c","5c",null,null,"LML"]
[{"$nulls":25},"4a","BOLTON Joseph1","NIXON Carl8d/Cp2",null,"4c","4c",null,null,"GGE"]
[{"$nulls":25},"4b","BONES Daniel1","MAYO Marianne8c/Cp3",null,"4b","4a",null,null,"LML"]
[{"$nulls":25},"5c","BONNELL Charlotte1","MARKS Jim8b/Cp3",null,"4b","4b",null,null,"GMT"]
[{"$nulls":25},"5b","BOURN Charlotte1","BALL Lynda8b/Cp1",null,"4a","5c",null,null,"LML"]
[{"$nulls":25},"4b","BRACKSTONE Ella1","KIRK Thomas8b/Cp2",null,"5c","4b",null,null,"GGE"]
[{"$nulls":25},"4b","BRIDGE Ryan1","GIBSON Darlene8d/Cp3",null,"3a","3b",null,null,"SBK"]
[{"$nulls":25},"3b","BRIDGETT Jack1","HAYNES Lloyd8d/Cp1",null,"3a","4b",null,null,"LML"]
[{"$nulls":25},"4b","BROOKS Connor1","TYSON Ruth8c/Cp2",null,"4b","4b",null,null,"GGE"]
[{"$nulls":25},"4a","BROUGHTON Jack1","PAYNE Vicki8a/Cp3",null,"5a","5b",null,null,"GGE"]
[{"$nulls":25},"4a","BROWN Kelsey1","FRANCIS Nelson8c/Cp1",null,"4a","4a",null,null,"SBK"]
[{"$nulls":25},"5b","BROWN Meagan1","WALTERS Vivian8c/Cp3",null,"4b","4b",null,null,"LML"]
[{"$nulls":25},"A","BROWN Shannon1","HEWITT Marcia0",null,"3c","3b"]
[{"$nulls":25},"4a","BROWNE Harvey1","LANGLEY Amy8c/Cp2",null,"4a","4c",null,null,"GGE"]
[{"$nulls":25},"5a","BURKE Connor1","SCOTT Chris8a/Cp1",null,"5b","5b",null,null,"SBK"]
[{"$nulls":25},"5b","BURROWS Lois1","WILLIS Edgar8a/Cp2",null,"5b","5a",null,null,"LML"]
[{"$nulls":25},"5c","BURTON Sophie1","DENTON Willie8c/Cp2",null,"4c","4a",null,null,"GGE"]
[{"$nulls":25},"4a","BUSHAWAY Caila1","FOX Patrick8b/Cp3",null,"4b","4a",null,null,"GMT"]
[{"$nulls":25},"4b","BUTTON Oliver1","HANNA Douglas8d/Cp2",null,"3a","4b",null,null,"GGE"]
[{"$nulls":25},"5b","CAMERON-RICHARDS Chantelle1","BARTON Scott8a/Cp3",null,"5a","5a",null,null,"GGE"]
[{"$nulls":25},"5b","CANN Lewis1","CHAMBERS Justin8b/Cp1",null,"5c","5c",null,null,"LML"]
[{"$nulls":25},"5c","CARLTON Lucy1","THOMAS Debra8c/Cp2",null,"4c","4a",null,null,"GGE"]
[{"$nulls":25},"5b","CATON Alfie1","ARTHUR Norman8b/Cp2",null,"5b","5b",null,null,"GGE"]
[{"$nulls":25},"5b","CHABEDA Eddy1","LAW Audrey8d/Cp3",null,"3b","3a",null,null,"SBK"]
[{"$nulls":25},"4b","CHALK Michael1","COLEY Franklin8c/Cp3",null,"4b","4a",null,null,"LML"]
[{"$nulls":25},"4b","CHAMUNORWA Dawn1","VAUGHN Chris8c/Cp1",null,"4b","4a",null,null,"SBK"]
[{"$nulls":25},"5c","CHATTEN Shanie1","CASE Bobby8b/Cp1",null,"5b","4b",null,null,"LML"]
[{"$nulls":25},"4a","CHEESEMAN Thomas1","REED Karen8b/Cp3",null,"4a","4a",null,null,"GMT"]
[{"$nulls":25},"4a","CHEVIS Paige1","HARDY Carl8b/Cp2",null,"4c","4b",null,null,"GGE"]
[{"$nulls":25},"5a","CHIAZOR Victor1","DALE Henry8a/Cp2",null,"5a","5b",null,null,"LML"]
[{"$nulls":25},"5c","CLARK Nathan1","WHITLEY Allison8a/Cp3",null,"5c","5b",null,null,"GGE"]
[{"$nulls":25},"4a","CLATWORTHY Lewis1","MCNEILL Caroline8c/Cp1",null,"5c","4b",null,null,"SBK"]
[{"$nulls":25},"4a","COLE Shannon1","LINDSAY Caroline8c/Cp3",null,"3a","5c",null,null,"LML"]
[{"$nulls":25},"4a","COLMAN Libby1","CASEY Hannah8c/Cp2",null,"4a","4c",null,null,"GGE"]
[{"$nulls":25},"4b","COOPER Amy1","MEADOWS Sharon8c/Cp1",null,"4b","4b",null,null,"SBK"]
[{"$nulls":25},"4a","COOPER Joe1","CASEY Ricky8d/Cp2",null,"3a","4b",null,null,"GGE"]
[{"$nulls":25},"4b","COPLEY Mason1","MANN Sean8d/Cp1",null,"4c","4b",null,null,"LML"]
[{"$nulls":25},"5c","COPPINS Faye1","HALE Thelma8c/Cp2",null,"4b","3b",null,null,"GGE"]
[{"$nulls":25},"4b","CORNELL Jessica1","CARLSON Christian8d/Cp1",null,"3c","4c",null,null,"LML"]
[{"$nulls":25},"4a","COSTELLO Jack1","BAREFOOT Jordan8a/Cp1",null,"5b","5a",null,null,"SBK"]
[{"$nulls":25},"4a","COULSON Benjamin1","WARREN Jessica8d/Cp3",null,"3a","4c",null,null,"SBK"]
[{"$nulls":25},"5c","COVENTRY Milly1","NELSON Lynne8a/Cp1",null,"5c","5c",null,null,"SBK"]
[{"$nulls":25},"5b","COWLARD Fredrica1","LANCASTER Anita8b/Cp3",null,"4a","5b",null,null,"GMT"]
[{"$nulls":25},"4b","CRABTREE Frankie1","BURGESS Nathan8d/Cp1",null,"4c","4b",null,null,"LML"]
[{"$nulls":25},"5c","CREEVY Joseph1","FITZPATRICK Brenda8b/Cp1",null,"4a","5a",null,null,"LML"]
[{"$nulls":25},"4a","CROUCHER Teddie1","DAVIES Kathleen8b/Cp2",null,"4a","5c",null,null,"GGE"]
[{"$nulls":25},"4b","CUMMINGS Milly1","MORAN Randall8c/Cp2",null,"3a","3a",null,null,"GGE"]
[{"$nulls":25},"4b","DALE Mark1","ASHLEY Carole8d/Cp2",null,"3a","4c",null,null,"GGE"]
[{"$nulls":25},"4b","DALY Kevin1","KELLEY Megan8c/Cp3",null,"4b","4b",null,null,"LML"]
[{"$nulls":25},"3a","DANIELS Ashley1","MACK Cynthia8c/Cp2",null,"3a","4b",null,null,"GGE"]
[{"$nulls":25},"4a","DARBYSHIRE Faye1","REILLY Maria8c/Cp3",null,"3a","4b",null,null,"LML"]
[{"$nulls":25},"5c","DAVIES Lucy1","COPELAND Lucy8b/Cp1",null,"4a","4a",null,null,"LML"]
[{"$nulls":25},"4a","DAY Frankie1","LOVE Sheryl8c/Cp1",null,"4a","4b",null,null,"SBK"]
[{"$nulls":25},"4a","DEAN Benjamin1","CONRAD Lucille8c/Cp2",null,"4c","4b",null,null,"GGE"]
[{"$nulls":25},"4a","DEBENHAM Ryan1","PADGETT Warren8b/Cp3",null,"4b","5b",null,null,"GMT"]
[{"$nulls":25},"5b","DELANEY Ryan1","POOLE Gary8b/Cp1",null,"4a","4a",null,null,"LML"]
[{"$nulls":25},"4b","DEVONPORT Cameron1","MCKINNEY Leah8c/Cp2",null,"3a","4b",null,null,"GGE"]
[{"$nulls":25},"4a","DEWAR Billy1","CAREY Maria8c/Cp1",null,"4b","4b",null,null,"SBK"]
[{"$nulls":25},"3a","DRANE Robert1","STUART Maria8d/Cp3",null,"3b","3b",null,null,"SBK"]
[{"$nulls":25},"4c","DUFF Tiani1","BOWLES Maureen8d/Cp2",null,"4b","3b",null,null,"GGE"]
[{"$nulls":25},"4b","EASTER Freddy1","SINGLETON Gina8c/Cp2",null,"4a","5c",null,null,"GGE"]
[{"$nulls":25},"5b","EASTGATE Reece1","OWENS Katherine8b/Cp2",null,"4b","5b",null,null,"GGE"]
[{"$nulls":25},"4b","EDEN Hannah1","DAVENPORT Lillian8d/Cp3",null,"3a","3b",null,null,"SBK"]
[{"$nulls":25},"5c","ELVIDGE Elle1","COX Jennifer8a/Cp2",null,"5c","5b",null,null,"LML"]
[{"$nulls":25},"4a","EMANS Joe1","BARTON Jeff8b/Cp3",null,"5c","3a",null,null,"GMT"]
[{"$nulls":25},"4a","ENGLAND-FOGARTY Heidi1","COOKE Jerome8d/Cp1",null,"4b","4c",null,null,"LML"]
[{"$nulls":25},"4a","FARRELL Maizie1","TILLEY Greg8c/Cp1",null,"5c","4b",null,null,"SBK"]
[{"$nulls":25},"5b","FISHER Chloe1","SCHULTZ Joel8b/Cp2",null,"5c","5c",null,null,"GGE"]
[{"$nulls":25},"4c","FISHWICK Callum1","HERBERT Oscar8d/Cp1",null,"4c","4c",null,null,"LML"]
[{"$nulls":25},"5a","FLEMING Kallum1","AYCOCK Tina8b/Cp1",null,"5c","5b",null,null,"LML"]
[{"$nulls":25},"5b","FLOOD Joe1","BARRY Randy8a/Cp2",null,"4a","5b",null,null,"LML"]
[{"$nulls":25},"5c","FRANCIS Holly1","BISHOP Claire8a/Cp3",null,"5c","4a",null,null,"GGE"]
[{"$nulls":25},"4c","FRANKLIN Jake1","GARRETT Tony8d/Cp2",null,"3a","3b",null,null,"GGE"]
[{"$nulls":25},"4a","FRENCH Daniel1","RIDDLE Tracy8c/Cp1",null,"3a","4b",null,null,"SBK"]
[{"$nulls":25},"4b","FRIEND Maisy-May1","SAWYER Anna8d/Cp2",null,"3a","4c",null,null,"GGE"]
[{"$nulls":25},"5a","GALLARD Lauren1","BURNETT Luis8c/Cp1",null,"4b","5c",null,null,"SBK"]
[{"$nulls":25},"5a","GASKIN Isabel1","BOYETTE Mary8a/Cp1",null,"5b","5c",null,null,"SBK"]
[{"$nulls":25},"5c","GIBBS Loui1","MCKENZIE Alfred8a/Cp3",null,"5c","5c",null,null,"GGE"]
[{"$nulls":25},"5a","GOLDING Hollie1","SINCLAIR Dianne8a/Cp2",null,"5b","5b",null,null,"LML"]
[{"$nulls":25},"4b","GORDON Deniz1","FREEMAN Leah8d/Cp2",null,"3a","B",null,null,"GGE"]
[{"$nulls":25},"3a","GOULD Daniel1","GILBERT Vickie8d/Cp3",null,"3a","4b",null,null,"SBK"]
[{"$nulls":25},"4b","GRANT Jimmy1","MULLEN Roy8b/Cp2",null,"4b","5a",null,null,"GGE"]
[{"$nulls":25},"5b","GRIFFIN Jasmine1","BRADSHAW Judy8b/Cp3",null,"4c","5c",null,null,"GMT"]
[{"$nulls":25},"3c","GRIFFIN-HAMILTON Jay1","HINSON Kimberly8d/Cp1",null,"2b","2b",null,null,"LML"]
[{"$nulls":25},"4a","GROVES Joseph1","JORDAN Helen8c/Cp1",null,"4b","4b",null,null,"SBK"]
[{"$nulls":25},"4b","GWEBU Kieron1","BERGER Greg8b/Cp3",null,"5c","4a",null,null,"GMT"]
[{"$nulls":25},"4a","HAFFENDEN Sophie1","UPCHURCH Tracey8a/Cp3",null,"5c","4a",null,null,"GGE"]
[{"$nulls":25},"4a","HAINES Cloe1","BOWERS Danny8c/Cp3",null,"3a","4b",null,null,"LML"]
[{"$nulls":25},"5b","HAMBLYN Lily1","ALLISON Christy8b/Cp1",null,"5c","4b",null,null,"LML"]
[{"$nulls":25},"5b","HAMMERTON Charlie1","COLEY Charles8b/Cp1",null,"4b","5c",null,null,"LML"]
[{"$nulls":25},"5c","HAMMERTON James1","O'BRIEN Emily8b/Cp2",null,"5c","5c",null,null,"GGE"]
[{"$nulls":25},"4a","HAMZA Mohammed1","VAUGHAN Randall8a/Cp1",null,"5c","5c",null,null,"SBK"]
[{"$nulls":25},"4b","HANDLEY Lucy1","FISCHER Bob8d/Cp3",null,"3c","2b",null,null,"SBK"]
[{"$nulls":25},"4b","HANLEY Elle1","SELLERS Regina8d/Cp1",null,"2a","3b",null,null,"LML"]
[{"$nulls":25},"5c","HANNON Max1","MONTGOMERY Jeanette8a/Cp2",null,"5c","5c",null,null,"LML"]
[{"$nulls":25},"4a","HARDS James1","SNOW Judith8a/Cp2",null,"4a","5b",null,null,"LML"]
[{"$nulls":25},"4a","HARDY Ben1","MCKNIGHT Megan8c/Cp1",null,"4a","4b",null,null,"SBK"]
[{"$nulls":25},"5c","HARGOOD BAILEY Carla1","CHU Chris8a/Cp1",null,"5c","4a",null,null,"SBK"]
[{"$nulls":25},"5c","HARRIS Darcie1","CREWS Cheryl8a/Cp2",null,"5a","5a",null,null,"LML"]
[{"$nulls":25},"5c","HAWKINS Sam1","SHARMA Vickie8b/Cp1",null,"4b","4a",null,null,"LML"]
[{"$nulls":25},"4b","HAWKSLEY Jay1","SHARPE Neil8d/Cp3",null,"3a","4b",null,null,"SBK"]
[{"$nulls":25},"4a","HAYES Dominic1","OLSON Eileen8b/Cp2",null,"5c","5a",null,null,"GGE"]
[{"$nulls":25},"5b","HAYES Madison1","DESAI Lester8a/Cp3",null,"5b","5c",null,null,"GGE"]
[{"$nulls":25},"4a","HEBBLEWHITE George1","BOWDEN Suzanne8b/Cp3",null,"4a","5b",null,null,"GMT"]
[{"$nulls":25},"5a","HESELDEN Aiden1","HARDY Teresa8a/Cp3",null,"5b","5b",null,null,"GGE"]
[{"$nulls":25},"5c","HICKEY Brooke1","STUART Edgar8b/Cp2",null,"4a","4b",null,null,"GGE"]
[{"$nulls":25},"5b","HIGGINS Madaline1","BRANCH Ann8b/Cp3",null,"4b","4c",null,null,"GMT"]
[{"$nulls":25},"4c","HIGHMAN Luke1","HARRELL Anna8d/Cp1",null,"3a","4c",null,null,"LML"]
[{"$nulls":25},"5c","HILL-DILLON Megan1","BOWMAN Jeanette8a/Cp1",null,"5c","4a",null,null,"SBK"]
[{"$nulls":25},"5c","HILLS Reuben1","HUBBARD Christina8a/Cp1",null,"5a","5a",null,null,"SBK"]
[{"$nulls":25},"4a","HODROJ Mariam1","BROCK Albert8a/Cp2",{"$nulls":5},"LML"]
[{"$nulls":25},"4b","HOLDEN Harry1","CLARKE Mark8d/Cp2",null,"4c","4c",null,null,"GGE"]
[{"$nulls":25},"5b","HOLDER Robert1","RAYNOR Tracy8a/Cp2",null,"4b","5b",null,null,"LML"]
[{"$nulls":25},"5a","HOLLIS Emma1","STEPHENS Martin8a/Cp3",null,"5b","5a",null,null,"GGE"]
[{"$nulls":25},"4b","HOOTON Benjamin1","HESTER Martin8b/Cp1",null,"4a","5b",null,null,"LML"]
[{"$nulls":25},"4a","HOULIHAN Connor1","MURPHY Marian8c/Cp3",null,"4b","4a",null,null,"LML"]
[{"$nulls":25},"5c","HUBERT Hollie1","CAPPS Elsie8c/Cp1",null,"5c","4c",null,null,"SBK"]
[{"$nulls":25},"4c","HUGHES Giorgiana1","MCCORMICK Kim8b/Cp1",null,"4a","4a",null,null,"LML"]
[{"$nulls":25},"4a","HULSE Elizabeth1","HOLT Rosemary8c/Cp2",null,"4c","4c",null,null,"GGE"]
[{"$nulls":25},"5a","HUYNH Julia1","FISCHER Gilbert8a/Cp1",null,"5a","5a",null,null,"SBK"]
[{"$nulls":25},"4a","INCE Ezgi1","JACKSON Frank8c/Cp3",null,"4c","4b",null,null,"LML"]
[{"$nulls":25},"5c","IRONMONGER Jake1","NANCE Jacqueline8a/Cp3",null,"5b","4c",null,null,"GGE"]
[{"$nulls":25},"5c","JACKSON-DWIGHT Molly1","WELCH Timothy8a/Cp2",null,"5c","5c",null,null,"LML"]
[{"$nulls":25},"5c","JAIYESIMI Kausarat1","KENDALL Larry8a/Cp3",null,"5b","5b",null,null,"GGE"]
[{"$nulls":25},"5b","JANDU Kirandip1","RIGGS Clifford8b/Cp2",null,"5c","4a",null,null,"GGE"]
[{"$nulls":25},"4a","JANKU Antonio1","SINGH Janice8c/Cp1",null,"3a","4b",null,null,"SBK"]
[{"$nulls":25},"5a","JAWAD Rayan1","ROUSE Fred8a/Cp1",null,"5c","5c",null,null,"SBK"]
[{"$nulls":25},"5b","JENKINS Jemima1","REILLY Alan8b/Cp3",null,"5c","4c",null,null,"GMT"]
[{"$nulls":25},"5c","JENNINGS Amy1","GREER Max8d/Cp2",null,"4b","4b",null,null,"GGE"]
[{"$nulls":25},"4b","JEZARD Robert1","HOWELL Carlos8c/Cp1",null,"4b","4a",null,null,"SBK"]
[{"$nulls":25},"4a","JOBSON Lewis1","PROCTOR Marie8d/Cp3",null,"4c","4c",null,null,"SBK"]
[{"$nulls":25},"4a","JOHNSON Bailey1","HOLLAND Evelyn8d/Cp1",null,"4c","4b",null,null,"LML"]
[{"$nulls":25},"4a","JOHNSTONE Ellie-May1","LUCAS Annie8c/Cp1",null,"3a","3a",null,null,"SBK"]
[{"$nulls":25},"5c","JONES Gracie1","UNDERWOOD Lisa8b/Cp1",null,"5b","4a",null,null,"LML"]
[{"$nulls":25},"4a","KAVIMARAN Thivesny1","WILLIS Benjamin8b/Cp2",null,"3b","4b",null,null,"GGE"]
[{"$nulls":25},"4a","KEEP Kayleigh1","HINES Sheila8b/Cp3",null,"5c","4b",null,null,"GMT"]
[{"$nulls":25},"4c","KEITA Bintou1","ROBINSON Paula8c/Cp2",null,"4b","4b",null,null,"GGE"]
[{"$nulls":25},"5c","KENSINGTON Amy1","MATHEWS George8c/Cp2",null,"4b","4c",null,null,"GGE"]
[{"$nulls":25},"5c","KHATUN Hanifah1","GOODWIN Samuel8c/Cp3",null,"4a","4b",null,null,"LML"]
[{"$nulls":25},"5b","KING Amy1","WHITFIELD Andrew8b/Cp1",null,"5c","4b",null,null,"LML"]
[{"$nulls":25},"4b","KIPRE Abraham1","HURLEY Matthew8d/Cp2",null,"4c","4c",null,null,"GGE"]
[{"$nulls":25},"5b","KIRBY Chloe1","PATE Helen8a/Cp1",null,"5b","5b",null,null,"SBK"]
[{"$nulls":25},"5c","KIRKLAND Mya1","BARRY Katie8b/Cp3",null,"5c","5c",null,null,"GMT"]
[{"$nulls":25},"5b","LA ROCHE Elvie1","SPIVEY Deborah8d/Cp3",null,"3a","4c",null,null,"SBK"]
[{"$nulls":25},"5c","LAD Nayan1","GROSSMAN Samuel8a/Cp2",null,"5c","5b",null,null,"LML"]
[{"$nulls":25},"4a","LAI Nathan1","SWEENEY Luis8d/Cp3",null,"3a","4c",null,null,"SBK"]
[{"$nulls":25},"6a","LAWRENCE Cain1","CROWDER Alice8a/Cp3",null,"5a","5b",null,null,"GGE"]
[{"$nulls":26},"LEE-MAYHEW Sky1","STONE Dorothy8b/Cp3",null,"5c","5c",null,null,"GMT"]
[{"$nulls":25},"5c","LESNYAK Roman1","HODGES Ian8b/Cp2",null,"4c","4a",null,null,"GGE"]
[{"$nulls":25},"5b","LITTLE Kathryn1","SHAFFER Herbert8a/Cp3",null,"5c","5c",null,null,"GGE"]
[{"$nulls":25},"5c","LOTAY Sonia1","ROLLINS Rita8b/Cp2",null,"4a","5c",null,null,"GGE"]
[{"$nulls":25},"3a","LOVELOCK Ellie1","KLEIN Melvin8d/Cp1",null,"3b","3c",null,null,"LML"]
[{"$nulls":25},"5c","LOWTHER Callum1","COCHRAN Herbert8a/Cp1",null,"5c","5b",null,null,"SBK"]
[{"$nulls":25},"5c","LUNDQVIST Samuel1","CHAPPELL Debbie8c/Cp2",null,"4a","5c",null,null,"GGE"]
[{"$nulls":25},"5c","MACKINNON Amelia1","PIERCE Barbara8a/Cp1",null,"5b","5c",null,null,"SBK"]
[{"$nulls":25},"4b","MADEVU Kevin1","HIGGINS Arlene8c/Cp3",null,"4c","4a",null,null,"LML"]
[{"$nulls":25},"5c","MAGUIRE Ruby1","PETERS Carole8a/Cp2",null,"5b","5a",null,null,"LML"]
[{"$nulls":25},"4a","MAIN Harry1","MURPHY Patrick8b/Cp3",null,"5c","5b",null,null,"GMT"]
[{"$nulls":25},"5c","MAKONI Terrence1","ROBERSON Bill8b/Cp1",null,"5c","4c",null,null,"LML"]
[{"$nulls":25},"5c","MANDER Shannon1","DALY Maxine8c/Cp2",null,"4b","3a",null,null,"GGE"]
[{"$nulls":25},"5c","MAPPS Blake1","PALMER Debra8a/Cp2",null,"5c","5b",null,null,"LML"]
[{"$nulls":25},"5c","MARLEY Thomas1","PADGETT Edward8b/Cp2",null,"4b","5b",null,null,"GGE"]
[{"$nulls":25},"C+","MARSH Samuel2","MATTHEWS Gloria10C/So1",null,"4b","5b",null,null,"LML",null,"15Y 3M"]
[{"$nulls":25},"4a","MARTIN Joe1","BASS Mike8d/Cp2",null,"3b","4c",null,null,"GGE"]
[{"$nulls":25},"4a","MARTIN Rebecca1","SHEA Sarah8c/Cp1",null,"4b","4b",null,null,"SBK"]
[{"$nulls":25},"4a","MATRANXHI Denisa1","O'NEILL Gretchen8a/Cp3",null,"5c","4a",null,null,"GGE"]
[{"$nulls":25},"4a","MAYNARD Edward1","POLLOCK George8c/Cp3",null,"4b","4b",null,null,"LML"]
[{"$nulls":25},"4a","MCCARTHY Alex1","BRANDT Ron8a/Cp3",null,"4a","4a",null,null,"GGE"]
[{"$nulls":25},"5b","MCCORMICK Annalyse1","WEBB Neil8a/Cp1",null,"4a","5b",null,null,"SBK"]
[{"$nulls":25},"3a","MCDERMOTT Sian1","FINK Pamela8b/Cp3",null,"4a","5a",null,null,"GMT"]
[{"$nulls":25},"5a","MCGIRR Abbe1","DAVIES Jonathan8a/Cp2",null,"5c","5a",null,null,"LML"]
[{"$nulls":25},"4a","MCGUINNESS Ria1","LEVIN Susan8d/Cp2",null,"3c","3a",null,null,"GGE"]
[{"$nulls":25},"5a","MCKEY Connor1","PEACOCK Lynn8a/Cp1",null,"5b","5a",null,null,"SBK"]
[{"$nulls":25},"5c","MCKEY Meghann1","STEVENSON Jerome8c/Cp2",null,"4b","4c",null,null,"GGE"]
[{"$nulls":25},"5b","MCPHERSON Tayler1","HORTON Emily8c/Cp2",null,"4b","4b",null,null,"GGE"]
[{"$nulls":25},"4a","MCQUEENEY Callum1","BARTON Dale8b/Cp3",null,"4c","4c",null,null,"GMT"]
[{"$nulls":25},"4a","MEHMET Ben1","MARCUS Andrea8b/Cp1",null,"5c","4b",null,null,"LML"]
[{"$nulls":25},"4b","MEHMETI Dafina1","GREGORY Rebecca8d/Cp3",null,"3c","4b",null,null,"SBK"]
[{"$nulls":25},"4a","MIDFORD Jonny1","WHEELER Tom8c/Cp3",null,"3a","4b",null,null,"LML"]
[{"$nulls":25},"4a","MIHA Julieta1","WOOTEN Molly8c/Cp3",null,"4c","3c",null,null,"LML"]
[{"$nulls":25},"4a","MILLS Jessica1","LAMM Harold8d/Cp1",null,"3a","4b",null,null,"LML"]
[{"$nulls":25},"5b","MOCKEY Chezia1","BENTON Edna8a/Cp3",null,"5b","4a",null,null,"GGE"]
[{"$nulls":25},"4b","MOORE Amie1","HSU Sylvia8d/Cp2",null,"3b","3b",null,null,"GGE"]
[{"$nulls":25},"5b","MOORE Katie1","HOFFMAN Arnold8a/Cp1",null,"5b","5b",null,null,"SBK"]
[{"$nulls":25},"5c","MOSE Aaron1","FRANCIS Janice8c/Cp1",null,"4b","4b",null,null,"SBK"]
[{"$nulls":25},"4a","MOTTOH Benito1","HAMPTON Laura8a/Cp2",null,"5c","5c",null,null,"LML"]
[{"$nulls":25},"4b","MOULD Callam1","PITTMAN Judith8c/Cp2",null,"3a","4a",null,null,"GGE"]
[{"$nulls":25},"4a","MOYO Fortma1","FROST Gretchen8d/Cp3",null,"4c","3c",null,null,"SBK"]
[{"$nulls":25},"5c","MOYO Mercy1","FOX Karen8d/Cp3",null,"3b","3b",null,null,"SBK"]
[{"$nulls":25},"4a","MURTON John1","FRIEDMAN Jacqueline8c/Cp2",null,"4c","5c",null,null,"GGE"]
[{"$nulls":25},"5b","NAMPERA Felicia1","FITZPATRICK Helen8a/Cp2",null,"5b","5a",null,null,"LML"]
[{"$nulls":25},"5c","NAWAZ Ahmed1","GODWIN Michael8a/Cp3",null,"4a","5a",null,null,"GGE"]
[{"$nulls":25},"5c","NEARY Dean1","PADGETT Patrick8c/Cp1",null,"4a","5b",null,null,"SBK"]
[{"$nulls":25},"4a","NEBEL Owin1","PRINCE Kimberly8b/Cp2",null,"3b","4a",null,null,"GGE"]
[{"$nulls":25},"4a","NEWELL Gracie-May1","STEPHENS Vickie8d/Cp1",null,"3b","3c",null,null,"LML"]
[{"$nulls":25},"5b","NEWMAN Olivia1","DECKER Thelma8b/Cp1",null,"4b","4a",null,null,"LML"]
[{"$nulls":25},"4a","NEWNHAM Charlie1","MCLEOD Katherine8c/Cp2",null,"4c","5c",null,null,"GGE"]
[{"$nulls":25},"5a","OBIRAI Thelma-Chiwete1","TUCKER Ron8b/Cp2",null,"5c","4b",null,null,"GGE"]
[{"$nulls":25},"4b","O'BRIEN Tia1","BARBER Marilyn8c/Cp1",null,"4c","4b",null,null,"SBK"]
[{"$nulls":25},"4b","OCHWAT Drew1","LIN Claudia8d/Cp1",null,"3b","4c",null,null,"LML"]
[{"$nulls":25},"5b","ODUSHOGA Abimbola1","BAKER Richard8a/Cp3",null,"5a","5a",null,null,"GGE"]
[{"$nulls":25},"5b","OJO Lewis1","GARNER Pam8a/Cp1",null,"5c","5c",null,null,"SBK"]
[{"$nulls":25},"5b","OKORONKWO Chi-chi1","ADKINS Marianne8a/Cp1",null,"5c","4a",null,null,"SBK"]
[{"$nulls":25},"5b","ONILEERE Hakima1","BALL Edwin8b/Cp3",null,"4b","4b",null,null,"GMT"]
[{"$nulls":25},"5b","OPANUGA Emmanuel1","BERGER Arthur8b/Cp3",null,"4a","5b",null,null,"GMT"]
[{"$nulls":25},"4a","ORME Penny1","GOLDSTEIN Sara8d/Cp2",null,"4c","4b",null,null,"GGE"]
[{"$nulls":25},"4a","OSBORN Paris1","PRUITT Esther8d/Cp3",null,"4a","4c",null,null,"SBK"]
[{"$nulls":25},"5b","OSMANI Gledisa1","JAMES Ryan8b/Cp1",null,"5b","5b",null,null,"LML"]
[{"$nulls":25},"3a","PALMER Michael1","CRAWFORD Crystal8d/Cp2",null,"3a","4b",null,null,"GGE"]
[{"$nulls":25},"4a","PARFITT Daniella1","PATRICK Lester8d/Cp1",null,"4b","4c",null,null,"LML"]
[{"$nulls":25},"5b","PAWLEY Joe1","BURNS Jeanne8a/Cp2",null,"5a","5b",null,null,"LML"]
[{"$nulls":25},"4a","PETROVA Gabriella1","GUNTER Victor8c/Cp2",null,"4a","4a",null,null,"GGE"]
[{"$nulls":25},"4b","PIDDINGTON George1","KESSLER Juan8d/Cp3",null,"4c","4b",null,null,"SBK"]
[{"$nulls":25},"4a","POLDEN Lucy1","GENTRY Alexandra8d/Cp2",null,"4c","4b",null,null,"GGE"]
[{"$nulls":25},"5a","POLSON Joshua1","SCOTT Raymond8a/Cp3",null,"4a","5b",null,null,"GGE"]
[{"$nulls":25},"4a","POVEY-GARMAN Kayleigh1","HIRSCH Randy8c/Cp1",null,"4c","4c",null,null,"SBK"]
[{"$nulls":25},"4a","POWER Connor1","COPELAND Vickie8c/Cp1",null,"4a","5c",null,null,"SBK"]
[{"$nulls":25},"4b","PRESSNEY Ellie1","ARMSTRONG Molly8d/Cp3",null,"3b","3b",null,null,"SBK"]
[{"$nulls":25},"4c","PURSSEY Ella1","MOORE Katherine8d/Cp1",null,"2a","N",null,null,"LML"]
[{"$nulls":25},"4b","PYKA Tyreke1","WATKINS Sandra8d/Cp1",null,"4c","3a",null,null,"LML"]
[{"$nulls":25},"4a","RANDALL Ella1","HOWARD Frederick8c/Cp1",null,"4b","4c",null,null,"SBK"]
[{"$nulls":25},"4a","RANDELL Corben1","HINSON Theresa8b/Cp1",null,"4b","5b",null,null,"LML"]
[{"$nulls":25},"4c","RATCLIFF Alfie1","TYSON Clifford8d/Cp2",null,"4c","4c",null,null,"GGE"]
[{"$nulls":25},"3a","READ Lewis1","KUMAR Kristen8d/Cp3",null,"3c","4c",null,null,"SBK"]
[{"$nulls":25},"5c","READ William1","SHEPHERD Cynthia8a/Cp1",null,"4a","5b",null,null,"SBK"]
[{"$nulls":25},"5b","REARDON Connor1","SHORE Herman8a/Cp2",null,"5c","5a",null,null,"LML"]
[{"$nulls":25},"5c","REED Chloe1","DAY Arnold8c/Cp1",null,"5c","3a",null,null,"SBK"]
[{"$nulls":25},"5c","REES Lewis1","CASSIDY Cynthia8a/Cp3",null,"5c","5c",null,null,"GGE"]
[{"$nulls":25},"5b","RHODEN Shay1","FRANCIS Kelly8c/Cp1",null,"4c","4b",null,null,"SBK"]
[{"$nulls":25},"5b","RILEY Zeena1","HWANG Miriam8a/Cp2",null,"5a","5a",null,null,"LML"]
[{"$nulls":25},"4a","ROBERTS Morgan1","MCLEAN Emma8c/Cp3",null,"4c","4a",null,null,"LML"]
[{"$nulls":25},"4b","ROBINSON Luke1","ROWE James8d/Cp1",null,"3b","4a",null,null,"LML"]
[{"$nulls":25},"4b","ROBSON Leon1","BOWLING Ben8d/Cp2",null,"3a","4b",null,null,"GGE"]
[{"$nulls":25},"4a","ROCK Ellie1","DICKSON Elizabeth8d/Cp2",null,"4c","4c",null,null,"GGE"]
[{"$nulls":25},"5c","ROGERS Summer1","FRANCIS Brett8b/Cp2",null,"5c","5c",null,null,"GGE"]
[{"$nulls":25},"4b","ROTHWELL Bea1","BRITT Theodore8d/Cp3",null,"3a","3a",null,null,"SBK"]
[{"$nulls":25},"5b","RUBENGA-WEBSTER Rania1","TUTTLE William8c/Cp3",null,"4a","4c",null,null,"LML"]
[{"$nulls":25},"4a","RUSSELL Alfie1","HUTCHINSON Vickie8d/Cp3",null,"4c","3a",null,null,"SBK"]
[{"$nulls":25},"4b","RUSSELL Nathan1","GARRETT Alice8c/Cp2",null,"4c","5c",null,null,"GGE"]
[{"$nulls":25},"5c","RYAN James1","LUCAS Alexander8a/Cp1",null,"5c","5a",null,null,"SBK"]
[{"$nulls":25},"5c","RYAN Katie1","O'DONNELL Angela8a/Cp3",null,"5b","5c",null,null,"GGE"]
[{"$nulls":25},"5c","SAEED Imaan1","SNOW Sharon8c/Cp3",null,"4b","5c",null,null,"LML"]
[{"$nulls":25},"4a","SAGLAM Aleyna1","OLIVER Cathy8b/Cp3",null,"5b","4b",null,null,"GMT"]
[{"$nulls":25},"5c","SANGHA Milan1","RICHARDS Gerald8b/Cp2",null,"5c","4b",null,null,"GGE"]
[{"$nulls":25},"5c","SAPKOTA Kushal1","SAWYER Harry8c/Cp3",null,"3a","4b",null,null,"LML"]
[{"$nulls":25},"5b","SAPKOTA Pratham1","MILLER Cheryl8c/Cp2",null,"4a","4c",null,null,"GGE"]
[{"$nulls":25},"5b","SATHIYASEELAN Vithusha1","WHITFIELD Maurice8a/Cp1",null,"4a","5b",null,null,"SBK"]
[{"$nulls":25},"4a","SAUROSI Dexter1","MATHEWS Sharon8c/Cp1",null,"4a","5b",null,null,"SBK"]
[{"$nulls":25},"4a","SHAW Abby-Gail1","SAUNDERS April8d/Cp1",null,"4c","3b",null,null,"LML"]
[{"$nulls":25},"4b","SHAW Nicole1","CHAPPELL Ellen8d/Cp2",null,"3b","3a",null,null,"GGE"]
[{"$nulls":25},"5b","SHERGOLD Lauryn1","PARRISH Jeff8a/Cp2",null,"5c","5a",null,null,"LML"]
[{"$nulls":25},"5c","SHUKLA Karina1","TAYLOR Katie8b/Cp1",null,"5c","4a",null,null,"LML"]
[{"$nulls":25},"5c","SMITH Jessica1","MEDLIN Nelson8b/Cp2",null,"4b","4a",null,null,"GGE"]
[{"$nulls":25},"5c","SONNAH Victor1","KNOX Melanie8b/Cp3",null,"4a","4b",null,null,"GMT"]
[{"$nulls":25},"4c","STARLING Louie1","FROST Herbert8c/Cp2",null,"3a","4b",null,null,"GGE"]
[{"$nulls":25},"5c","STEWART Aiyana1","HAAS Kara8b/Cp3",null,"5c","4b",null,null,"GMT"]
[{"$nulls":25},"3a","STILES George1","DICKINSON Alice8d/Cp3",null,"3c","N",null,null,"SBK"]
[{"$nulls":25},"4b","STROUD Charlie1","MOON Faye8d/Cp2",null,"4c","4c",null,null,"GGE"]
[{"$nulls":25},"5c","SULEMAN Rihan1","DILLON Theodore8b/Cp1",null,"4b","5c",null,null,"LML"]
[{"$nulls":25},"4a","SULH Kristina1","PALMER Arlene8c/Cp3",null,"4a","4a",null,null,"LML"]
[{"$nulls":25},"4b","SUMAN Ranesh1","NICHOLS Lester8d/Cp1",null,"4c","4c",null,null,"LML"]
[{"$nulls":25},"5c","SYKES Lucas1","BLAND Marianne8b/Cp2",null,"4a","5c",null,null,"GGE"]
[{"$nulls":25},"4b","TAGG Jake1","LOWE John8d/Cp2",null,"4b","4b",null,null,"GGE"]
[{"$nulls":25},"4a","TAMBOONEYI Eugine1","WASHINGTON Lloyd8b/Cp3",null,"4b","4a",null,null,"GMT"]
[{"$nulls":25},"4b","TAYLOR Callum1","DALY Danny8d/Cp3",null,"4c","4b",null,null,"SBK"]
[{"$nulls":25},"4c","TAYLOR Shea1","WALSH Gerald8b/Cp1",null,"4a","5b",null,null,"LML"]
[{"$nulls":25},"5b","TAYLOR-OSWALD Madeline1","FAULKNER Cathy8b/Cp1",null,"5c","4b",null,null,"LML"]
[{"$nulls":25},"4b","THAVARASA Sathishwaran1","QUINN Robert8d/Cp1",null,"3b","3a",null,null,"LML"]
[{"$nulls":25},"5b","THIND Karanjot1","HAHN Ruby8a/Cp2",null,"5c","5b",null,null,"LML"]
[{"$nulls":25},"5c","THORNTON Jake1","HARRELL Bobby8b/Cp2",null,"4b","4a",null,null,"GGE"]
[{"$nulls":25},"5a","TIJANI Richard1","BLALOCK Dale8a/Cp3",null,"5c","5a",null,null,"GGE"]
[{"$nulls":25},"5c","TILLER-KING Bayley1","NEWMAN Steven8b/Cp3",null,"5c","5c",null,null,"GMT"]
[{"$nulls":25},"4a","TO Michael1","THORNTON Angela8c/Cp1",null,"4b","4b",null,null,"SBK"]
[{"$nulls":25},"6c","TOVEY Chloe1","FOX Carlos8a/Cp3",null,"5b","5a",null,null,"GGE"]
[{"$nulls":25},"4a","TRAN Jayden1","GREGORY Regina8a/Cp1",null,"5c","4a",null,null,"SBK"]
[{"$nulls":25},"4a","TUFFIELD Emelia1","O'DONNELL Scott8b/Cp2",null,"4a","4b",null,null,"GGE"]
[{"$nulls":25},"4a","VINCENT Charly1","LARSON Amanda8c/Cp2",null,"4b","4c",null,null,"GGE"]
[{"$nulls":25},"5a","VINTURA Ayomikun1","BENTON Jeanette8b/Cp1",null,"5c","5c",null,null,"LML"]
[{"$nulls":25},"5c","WAGHORN Alexander1","SIMON Marlene8b/Cp2",null,"4a","5c",null,null,"GGE"]
[{"$nulls":25},"4a","WALKER Tye1","CANNON Tiffany8b/Cp3",null,"5c","5c",null,null,"GMT"]
[{"$nulls":25},"5c","WALLIS Jack1","MCBRIDE Jim8a/Cp2",null,"5b","5c",null,null,"LML"]
[{"$nulls":25},"5a","WALSH Wayne1","RODRIGUEZ Martha8a/Cp3",null,"5b","5b",null,null,"GGE"]
[{"$nulls":25},"5a","WARR Abbie1","HENRY Carol8a/Cp1",null,"5b","5a",null,null,"SBK"]
[{"$nulls":25},"4a","WARREN Alex1","COOKE Albert8b/Cp3",null,"5c","5b",null,null,"GMT"]
[{"$nulls":25},"4a","WATSHAM Taylor1","BLACKBURN Ruby8c/Cp2",null,"4b","4a",null,null,"GGE"]
[{"$nulls":25},"5b","WATTS Tyler1","DONNELLY Scott8a/Cp1",null,"5b","5a",null,null,"SBK"]
[{"$nulls":25},"5c","WELLS Ethan1","NANCE Brandon8a/Cp2",null,"5a","5b",null,null,"LML"]
[{"$nulls":25},"4a","WELLS Mollie1","COLEY Juanita8d/Cp3",null,"3b","4c",null,null,"SBK"]
[{"$nulls":25},"5c","WHITE Cameron1","ROBERTSON Mike8b/Cp1",null,"5c","4b",null,null,"LML"]
[{"$nulls":25},"4a","WILKINSON Jack1","HINTON Richard8d/Cp1",null,"4c","4b",null,null,"LML"]
[{"$nulls":25},"4b","WILLIAMS Amber1","OWEN Troy8c/Cp3",null,"3a","4b",null,null,"LML"]
[{"$nulls":25},"4a","WILLIAMS Lewis1","WALSH Lawrence8b/Cp2",null,"4a","4b",null,null,"GGE"]
[{"$nulls":25},"3b","WILSON Billy1","LANG Catherine8d/Cp3",null,"3c","2a",null,null,"SBK"]
[{"$nulls":25},"4a","WILSON-WARD Scott1","KAUFMAN Dale8a/Cp3",null,"5c","5a",null,null,"GGE"]
[{"$nulls":25},"6c","WRIGHT Megan1","HINES Virginia8a/Cp2",null,"5a","5a",null,null,"LML"]
[{"$nulls":25},"5a","ADHAR Jaydeep2","COLEY Edgar9a/Ct1",null,"5c","5b",null,null,"RHE"]
[{"$nulls":25},"5a","ANKOMAH Duphney2","KENNEY Tracy9a/Ct2",null,"5b","5b",null,null,"SBK"]
[{"$nulls":25},"5a","AWOLESI Oluwafisayo2","ARCHER Harry9a/Ct4",null,"5a","5a",null,null,"CML"]
[{"$nulls":25},"5a","BADHAN Arpit2","DENTON Thomas9a/Ct1",null,"5c","4b",null,null,"RHE"]
[{"$nulls":25},"4a","BAILEY Cameron2","ADCOCK Erica9a/Ct3",null,"5c","4a",null,null,"RHE"]
[{"$nulls":25},"5b","BAILLEUL-REYES Louis2","DUKE Samuel9a/Ct1",null,"4c","5c",null,null,"RHE"]
[{"$nulls":25},"6a","BARCI Kejsi2","HANSEN Jack9a/Ct4",null,"5c","5a",null,null,"CML"]
[{"$nulls":25},"5b","BARKER William2","CANNON Catherine9a/Ct1",null,"5c","5c",null,null,"RHE"]
[{"$nulls":26},"BENTLEY Amy2","TODD Bruce9a/Ct4",null,"5c","5c",null,null,"CML"]
[{"$nulls":25},"5a","BOLTON Charlie2","BOYER William9a/Ct2",null,"5c","5b",null,null,"SBK"]
[{"$nulls":25},"5a","BOYLE Brandon2","DODSON Jeff9a/Ct3",null,"5c","4a",null,null,"RHE"]
[{"$nulls":25},"5b","BRANWHITE Toby2","SHAW Peter9a/Ct3",null,"5b","5b",null,null,"RHE"]
[{"$nulls":25},"5a","BRITLAND Kavan2","ANDERSON Jonathan9a/Ct2",null,"5a","5a",null,null,"SBK"]
[{"$nulls":25},"6c","BROMFIELD Isabelle2","BRANCH James9a/Ct1",null,"5c","5c",null,null,"RHE"]
[{"$nulls":25},"6c","BROWN Amy2","WHITLEY Ernest9a/Ct3",null,"4a","5c",null,null,"RHE"]
[{"$nulls":25},"6a","BUSHIQI Sara2","FLEMING Frank9a/Ct4",null,"5b","5a",null,null,"CML"]
[{"$nulls":25},"6c","BUXTON Connor2","MCKEE Anne9a/Ct1",null,"4a","5b",null,null,"RHE"]
[{"$nulls":25},"5a","CARPENTER Joseph2","WATSON Kathy9a/Ct4",null,"4a","5b",null,null,"CML"]
[{"$nulls":25},"5a","CELLA Libby2","LEONARD Nicholas9a/Ct3",null,"5c","5c",null,null,"RHE"]
[{"$nulls":25},"5a","CHU Shannon2","NOLAN Nicholas9a/Ct2",null,"4a","4a",null,null,"SBK"]
[{"$nulls":25},"5a","COLYER Archie2","MCNAMARA Peter9a/Ct3",null,"5c","5b",null,null,"RHE"]
[{"$nulls":25},"5a","CONNOR Cayleigh2","RUBIN Pauline9a/Ct3",null,"5c","5c",null,null,"RHE"]
[{"$nulls":25},"6c","CRABTREE Macy2","GILLIAM Katherine9a/Ct1",null,"5b","4a",null,null,"RHE"]
[{"$nulls":25},"6c","CRAMER Megan2","SNYDER Rosemary9a/Ct2",null,"5b","5b",null,null,"SBK"]
[{"$nulls":25},"6c","CUBBAGE Bayleigh2","ABBOTT Martha9a/Ct3",null,"5b","4b",null,null,"RHE"]
[{"$nulls":25},"5c","DAVIDSON Benjamin2","BRUCE Cecil9a/Ct4",null,"5b","4a",null,null,"CML"]
[{"$nulls":25},"6b","DONNELLY Callum2","HSU Jeff9a/Ct2",null,"5a","6c",null,null,"SBK"]
[{"$nulls":25},"6b","DORAN Adam2","ALLISON Esther9a/Ct1",null,"5c","5a",null,null,"RHE"]
[{"$nulls":25},"5a","EARLEY Alfie2","CHANG Steven9a/Ct3",null,"4a","4a",null,null,"RHE"]
[{"$nulls":25},"4b","ELLIOTT Harry2","POOLE Margaret9a/Ct3",null,"5c","4a",null,null,"RHE"]
[{"$nulls":25},"5b","ELLIS Harry2","SHAH Pauline9a/Ct4",null,"5b","4a",null,null,"CML"]
[{"$nulls":25},"5b","ELLIS Jack2","CHASE Alexandra9a/Ct1",null,"4a","5b",null,null,"RHE"]
[{"$nulls":25},"5a","ESSAM Archie2","BOYD Lloyd9a/Ct2",null,"5c","4a",null,null,"SBK"]
[{"$nulls":25},"5b","EVANS Adam2","HOROWITZ Richard9a/Ct2",null,"4c","4a",null,null,"SBK"]
[{"$nulls":25},"5c","FARRELL Tommy2","HAYES Carmen9a/Ct2",null,"5b","4a",null,null,"SBK"]
[{"$nulls":25},"6c","FERREIRA Lorena2","SPENCER Harold9a/Ct2",{"$nulls":5},"SBK"]
[{"$nulls":25},"5a","GALLAGHER Shannon2","GILL Monica9a/Ct2",null,"5b","5b",null,null,"SBK"]
[{"$nulls":25},"6b","GATES Charlotte2","SHERRILL Sheryl9a/Ct4",null,"5b","5b",null,null,"CML"]
[{"$nulls":25},"5a","GILES Alexis2","WILLIAMS Christian9a/Ct3",null,"5b","4b",null,null,"RHE"]
[{"$nulls":25},"5a","GILLESPIE Connor2","CLEMENTS Kara9a/Ct2",null,"5c","5c",null,null,"SBK"]
[{"$nulls":25},"6b","GIRLING Daisy2","SHAH Oscar9a/Ct3",null,"5c","5c",null,null,"RHE"]
[{"$nulls":25},"5a","GLOVER Melanie2","BYRNE Gladys9a/Ct2",null,"5c","5b",null,null,"SBK"]
[{"$nulls":25},"6c","GOKTAS Filiz2","ROBERTS Molly9a/Ct3",null,"5c","4a",null,null,"RHE"]
[{"$nulls":25},"6b","GOLDING Coral2","CHURCH Donald9a/Ct4",null,"5c","4a",null,null,"CML"]
[{"$nulls":25},"6a","GREEN Lucy2","SUTTON Claudia9a/Ct3",null,"5b","4b",null,null,"RHE"]
[{"$nulls":25},"5a","HALIMI Saimir2","SPIVEY Beverly9a/Ct1",null,"5b","5a",null,null,"RHE"]
[{"$nulls":25},"6c","HALL Bethany2","SUTTON Michele9a/Ct2",null,"5c","5c",null,null,"SBK"]
[{"$nulls":25},"5b","HAYES Tyler2","LAMBERT Martin9a/Ct3",null,"5b","5b",null,null,"RHE"]
[{"$nulls":25},"5a","HEMMINGS Bethany2","BRASWELL Crystal9a/Ct1",null,"4a","5b",null,null,"RHE"]
[{"$nulls":25},"5c","HIGGOTT William2","VINCENT Jerome9a/Ct1",null,"5c","5a",null,null,"RHE"]
[{"$nulls":25},"5c","HILTON Amy2","SANCHEZ Lisa9a/Ct4",null,"5c","4a",null,null,"CML"]
[{"$nulls":25},"5a","HOBBS Archie2","SHARP Samuel9a/Ct1",null,"4b","4a",null,null,"RHE"]
[{"$nulls":25},"5b","HOPE Sarah2","PATTON Alison9a/Ct3",null,"5b","4a",null,null,"RHE"]
[{"$nulls":25},"6b","HUMPHREYS Kristian2","JACOBSON Nancy9a/Ct4",null,"5b","5c",null,null,"CML"]
[{"$nulls":25},"5a","HUSSEY Alexa2","GREER Thomas9a/Ct3",null,"4a","4b",null,null,"RHE"]
[{"$nulls":25},"6c","JARVIS Rosie2","MAYO Francis9a/Ct4",null,"4a","4a",null,null,"CML"]
[{"$nulls":25},"5c","JEFFRIES Katie2","LYONS Andrea9a/Ct1",null,"5c","4a",null,null,"RHE"]
[{"$nulls":25},"6b","JHEETA Abinaash2","BARKER David9a/Ct1",null,"5b","5b",null,null,"RHE"]
[{"$nulls":25},"4a","KEEGAN Connor2","YANG Joann9a/Ct2",null,"5c","5c",null,null,"SBK"]
[{"$nulls":25},"5a","KHAN Alina2","HERRING Susan9a/Ct1",null,"5c","4a",null,null,"RHE"]
[{"$nulls":25},"6c","KHANOM Tangina2","ERICKSON Greg9a/Ct4",null,"5c","5c",null,null,"CML"]
[{"$nulls":25},"6a","KHELLA Karambir2","PRUITT Eddie9a/Ct3",null,"5b","5a",null,null,"RHE"]
[{"$nulls":25},"6c","KING Skye2","FLEMING Glen9a/Ct2",null,"5c","5b",null,null,"SBK"]
[{"$nulls":25},"5a","LATTER Britney2","REID Charles9a/Ct1",null,"5b","4b",null,null,"RHE"]
[{"$nulls":25},"5a","LAWSON Joseph2","THOMPSON Mark9a/Ct2",null,"4a","5b",null,null,"SBK"]
[{"$nulls":25},"5b","LEEDS Shaun2","FREDERICK Elaine9a/Ct4",null,"4b","5b",null,null,"CML"]
[{"$nulls":25},"5a","LONGHURST Joshua2","DILLON Marcus9a/Ct3",null,"5b","4b",null,null,"RHE"]
[{"$nulls":25},"5a","MACMILLAN Aidan2","ELMORE Marcia9a/Ct2",null,"5c","5b",null,null,"SBK"]
[{"$nulls":25},"5b","MASHEDER Corinne2","WEBER John9a/Ct2",null,"5c","5c",null,null,"SBK"]
[{"$nulls":25},"5b","MASLEN Danny2","MORROW Clara9a/Ct4",null,"5c","5c",null,null,"CML"]
[{"$nulls":25},"6c","MAWA Luc2","HUNT Jeff9a/Ct2",null,"5b","5b",null,null,"SBK"]
[{"$nulls":25},"5b","MCCORMICK Rhys2","WALL Marianne9a/Ct1",null,"5b","5a",null,null,"RHE"]
[{"$nulls":25},"6c","MEAGHER Jack2","DALY Catherine9a/Ct1",null,"5c","6b",null,null,"RHE"]
[{"$nulls":25},"6c","MIAH Jakiya2","SHERMAN Donna9a/Ct2",null,"5c","4a",null,null,"SBK"]
[{"$nulls":25},"5b","MILNER Lewis2","FARMER Molly9a/Ct4",null,"5c","4a",null,null,"CML"]
[{"$nulls":25},"6c","MOTSI Taffy2","MIDDLETON Jenny9a/Ct3",null,"4b","5c",null,null,"RHE"]
[{"$nulls":25},"5a","NEWLAND Sonny2","GLOVER Charlie9a/Ct4",null,"5b","5b",null,null,"CML"]
[{"$nulls":25},"6c","O'BRIEN Sara2","HESTER Daniel9a/Ct1",null,"5c","4c",null,null,"RHE"]
[{"$nulls":25},"6a","ODEDERE Simi2","HEATH Alison9a/Ct3",null,"5b","5b",null,null,"RHE"]
[{"$nulls":25},"5a","OLIVER-LINES Molleigh2","HENRY Becky9a/Ct1",null,"4b","4a",null,null,"RHE"]
[{"$nulls":25},"6b","OLOYEDE Sofia2","CAPPS Raymond9a/Ct2",null,"5c","5b",null,null,"SBK"]
[{"$nulls":25},"6a","ONU Mary2","NGUYEN Vincent9a/Ct1",null,"5b","5b",null,null,"RHE"]
[{"$nulls":25},"6c","PAVEY Jake2","RITCHIE Walter9a/Ct2",null,"5c","5c",null,null,"SBK"]
[{"$nulls":25},"6c","QUINNELL Harry2","FINK Anthony9a/Ct1",null,"4a","4c",null,null,"RHE"]
[{"$nulls":25},"5a","REPAJ John2","MURPHY Alison9a/Ct3",null,"4b","4a",null,null,"RHE"]
[{"$nulls":25},"5c","RICHARDS Trey2","DECKER Nancy9a/Ct3",null,"5c","4a",null,null,"RHE"]
[{"$nulls":25},"6c","ROBINS Harry2","SNOW Beth9a/Ct3",null,"5b","5b",null,null,"RHE"]
[{"$nulls":25},"6a","ROSSI Francesca2","WARREN Alexandra9a/Ct2",null,"5c","5a",null,null,"SBK"]
[{"$nulls":25},"5b","RUDKIN Michael2","ELMORE Luis9a/Ct4",null,"3b","5b",null,null,"CML"]
[{"$nulls":25},"6b","RUSHBROOK Sammy2","FOWLER Robin9a/Ct1",null,"5c","5a",null,null,"RHE"]
[{"$nulls":25},"6c","SAINE Kareem2","LANGLEY Kate9a/Ct2",{"$nulls":5},"SBK"]
[{"$nulls":25},"4a","SAUNDERS Billy2","CHANDLER Kathleen9a/Ct2",null,"4a","5b",null,null,"SBK"]
[{"$nulls":25},"5a","SAVAGE Taylah2","LASSITER Edith9a/Ct4",null,"5c","4a",null,null,"CML"]
[{"$nulls":25},"5a","SCILLITOE Bethany2","MANN Jessica9a/Ct4",null,"5c","4b",null,null,"CML"]
[{"$nulls":25},"5b","SELBY-GANGERA Shirin2","DAVIS Tom9a/Ct4",null,"5c","4a",null,null,"CML"]
[{"$nulls":25},"6c","SHARMA Eshita2","WALLACE Anthony9a/Ct1",null,"4a","5b",null,null,"RHE"]
[{"$nulls":25},"6a","SHOKO Victoria2","REDDY Shirley9a/Ct3",null,"5c","4b",null,null,"RHE"]
[{"$nulls":25},"6c","SMITH Megan3","SPEARS Kristina9a/Ct3",null,"4b","4a",null,null,"RHE"]
[{"$nulls":26},"SPROUL Tommy2","KEARNEY Martin9a/Ct4",null,"5b","5c",null,null,"CML"]
[{"$nulls":25},"5a","STEPHENS Melanie2","RAO Marie9a/Ct4",null,"5c","4a",null,null,"CML"]
[{"$nulls":25},"5a","THACKRAY Grace2","HUNTER Nancy9a/Ct4",null,"5b","5c",null,null,"CML"]
[{"$nulls":25},"5b","THOMPSON Kai2","HERMAN Alice9a/Ct3",null,"5b","4a",null,null,"RHE"]
[{"$nulls":25},"5a","THURSTON Isobel2","EASON Monica9a/Ct2",null,"5b","4b",null,null,"SBK"]
[{"$nulls":25},"6c","TIDMAN Abby2","CONNER Joe9a/Ct1",null,"5b","5b",null,null,"RHE"]
[{"$nulls":25},"6c","TREZIES Kiera2","PARKS Monica9a/Ct1",null,"5b","5b",null,null,"RHE"]
[{"$nulls":25},"6a","WATERS Chloe2","STOUT Ruby9a/Ct3",null,"5b","4b",null,null,"RHE"]
[{"$nulls":25},"6c","WELLS Thomas2","LANCASTER Nicholas9a/Ct4",null,"5b","5c",null,null,"CML"]
[{"$nulls":25},"5a","YAN Denise2","BRIGGS Daniel9a/Ct4",null,"5b","4a",null,null,"CML"]
[{"$nulls":25},"5b","ABODERIN Adedeji1","STEWART Leo7a/Re2",null,"5b","5a",null,null,"GGE"]
[{"$nulls":25},"4b","ADAMS Macy1","FLOWERS Floyd7c/Re2",null,"4b","4b",null,null,"SBK"]
[{"$nulls":25},"4a","ADEBOLA John1","FREEDMAN Luis7c/Re2",null,"5c","4b",null,null,"SBK"]
[{"$nulls":25},"4a","ADEGBOLA David1","BENTON Anne7c/Re2",null,"4a","4b",null,null,"SBK"]
[{"$nulls":25},"5c","ADEJUMO Victor1","HENDRICKS Victoria7b/Re1",null,"5c","5c",null,null,"GMT"]
[{"$nulls":25},"3b","ADEWALE Mark1","CONRAD Samantha7d/Re3",null,"3b","3b",null,null,"GGE"]
[{"$nulls":25},"5c","ADHAR Kajal1","LAW Irene7b/Re2",null,"5c","4a",null,null,"GMT"]
[{"$nulls":25},"5a","AILOAEI Victor1","HARTMAN Joan7a/Re3",null,"5b","6c",null,null,"GMT"]
[{"$nulls":25},"5c","AKINTOMO Samuel1","HUDSON Alexandra7b/Re2",null,"5b","4a",null,null,"GMT"]
[{"$nulls":25},"5b","ALADE Demilade1","KANG Michele7a/Re1",null,"5b","5b",null,null,"KKA"]
[{"$nulls":25},"4a","ALDRICH Lewis1","SULLIVAN Cynthia7b/Re3",null,"4a","4a",null,null,"SBK"]
[{"$nulls":25},"4c","ALLISON Paisley1","HIGH Ralph7d/Re1",null,"3a","4b",null,null,"KKA"]
[{"$nulls":25},"5b","ALLWRIGHT Olivia1","BUCKLEY Alex7a/Re2",null,"5c","5a",null,null,"GGE"]
[{"$nulls":25},"4a","AMIN Qasim1","LANGSTON Darlene7b/Re2",null,"4a","4a",null,null,"GMT"]
[{"$nulls":25},"4a","ANDERSON Ben1","DIXON Maureen7c/Re1",null,"4a","4b",null,null,"GGE"]
[{"$nulls":25},"5a","ASKEW Kara1","KELLEY Donald7a/Re1",null,"5b","6c",null,null,"KKA"]
[{"$nulls":25},"5b","ATLEY Jacob1","GIBBS Frederick7a/Re1",null,"4a","6c",null,null,"KKA"]
[{"$nulls":25},"5c","AUSTIN Rebecca1","WILLIAMSON Claudia7b/Re3",null,"5b","4a",null,null,"SBK"]
[{"$nulls":25},"4a","AYINDE-USMAN Abdullahi1","SCHMIDT Lillian7b/Re1",null,"4a","5c",null,null,"GMT"]
[{"$nulls":25},"5a","BACON Jamie1","ZHAO Samantha7a/Re2",null,"5b","6b",null,null,"GGE"]
[{"$nulls":26},"BADHAN Anthony1","RUBIN Linda7b/Re3",null,0,0,null,null,"SBK"]
[{"$nulls":25},"4b","BAKER Joshua1","BEAN Tim7c/Re1",null,"4c","4a",null,null,"GGE"]
[{"$nulls":25},"4a","BAKER Kai1","WALLACE Joan7c/Re3",null,"4a","4b",null,null,"GGE"]
[{"$nulls":25},"4a","BALOGUN Afeez1","BEASLEY Matthew7b/Re1",null,"4b","5c",null,null,"GMT"]
[{"$nulls":25},"4a","BALOGUN Ayomide1","BRYAN Pamela7b/Re2",null,"4a","4a",null,null,"GMT"]
[{"$nulls":25},"5c","BALOGUN Roqeebat1","REILLY Elizabeth7a/Re2",null,"5c","5b",null,null,"GGE"]
[{"$nulls":25},"3a","BARNETT Ella1","PECK Cathy7d/Re3",null,"3a","3b",null,null,"GGE"]
[{"$nulls":25},"4a","BARRETT Kyle1","HARDIN Lynne7b/Re2",null,"4a","5c",null,null,"GMT"]
[{"$nulls":25},"4b","BARRIE Isatu1","ADAMS Elisabeth7d/Re2",null,"4b","4c",null,null,"GMT"]
[{"$nulls":25},"4b","BEAL Taylor1","HOWE Marcus7c/Re1",null,"4c","4a",null,null,"GGE"]
[{"$nulls":25},"3a","BEANEY Marykate1","WOMBLE Kevin7d/Re2",null,"3a","4c",null,null,"GMT"]
[{"$nulls":25},"5c","BELKACEMI Zachariah1","KAUFMAN Thelma7a/Re3",null,"4a","5b",null,null,"GMT"]
[{"$nulls":25},"4b","BENNETT Paul1","MELTON Tom7d/Re1",null,"4b","4c",null,null,"KKA"]
[{"$nulls":25},"5c","BENNETT-ALAMETI Vincent1","MARCUS Harry7a/Re1",null,"5c","4a",null,null,"KKA"]
[{"$nulls":25},"3a","BERBERI Wendy1","CONRAD Jeanne7d/Re2",null,"3a","4c",null,null,"GMT"]
[{"$nulls":25},"5b","BISHOP Jayden1","GRIFFIN Joy7a/Re2",null,"5b","5c",null,null,"GGE"]
[{"$nulls":25},"4b","BLACKMAN Poppy1","BLALOCK Sara7d/Re1",null,"4a","4c",null,null,"KKA"]
[{"$nulls":25},"5b","BOAKYE-YIADOM Asantewa1","WHITE Ronnie7a/Re3",null,"5c","5a",null,null,"GMT"]
[{"$nulls":25},"4c","BODYCOMB Callum1","DURHAM Edna7d/Re1",null,"4c","4b",null,null,"KKA"]
[{"$nulls":25},"4c","BOKARIE SAM Felix1","CLINE Robin7d/Re1",null,"4c","4b",null,null,"KKA"]
[{"$nulls":25},"4c","BORDLEY Grace1","BLOCK Kathy7c/Re2",null,"4c","4b",null,null,"SBK"]
[{"$nulls":25},"4c","BRABON Jack1","KAY Matthew7d/Re1",null,"4c","4b",null,null,"KKA"]
[{"$nulls":25},"3a","BRACKELL Bethan1","CUMMINGS Carol7d/Re3",null,"3a","3b",null,null,"GGE"]
[{"$nulls":25},"5c","BRADY Mollie1","BRITT Deborah7a/Re1",null,"5c","5b",null,null,"KKA"]
[{"$nulls":25},"5c","BRAWN-COOK Chardonnay1","REYNOLDS Lindsay7c/Re1",null,"5c","4a",null,null,"GGE"]
[{"$nulls":25},"4b","BRENNAN Rachel1","BOOTH Lynne7c/Re1",null,"4b","4b",null,null,"GGE"]
[{"$nulls":25},"5c","BROOKER - MAHAL Charlie1","SLOAN Sean7b/Re1",null,"5c","5c",null,null,"GMT"]
[{"$nulls":25},"4a","BROOKES Seamus1","MCCULLOUGH Gregory7c/Re3",null,"4a","4b",null,null,"GGE"]
[{"$nulls":25},"4c","BROWN Bradley1","HURLEY Stephen7d/Re1",null,"3a","4a",null,null,"KKA"]
[{"$nulls":25},0,"BROWN Charisse1","KIRK Paula7c/Re2",null,0,0,null,null,"SBK"]
[{"$nulls":25},"5c","BRYANT Ian1","MIDDLETON Melanie7a/Re3",null,"5c","5b",null,null,"GMT"]
[{"$nulls":25},"5c","BURGESS Georgina1","GLENN Maxine7b/Re3",null,"5c","4a",null,null,"SBK"]
[{"$nulls":25},"4b","BUTCHER Gemma1","WHITAKER Gregory7c/Re1",null,"4b","4a",null,null,"GGE"]
[{"$nulls":25},"4a","BUTLER Sam1","COHEN Ellen7b/Re1",null,"4c","5b",null,null,"GMT"]
[{"$nulls":25},"5c","BUTTON Alice1","SAVAGE Floyd7b/Re2",null,"5c","4a",null,null,"GMT"]
[{"$nulls":25},"4b","CALLANAN Brogan1","BAIRD Christina7d/Re2",null,"4b","4c",null,null,"GMT"]
[{"$nulls":25},"5c","CAMPBELL Isaac1","FERNANDEZ Joanna7b/Re1",null,"5c","5c",null,null,"GMT"]
[{"$nulls":25},"4c","CAREY Charlotte1","COWAN Laura7d/Re3",null,"4c","3a",null,null,"GGE"]
[{"$nulls":25},"5c","CAVE Megan1","BOSWELL Larry7a/Re2",null,"5c","5b",null,null,"GGE"]
[{"$nulls":25},"4c","CHALK Mark1","BERMAN Theresa7d/Re2",null,"4c","4c",null,null,"GMT"]
[{"$nulls":25},"5c","CHANNON Anthony1","HUANG Ian7b/Re2",null,"5c","4a",null,null,"GMT"]
[{"$nulls":25},"4a","CHAPMAN Katie1","OLSEN Joanna7c/Re3",null,"5b","4c",null,null,"GGE"]
[{"$nulls":25},"5b","CHEESEMAN Adam1","SHORE Jean7a/Re1",null,"5b","5a",null,null,"KKA"]
[{"$nulls":25},"4c","CHIMA Joshua1","HAHN Rosemary7d/Re3",null,"4b","3a",null,null,"GGE"]
[{"$nulls":25},"4c","CHITAKWE Yuh Bobobglein1","BLACKWELL Ben7d/Re1",null,"3a","4b",null,null,"KKA"]
[{"$nulls":25},"5c","CHIWEWE Lydia1","FISHER Dale7a/Re3",null,"5c","5b",null,null,"GMT"]
[{"$nulls":25},"5a","CHUKWUDI Ephraim1","FELDMAN Norma7a/Re2",null,"5b","6c",null,null,"GGE"]
[{"$nulls":25},"5c","CLARK Aaron1","BENNETT Jenny7b/Re1",null,"4a","5b",null,null,"GMT"]
[{"$nulls":25},"5c","COLE Annie-May1","HORN Herbert7b/Re2",null,"5b","4a",null,null,"GMT"]
[{"$nulls":25},"4b","COLE Katie1","KELLEY Donna7d/Re2",null,"4b","4c",null,null,"GMT"]
[{"$nulls":25},"5a","COLE Mollie1","SHANNON Amanda7a/Re1",null,"5a","5b",null,null,"KKA"]
[{"$nulls":25},"4c","COLE Sydney1","WALL Valerie7d/Re1",null,"4c","4b",null,null,"KKA"]
[{"$nulls":25},"5b","COLLIER Samuel1","LANGLEY Herbert7a/Re3",null,"5b","5c",null,null,"GMT"]
[{"$nulls":25},"5c","COLLINS Lewis1","JORDAN Alice7b/Re2",null,"5c","4a",null,null,"GMT"]
[{"$nulls":25},"5c","COLMAN Izabella1","WILLIFORD Edith7b/Re3",null,"5b","4a",null,null,"SBK"]
[{"$nulls":25},"6c","COMBER Kayleigh1","RICHARDS Ruby7a/Re2",null,"5a","6b",null,null,"GGE"]
[{"$nulls":25},"4a","CONIAM Ryan1","RAO Bobby7c/Re2",null,"4a","4b",null,null,"SBK"]
[{"$nulls":25},"5a","COOK Annie1","ADCOCK Phillip7a/Re3",null,"5b","6b",null,null,"GMT"]
[{"$nulls":25},0,"COOK Molly1","BRADY Carl7c/Re3",null,0,0,null,null,"GGE"]
[{"$nulls":25},"5c","COPPEN Austen1","LAMB Sheryl7a/Re1",null,"5c","5b",null,null,"KKA"]
[{"$nulls":25},"5b","COULDRY Taylor1","LARSON Steven7a/Re2",null,"5b","5b",null,null,"GGE"]
[{"$nulls":25},"4a","CRANE Jacob1","YORK Sylvia7b/Re2",null,"4a","4a",null,null,"GMT"]
[{"$nulls":25},"4a","CROCKER Benjamin1","GROSSMAN Erica7b/Re2",null,"4a","4a",null,null,"GMT"]
[{"$nulls":25},"4a","CROSS Kai1","HICKS Janice7b/Re1",null,"4a","5c",null,null,"GMT"]
[{"$nulls":25},"4a","CUTENDANA Genesis1","ALLISON Elsie7c/Re3",null,"5c","4c",null,null,"GGE"]
[{"$nulls":25},"3a","DAVIDSON Aaron1","JOHNSON Lynda7d/Re1",null,"3c","4b",null,null,"KKA"]
[{"$nulls":25},"4a","DAVIS Connor1","YU Stephen7c/Re3",null,"5c","4c",null,null,"GGE"]
[{"$nulls":25},"4a","DAVIS George1","FISCHER Lucy7b/Re3",null,"4a","4a",null,null,"SBK"]
[{"$nulls":25},"4b","DAWE Paris1","WALLER Benjamin7c/Re3",null,"4a","3a",null,null,"GGE"]
[{"$nulls":25},"5c","DE'ATH Jamie1","SAUNDERS Gregory7b/Re1",null,"5c","5c",null,null,"GMT"]
[{"$nulls":25},"3b","DHIR Puneet1","MAYO Dianne7d/Re1",null,"3c","4c",null,null,"KKA"]
[{"$nulls":25},"4b","DIXON Maddison1","PATE Neil7c/Re3",null,"4c","4a",null,null,"GGE"]
[{"$nulls":25},"5c","DOBNER Tilly1","NGUYEN Elaine7b/Re2",null,"5c","5c",null,null,"GMT"]
[{"$nulls":25},"4b","DOUGLAS Henry1","MELTON Melanie7c/Re3",null,"4a","4c",null,null,"GGE"]
[{"$nulls":25},"4a","DRANE Alfie1","KIRK Wendy7c/Re2",null,"4a","4b",null,null,"SBK"]
[{"$nulls":25},"5c","DREDGE Megan1","THOMSON Ray7b/Re3",null,"5b","4b",null,null,"SBK"]
[{"$nulls":25},"4b","DUKES Teddy1","DALE Tracey7b/Re3",null,"4a","4c",null,null,"SBK"]
[{"$nulls":25},"3a","EADY Morgan1","BOYETTE Bill7d/Re1",null,"3a","3b",null,null,"KKA"]
[{"$nulls":25},"4c","EARLEY Kacey1","AYCOCK Sara7d/Re3",null,"5c","3c",null,null,"GGE"]
[{"$nulls":25},0,"EGODO Efemena1","DUNLAP Joanna7b/Re3",null,0,0,null,null,"SBK"]
[{"$nulls":25},"4b","ELDRIDGE Louise1","SHAPIRO Gladys7c/Re1",null,"4c","4a",null,null,"GGE"]
[{"$nulls":25},"4b","ESSAM Lily-Mae1","JIANG Tina7c/Re3",null,"4b","4b",null,null,"GGE"]
[{"$nulls":25},"4c","EVANS Sam1","ROACH Raymond7d/Re2",null,"4c","4c",null,null,"GMT"]
[{"$nulls":25},"4a","EVANS Sophia1","WAGNER Edna7b/Re1",null,"4b","5b",null,null,"GMT"]
[{"$nulls":25},"5b","FABIAN Ronnie1","WARREN Clarence7a/Re3",null,"5b","5a",null,null,"GMT"]
[{"$nulls":25},"4a","FAKEHINDE Kanyinsola1","GARCIA Cecil7c/Re1",null,"4a","4a",null,null,"GGE"]
[{"$nulls":25},"5b","FARR Ryan1","HOFFMAN Randy7a/Re1",null,"5c","5a",null,null,"KKA"]
[{"$nulls":25},"4b","FARRELL Benjamin1","BROWN Adam7d/Re2",null,"4a","4c",null,null,"GMT"]
[{"$nulls":25},"5c","FARROW Frankie1","FREEMAN Cameron7b/Re1",null,"5c","5c",null,null,"GMT"]
[{"$nulls":25},"5b","FATUNGASE Elijah1","FINK Joanne7a/Re2",null,"5b","5b",null,null,"GGE"]
[{"$nulls":25},"4a","FATUNGASE Isaac1","WHITFIELD Tiffany7b/Re3",null,"5c","4b",null,null,"SBK"]
[{"$nulls":25},"5c","FILER Lauren1","BAUER Ralph7b/Re1",null,"5c","5c",null,null,"GMT"]
[{"$nulls":25},"4c","FISHWICK Harry1","BURNETTE Charlene7d/Re3",null,"4c","3a",null,null,"GGE"]
[{"$nulls":25},"5c","FITCH Ethan1","DALTON Deborah7a/Re3",null,"5b","4a",null,null,"GMT"]
[{"$nulls":25},"B","FLORICICA Ines1","HUMPHREY Annette7d/Re1",null,"B","B",null,null,"KKA"]
[{"$nulls":25},"5a","FLYNN Liam1","PARRISH Geoffrey7a/Re1",null,"5b","6b",null,null,"KKA"]
[{"$nulls":25},"3a","FORAN Lucy1","STANLEY Beverly7d/Re2",null,"3a","4c",null,null,"GMT"]
[{"$nulls":25},"4b","FRAREY George1","BUSH Clarence7c/Re3",null,"4a","4c",null,null,"GGE"]
[{"$nulls":25},"5a","FREIVERTS Dilans1","BERNSTEIN Eddie7a/Re2",null,"5b","6b",null,null,"GGE"]
[{"$nulls":25},"5c","FRENCH Mollie1","DAY Emma7b/Re2",null,"5c","4a",null,null,"GMT"]
[{"$nulls":25},"4b","GAINDA Gurmukh1","KENNEDY Anne7c/Re1",null,"4c","4a",null,null,"GGE"]
[{"$nulls":25},"5c","GALLAGHER Shaun1","BRIDGES Amy7b/Re2",null,"5c","4a",null,null,"GMT"]
[{"$nulls":25},"5b","GARDNER Rachel1","BOND Betty7b/Re1",null,"5b","5c",null,null,"GMT"]
[{"$nulls":25},"5b","GEORGE-OBUENWE Emmanuel1","LANE Alexandra7b/Re2",null,"5b","5c",null,null,"GMT"]
[{"$nulls":25},"5c","GIBBONS Molly1","HUMPHREY Nina7b/Re3",null,"5b","4b",null,null,"SBK"]
[{"$nulls":25},"5b","GIBBS Daniel1","SMALL Charlene7a/Re3",null,"5a","5c",null,null,"GMT"]
[{"$nulls":25},"4a","GILLESPIE Taylor1","DOUGHERTY Justin7c/Re2",null,"4a","4b",null,null,"SBK"]
[{"$nulls":25},"5a","GLENNON Chelsea1","FORD Tom7a/Re1",null,"5a","6c",null,null,"KKA"]
[{"$nulls":25},"4b","GLOVER Alfie1","MAYER Billie7c/Re3",null,"4b","4b",null,null,"GGE"]
[{"$nulls":25},"4b","GLOVER James1","STEPHENSON Tracey7c/Re1",null,"4b","4a",null,null,"GGE"]
[{"$nulls":25},"4b","GOLDING Nicole1","KELLY Douglas7c/Re2",null,"4b","4b",null,null,"SBK"]
[{"$nulls":25},"5b","GOODMAN Holly1","SYKES Barry7a/Re2",null,"5b","5a",null,null,"GGE"]
[{"$nulls":25},"5a","GOSDEN Megan1","GOLDEN Kelly7a/Re3",null,"5c","6b",null,null,"GMT"]
[{"$nulls":25},"4c","GRAHAM Perez1","GILBERT Brandon7d/Re2",null,"4c","4c",null,null,"GMT"]
[{"$nulls":25},"4c","GROVES Madeleine1","FROST Vivian7d/Re2",null,"4c","4c",null,null,"GMT"]
[{"$nulls":25},"4b","GUACHO ESPINOSA Emily Nicole1","PHELPS Rodney7c/Re2",null,"4b","4b",null,null,"SBK"]
[{"$nulls":25},"4b","HAFFENDEN Lucy1","GOODMAN Kristina7c/Re1",null,"4b","4b",null,null,"GGE"]
[{"$nulls":25},"4c","HAINING Joshua1","SHERRILL William7d/Re1",null,"4c","4b",null,null,"KKA"]
[{"$nulls":25},"5b","HALL Dontae1","HOLT Amy7a/Re1",null,"5b","5b",null,null,"KKA"]
[{"$nulls":25},"5c","HARDING Emma1","ENGLISH Walter7b/Re2",null,"5c","4a",null,null,"GMT"]
[{"$nulls":25},"4a","HART Robbie1","AYCOCK Gerald7b/Re2",null,"4b","5c",null,null,"GMT"]
[{"$nulls":25},"5c","HARWOOD Samuel1","GRAY Arlene7a/Re2",null,"5c","5b",null,null,"GGE"]
[{"$nulls":25},"5b","HATTRILL Kirstie1","FOSTER Derek7a/Re1",null,"5b","5b",null,null,"KKA"]
[{"$nulls":25},"4b","HAWKINS Alfie1","KRAMER Alexander7c/Re1",null,"4c","4a",null,null,"GGE"]
[{"$nulls":25},"4c","HEASMAN Jake1","ROLLINS Scott7d/Re1",null,"4c","4b",null,null,"KKA"]
[{"$nulls":25},"5c","HINSON Josie1","KELLER Lynne7a/Re2",null,"5c","5b",null,null,"GGE"]
[{"$nulls":25},"4b","HODROJ Dana1","BARRY Rosemary7c/Re3",{"$nulls":5},"GGE"]
[{"$nulls":25},"3a","HOPKINSON Faith1","SNOW Ted7d/Re2",null,"3a","4c",null,null,"GMT"]
[{"$nulls":25},"4c","HOWARTH Charlie1","GIBBONS Kathy7d/Re2",null,"4c","4c",null,null,"GMT"]
[{"$nulls":25},"4b","HOWE Jazmin1","COCHRAN Chris7d/Re2",null,"4a","4c",null,null,"GMT"]
[{"$nulls":25},"5a","HULBERT Cameron1","BAKER Thomas7a/Re1",null,"5a","6c",null,null,"KKA"]
[{"$nulls":25},"5c","HUMPHREY Lucas1","WIGGINS Bill7a/Re2",null,"5c","5b",null,null,"GGE"]
[{"$nulls":25},"4a","HUTCHISON Katie1","KELLY Charles7c/Re2",null,"4a","4b",null,null,"SBK"]
[{"$nulls":25},"4b","IDEN Thomas1","KIRKLAND Brent7c/Re1",null,"4c","4a",null,null,"GGE"]
[{"$nulls":25},"5b","IYAMU-EKIRO David1","NELSON Rebecca7a/Re3",null,"5b","5b",null,null,"GMT"]
[{"$nulls":25},"5a","JAIYESIMI Al-Amin1","LONG Julie7a/Re1",null,"5b","6c",null,null,"KKA"]
[{"$nulls":25},"4b","JARVIS Charlie1","BALLARD Benjamin7c/Re1",null,"4c","4a",null,null,"GGE"]
[{"$nulls":26},"JARVIS Danny1","BURGESS Max0",null,"3a","2b"]
[{"$nulls":25},"5c","JARVIS Georgia1","HARDY Joel7b/Re2",null,"5b","4a",null,null,"GMT"]
[{"$nulls":25},"5c","JUTLA Maneet1","TATE Oscar7b/Re2",null,"5c","4a",null,null,"GMT"]
[{"$nulls":25},"4a","KANDEEPAN Sukita1","MOSER Bryan7b/Re2",null,"4a","5c",null,null,"GMT"]
[{"$nulls":25},"4a","KATSO Tendesayi1","ROBBINS Sheryl7c/Re1",null,"5b","4c",null,null,"GGE"]
[{"$nulls":25},"4b","KELLY Logan1","SNOW Sean7c/Re3",null,"4b","4c",null,null,"GGE"]
[{"$nulls":25},"4a","KHAN Mominul1","DIAZ Audrey7c/Re3",null,"5c","4b",null,null,"GGE"]
[{"$nulls":25},"5b","KILLICK James1","HAMRICK Paul7a/Re2",null,"5b","5b",null,null,"GGE"]
[{"$nulls":25},"5b","KINGHAM Ben1","WHITAKER Diana7a/Re3",null,"5c","5a",null,null,"GMT"]
[{"$nulls":25},"5c","KITCHENHAM Marie1","GOODMAN Bernard7b/Re3",null,"5b","4a",null,null,"SBK"]
[{"$nulls":25},"4a","KNOWLER Lybee1","PEREZ Marianne7c/Re3",null,"5c","4c",null,null,"GGE"]
[{"$nulls":25},"4b","KORKMAZOGLU Beren1","WERNER Harvey7d/Re3",null,"4a","3a",null,null,"GGE"]
[{"$nulls":25},"4b","KORSACHKA Nikol1","BARR Ryan7c/Re2",null,"4b","4b",null,null,"SBK"]
[{"$nulls":25},"5c","KUDINOVA Kintija1","WHITE Ronald7a/Re3",null,"5c","5c",null,null,"GMT"]
[{"$nulls":25},"5c","KURI-O'REILLY Stephanie1","SONG Jeremy7a/Re1",null,"5c","5b",null,null,"KKA"]
[{"$nulls":25},"5a","LALA Orges1","MCKENZIE Lucille7a/Re1",null,"5b","6b",null,null,"KKA"]
[{"$nulls":25},"5c","LAWTON Connor1","COLE Roger7b/Re3",null,"5c","4a",null,null,"SBK"]
[{"$nulls":25},"5b","LE CALVEZ Nicole1","AVERY Randy7a/Re2",null,"5b","5a",null,null,"GGE"]
[{"$nulls":25},"4c","LEAHY Aiden1","MONTGOMERY Marguerite7d/Re1",null,"3a","4b",null,null,"KKA"]
[{"$nulls":25},"5c","LEASK-FULHAM Keira1","PATEL Sheryl7a/Re3",null,"5c","5b",null,null,"GMT"]
[{"$nulls":25},0,"LEE Bill1","SCHULTZ Alfred7c/Re3",{"$nulls":5},"GGE"]
[{"$nulls":25},"5c","LEE-MAYHEW Paige1","CHEN Alfred7b/Re3",null,"5c","4a",null,null,"SBK"]
[{"$nulls":25},"4b","LEINSTER James1","BURCH Kathleen7c/Re3",null,"4b","4b",null,null,"GGE"]
[{"$nulls":25},"4c","LEPINE Samuel1","HOLT Pauline7d/Re2",null,"4c","4c",null,null,"GMT"]
[{"$nulls":25},"4b","LESTON Talisha1","JUSTICE Lynn7c/Re1",null,"4b","4a",null,null,"GGE"]
[{"$nulls":25},"4b","LIGHTFOOT Ella1","PETERS Amy7c/Re2",null,"4b","4b",null,null,"SBK"]
[{"$nulls":25},"5b","LINES Gemma1","KANE Steve7a/Re1",null,"5b","5c",null,null,"KKA"]
[{"$nulls":25},"4b","LITTLE Rose1","BURNETTE Edna7c/Re1",null,"4b","4a",null,null,"GGE"]
[{"$nulls":25},"4c","LONG Ellice1","BRADLEY Bobby7c/Re3",null,"4c","4c",null,null,"GGE"]
[{"$nulls":25},"5b","LOZEVA Rositsa1","MCNAMARA Ruby7a/Re2",null,"5b","5b",null,null,"GGE"]
[{"$nulls":25},"4c","MACLELLAN Harry1","ARCHER Larry7d/Re1",null,"3a","4b",null,null,"KKA"]
[{"$nulls":25},"4a","MACLELLAN Libby1","DAVIES Sheila7b/Re1",null,"4a","5c",null,null,"GMT"]
[{"$nulls":25},"4b","MAREZANA Marlon1","PENNINGTON Alexandra7c/Re2",null,"4b","4b",null,null,"SBK"]
[{"$nulls":25},"4b","MARSHALL Craig1","RIDDLE Juan7c/Re1",null,"4c","4a",null,null,"GGE"]
[{"$nulls":25},"4b","MASLAH Zahra1","ERICKSON Alan7c/Re1",null,"4b","4b",null,null,"GGE"]
[{"$nulls":25},"4b","MATHERS Dean1","DAVENPORT Thelma7c/Re2",null,"4b","4b",null,null,"SBK"]
[{"$nulls":25},"4a","MATTHEWS Aimee1","WOODS Diane7b/Re2",null,"4a","4a",null,null,"GMT"]
[{"$nulls":25},"5a","MATTIN Thomas1","REEVES Patricia7a/Re2",null,"5b","6c",null,null,"GGE"]
[{"$nulls":25},"4b","MAY-CLARK Sam1","LANCASTER Esther7c/Re1",null,"4b","4b",null,null,"GGE"]
[{"$nulls":25},"4b","MCDERMOTT Lewis1","PROCTOR Bruce7c/Re3",null,"4a","4c",null,null,"GGE"]
[{"$nulls":25},"4a","MCGIRR Holly1","GRAHAM Maxine7b/Re3",null,"4a","4a",null,null,"SBK"]
[{"$nulls":25},"4a","MCKIE Kieran1","STRAUSS Patrick7c/Re2",null,"4a","4b",null,null,"SBK"]
[{"$nulls":25},"4c","MITCHELL Joseph1","WATERS Roger7d/Re1",null,"3a","4b",null,null,"KKA"]
[{"$nulls":25},"5c","MNCUBE Ryan1","TATE James7b/Re2",null,"5c","4a",null,null,"GMT"]
[{"$nulls":25},"5c","MOHAMED Anayda1","BARBER Harry7b/Re1",null,"5c","5c",null,null,"GMT"]
[{"$nulls":25},"4a","MOHANADAS Apiruban1","POTTER Nancy7c/Re1",null,"4b","5c",null,null,"GGE"]
[{"$nulls":25},"3a","MOMODU Emmanuel1","LYONS Connie7d/Re3",null,"3a","3a",null,null,"GGE"]
[{"$nulls":25},"3a","MOORE Molly1","KAUFMAN John7d/Re3",null,"3a","3a",null,null,"GGE"]
[{"$nulls":25},"4b","MOORE Shanae1","BOSWELL Claudia7d/Re1",null,"4b","4b",null,null,"KKA"]
[{"$nulls":25},"4a","MORGAN Koren1","KELLY Donald7c/Re3",null,"5c","4c",null,null,"GGE"]
[{"$nulls":25},"4a","MORGAN-ROOTS Luke1","BARNETT Sheila7b/Re1",null,"4a","5c",null,null,"GMT"]
[{"$nulls":25},"5a","MOTSI Tyrone1","HENDRICKS Warren7a/Re3",null,"5a","5b",null,null,"GMT"]
[{"$nulls":25},"5b","MOULD Hollie1","MCGEE Betty7a/Re3",null,"5b","5a",null,null,"GMT"]
[{"$nulls":25},"5b","MUKALAZI Riley1","GARRETT Vicki7a/Re1",null,"5b","5b",null,null,"KKA"]
[{"$nulls":25},"4b","MUKASA Suubi1","ROBERTS Pamela7c/Re2",null,"4b","4b",null,null,"SBK"]
[{"$nulls":25},"5b","MURUKANANTHAM Tharunan1","TYSON Joseph7a/Re2",null,"5b","5b",null,null,"GGE"]
[{"$nulls":25},"5c","MUSIYIWA Makhosi1","PUGH Glenda7b/Re3",null,"5c","4a",null,null,"SBK"]
[{"$nulls":25},"5c","NASHWA Ben1","TURNER Angela7a/Re3",null,"5c","5b",null,null,"GMT"]
[{"$nulls":25},"3a","NEWMAN Ellie1","PITTS Ian7d/Re1",null,"3b","4b",null,null,"KKA"]
[{"$nulls":25},"4c","NEWSTEAD Arthur1","CRABTREE Suzanne7d/Re1",null,"3a","4b",null,null,"KKA"]
[{"$nulls":25},"3a","NEWTON Ethan1","GARRETT Paula7d/Re3",null,"3a","3a",null,null,"GGE"]
[{"$nulls":25},"5a","NG Jack1","WALKER Kevin7a/Re1",null,"5c","6b",null,null,"KKA"]
[{"$nulls":25},"5c","NIBI Lakeisha1","PEARSON Emma7b/Re3",null,"5b","4a",null,null,"SBK"]
[{"$nulls":25},"4b","OAKINS George1","MCCLURE Harvey7c/Re2",null,"4b","4b",null,null,"SBK"]
[{"$nulls":25},0,"OBI-ORAZULUME Chibby1","CHEEK Robert7b/Re1",null,0,0,null,null,"GMT"]
[{"$nulls":25},"5c","ODEBO Kehinde Enoch I1","STEVENS Ronald7a/Re2",null,"5c","5b",null,null,"GGE"]
[{"$nulls":25},"5c","ODEBO Taiwo Elizabeth1","LANIER Rebecca7b/Re2",null,"5c","4a",null,null,"GMT"]
[{"$nulls":25},"5b","ODEDERE Michael1","COOK Rodney7a/Re3",null,"5b","5a",null,null,"GMT"]
[{"$nulls":25},"5c","ODEKUNLE Biola1","WELLS Allison7b/Re1",null,"5c","5c",null,null,"GMT"]
[{"$nulls":25},"5b","ODIGIE Nosarume1","VINCENT Diana7a/Re1",null,"5b","5a",null,null,"KKA"]
[{"$nulls":25},"5c","OFFORD Bayley1","SCHROEDER Jimmy7b/Re1",null,"5c","5b",null,null,"GMT"]
[{"$nulls":25},"4a","OFFWOOD Elliot1","BULLARD Joyce7b/Re1",null,"4a","5c",null,null,"GMT"]
[{"$nulls":25},"4b","OFURHIE Calvin1","GRAVES Wesley7c/Re2",null,"4b","4c",null,null,"SBK"]
[{"$nulls":25},"3b","OHAKWA Chideraa1","MCPHERSON Carl7d/Re3",{"$nulls":5},"GGE"]
[{"$nulls":25},"4a","OHAZURUME Daniel1","O'BRIEN Catherine7c/Re2",null,"5c","4b",null,null,"SBK"]
[{"$nulls":25},"5c","OHAZURUME David1","SNYDER Joanne7b/Re3",null,"5c","4a",null,null,"SBK"]
[{"$nulls":25},"4c","OKORONKWO Debbie1","RIGGS Kathy7d/Re2",null,"4c","3a",null,null,"GMT"]
[{"$nulls":25},"5b","OLOYEDE Karim1","WALTER Sheryl7a/Re2",null,"5b","5a",null,null,"GGE"]
[{"$nulls":25},0,"OMORUYI Esosa1","COCHRAN James7c/Re3",null,0,0,null,null,"GGE"]
[{"$nulls":25},"5b","OMOTOYE Tyrese1","ERICKSON Tim7a/Re3",null,"5b","5b",null,null,"GMT"]
[{"$nulls":25},"5c","ONU George1","BAREFOOT Rodney7b/Re2",null,"5c","5c",null,null,"GMT"]
[{"$nulls":25},"5c","OREMUYIWA Joseph1","MCCULLOUGH Bryan7c/Re1",null,"5c","5c",null,null,"GGE"]
[{"$nulls":25},"5c","OSBORNE Marshall1","HENRY Max7a/Re1",null,"5c","5b",null,null,"KKA"]
[{"$nulls":25},"4a","OWEN Sadie1","JERNIGAN Sharon7c/Re3",null,"5b","4c",null,null,"GGE"]
[{"$nulls":25},"3a","PAGE Billie1","FRANCIS Laura7d/Re2",null,"3a","4c",null,null,"GMT"]
[{"$nulls":25},"5b","PALMER Chloe1","WATSON Alexander7a/Re1",null,"5b","5c",null,null,"KKA"]
[{"$nulls":25},"4a","PARKER Megan1","BULLARD Dan7c/Re2",null,"4a","4b",null,null,"SBK"]
[{"$nulls":25},"4a","PARMENTER Hailee1","BERGER Laura7c/Re2",null,"4a","4b",null,null,"SBK"]
[{"$nulls":25},"4b","PATTENDEN Mollie1","HARMON Bryan7d/Re2",null,"4b","4c",null,null,"GMT"]
[{"$nulls":25},"3b","PEARCE Megan-Rose1","SIMON Theresa7d/Re2",null,"3b","3a",null,null,"GMT"]
[{"$nulls":25},"3a","PERKINS Jake1","DYER Phillip7d/Re2",null,"3a","4c",null,null,"GMT"]
[{"$nulls":25},"5c","PETERS Brandon1","JORDAN Diane7b/Re1",null,"5c","5b",null,null,"GMT"]
[{"$nulls":25},"4b","PHELPS Gracie1","WILKINSON Angela7c/Re2",null,"4b","4b",null,null,"SBK"]
[{"$nulls":25},"3a","PHIPPS Aaron1","JERNIGAN Gerald7d/Re3",null,"3a","3a",null,null,"GGE"]
[{"$nulls":25},"4c","PLATER Chloe1","FLOYD Peter7d/Re1",null,"4c","4b",null,null,"KKA"]
[{"$nulls":25},"4a","PRABAHARAN Baarath1","ALLISON Annette7b/Re1",null,"4b","5b",null,null,"GMT"]
[{"$nulls":25},"5a","QUADRI Ibukun1","HOROWITZ Beth7a/Re2",null,"5c","6b",null,null,"GGE"]
[{"$nulls":25},"5b","QUILALA Angelika1","COOK Mark7a/Re2",null,"5b","5a",null,null,"GGE"]
[{"$nulls":25},"4b","RADENHURST Ella1","BERMAN Gilbert7d/Re2",null,"4b","4c",null,null,"GMT"]
[{"$nulls":25},"3c","RANDALL Brook1","WOOTEN Sally7d/Re3",null,"3c","3b",null,null,"GGE"]
[{"$nulls":25},"5b","RATCLIFF Bethany1","SANDERS Brent7a/Re3",null,"5b","5b",null,null,"GMT"]
[{"$nulls":25},"2a","RAVINDRAKUMAR Nemaliya1","LOWE Carmen7d/Re3",null,"N","3b",null,null,"GGE"]
[{"$nulls":25},"4a","RAWLINS Jack1","REID Kristin7b/Re1",null,"4a","5c",null,null,"GMT"]
[{"$nulls":25},"4b","REDWORTH Samuel1","JOHNSTON Claudia7c/Re1",null,"4b","4a",null,null,"GGE"]
[{"$nulls":25},"5c","REHMAN Mohammed1","LAMM Jordan7b/Re1",null,"5c","5c",null,null,"GMT"]
[{"$nulls":25},"5c","RICHARDS Drey1","BREWER Eva7b/Re3",null,"5c","4a",null,null,"SBK"]
[{"$nulls":25},"5b","RIXON-WILSON Drew1","RIGGS Harvey7a/Re1",null,"5b","5b",null,null,"KKA"]
[{"$nulls":25},"4b","ROBINSON Ethan1","JAMES Christina7c/Re1",null,"4b","4a",null,null,"GGE"]
[{"$nulls":25},"4b","ROBSON Tommy1","CRAIG Lucy7c/Re1",null,"4c","4a",null,null,"GGE"]
[{"$nulls":25},"5c","ROSE Megan1","STERN Greg7b/Re3",null,"5b","4a",null,null,"SBK"]
[{"$nulls":25},"4c","SACRE Holly1","FRANKLIN Vanessa7d/Re1",null,"3a","4b",null,null,"KKA"]
[{"$nulls":25},"4b","SADRA Jasmin1","MYERS Joann7c/Re2",null,"4b","4b",null,null,"SBK"]
[{"$nulls":25},"4b","SALT Brandon1","NORMAN Betty7b/Re2",null,"4b","4a",null,null,"GMT"]
[{"$nulls":25},"5b","SAMUELS Marisa1","BULLARD Billie7a/Re2",null,"5b","5b",null,null,"GGE"]
[{"$nulls":25},"4a","SARGENT Harry1","DORSEY Gladys7b/Re1",null,"4b","5c",null,null,"GMT"]
[{"$nulls":25},"5c","SAVAGE Peggy1","HODGE Thelma7a/Re3",null,"5c","5c",null,null,"GMT"]
[{"$nulls":25},"5b","SAYERS Elliot1","HOOVER Elsie7a/Re3",null,"5c","6c",null,null,"GMT"]
[{"$nulls":25},"5a","SAYERS Luke1","CROSS Bill7a/Re1",null,"5a","5b",null,null,"KKA"]
[{"$nulls":25},"5c","SCILLITOE Harry1","BERNSTEIN Tina7a/Re2",null,"5c","5b",null,null,"GGE"]
[{"$nulls":25},"4a","SELMANI Lan1","BROWNING Troy7b/Re2",null,"4a","4a",null,null,"GMT"]
[{"$nulls":25},"4a","SHANMUGARAKAVAN Kabesajan1","WEISS Bryan7b/Re1",null,"4a","5c",null,null,"GMT"]
[{"$nulls":25},"4b","SHAW Alex1","WILLIFORD Roberta7c/Re1",null,"4b","4a",null,null,"GGE"]
[{"$nulls":25},"4c","SHOKUNBI Mayowa1","BERRY Meredith7d/Re1",null,"3a","4b",null,null,"KKA"]
[{"$nulls":25},"4c","SHOVE Edward1","CROWDER Karen7c/Re2",null,"4c","4b",null,null,"SBK"]
[{"$nulls":25},"3a","SINGH Anterpreet1","CAPPS Kathy7d/Re1",null,"3c","4b",null,null,"KKA"]
[{"$nulls":25},"B","SINGH Manpreet1","WEEKS Nicole7d/Re3",null,"B","B",null,null,"GGE"]
[{"$nulls":25},"4a","SLATER Beth1","MOORE Ricky7c/Re2",null,"4a","4b",null,null,"SBK"]
[{"$nulls":25},"4b","SMITH Amber1","BENNETT Lisa7d/Re1",null,"4b","4c",null,null,"KKA"]
[{"$nulls":25},"5b","SMITH Grace1","MURRAY Julie7a/Re1",null,"5b","5b",null,null,"KKA"]
[{"$nulls":25},"4a","SOUTHGATE Millie1","WALKER Carol7b/Re3",null,"5c","4b",null,null,"SBK"]
[{"$nulls":25},"4a","SOUTHION Evie1","FOLEY Lynne7c/Re2",null,"5c","4b",null,null,"SBK"]
[{"$nulls":25},"3a","STEARN Leah1","OSBORNE Richard7d/Re3",null,"3a","3b",null,null,"GGE"]
[{"$nulls":25},"5c","STENING Willow1","PEACOCK Harold7b/Re3",null,"5c","4a",null,null,"SBK"]
[{"$nulls":25},"4a","STEWART-SMITH Georgie1","FREEDMAN Lloyd7b/Re3",null,"5c","4b",null,null,"SBK"]
[{"$nulls":25},"4c","STOREY Benny1","STRAUSS Molly7d/Re1",null,"3a","4b",null,null,"KKA"]
[{"$nulls":25},"5b","STUCHBURY Blake1","ROY Ben7a/Re3",null,"5b","5b",null,null,"GMT"]
[{"$nulls":25},"4a","SUNDAY-UWAR Flora1","CHUNG Leon7c/Re3",null,"5b","4c",null,null,"GGE"]
[{"$nulls":25},"4a","SWANNELL Ben1","MCKEE Jeanne7c/Re2",null,"5c","4b",null,null,"SBK"]
[{"$nulls":25},"5c","SZABO Adam1","BYERS Vincent7b/Re2",null,"5c","5c",null,null,"GMT"]
[{"$nulls":25},"5c","TACK Christian1","PRUITT Jean7a/Re1",null,"4a","5a",null,null,"KKA"]
[{"$nulls":25},"4a","TAGG Paige1","MCINTOSH Harvey7b/Re2",null,"4a","4a",null,null,"GMT"]
[{"$nulls":25},"4b","TAYLOR Jack1","BLAIR Gloria7c/Re1",null,"4c","5c",null,null,"GGE"]
[{"$nulls":25},"5b","THIRUVEGHAMPAN Anujan1","FRYE Kristin7a/Re2",null,"5b","5b",null,null,"GGE"]
[{"$nulls":25},"4b","TREMAIN Riley1","CRABTREE Johnny7c/Re1",null,"4c","4a",null,null,"GGE"]
[{"$nulls":25},"5b","TRINDER Hannah1","MCLAMB Victoria7a/Re2",null,"5b","5b",null,null,"GGE"]
[{"$nulls":25},"5b","TURNER Harvey1","GOLDMAN Dan7a/Re3",null,"5b","5b",null,null,"GMT"]
[{"$nulls":25},"5c","TURNER Lewis1","CROSS William7b/Re2",null,"5c","4a",null,null,"GMT"]
[{"$nulls":25},"5c","TURNER Ryan1","MARSH Alexandra7b/Re1",null,"5c","5b",null,null,"GMT"]
[{"$nulls":25},"5c","VAID Sandeep1","KANG Molly7b/Re3",null,"5b","4a",null,null,"SBK"]
[{"$nulls":25},"5c","VALVONYTE Auguste1","SNYDER Dan7a/Re3",null,"5c","5b",null,null,"GMT"]
[{"$nulls":25},"4a","VANNER Khloe1","CHAMBERS Kate7c/Re1",null,"4a","4a",null,null,"GGE"]
[{"$nulls":25},"5c","VINCENT Dante1","BRYAN Jack7b/Re1",null,"5c","5c",null,null,"GMT"]
[{"$nulls":25},"5c","VINCENT Katy1","BAKER Jonathan7a/Re1",null,"4a","5b",null,null,"KKA"]
[{"$nulls":25},"4a","VOONG Jamie1","CUMMINGS Clarence7b/Re1",null,"4b","5c",null,null,"GMT"]
[{"$nulls":25},"5a","WALLBRIDGE Danielle1","CLINE Nina7a/Re2",null,"5b","6b",null,null,"GGE"]
[{"$nulls":25},"5b","WALLEN Carla1","POWELL Martin7a/Re3",null,"5b","5c",null,null,"GMT"]
[{"$nulls":26},"WATT Cheyenne1","HUBBARD Troy7c/Re3",null,0,0,null,null,"GGE"]
[{"$nulls":25},"5c","WAYLAND Hope1","SPEARS Bruce7b/Re3",null,"5c","4a",null,null,"SBK"]
[{"$nulls":25},"5c","WELSH Sean1","RAY Eddie7a/Re1",null,"5c","5b",null,null,"KKA"]
[{"$nulls":25},"5b","WHITE Olivia1","COX Rebecca7a/Re1",null,"5b","5b",null,null,"KKA"]
[{"$nulls":25},"5a","WHITMAN Jack1","LINDSEY Eddie7a/Re2",null,"5a","5a",null,null,"GGE"]
[{"$nulls":25},"4b","WILLIAMS Alfie1","BUCKLEY Christy7d/Re2",null,"4a","4c",null,null,"GMT"]
[{"$nulls":25},"D-","WILLIAMS Danny1","ABRAMS Christine0",null,"3a","2a"]
[{"$nulls":25},"3a","WILLIAMS Shannon1","SCHULTZ Edwin7d/Re3",null,"4c","3c",null,null,"GGE"]
[{"$nulls":25},"5c","WILLIS Harry1","SINGLETON Jeanne7b/Re3",null,"5b","4b",null,null,"SBK"]
[{"$nulls":25},"5b","WRIGHT Albert1","ANTHONY Kelly7a/Re3",null,"5c","5a",null,null,"GMT"]
[{"$nulls":25},"4a","WRIGHT Alfie1","FRAZIER Laurence7c/Re2",null,"5c","4b",null,null,"SBK"]
[{"$nulls":25},"5c","YOUNG Jack1","BRANDON Ronald7b/Re3",null,"5c","4a",null,null,"SBK"]
[{"$nulls":23},"10 ASH",null,"D-","ACOURT Kayleigh1","LLOYD Victoria10b/Re1",null,"4c","4b",null,null,"GMT/KKA",null,"14 yrs 1 mth"]
[{"$nulls":23},"10 TEAK",null,"C-","ADEGBOLA Caleb1","PARK Sean10a/Re2",null,"5c","5b",null,null,"LML",null,"14Y 8M"]
[{"$nulls":23},"10 ELM",null,"B-","ADU-POKU Georgia2","MYERS Ronnie10a/Re1",null,"5c","4a",null,null,"JBT",null,"14Y 7M"]
[{"$nulls":23},"10 ROWAN",null,"D","AGA Regis2","REED Frank10a/Re6",null,"4a","5b",null,null,"SBK",null,"14Y 8M"]
[{"$nulls":23},"10 SPRUCE",null,"D","AHNIEN Ameen1","HONEYCUTT Andrew10a/Re6",null,"4c","3a",null,null,"SBK",null,"14Y"]
[{"$nulls":23},"10 ELM",null,"C-","AIDOO Corey1","MORTON Eva10a/Re3",null,"5b","4a",null,null,"GMT",null,"14 yrs 1 mth"]
[{"$nulls":23},"10 SPRUCE",null,"C+","AJAYI Zoe1","CALDWELL Derek10a/Re1",null,"5b","5b",null,null,"JBT",null,"15 yrs 1 mth"]
[{"$nulls":23},"10 ELM",null,"D+","AKHAZZAN Sofia1","CHAMBERS Christy10a/Re5",null,"4a","5c",null,null,"GGE",null,"10Y"]
[{"$nulls":23},"10 SPRUCE",null,"D+","AKINOLA Michael1","POTTER Henry10a/Re3",null,"4a","4b",null,null,"GMT",null,"13Y 7M"]
[{"$nulls":23},"10 ELM",null,"B-","ALBON Rhiann2","FORBES Alexander10a/Re1",null,"5c","4a",null,null,"JBT",null,"15Y 4M"]
[{"$nulls":23},"10 ELM",null,"C+","ALDRIDGE Alfie2","POLLARD Laurence10a/Re5",null,"5c","4a",null,null,"GGE",null,"14Y 9M"]
[{"$nulls":23},"10 LARCH",null,"D-","ALDRIDGE Joseph2","WARREN Janice10b/Re1",null,"4b","4a",null,null,"GMT/KKA",null,"13Y 9M"]
[{"$nulls":23},"10 HOLLY",null,"D","ALIAHMED Junead2","SUTHERLAND Billie10b/Re2",null,"4b","4b",null,null,"GGE/LML",null,"14Y 5M"]
[{"$nulls":23},"10 PINE",null,null,"ALLEN Prince-Ezra1","O'BRIEN Melanie10a/Re4",null,"4b","5b",null,null,"KKA"]
[{"$nulls":23},"10 ROWAN",null,"C-","ALLISON Lillie-Mae1","SPARKS Stephen10a/Re5",null,"4a","5a",null,null,"GGE",null,"13Y 5M"]
[{"$nulls":23},"10 PINE",null,"B+","AMORIGHOYE Emiko1","STEPHENS Ronnie10a/Re2",null,"4b","4a",null,null,"LML",null,"15Y 6M"]
[{"$nulls":23},"10 LARCH",null,"D-","ANDERSON Chantelle1","DORSEY Roberta10b/Re1",null,"4c","4c",null,null,"GMT/KKA",null,"15Y 2M"]
[{"$nulls":23},"10 OAK",null,"E+","ANDERSON Jesse1","LI Johnny10b/Re2",null,"4c","4c",null,null,"GGE/LML",null,"13Y 7M"]
[{"$nulls":23},"10 PINE",null,"C+","AREGBESOLA Moses1","HONEYCUTT Teresa10a/Re3",null,"4a","5b",null,null,"GMT",null,"14Y 4M"]
[{"$nulls":23},"10 ELM",null,"C-","ARNOLD Millennium1","KAUFMAN Bruce10a/Re5",null,"4a","5c",null,null,"GGE",null,"14Y 4M"]
[{"$nulls":23},"10 ELM",null,"C-","AUSTIN Benjamin2","LIN Beth10a/Re4",null,"4a","4a",null,null,"KKA",null,"15Y"]
[{"$nulls":23},"10 LARCH",null,"D-","AYINDE-USMAN Siddiq2","HATCHER Grace10c/Re3",null,"3a","4c",null,null,"SBK (2)",null,"13Y 4M"]
[{"$nulls":23},"10 PINE",null,"C-","BAILEY Myles1","BEST Calvin10a/Re4",null,"4b","5c",null,null,"KKA",null,"14Y 2M"]
[{"$nulls":23},"10 TEAK",null,"C-","BAKER Danielle1","WALL Justin10a/Re2",null,"5c","5a",null,null,"LML",null,"14Y 6M"]
[{"$nulls":23},"10 CEDAR",null,"F+","BAKER Louie1","HARRELL Elisabeth",null,"W","W",{"$nulls":4},"8Y"]
[{"$nulls":23},"10 PINE",null,"D+","BAKHT Mohammad1","RIGGS Lester10a/Re3",null,"4b","4c",null,null,"GMT",null,"13 yrs 1 mth"]
[{"$nulls":23},"10 BEECH",null,"E+","BAMIWUYE David1","REED Thomas10c/Re2",{"$nulls":5},"LML/KKA",null,"12Y 9M"]
[{"$nulls":23},"10 ASH",null,"E-","BANNISTER Isobel1","ROUSE Raymond10c/Re4",null,"2a","4c",null,null,"GMT (2)"]
[{"$nulls":23},"10 ROWAN",null,"D+","BARNES Callum2","RANKIN Nelson10a/Re5",null,"4a","5b",null,null,"GGE",null,"11Y 3M"]
[{"$nulls":23},"10 CEDAR",null,"E","BARNES George1","TERRELL Justin10c/Re3",null,"A","4c",null,null,"SBK (2)",null,"11Y 6M"]
[{"$nulls":23},"10 ASH",null,"E-","BARNES Tommy1","BECKER Thelma10c/Re1",null,"3b","4c",null,null,"GGE (2)",null,"11Y 5M"]
[{"$nulls":23},"10 HOLLY",null,"D-","BARTHOLOMEW Daniel1","FLOWERS Leon10c/Re3",null,"3c","2b",null,null,"SBK (2)",null,"11Y 9M"]
[{"$nulls":23},"10 CEDAR",null,"D+","BARTLETT Chloe-Rose1","NORRIS Phillip10b/Re2",null,"4b","4b",null,null,"GGE/LML",null,"13Y 6M"]
[{"$nulls":23},"10 SPRUCE",null,"B+","BARTON Amy1","WARD Charlie10a/Re1",null,"5c","5c",null,null,"JBT",null,"14Y 8M"]
[{"$nulls":23},"10 HOLLY",null,"D","BATLEY Jade2","GODWIN Calvin10b/Re1",null,"4a","4b",null,null,"GMT/KKA",null,"14Y 7M"]
[{"$nulls":23},"10 HOLLY",null,"D+","BATTY Jade2","KELLY Glen10b/Re1",null,"4b","4b",null,null,"GMT/KKA",null,"13Y 5M"]
[{"$nulls":23},"10 ASH",null,"G+","BEANEY Bobby1","HARDY Edna",null,"W","3b",{"$nulls":4},"11Y 2M"]
[{"$nulls":23},"10 SPRUCE",null,"D+","BEASLEY Thomas1","MIDDLETON Glen10a/Re3",null,"4a","4a",null,null,"GMT",null,"13 yrs 1 mth"]
[{"$nulls":23},"10 LARCH",null,"D-","BELCHER Daniel2","GREEN Joshua10b/Re2",null,"4b","4c",null,null,"GGE/LML",null,"14Y 3M"]
[{"$nulls":23},"10 HOLLY",null,"D+","BELLO Elizabeth2","WEISS Alexandra10b/Re3",null,"4a","3a",null,null,"GMT (2)",null,"15Y"]
[{"$nulls":23},"10 LARCH",null,"D","BELLO Grace2","BROWN Kristine10b/Re2",null,"3a","3a",null,null,"GGE/LML",null,"11Y 4M"]
[{"$nulls":23},"10 SPRUCE",null,"C+","BERBERI Ketlin1","SCHROEDER Theresa10a/Re1",null,"4a","5b",null,null,"JBT",null,"15Y 3M"]
[{"$nulls":23},"10 SPRUCE",null,"C+","BIRD Bethany2","ADAMS Allison10a/Re1",null,"5c","4a",null,null,"JBT",null,"14Y 4M"]
[{"$nulls":23},"10 ROWAN",null,"C","BLAKE Nathan2","LOGAN Irene10a/Re4",null,"4a","5a",null,null,"KKA",null,"15Y 3M"]
[{"$nulls":23},"10 HOLLY",null,"D","BODYCOMB Ryan1","FINCH Nathan10b/Re2",null,"4b","5c",null,null,"GGE/LML",null,"14Y 4M"]
[{"$nulls":23},"10 LARCH",null,"E-","BOLTON Scott1","AYERS Regina10c/Re4",null,"2b","3b",null,null,"GMT (2)",null,"12Y"]
[{"$nulls":23},"10 OAK",null,"D-","BORDLEY Olivia1","GORDON Jimmy10b/Re3",null,"4c","4c",null,null,"GMT (2)",null,"12Y 8M"]
[{"$nulls":23},"10 ASH",null,"D-","BOXALL Kaitlyn1","CARROLL Elisabeth10c/Re2",{"$nulls":5},"LML/KKA",null,"14 yrs 1 mth"]
[{"$nulls":23},"10 SPRUCE",null,"D","BRITTON Charlie1","HOPKINS Claudia10a/Re6",null,"5c","5b",null,null,"SBK",null,"14Y 7M"]
[{"$nulls":23},"10 ROWAN",null,"D+","BROOKER MAHAL Millie2","SHERMAN Kristen10a/Re4",null,"4b","5b",null,null,"KKA",null,"14 yrs 1 mth"]
[{"$nulls":23},"10 OAK",null,"E+","BROOKS Bill1","TOWNSEND Steven10c/Re4",null,"3c","3a",null,null,"GMT (2)",null,"10 yrs 1 mth"]
[{"$nulls":23},"10 TEAK",null,"C","BROUGHTON Nicole2","MCKENZIE Aaron10a/Re2",null,"5b","5c",null,null,"LML",null,"15Y 2M"]
[{"$nulls":23},"10 TEAK",null,"D","BROWN Danny1","YORK Rick10a/Re2",null,"4a","5c",null,null,"LML",null,"15 yrs 1 mth"]
[{"$nulls":23},"10 CEDAR",null,"E+","BROWN Miguel1","SHAFFER Elisabeth10b/Re2",null,"4c","4b",null,null,"GGE/LML",null,"14 yrs 1 mth"]
[{"$nulls":23},"10 CEDAR",null,"D-","BROWN Sadie2","DURHAM Brian10c/Re3",null,"3a","4c",null,null,"SBK (2)",null,"11Y 4M"]
[{"$nulls":23},"10 TEAK",null,"D+","BULL Ryan1","HELLER Mark10a/Re2",null,"4a","5b",null,null,"LML",null,"15Y 4M"]
[{"$nulls":23},"10 HOLLY",null,"D+","BURKE Michaela2","MCMAHON Janice10b/Re2",null,"4b","4b",null,null,"GGE/LML",null,"13Y 3M"]
[{"$nulls":23},"10 PINE",null,"C-","BURKE Sophie1","BALL Gilbert10a/Re4",null,"4a","4b",null,null,"KKA",null,"15 yrs 1 mth"]
[{"$nulls":23},"10 WILLOW",null,"D","BYRNE Leah2","DALY Nathan10b/Re1",null,"4b","4b",null,null,"GMT/KKA",null,"14Y 4M"]
[{"$nulls":23},"10 HOLLY",null,"D+","CAIELS Siana2","RICH Marian10b/Re2",null,"4a","4b",null,null,"GGE/LML",null,"14Y 4M"]
[{"$nulls":23},"10 SPRUCE",null,"D+","CAKEBREAD Oliver2","FORBES Maurice10a/Re1",null,"5c","4b",null,null,"JBT",null,"14Y 3M"]
[{"$nulls":23},"10 CEDAR",null,"D-","CALLEAR Ellie1","WALL Johnny10c/Re3",null,"3b","3a",null,null,"SBK (2)"]
[{"$nulls":23},"10 OAK",null,"D","CAMPBELL Archie2","FISHER Sarah10b/Re1",null,"5c","4a",null,null,"GMT/KKA",null,"13Y 2M"]
[{"$nulls":23},"10 ROWAN",null,"A","CANIK Isabel2","BRADFORD Lucille10a/Re1",null,"5c","5a",null,null,"JBT",null,"15Y 6M"]
[{"$nulls":23},"10 WILLOW",null,"D+","CARLTON Emily1","DECKER Linda10b/Re1",null,"4b","4b",null,null,"GMT/KKA",null,"11Y 9M"]
[{"$nulls":23},"10 OAK",null,"E","CARTER Charlie1","HANSON Gina10b/Re3",null,"4b","4b",null,null,"GMT (2)",null,"12Y 6M"]
[{"$nulls":23},"10 HOLLY",null,"D-","CASSIDY Mason2","CLAYTON Sandra10c/Re1",null,"3b","3a",null,null,"GGE (2)",null,"12Y 3M"]
[{"$nulls":23},"10 PINE",null,"D+","CATON Danielle1","CHASE Mike10a/Re1",null,"4b","4b",null,null,"JBT",null,"14Y 3M"]
[{"$nulls":23},"10 LARCH",null,"D","CHAMBERS Georgia1","YATES Bradley10b/Re2",null,"3a","4b",null,null,"GGE/LML",null,"10Y 8M"]
[{"$nulls":23},"10 BEECH",null,"D","CHAMUNORWA Robert1","GRANT Raymond10c/Re1",null,"3a","4b",null,null,"GGE (2)",null,"10Y 3M"]
[{"$nulls":23},"10 ROWAN",null,"D+","CHANDLER Alfie1","HAN Veronica10a/Re4",null,"4a","5a",null,null,"KKA",null,"14Y 6M"]
[{"$nulls":23},"10 ROWAN",null,"C-","CHANT Matthew2","MCKINNEY Eddie10a/Re4",null,"4a","5c",null,null,"KKA",null,"13Y 8M"]
[{"$nulls":23},"10 BEECH",null,"E+","CHARLES Ross1","LIU Nicholas10c/Re1",null,"3a","3a",null,null,"GGE (2)",null,"11Y 5M"]
[{"$nulls":23},"10 ROWAN",null,"C+","CLARK Edward1","NGUYEN Jim10a/Re1",null,"5b","5c",null,null,"JBT",null,"14Y 9M"]
[{"$nulls":23},"10 ROWAN",null,"D+","CLARK-BELLE Lucas1","NICHOLSON Jeremy10a/Re6",null,"4b","4a",null,null,"SBK",null,"13Y 8M"]
[{"$nulls":23},"10 LARCH",null,"E+","CLARKE Saysha1","BOWLING Judith10c/Re3",null,"3c","3c",null,null,"SBK (2)",null,"11Y 3M"]
[{"$nulls":23},"10 ROWAN",null,"C-","CONNIGALE Shelley2","PAPPAS Amy10a/Re3",null,"4a","5c",null,null,"GMT",null,"14Y 9M"]
[{"$nulls":23},"10 SPRUCE",null,"D+","COOMBER Max2","PICKETT Ronnie10a/Re1",null,"5b","5c",null,null,"JBT",null,"15Y 3M"]
[{"$nulls":23},"10 ELM",null,"D","CORDREY Harrison2","BASS Martha10a/Re1",null,"4a","5c",null,null,"JBT",null,"13Y 8M"]
[{"$nulls":23},"10 CEDAR",null,"D-","COSTELLO Taylor1","KENT Harry10c/Re3",null,"3a","3a",null,null,"SBK (2)",null,"12Y"]
[{"$nulls":23},"10 ELM",null,"D+","COYNE Eleanor2","LLOYD Mildred10a/Re2",null,"4a","4c",null,null,"LML",null,"11Y 7M"]
[{"$nulls":23},"10 ASH",null,"E+","CREEK Lee1","FREEDMAN Melvin10b/Re3",null,"4c","4b",null,null,"GMT (2)",null,"10Y 9M"]
[{"$nulls":23},"10 PINE",null,"C","CROFT Sophie2","RITCHIE Chris10a/Re1",null,"4a","5a",null,null,"JBT",null,"15Y"]
[{"$nulls":23},"10 ELM",null,"D","CROWHURST Joshua1","BOWERS Francis10a/Re3",null,"4b","5c",null,null,"GMT",null,"13Y 6M"]
[{"$nulls":23},"10 BEECH",null,"D+","DARBYSHIRE Lois1","WEBER Don10b/Re2",null,"4b","4c",null,null,"GGE/LML",null,"11 yrs 1 mth"]
[{"$nulls":23},"10 ROWAN",null,"D+","DAVIS Jamie1","VOGEL Harry10a/Re5",null,"5c","5b",null,null,"GGE",null,"14Y 9M"]
[{"$nulls":23},"10 TEAK",null,"C+","DELOS ANGELES Louis Andre1","PEARCE Lloyd10a/Re3",null,"5b","5a",null,null,"GMT",null,"15Y 7M"]
[{"$nulls":23},"10 CEDAR",null,"D-","DEMPSTER Jack1","LUCAS Arthur10b/Re2",null,"4b","5c",null,null,"GGE/LML",null,"14 yrs 1 mth"]
[{"$nulls":23},"10 CEDAR",null,"E-","DEYES Kieran1","KELLY Audrey",null,"2a","W",{"$nulls":4},"7Y 2M"]
[{"$nulls":23},"10 LARCH",null,"D","DIGHTON Charlotte2","HIRSCH Maureen10b/Re1",null,"4a","5c",null,null,"GMT/KKA",null,"13Y 7M"]
[{"$nulls":23},"10 ASH",null,"E","DONNELLY David1","DALE Cheryl10c/Re2",null,"3b","2b",null,null,"LML/KKA",null,"13Y"]
[{"$nulls":23},"10 ELM",null,"C-","DOWN Jenna2","STEWART Jim10a/Re2",null,"5c","5c",null,null,"LML",null,"14Y 5M"]
[{"$nulls":23},"10 TEAK",null,"C+","DRURY Samuel1","DICKSON Lynn10a/Re1",null,"5b","5b",null,null,"JBT",null,"14Y 9M"]
[{"$nulls":23},"10 OAK",null,"D-","DUBENS Abbie1","FRANKLIN Hazel10c/Re1",null,"4b","3b",null,null,"GGE (2)",null,"13Y 4M"]
[{"$nulls":23},"10 ASH",null,"F","DURANT Alfie1","VICK Alex10c/Re3",null,"4c","3a",null,null,"SBK (2)",null,"9Y 6M"]
[{"$nulls":23},"10 LARCH",null,"E","EASTWOOD Frankie-John1","WATERS Victor10c/Re2",null,"3b","4c",null,null,"LML/KKA",null,"7Y 5M"]
[{"$nulls":23},"10 HOLLY",null,"C-","EGLINTON Laura1","COHEN Judith10b/Re1",null,"4b","4b",null,null,"GMT/KKA",null,"12Y 2M"]
[{"$nulls":23},"10 PINE",null,"A","EHIKIOYA Martha2","MAYNARD George10a/Re1",null,"5c","5c",null,null,"JBT",null,"15Y 7M"]
[{"$nulls":23},"10 BEECH",null,"D","EVBUOMWAN Jasse1","WEINSTEIN Gary10c/Re2",null,"3b","3c",null,null,"LML/KKA",null,"13Y"]
[{"$nulls":23},"10 BEECH",null,"E+","EVERS Toni1","MACK Marie",null,"2a","W",{"$nulls":4},"12Y 8M"]
[{"$nulls":23},"10 BEECH",null,"E+","FAGBEMIGUN Dennis1","CLAYTON Roberta10c/Re2",null,"3b","4b",null,null,"LML/KKA",null,"12Y 4M"]
[{"$nulls":23},"10 ROWAN",null,"C+","FARLEY Connor1","PEREZ Roger10a/Re6",null,"4a","4a",null,null,"SBK",null,"13Y 5M"]
[{"$nulls":23},"10 ELM",null,"D+","FARR Samuel1","HANNA Sherry10a/Re5",null,"4a","4a",null,null,"GGE",null,"14 yrs 1 mth"]
[{"$nulls":23},"10 HOLLY",null,"D-","FASAYE Gabriel1","PEELE Theodore10c/Re4",null,"B","B",null,null,"GMT (2)",null,"11Y 3M"]
[{"$nulls":23},"10 WILLOW",null,"E+","FAY Chloe1","DORSEY Melissa10c/Re1",null,"3c","3a",null,null,"GGE (2)"]
[{"$nulls":23},"10 ELM",null,"C+","FISHER Rebecca1","BLAKE Alex10a/Re4",null,"4b","4a",null,null,"KKA",null,"15 yrs 1 mth"]
[{"$nulls":23},"10 ELM",null,"D+","FISHWICK Mollie1","LEE Ruby10a/Re5",null,"4c","4a",null,null,"GGE",null,"14Y 4M"]
[{"$nulls":23},"10 LARCH",null,"D","FORD Georgia1","HARRINGTON Arthur10b/Re1",null,"4b","4a",null,null,"GMT/KKA",null,"13Y 4M"]
[{"$nulls":23},"10 HOLLY",null,"D-","FOSTER Kelsey1","NORTON Allan10c/Re4",null,"3b","3a",null,null,"GMT (2)",null,"10Y 9M"]
[{"$nulls":23},"10 OAK",null,"E-","FOWLING Jordan1","BEASLEY Bruce10c/Re2",null,"4b","5c",null,null,"LML/KKA",null,"13Y 6M"]
[{"$nulls":23},"10 BEECH",null,"D-","FRIEND Roy1","HONEYCUTT Anita10c/Re2",null,"3c","4c",null,null,"LML/KKA",null,"10Y"]
[{"$nulls":23},"10 TEAK",null,"A","FUDGE Benjamin1","SNOW Charlene10a/Re2",null,"4a","5a",null,null,"LML",null,"14Y 4M"]
[{"$nulls":23},"10 SPRUCE",null,"D+","GALLAGHER Harry2","QUINN Jim10a/Re1",null,"4a","5b",null,null,"JBT",null,"14Y 6M"]
[{"$nulls":23},"10 ELM",null,"D-","GODFREY Kyle1","LYONS Nelson10a/Re2",null,"4a","4b",null,null,"LML",null,"15Y 2M"]
[{"$nulls":23},"10 ROWAN",null,"C","GOODMAN Chloe1","KAY Becky10a/Re5",null,"4b","4a",null,null,"GGE",null,"14Y 4M"]
[{"$nulls":23},"10 ASH",null,"D-","GRANT Breon1","LYON Arlene10b/Re3",null,"4c","4b",null,null,"GMT (2)",null,"15Y"]
[{"$nulls":23},"10 PINE",null,"C","GREEN Archie1","HARDING Joseph10a/Re3",null,"4a","5b",null,null,"GMT",null,"12Y 6M"]
[{"$nulls":23},"10 ELM",null,"C+","GREEN Taylor2","BULLOCK Nina10a/Re5",null,"4a","4a",null,null,"GGE",null,"14Y 8M"]
[{"$nulls":23},"10 PINE",null,"C-","GRIFFIN Oliver2","KIRK William10a/Re2",null,"5c","5c",null,null,"LML",null,"13Y"]
[{"$nulls":23},"10 TEAK",null,"C+","GRZENKOWICZ-TAYLOR Lucia1","KERR Gordon10a/Re1",null,"5b","5b",null,null,"JBT"]
[{"$nulls":23},"10 CEDAR",null,"D","GUNGOR Tolgahan1","LOVE Marian10b/Re3",null,"4a","5c",null,null,"GMT (2)",null,"13Y 8M"]
[{"$nulls":23},"10 TEAK",null,"C-","HAINING Jack1","SIMMONS Grace10a/Re2",null,"4a","4b",null,null,"LML",null,"14Y 8M"]
[{"$nulls":23},"10 TEAK",null,"D+","HAIZEL Christopher1","BEAN Evelyn10a/Re5",null,"4a","4a",null,null,"GGE",null,"15Y 8M"]
[{"$nulls":23},"10 BEECH",null,"D+","HALL Alicia2","HENSLEY Marilyn10b/Re1",null,"4b","4c",null,null,"GMT/KKA",null,"13Y 6M"]
[{"$nulls":23},"10 LARCH",null,"E","HALLETT Sam1","BRANTLEY Randy10c/Re1",null,"3b","3c",null,null,"GGE (2)",null,"15Y 3M"]
[{"$nulls":23},"10 ELM",null,"C-","HANDLEY Alex2","KNOWLES Bryan10a/Re4",null,"5c","4a",null,null,"KKA",null,"15Y 5M"]
[{"$nulls":23},"10 HOLLY",null,"D","HANKS Kieran2","COMBS Gretchen10c/Re1",null,"3b","3b",null,null,"GGE (2)",null,"11Y 6M"]
[{"$nulls":23},"10 PINE",null,"C-","HANNON Tom1","COATES Bryan10a/Re5",null,"5c","5b",null,null,"GGE",null,"15Y 2M"]
[{"$nulls":23},"10 ROWAN",null,"B+","HARRIS Kayleigh2","CHOI Rosemary10a/Re5",null,"5b","5b",null,null,"GGE",null,"15Y 4M"]
[{"$nulls":23},"10 ELM",null,"B","HARRIS Madison2","WOODS Aaron10a/Re1",null,"5c","4a",null,null,"JBT",null,"15Y 2M"]
[{"$nulls":23},"10 LARCH",null,"D-","HARRIS Megan1","HAMILTON Hazel10b/Re1",null,"4c","4a",null,null,"GMT/KKA",null,"13 yrs 1 mth"]
[{"$nulls":23},"10 ELM",null,"C+","HAYES Paddy2","FINK Maria10a/Re1",null,"5c","4b",null,null,"JBT",null,"14Y 8M"]
[{"$nulls":23},"10 OAK",null,"D+","HEARN Rosie2","RAMSEY Justin10b/Re1",null,"5c","4c",null,null,"GMT/KKA",null,"14Y 8M"]
[{"$nulls":23},"10 BEECH",null,"D","HEBBLEWHITE Daisy2","BRITT Gloria10b/Re1",null,"4c","4c",null,null,"GMT/KKA",null,"12 yrs 1 mth"]
[{"$nulls":23},"10 HOLLY",null,"D","HEPDEN Lauren1","PHILLIPS Greg10b/Re2",null,"4c","4c",null,null,"GGE/LML",null,"13Y"]
[{"$nulls":23},"10 LARCH",null,"D-","HILL Billy1","CAPPS Victor10b/Re1",null,"4b","4b",null,null,"GMT/KKA",null,"13Y 4M"]
[{"$nulls":23},"10 ROWAN",null,"C-","HOARE Cody2","MILES Jon10a/Re6",null,"4b","5c",null,null,"SBK",null,"15Y 4M"]
[{"$nulls":23},"10 SPRUCE",null,"D+","HODDER Gemma2","FERNANDEZ Tom10a/Re2",null,"4b","4a",null,null,"LML",null,"13Y 8M"]
[{"$nulls":23},"10 TEAK",null,"C+","HODGE Noah1","BRANCH Ricky10a/Re3",null,"4a","5b",null,null,"GMT",null,"14Y 5M"]
[{"$nulls":23},"10 TEAK",null,"C","HODGSON Callum2","SHEA Helen10a/Re5",null,"5c","5c",null,null,"GGE",null,"15Y"]
[{"$nulls":23},"10 ELM",null,"D-","HOLLMAN Kim2","BEACH Caroline10a/Re2",null,"4a","4a",null,null,"LML",null,"14Y 4M"]
[{"$nulls":23},"10 BEECH",null,"E+","HOLLOWAY Jake1","LAMM Larry10c/Re2",null,"3a","3a",null,null,"LML/KKA"]
[{"$nulls":23},"10 ROWAN",null,"D+","HONOUR Amy2","JUSTICE Clara10a/Re4",null,"4c","4a",null,null,"KKA",null,"14Y 6M"]
[{"$nulls":23},"10 ASH",null,"F-","HUBBARD Megan1","DAVIS Judy10c/Re4",null,"3c","W",null,null,"GMT (2)"]
[{"$nulls":23},"10 CEDAR",null,"E-","HUMPHREYS Jack1","ABBOTT Julie10c/Re3",null,"3a","4c",null,null,"SBK (2)",null,"14Y 2M"]
[{"$nulls":23},"10 TEAK",null,"D+","HUSSAIN Jayden1","MILES Marvin10a/Re5",null,"4c","4a",null,null,"GGE",null,"12Y 5M"]
[{"$nulls":23},"10 TEAK",null,"D+","IVES Aiden1","LESTER Paul10a/Re5",null,"4c","4a",null,null,"GGE",null,"13Y 9M"]
[{"$nulls":23},"10 PINE",null,"D+","IVESON Paige2","FELDMAN Edward10a/Re5",null,"4b","4a",null,null,"GGE",null,"13Y 3M"]
[{"$nulls":23},"10 CEDAR",null,"F+","IZOD Samuel1","HARDY Allison",null,"B","3a"]
[{"$nulls":23},"10 BEECH",null,"D","JACKSON Saskia2","JACOBSON Richard10b/Re1",null,"4b","4b",null,null,"GMT/KKA",null,"13Y 5M"]
[{"$nulls":23},"10 ASH",null,"D-","JAROENPHON Nusara1","SINCLAIR Brad10c/Re2",null,"3b","4c",null,null,"LML/KKA",null,"11 yrs 1 mth"]
[{"$nulls":23},"10 BEECH",null,"D-","JOBSON Rachel1","CURRIN Harold10b/Re2",null,"4b","4b",null,null,"GGE/LML",null,"12Y 6M"]
[{"$nulls":23},"10 WILLOW",null,"D-","JOSEPH Theo1","SUMNER Glen10c/Re1",null,"4c","3a",null,null,"GGE (2)",null,"14Y 3M"]
[{"$nulls":23},"10 WILLOW",null,"D-","KAFESCI Ozan2","XU Kristine10b/Re1",null,"4c","4b",null,null,"GMT/KKA",null,"14Y 6M"]
[{"$nulls":23},"10 WILLOW",null,"D-","KEEBLE Callum1","ODOM Henry10c/Re3",null,"2c","B",null,null,"SBK (2)",null,"10Y 9M"]
[{"$nulls":23},"10 ASH",null,"E","KEEGAN Katelyn1","MOORE Edith10c/Re1",null,"4c","3c",null,null,"GGE (2)",null,"11Y 8M"]
[{"$nulls":23},"10 ASH",null,"F","KENNEALLY Layna1","MAXWELL Erika",null,"3b","W",{"$nulls":4},"9Y 9M"]
[{"$nulls":23},"10 CEDAR",null,"D-","KHAKH Aaron2","RUSSELL Charles10b/Re4",null,"4c","3b",null,null,"SBK (2)",null,"13Y 6M"]
[{"$nulls":23},"10 OAK",null,"D+","KINGHAM Abbie2","MULLINS Sarah10b/Re2",null,"5c","4b",null,null,"GGE/LML",null,"14Y 2M"]
[{"$nulls":23},"10 SPRUCE",null,"C-","KIRBY Nathan1","BARBER Carlos10a/Re3",null,"4a","4b",null,null,"GMT",null,"14Y 7M"]
[{"$nulls":23},"10 WILLOW",null,"E","KORKLOM Guy1","BOWEN Erik",null,"B","B",{"$nulls":4},"10Y 3M"]
[{"$nulls":23},"10 ASH",null,"E-","KOYDENGOCTU Ata1","PARK Emma10c/Re1",null,"4c","3b",null,null,"GGE (2)",null,"13Y 5M"]
[{"$nulls":23},"10 ROWAN",null,"B-","KUDZMINSKAITE Brigita2","HOWE Lloyd10a/Re4",null,"4a","5c",null,null,"KKA",null,"14Y 6M"]
[{"$nulls":23},"10 TEAK",null,"C+","LA ROCHE Chloe1","BLOCK Marlene10a/Re5",null,"5c","5c",null,null,"GGE",null,"14Y 7M"]
[{"$nulls":23},"10 SPRUCE",null,"B-","LAI Natasha1","SAWYER Troy10a/Re3",null,"4b","4b",null,null,"GMT",null,"12Y 4M"]
[{"$nulls":23},"10 TEAK",null,"C-","LALA Adnand1","SIGMON Maureen10a/Re3",null,"4b","4a",null,null,"GMT",null,"15 yrs 1 mth"]
[{"$nulls":23},"10 OAK",null,"F-","LAMPARD Max1","STEVENSON Christy",null,null,"B",{"$nulls":4},"7Y 4M"]
[{"$nulls":23},"10 BEECH",null,"D-","LANE Thomas1","RIDDLE Melissa10c/Re1",null,"3a","4c",null,null,"GGE (2)",null,"13Y"]
[{"$nulls":23},"10 ELM",null,"C-","LATO Victory2","YORK Joe10a/Re2",null,"4a","5b",null,null,"LML",null,"15Y 3M"]
[{"$nulls":23},"10 CEDAR",null,"E+","LAWRENCE Robert1","SHAPIRO Calvin10c/Re2",null,"3b","4c",null,null,"LML/KKA",null,"10Y 3M"]
[{"$nulls":23},"10 ROWAN",null,"D+","LAZELL Alfie1","ATKINSON Dan10a/Re6",null,"4a","4a",null,null,"SBK",null,"15 yrs 1 mth"]
[{"$nulls":23},"10 PINE",null,"D+","LEACH Joshua2","ANDREWS Juan10a/Re3",null,"4b","4a",null,null,"GMT",null,"12Y"]
[{"$nulls":23},"10 HOLLY",null,"D","LEWIS Nicholas2","WILKERSON Francis10c/Re2",null,"3b","4b",null,null,"LML/KKA",null,"10Y 9M"]
[{"$nulls":23},"10 HOLLY",null,"E+","LIVERMORE Jamie1","BROOKS Billy",null,"2c","3a",{"$nulls":4},"8Y 8M"]
[{"$nulls":23},"10 HOLLY",null,"D","LLOYD Courtney1","HANSEN Shirley10c/Re1",null,"3a","B",null,null,"GGE (2)",null,"13Y 3M"]
[{"$nulls":23},"10 CEDAR",null,"D","LOMBARDI Luca1","SNOW Gretchen10b/Re1",null,"4c","4a",null,null,"GMT/KKA",null,"13Y 8M"]
[{"$nulls":23},"10 HOLLY",null,"E+","LOVERIDGE James2","PATTON Jacqueline10b/Re4",null,"4b","4a",null,null,"SBK (2)",null,"14Y 4M"]
[{"$nulls":23},"10 PINE",null,"C-","LOWE Jessica1","CHEN Anna10a/Re3",null,"4a","4a",null,null,"GMT",null,"13Y 7M"]
[{"$nulls":23},"10 ASH",null,"F-","LUTON Connor1","PEELE Lester10b/Re3",null,"4c","4b",null,null,"GMT (2)",null,"14Y 5M"]
[{"$nulls":23},"10 BEECH",null,"D+","LY Chung1","BERNSTEIN Maxine10b/Re1",null,"4c","5c",null,null,"GMT/KKA",null,"13Y 8M"]
[{"$nulls":23},"10 WILLOW",null,"E-","MACKINNON James1","INGRAM Melissa10b/Re1",null,"4b","4a",null,null,"GMT/KKA",null,"14Y 3M"]
[{"$nulls":23},"10 CEDAR",null,"D-","MAHONEY Mia1","HESS Arlene10c/Re2",null,"3b","3c",null,null,"LML/KKA",null,"13Y 7M"]
[{"$nulls":23},"10 TEAK",null,"C+","MARSH Charlotte1","KAPLAN Joyce10a/Re3",null,"5c","4a",null,null,"GMT",null,"14Y 6M"]
[{"$nulls":23},"10 CEDAR",null,"E+","MARSH Katie2","JACOBS Joseph10b/Re1",null,"4c","4c",null,null,"GMT/KKA",null,"11Y 6M"]
[{"$nulls":23},"10 PINE",null,"B","MARSH Samuel3","BURNETTE Diana10a/Re3",null,"4b","5b",null,null,"GMT",null,"15Y 3M"]
[{"$nulls":23},"10 SPRUCE",null,"C","MARTIN Ellie1","PERKINS Megan10a/Re1",null,"5b","5b",null,null,"JBT",null,"15Y 2M"]
[{"$nulls":23},"10 OAK",null,"D-","MARTIN Jimmy-Lee1","BROWNING Judy10b/Re2",null,"4b","5a",null,null,"GGE/LML",null,"15Y 2M"]
[{"$nulls":23},"10 PINE",null,"C-","MATHEWS Luke1","FREDERICK Joy10a/Re4",null,"4a","4a",null,null,"KKA",null,"14Y"]
[{"$nulls":23},"10 ROWAN",null,"C","MATRANXHI Manjola1","PATE Dennis10a/Re3",null,"4b","5c",null,null,"GMT",null,"15Y 4M"]
[{"$nulls":23},"10 TEAK",null,"C","MATTHEWS Ellena2","ROUSE Alvin10a/Re2",null,"5c","4c",null,null,"LML",null,"15Y 6M"]
[{"$nulls":23},"10 TEAK",null,"D-","MATTHEWS Robert1","STARK Ernest10a/Re6",null,"4b","5b",null,null,"SBK",null,"14Y 8M"]
[{"$nulls":23},"10 SPRUCE",null,"C","MCCARTNEY Alexandra2","BENNETT Cecil10a/Re1",null,"4a","4a",null,null,"JBT",null,"14Y 9M"]
[{"$nulls":23},"10 HOLLY",null,"D-","MCDONALD-ALLEN Max2","HUNTER Herbert10b/Re4",null,"4c","4a",null,null,"SBK (2)",null,"13Y 5M"]
[{"$nulls":23},"10 SPRUCE",null,"C","MCGILLICUDDY Haydn2","BRIDGES Tina10a/Re1",null,"5c","4b",null,null,"JBT",null,"14Y 7M"]
[{"$nulls":23},"10 ASH",null,"D","MCGIRR Leah2","DODSON Marian10b/Re2",null,"4b","5b",null,null,"GGE/LML",null,"13Y 6M"]
[{"$nulls":23},"10 ELM",null,"C-","MCKEY Jordon2","KANE Brent10a/Re4",null,"5c","4b",null,null,"KKA",null,"14Y 8M"]
[{"$nulls":23},"10 WILLOW",null,"D","MCPHERSON Rhys1","HUFFMAN Patrick10b/Re1",null,"4b","5c",null,null,"GMT/KKA",null,"15Y 6M"]
[{"$nulls":23},"10 OAK",null,"D-","MEHMETI Donit2","HINTON Leah10b/Re3",null,"4a","4c",null,null,"GMT (2)",null,"13Y 9M"]
[{"$nulls":23},"10 LARCH",null,"D-","MIAH Fathema1","PIERCE Debbie10b/Re2",null,"4b","3a",null,null,"GGE/LML",null,"14Y 9M"]
[{"$nulls":23},"10 WILLOW",null,"D","MIDDLETON Morgan2","CRAVEN Esther10b/Re1",null,"4b","3a",null,null,"GMT/KKA",null,"15Y 5M"]
[{"$nulls":23},"10 WILLOW",null,"D-","MIDDLETON Sophie2","HARRELL Arnold10c/Re3",null,"A","W",null,null,"SBK (2)",null,"11Y 9M"]
[{"$nulls":23},"10 HOLLY",null,"D","MILES Ronnie1","FARMER Marlene10b/Re2",null,"4b","4a",null,null,"GGE/LML",null,"11Y 4M"]
[{"$nulls":23},"10 HOLLY",null,"D-","MILLER George1","LANGSTON Jay10b/Re4",null,"3b","3c",null,null,"SBK (2)",null,"10Y 4M"]
[{"$nulls":23},"10 WILLOW",null,"E","MOHANARAJAH Akash1","LUTZ Beverly10b/Re2",null,"4b","4b",null,null,"GGE/LML",null,"15Y 3M"]
[{"$nulls":23},"10 PINE",null,"C-","MOHIDEEN Dyab1","GILLESPIE Tracy10a/Re6",null,"5b","5a",null,null,"SBK",null,"15Y 4M"]
[{"$nulls":23},"10 OAK",null,"E+","MOMODU Harod1","MARSH Tina10c/Re1",{"$nulls":5},"GGE (2)",null,"14Y 3M"]
[{"$nulls":23},"10 PINE",null,"C+","MOON Phoebe2","BEACH Maureen10a/Re1",null,"5b","5b",null,null,"JBT",null,"15Y 4M"]
[{"$nulls":23},"10 PINE",null,"C+","MORGAN Reagan2","CURRIE Jeremy10a/Re1",null,"5c","5c",null,null,"JBT",null,"15Y 3M"]
[{"$nulls":23},"10 ELM",null,"D+","MOTTOH Chiebuka1","BERGER Paul10a/Re4",null,"5c","4a",null,null,"KKA",null,"14Y 5M"]
[{"$nulls":23},"10 BEECH",null,"D","MOUANDE EYEI Katy1","COOKE Judy10c/Re1",null,"4c","3a",null,null,"GGE (2)",null,"15Y 2M"]
[{"$nulls":23},"10 CEDAR",null,"D","MULLENDER Abbie1","HOBBS Floyd10b/Re3",null,"4b","3a",null,null,"GMT (2)",null,"13Y 8M"]
[{"$nulls":23},"10 ROWAN",null,"C+","NASH Amy2","MARTIN Glenn10a/Re5",null,"4b","5c",null,null,"GGE",null,"14Y 7M"]
[{"$nulls":23},"10 ASH",null,"D-","NEARY Matthew1","CURTIS Nina10c/Re2",null,"4c","3a",null,null,"LML/KKA",null,"12Y 7M"]
[{"$nulls":23},"10 WILLOW",null,"E","NEVE Charlie1","BRUCE Brent10c/Re1",null,"3c","2a",null,null,"GGE (2)",null,"14Y"]
[{"$nulls":23},"10 ELM",null,"C","NEWPORT Caitlin1","NASH Lester10a/Re4",null,"4b","4b",null,null,"KKA",null,"13Y 7M"]
[{"$nulls":23},"10 ELM",null,null,"NGUYEN Tung1","HICKS Hazel10a/Re6",{"$nulls":5},"SBK"]
[{"$nulls":23},"10 PINE",null,"B-","NICHOLLS Ellie2","BELL Melanie10a/Re1",null,"5c","5c",null,null,"JBT",null,"15Y 4M"]
[{"$nulls":23},"10 ROWAN",null,"C-","NITCHEU Rody1","DANIELS Edward10a/Re4",null,"4a","5c",null,null,"KKA",null,"14Y 7M"]
[{"$nulls":23},"10 OAK",null,"D+","NOSIB Moesha2","OSBORNE Ronnie10b/Re2",null,"4b","4a",null,null,"GGE/LML",null,"14Y 8M"]
[{"$nulls":23},"10 ASH",null,"E-","OAK Billy1","LAMM Joel10b/Re3",null,"4c","5c",null,null,"GMT (2)",null,"13Y 2M"]
[{"$nulls":23},"10 ELM",null,"C","OAKINS Ellie2","ERICKSON Edna10a/Re2",null,"5c","5c",null,null,"LML",null,"15Y"]
[{"$nulls":23},"10 PINE",null,"C+","O'BRIEN Lucy2","HARDISON Cathy10a/Re3",null,"5c","4a",null,null,"GMT",null,"15Y 3M"]
[{"$nulls":23},"10 WILLOW",null,"D+","ODEYINKA Arinola1","DUDLEY Donna10c/Re1",null,"4c","2b",null,null,"GGE (2)",null,"14Y 7M"]
[{"$nulls":23},"10 ELM",null,"C+","OGUNRIN Testimony1","RICHARDSON Regina10a/Re3",null,"4b","4a",null,null,"GMT",null,"15Y 8M"]
[{"$nulls":23},"10 WILLOW",null,"E+","OLIVA Steven1","PROCTOR Tracy10c/Re1",null,"4c","3c",null,null,"GGE (2)",null,"14Y 6M"]
[{"$nulls":23},"10 LARCH",null,"D","OMOJUWA Ayotomide1","COOPER Sharon10b/Re2",null,"4b","4b",null,null,"GGE/LML",null,"10Y 9M"]
[{"$nulls":23},"10 ROWAN",null,"C-","ONILEERE Aishat1","POLLOCK Kathy10a/Re3",{"$nulls":5},"GMT",null,"15Y 7M"]
[{"$nulls":23},"10 ELM",null,"C-","ONU Ellys Abeth2","THOMPSON Eddie10a/Re1",null,"4c","4b",null,null,"JBT",null,"15Y"]
[{"$nulls":23},"10 LARCH",null,"E","OOZAGEER Kevin2","DEAN Alex10b/Re2",null,"4c","3a",null,null,"GGE/LML",null,"11Y 3M"]
[{"$nulls":23},"10 CEDAR",null,"E+","OSBORN Joe1","CHU Ian10b/Re3",null,"4c","4b",null,null,"GMT (2)",null,"13Y 6M"]
[{"$nulls":23},"10 ROWAN",null,"A","OSBORNE Ben1","MICHAEL Tina10a/Re4",null,"5b","5a",null,null,"KKA",null,"15Y 8M"]
[{"$nulls":23},"10 OAK",null,"D-","OSBORNE Teigan2","PERRY Colleen10b/Re3",null,"4a","5c",null,null,"GMT (2)",null,"14Y 3M"]
[{"$nulls":23},"10 WILLOW",null,"D-","OSHINOWO Emmanuel1","AVERY Maria10c/Re2",null,"3b","4a",null,null,"LML/KKA",null,"12Y 6M"]
[{"$nulls":23},"10 PINE",null,"D+","OSMANI Amarildo2","BARKER Pamela10a/Re3",null,"4a","5a",null,null,"GMT",null,"14Y"]
[{"$nulls":23},"10 WILLOW",null,"D-","OVERTON Harry1","FELDMAN Sharon10b/Re3",null,"5c","4c",null,null,"GMT (2)",null,"14Y 7M"]
[{"$nulls":23},"10 TEAK",null,"A","PADDINGTON Caitlin2","MCDONALD Rose10a/Re2",null,"5c","5a",null,null,"LML",null,"15Y 4M"]
[{"$nulls":23},"10 SPRUCE",null,"X","PAGE Connor1","BOYKIN Edith10a/Re2",null,"4a","5b",null,null,"LML",null,"15Y 3M"]
[{"$nulls":23},"10 WILLOW",null,"F","PALMER Ellis1","CONNOLLY Virginia10c/Re2",null,"W","3b",null,null,"LML/KKA",null,"9Y 5M"]
[{"$nulls":23},"10 SPRUCE",null,"C","PALMER Maisie1","BARRY Mike10a/Re3",null,"4a","4a",null,null,"GMT",null,"15Y"]
[{"$nulls":23},"10 PINE",null,"C","PALMER Stephanie2","FORBES Cynthia10a/Re3",null,"4a","4b",null,null,"GMT",null,"14 yrs 1 mth"]
[{"$nulls":23},"10 SPRUCE",null,"C+","PASCAL Tyanna1","HOLLAND Tim10a/Re3",null,"5c","4a",null,null,"GMT",null,"14 yrs 1 mth"]
[{"$nulls":23},"10 WILLOW",null,"E","PEARCE Ryan1","TODD Katie",null,"4c","3a"]
[{"$nulls":23},"10 WILLOW",null,"D-","PENFOLD Louisa2","SCHNEIDER Larry10b/Re3",null,"4a","4c",null,null,"GMT (2)",null,"13Y 6M"]
[{"$nulls":23},"10 PINE",null,"C","PERERA Ramilka1","SIMON Monica10a/Re4",null,"4a","5a",null,null,"KKA",null,"15Y 3M"]
[{"$nulls":23},"10 WILLOW",null,"E+","PETKEVICIUS Matas1","CLINE Danny10b/Re3",null,"4c","4c",null,null,"GMT (2)",null,"13 yrs 1 mth"]
[{"$nulls":23},"10 HOLLY",null,"C-","PHILLPOTT Callum2","LAWRENCE Bryan10b/Re1",null,"4b","4b",null,null,"GMT/KKA",null,"12Y 4M"]
[{"$nulls":23},"10 WILLOW",null,"D","PHIPPS Paris2","FERRELL Lawrence10b/Re2",null,"4b","4c",null,null,"GGE/LML",null,"13 yrs 1 mth"]
[{"$nulls":23},"10 ASH",null,"E+","PINNER Jamie2","CUNNINGHAM Ryan10c/Re4",null,"4c","3c",null,null,"GMT (2)",null,"13Y 5M"]
[{"$nulls":23},"10 BEECH",null,"E+","POLSON Joseph2","DEAL David10b/Re3",null,"3a","4b",null,null,"GMT (2)",null,"12Y 3M"]
[{"$nulls":23},"10 SPRUCE",null,"D+","POOLE Matthew1","KOCH Kimberly10a/Re2",null,"4c","5c",null,null,"LML",null,"14Y 8M"]
[{"$nulls":23},"10 PINE",null,"C+","POVEY-GARMAN Kara1","MORROW Carmen10a/Re3",null,"4a","4a",null,null,"GMT",null,"14Y 6M"]
[{"$nulls":23},"10 PINE",null,"D+","PRICE Jamie1","TAYLOR Jeff10a/Re5",null,"4b","5b",null,null,"GGE",null,"13Y 4M"]
[{"$nulls":23},"10 BEECH",null,"D-","RANDALL Hayley1","ZHANG Harry10c/Re2",null,"3a","4c",null,null,"LML/KKA",null,"10Y 3M"]
[{"$nulls":23},"10 SPRUCE",null,"C+","RANSOM Abigail1","FRANCIS Laurence10a/Re1",null,"5c","4c",null,null,"JBT",null,"15Y 2M"]
[{"$nulls":23},"10 WILLOW",null,"D","READ Megan1","BLOOM Floyd10b/Re1",null,"4a","4b",null,null,"GMT/KKA",null,"15Y 7M"]
[{"$nulls":23},"10 LARCH",null,"D-","REDOUT Charlotte1","DIXON Deborah10b/Re3",null,"4b","4b",null,null,"GMT (2)",null,"14Y 5M"]
[{"$nulls":23},"10 OAK",null,"D-","REED Kelsey2","WILLIFORD Audrey10b/Re2",null,"4b","4c",null,null,"GGE/LML",null,"14Y 7M"]
[{"$nulls":23},"10 WILLOW",null,"D","RICHARDS Bethany1","DAVENPORT Marjorie10b/Re1",null,"4a","4a",null,null,"GMT/KKA",null,"14Y 8M"]
[{"$nulls":23},"10 CEDAR",null,"D+","RICHARDS Rebecca1","LAWSON Jeanette10b/Re3",null,"4c","4a",null,null,"GMT (2)",null,"14Y"]
[{"$nulls":23},"10 BEECH",null,"E+","RIDDALL Dylan2","SHARPE Joel10b/Re2",null,"4c","5b",null,null,"GGE/LML",null,"11Y 4M"]
[{"$nulls":23},"10 LARCH",null,"F+","ROBERTS Brandon1","CRAIG Roberta",null,"W","3c",{"$nulls":4},"12Y 6M"]
[{"$nulls":23},"10 SPRUCE",null,"C+","ROBERTSON Callum2","RAY Tim10a/Re1",null,"5b","5c",null,null,"JBT",null,"15Y 6M"]
[{"$nulls":23},"10 PINE",null,"B+","ROBINSON Emily1","WILKINSON Jenny10a/Re3",null,"4a","4a",null,null,"GMT",null,"14Y 7M"]
[{"$nulls":23},"10 OAK",null,"D","ROOPRAI Amrit2","CROWDER James10c/Re1",null,"3a","3c",null,null,"GGE (2)",null,"14Y 4M"]
[{"$nulls":23},"10 HOLLY",null,"D+","ROOTS Sasha1","CONNOLLY Carlos10b/Re4",null,"4c","4b",null,null,"SBK (2)",null,"13Y 7M"]
[{"$nulls":23},"10 LARCH",null,"D-","RUBENGA Leeco2","BOYLE Rosemary10c/Re3",null,"4c","3a",null,null,"SBK (2)",null,"14Y 7M"]
[{"$nulls":23},"10 ASH",null,"D-","RUMBOL Sophie1","BARTLETT Sheryl10c/Re1",null,"4b","3a",null,null,"GGE (2)",null,"14Y 2M"]
[{"$nulls":23},"10 BEECH",null,"D","RUNDLE Mollie1","BRANCH Victoria10c/Re1",null,"3b","4c",null,null,"GGE (2)",null,"13Y 4M"]
[{"$nulls":23},"10 PINE",null,"D+","RUSSELL Clark1","WERNER Martha10a/Re4",null,"4b","5b",null,null,"KKA",null,"14Y 7M"]
[{"$nulls":23},"10 BEECH",null,"D-","RUTHERFORD Lucy1","MAXWELL Jeanette10b/Re4",null,"4c","3a",null,null,"SBK (2)",null,"13Y 5M"]
[{"$nulls":23},"10 TEAK",null,"C+","RYAN-BENNETT Katie2","SHAW Elaine10a/Re5",null,"4a","5c",null,null,"GGE",null,"15Y 6M"]
[{"$nulls":23},"10 ASH",null,"E","SADHRA Arjan2","AVERY Bruce10b/Re3",null,"3c","3b",null,null,"GMT (2)",null,"13Y 3M"]
[{"$nulls":23},"10 OAK",null,"E+","SAILL Joseph1","DENNIS Lynn10c/Re1",null,"4c","3a",null,null,"GGE (2)",null,"12 yrs 1 mth"]
[{"$nulls":23},"10 OAK",null,"E","SALIAJ Claudia2","BLAIR Thelma10b/Re4",null,"4c","4c",null,null,"SBK (2)",null,"10Y 5M"]
[{"$nulls":23},"10 HOLLY",null,"D","SAUNDERS Leah1","CURRIN Herbert10b/Re2",null,"4c","4b",null,null,"GGE/LML",null,"11Y 4M"]
[{"$nulls":23},"10 SPRUCE",null,"B","SEHMI Brandon1","POE Steven10a/Re2",null,"4b","5b",null,null,"LML",null,"14Y 9M"]
[{"$nulls":23},"10 ASH",null,"E+","SELBY-GANGERA Junaid1","STANTON Luis10c/Re2",null,"3a","4b",null,null,"LML/KKA",null,"12Y 9M"]
[{"$nulls":23},"10 BEECH",null,"E","SESAY Bashir1","ORR Arlene10b/Re4",null,"4a","4c",null,null,"SBK (2)",null,"9Y 5M"]
[{"$nulls":23},"10 ELM",null,"C+","SHAH Aselah2","GOLDEN Jennifer10a/Re2",null,"4a","5b",null,null,"LML",null,"15Y"]
[{"$nulls":23},"10 CEDAR",null,"D+","SHARMA Denysha2","HAWLEY Diana10b/Re1",null,"4c","3a",null,null,"GMT/KKA",null,"14Y 7M"]
[{"$nulls":23},"10 SPRUCE",null,"C+","SHEPPARD Ben2","BOWDEN Joanne10a/Re2",null,"5c","5a",null,null,"LML",null,"14 yrs 1 mth"]
[{"$nulls":23},"10 ASH",null,"E+","SILINSKAITE Aukse1","SOLOMON Megan",{"$nulls":7},"7Y 2M"]
[{"$nulls":23},"10 SPRUCE",null,"D","SINGH Indermohan1","CARVER Alexander10a/Re6",null,"4b","4a",null,null,"SBK",null,"14Y"]
[{"$nulls":23},"10 CEDAR",null,"E+","SKEOCH Ellie1","GRAY Bobby",null,"3a","W",{"$nulls":4},"14 yrs 1 mth"]
[{"$nulls":23},"10 TEAK",null,"C+","SKIRTH Thomas1","HORN Johnny10a/Re6",null,"4b","5c",null,null,"SBK",null,"13Y 2M"]
[{"$nulls":23},"10 PINE",null,"C","SLATER Elle2","HURST Mike10a/Re3",null,"4a","5b",null,null,"GMT",null,"12Y 7M"]
[{"$nulls":23},"10 OAK",null,"E","SMART Josh1","HEATH Annie10b/Re2",null,"4c","4c",null,null,"GGE/LML",null,"14Y 5M"]
[{"$nulls":23},"10 CEDAR",null,"E-","SMITH Branden1","PERKINS Marcus10c/Re4",null,"W","W",null,null,"GMT (2)",null,"11Y 2M"]
[{"$nulls":23},"10 PINE",null,"B-","SMITH Shane2","GARNER Joan10a/Re1",null,"5c","5b",null,null,"JBT",null,"15Y 7M"]
[{"$nulls":23},"10 ROWAN",null,"B-","STENING Robyn2","MOON Tracy10a/Re2",null,"5c","4c",null,null,"LML",null,"15 yrs 1 mth"]
[{"$nulls":23},"10 CEDAR",null,"D-","STICKLAND Rhys1","ROBINSON Marjorie10b/Re3",null,"4b","4a",null,null,"GMT (2)",null,"11Y 7M"]
[{"$nulls":23},"10 ROWAN",null,"C+","STOCKER Luke2","HOBBS Jennifer10a/Re4",null,"5c","5c",null,null,"KKA",null,"14Y 5M"]
[{"$nulls":23},"10 CEDAR",null,"D-","STUCHBURY Oliver1","GILES Kathy10b/Re3",null,"4c","4b",null,null,"GMT (2)",null,"8Y 7M"]
[{"$nulls":23},"10 ELM",null,"C","SUMAN Sophina2","CRAVEN Carmen10a/Re2",null,"5c","4a",null,null,"LML",null,"15Y 6M"]
[{"$nulls":23},"10 WILLOW",null,"D+","SWAINSBURY Autumn1","JOHNSON Alexandra10b/Re1",null,"4b","3a",null,null,"GMT/KKA",null,"13Y 5M"]
[{"$nulls":23},"10 WILLOW",null,"E","TAIT James1","NICHOLS Erik10c/Re3",null,"W","3c",null,null,"SBK (2)"]
[{"$nulls":23},"10 SPRUCE",null,"C-","TAYLOR Charlotte2","HINSON Jessica10a/Re2",null,"5c","5b",null,null,"LML",null,"14Y 9M"]
[{"$nulls":23},"10 BEECH",null,"E","TEKYI Myles2","HINSON Carl10b/Re3",null,"4b","4b",null,null,"GMT (2)",null,"11Y 2M"]
[{"$nulls":23},"10 TEAK",null,"C+","TUFFIN Zoe1","HILL Claudia10a/Re5",null,"5c","5b",null,null,"GGE",null,"14Y 6M"]
[{"$nulls":23},"10 TEAK",null,"D+","UDDIN Masum1","MCLEAN Alexander10a/Re6",null,"5c","5b",null,null,"SBK",null,"15Y 6M"]
[{"$nulls":23},"10 SPRUCE",null,"C","UPSON Michael1","COBB Mary10a/Re3",null,"4b","4a",null,null,"GMT",null,"15Y"]
[{"$nulls":23},"10 ROWAN",null,"C","UREN-STEPHENSON Holly1","ENGLISH Ellen10a/Re5",null,"4a","5a",null,null,"GGE",null,"13Y 7M"]
[{"$nulls":23},"10 LARCH",null,"E+","VARAH Harry1","BLOOM Lindsay10c/Re1",null,"B","5c",null,null,"GGE (2)",null,"9 yrs 1 mth"]
[{"$nulls":23},"10 LARCH",null,"D","VINCE Talia2","REILLY Nicholas10b/Re4",null,"4b","4a",null,null,"SBK (2)",null,"13Y"]
[{"$nulls":23},"10 TEAK",null,"C-","WALDOCK Molly1","WILLIS Joan10a/Re4",null,"4a","5c",null,null,"KKA",null,"14Y 9M"]
[{"$nulls":23},"10 OAK",null,"E+","WALPOLE John1","FRANCIS Kristine10b/Re3",null,"4b","4a",null,null,"GMT (2)",null,"14Y"]
[{"$nulls":23},"10 OAK",null,"D","WARREN Samuel1","WILKINSON Alison10b/Re2",null,"4b","4b",null,null,"GGE/LML",null,"14 yrs 1 mth"]
[{"$nulls":23},"10 WILLOW",null,"D-","WARWICKER Zara1","LONG Tracy10b/Re4",null,"4c","4c",null,null,"SBK (2)",null,"10Y 2M"]
[{"$nulls":23},"10 TEAK",null,"C-","WATERFALL Joshua1","KENNEDY Becky10a/Re4",null,"5c","5b",null,null,"KKA",null,"15Y 6M"]
[{"$nulls":23},"10 ROWAN",null,"C-","WATKINS Louie1","PADGETT George10a/Re6",null,"4a","5c",null,null,"SBK",null,"15Y 6M"]
[{"$nulls":23},"10 TEAK",null,"C","WATSON-PHILLIPS Molly1","BAREFOOT Philip10a/Re5",null,"5c","5b",null,null,"GGE",null,"14Y 5M"]
[{"$nulls":23},"10 WILLOW",null,"E+","WEBB Shannon1","BRADFORD Mike",null,"W","B",{"$nulls":4},"10Y 7M"]
[{"$nulls":23},"10 OAK",null,"D","WELDON-REYES Anna2","TERRY Annette10b/Re2",{"$nulls":5},"GGE/LML",null,"13Y 6M"]
[{"$nulls":23},"10 ROWAN",null,"C","WELLER Liam1","HUDSON Dan10a/Re6",null,"4a","5b",null,null,"SBK",null,"14Y 3M"]
[{"$nulls":23},"10 BEECH",null,"E+","WELLS Tyler1","GIBSON Debbie10c/Re4",null,"3b","3a",null,null,"GMT (2)",null,"11Y 7M"]
[{"$nulls":23},"10 HOLLY",null,"E","WENHAM Jamie1","DALE Marlene",null,"3b","4c",{"$nulls":4},"9 yrs 1 mth"]
[{"$nulls":23},"10 OAK",null,"E-","WHITAKER Joshua1","DICKSON Darlene10b/Re3",null,"4a","4b",null,null,"GMT (2)",null,"12Y 3M"]
[{"$nulls":23},"10 LARCH",null,"E+","WHITE Sammy1","HESTER Rosemary10b/Re4",null,"4b","4a",null,null,"SBK (2)",null,"11Y 4M"]
[{"$nulls":23},"10 ASH",null,"D-","WILLIAMS Chelsea2","CHUNG Kristina10c/Re2",null,"4b","3a",null,null,"LML/KKA",null,"15Y 2M"]
[{"$nulls":23},"10 CEDAR",null,"D-","WILLIAMS Danny2","HILL Gretchen10c/Re3",null,"3a","2a",null,null,"SBK (2)",null,"12Y 9M"]
[{"$nulls":23},"10 LARCH",null,"D-","WILLIAMS Georgie1","PUCKETT Karen10b/Re3",null,"4a","4b",null,null,"GMT (2)",null,"15Y"]
[{"$nulls":23},"10 BEECH",null,"D-","WILLIAMS Harry1","SONG Patrick10c/Re2",null,"3b","4c",null,null,"LML/KKA",null,"13Y 3M"]
[{"$nulls":23},"10 TEAK",null,"D+","WILLIAMS Liam1","HAMILTON Elsie10a/Re6",null,"4a","5b",null,null,"SBK",null,"14Y 9M"]
[{"$nulls":23},"10 HOLLY",null,"D+","WILLIAMSON Max1","BENDER Hazel10c/Re1",null,"3a","3a",null,null,"GGE (2)",null,"13 yrs 1 mth"]
[{"$nulls":23},"10 ROWAN",null,"C","WOOD James2","MCLAUGHLIN Dolores10a/Re6",null,"4b","5c",null,null,"SBK",null,"15Y 3M"]
[{"$nulls":23},"10 TEAK",null,"C","ZEROUALI-AMARI Leyla1","MCNAMARA Francis10a/Re2",null,"5c","5c",null,null,"LML",null,"14Y 7M"]
[{"$nulls":23},"11 LARCH",null,"D-","ABU Aisha2","WOODARD Beth11r/Re1",null,"3a","3b",{"$nulls":4},"13Y 5M"]
[{"$nulls":23},"11 ROWAN",null,"C","ADAMOU George1","DESAI Julia11y/Re6",null,"5b","5b",null,null,"GMT",null,"14Y 5M"]
[{"$nulls":23},"11 BEECH",null,"D","ADAMS Josie2","WALLACE Jerome11g/Re1",null,"3a","4b",null,null,"GGE",null,"10Y 6M"]
[{"$nulls":23},"11 WILLOW",null,"F","ADAMS Shannon1","GRIFFIN Jean",null,"2b","2b",{"$nulls":4},"9Y 7M"]
[{"$nulls":23},"11 PINE",null,"A","ADEBIYI Francesca2","DOUGHERTY Kristine11y/Re1",null,"5c","5b",null,null,"RHE",null,"15Y 5M"]
[{"$nulls":23},"11 ELM",null,"D-","AKINTOMO Michael1","POWERS Crystal11y/Re2",null,"4b","4b",null,null,"GMT",null,"14Y 8M"]
[{"$nulls":23},"11 TEAK",null,"A","AKINTUNDE April-Magic2","MAY Alex11y/Re1",null,"5c","4c",null,null,"RHE",null,"14Y 7M"]
[{"$nulls":23},"11 ROWAN",null,"C+","AKOMOLAFE Daniel1","STEELE Eric11y/Re4",null,"5b","5b",null,null,"KKA",null,"15Y"]
[{"$nulls":23},"11 OAK",null,"B-","ALFORD Harry2","TEAGUE Wesley11g/Re1",null,"4b","4b",null,null,"GGE",null,"13Y 7M"]
[{"$nulls":23},"11 TEAK",null,"B-","ALI Annei2","VICK Franklin11y/Re1",null,"4a","5b",null,null,"RHE",null,"15Y"]
[{"$nulls":23},"11 HOLLY",null,"E+","ALI Zain1","GALLAGHER Claire11g/Re4",null,"4b","4b",null,null,"GMT",null,"14Y 6M"]
[{"$nulls":23},"11 BEECH",null,"D-","ALLEN Sinead2","SOLOMON Marian11g/Re1",null,"3c","4b",null,null,"GGE",null,"11Y"]
[{"$nulls":23},"11 TEAK",null,"C+","ALLISON Abbie-Jade2","MONROE Dwight11y/Re3",null,"4a","5b",null,null,"SBK",null,"15Y"]
[{"$nulls":23},"11 ROWAN",null,"A","AMOSUN Joshua2","HAWKINS Stephanie11y/Re1",null,"5c","4a",null,null,"RHE",null,"13Y 7M"]
[{"$nulls":23},"11 CEDAR",null,"G-","ANDERSON Jack3","GOLDSTEIN Gretchen11g/Re4",null,"4c","4c",null,null,"GMT",null,"14Y"]
[{"$nulls":23},"11 HOLLY",null,"F-","ANDREADIS DA SILVA Gabriel1","WATTS Tim11g/Re4",null,"3b","N",null,null,"GMT",null,"13Y 7M"]
[{"$nulls":23},"11 ELM",null,"C+","ASH Eleanor2","JOHNSTON Jerome11y/Re6",null,"4b","3a",null,null,"GMT",null,"13Y 6M"]
[{"$nulls":23},"11 ROWAN",null,"C+","ASHBOURNE-WHITTAKER Merlin1","WILKERSON Priscilla11y/Re3",null,"4b","5b",null,null,"SBK",null,"13Y 4M"]
[{"$nulls":23},"11 BEECH",null,"F-","ASIHENE Nhyira1","BARTON Elsie11g/Re4",null,"3b","4b",null,null,"GMT",null,"13Y 6M"]
[{"$nulls":23},"11 OAK",null,"C-","ATSE Joanna2","WALTON Beth11g/Re1",null,"4c","3b",null,null,"GGE",null,"13 yrs 1 mth"]
[{"$nulls":23},"11 SPRUCE",null,"X","ATWAL Kiranpreet2","HALL Erica11y/Re2",null,"5b","5b",null,null,"GMT",null,"14 yrs 1 mth"]
[{"$nulls":23},"11 ROWAN",null,"D-","AXON Molly2","ROSS Douglas11y/Re5",null,"5c","5b",null,null,"GGE",null,"14Y 2M"]
[{"$nulls":23},"11 LARCH",null,"C-","BADHAN Sahaj1","CHUNG Donald11r/Re2",null,"4b","4b",{"$nulls":4},"14Y 2M"]
[{"$nulls":23},"11 OAK",null,"E-","BAKER Lucy2","BENDER Katherine11g/Re2",null,"3b","3c",null,null,"KKA",null,"10Y 4M"]
[{"$nulls":23},"11 SPRUCE",null,"E+","BALDWINSON Anthony1","WOODS Paul11y/Re5",null,"4a","5b",null,null,"GGE",null,"14Y 8M"]
[{"$nulls":23},"11 ASH",null,"D-","BARNES Ryan2","MANGUM Patricia11g/Re2",null,"3b","3b",null,null,"KKA",null,"11Y"]
[{"$nulls":23},"11 CEDAR",null,"C-","BAUMHAUER Chloe1","BOWDEN Christina11r/Re2",null,"3b","5b",{"$nulls":4},"13Y 9M"]
[{"$nulls":23},"11 OAK",null,"D-","BAVERSTOCK Adam2","BARTON Darlene11g/Re3",null,"4c","4c",null,null,"SBK",null,"13 yrs 1 mth"]
[{"$nulls":23},"11 WILLOW",null,"E+","BAVERSTOCK Jimmy1","UNDERWOOD Harvey11r/Re3",null,"3b","3b",{"$nulls":4},"10Y 8M"]
[{"$nulls":23},"11 WILLOW",null,"E-","BAWOR Eileen2","JONES William11r/Re3",null,"4b","4c",{"$nulls":4},"10Y 9M"]
[{"$nulls":23},"11 SPRUCE",null,"A*","BEALE Nathan1","BAKER Frederick11y/Re2",null,"5c","5b",null,null,"GMT",null,"13Y 9M"]
[{"$nulls":23},"11 HOLLY",null,"U","BEANEY Charlee1","MERRITT Shirley11g/Re1",null,"4b","4b",null,null,"GGE",null,"14Y 3M"]
[{"$nulls":23},"11 BEECH",null,"E-","BEATTIE Sammy-Jo1","CROSS Jason11g/Re4",null,"3a","3b",null,null,"GMT",null,"14Y 3M"]
[{"$nulls":23},"11 ELM",null,"B+","BEESON Rochelle1","COOPER Judith11y/Re3",null,"5c","4b",null,null,"SBK",null,"15Y 2M"]
[{"$nulls":23},"11 BEECH",null,"C","BELCHER Scott1","HOLMES Gretchen11g/Re1",null,"4c","4a",null,null,"GGE",null,"12Y 5M"]
[{"$nulls":23},"11 PINE",null,"B+","BELKACEMI Amelia2","MORGAN Glenda11y/Re5",null,"4b","4b",null,null,"GGE",null,"14Y 9M"]
[{"$nulls":23},"11 TEAK",null,"B","BETTS Stuart2","RICH Jessica11y/Re4",null,"5c","4b",null,null,"KKA",null,"15Y 5M"]
[{"$nulls":23},"11 TEAK",null,"G-","BILLINGHURST Brandon1","PROCTOR Melinda11y/Re5",null,"4b","5b",null,null,"GGE",null,"13Y 5M"]
[{"$nulls":23},"11 BEECH",null,"F","BISHOP Aaliyah2","DIAZ Calvin11g/Re3",null,"4a","4b",null,null,"SBK",null,"14Y 6M"]
[{"$nulls":23},"11 ROWAN",null,"C-","BLACK Emma2","WATKINS Vickie11y/Re2",null,"5c","5b",null,null,"GMT",null,"14Y 7M"]
[{"$nulls":23},"11 ROWAN",null,"C+","BLACK Sian1","HINTON Luis11y/Re4",null,"4b","5b",null,null,"KKA",null,"15Y 2M"]
[{"$nulls":23},"11 BEECH",null,"C+","BLANCHARD La-Keisha2","MARSH Allan11g/Re1",null,"4b","3b",null,null,"GGE",null,"9Y 9M"]
[{"$nulls":23},"11 BEECH",null,"C-","BLE Grace2","HEWITT Melanie11g/Re1",null,"4c","3c",null,null,"GGE",null,"13Y 2M"]
[{"$nulls":23},"11 LARCH",null,"F-","BOARD Katie1","BRANCH Marianne",null,"2c","2b",{"$nulls":4},"10Y 7M"]
[{"$nulls":23},"11 ELM",null,"C","BORDLEY Callum1","O'BRIEN Caroline11y/Re6",null,"4b","4b",null,null,"GMT",null,"11Y"]
[{"$nulls":23},"11 ASH",null,"C-","BORN Katie2","CASE Arlene11g/Re4",null,"4c","4c",null,null,"GMT",null,"13Y 8M"]
[{"$nulls":23},"11 ROWAN",null,"B+","BRESNAHAN Luke2","CHRISTENSEN Calvin11y/Re3",null,"4a","5b",null,null,"SBK",null,"12Y 8M"]
[{"$nulls":23},"11 HOLLY",null,"C","BRITTON-WILLIAMS Jade2","PARKS Gary11g/Re2",null,"4c","4b",null,null,"KKA",null,"12Y 5M"]
[{"$nulls":23},"11 BEECH",null,"C-","BROOK Jamaal1","HARDIN Samantha11g/Re1",null,"4a","3b",null,null,"GGE",null,"14Y 3M"]
[{"$nulls":23},"11 CEDAR",null,"D-","BROOKE Ellee1","LUCAS Sara11r/Re3",null,"3b","3b",{"$nulls":4},"13 yrs 1 mth"]
[{"$nulls":23},"11 PINE",null,"B","BURFORD Lilly1","DAVIDSON Gladys11y/Re5",null,"5c","5b",null,null,"GGE",null,"15 yrs 1 mth"]
[{"$nulls":23},"11 PINE",null,"G-","BURGESS Oliver2","WHITEHEAD Mike11y/Re5",null,"5c","5b",null,null,"GGE",null,"14Y 4M"]
[{"$nulls":23},"11 PINE",null,"B","BURN WEBSTER Mary1","ROSE Lynne11y/Re3",null,"5c","5b",null,null,"SBK",null,"14Y 9M"]
[{"$nulls":23},"11 TEAK",null,"F-","BURRIDGE Curtis1","SPARKS Faye11y/Re4",null,"3a","4a",null,null,"KKA",null,"10Y 5M"]
[{"$nulls":23},"11 WILLOW",null,"D+","BURROWS Stanley1","MOORE Diana11r/Re1",null,"4c","4a",{"$nulls":4},"12Y 6M"]
[{"$nulls":23},"11 HOLLY",null,"F+","BURT George1","RODGERS Ethel",null,"4c","5b",null,null,"SBK",null,"10Y 7M"]
[{"$nulls":23},"11 SPRUCE",null,"B","BUSUTTIL Samuel1","GRAVES Steve11y/Re2",null,"4a","5b",null,null,"GMT",null,"14Y"]
[{"$nulls":23},"11 SPRUCE",null,"C+","BUTTERWORTH Amy1","SCARBOROUGH Alison11y/Re4",null,"5b","4a",null,null,"KKA",null,"15Y 2M"]
[{"$nulls":23},"11 LARCH",null,"F+","BYHAM Charlie1","BOWMAN Kelly11r/Re1",null,"3a","3a",{"$nulls":4},"12Y 9M"]
[{"$nulls":23},"11 LARCH",null,"D-","BYRNE James1","CHRISTIAN Jennifer11g/Re1",null,"5b","4b",null,null,"GGE",null,"13Y 2M"]
[{"$nulls":23},"11 ELM",null,"C-","BYRNE Michaela1","LAMB Brett11y/Re4",null,"5c","4a",null,null,"KKA",null,"15Y"]
[{"$nulls":23},"11 ELM",null,"B+","CAMPBELL Louise2","JAMES Brandon11y/Re2",null,"5c","4a",null,null,"GMT",null,"14Y 4M"]
[{"$nulls":23},"11 BEECH",null,"G-","CARPENTER Samuel1","STOUT Joann11g/Re2",null,"3a","3a",null,null,"KKA",null,"13 yrs 1 mth"]
[{"$nulls":23},"11 TEAK",null,"G-","CARTER-ALLEN Jordan1","COWAN Ronnie11y/Re6",null,"4b","4a",null,null,"GMT",null,"9Y 9M"]
[{"$nulls":23},"11 WILLOW",null,"C","CASEY Steven1","CLAPP Geoffrey11r/Re1",null,"3a","4b",{"$nulls":4},"10Y 9M"]
[{"$nulls":23},"11 BEECH",null,"C+","CASSERLEY Harry1","ABRAMS Patricia11g/Re1",null,"4a","4a",null,null,"GGE",null,"10Y 2M"]
[{"$nulls":23},"11 PINE",null,"B-","CATMULL Ryan1","TILLEY Jennifer11y/Re4",null,"5b","5b",null,null,"KKA",null,"15Y"]
[{"$nulls":23},"11 CEDAR",null,"D","CHAMBERS Morgan1","MORSE Mary11r/Re4",null,"2b","2b",{"$nulls":4},"11Y"]
[{"$nulls":23},"11 HOLLY",null,"C-","CHATTEN Zoe2","SUMNER Vincent11g/Re1",null,"4b","4a",null,null,"GGE",null,"14Y 7M"]
[{"$nulls":23},"11 ASH",null,"G+","CHEEMA Gurvinder2","DAVIDSON Danny11g/Re1",null,"3a","2b",null,null,"GGE",null,"12Y 8M"]
[{"$nulls":23},"11 WILLOW",null,"D","CHEESEMAN Toby1","HEATH Charlene11r/Re1",null,"3b","4a",{"$nulls":4},"9Y 3M"]
[{"$nulls":23},"11 TEAK",null,"C+","CHERITON Jack1","BLANCHARD Alice11y/Re3",null,"4c","5b",null,null,"SBK",null,"13Y 6M"]
[{"$nulls":23},"11 BEECH",null,"F+","CHILDE Harry2","MCALLISTER Joan11g/Re2",null,"4c","4b",null,null,"KKA",null,"13Y 2M"]
[{"$nulls":23},"11 OAK",null,"C","CLARK Alfie2","MCKENZIE Betty11g/Re1",null,"4b","5b",null,null,"GGE",null,"12Y 4M"]
[{"$nulls":23},"11 ELM",null,"B+","CLARK Jordan2","BYRNE Danny11y/Re2",null,"5c","4b",null,null,"GMT",null,"14Y 7M"]
[{"$nulls":23},"11 ROWAN",null,"A","COLE Louise1","GRIFFIN Leslie11y/Re1",null,"5c","5b",null,null,"RHE",null,"15 yrs 1 mth"]
[{"$nulls":23},"11 WILLOW",null,"C+","COLEGATE Alex1","PERKINS Sara11r/Re1",null,"4b","4c",{"$nulls":4},"14Y 2M"]
[{"$nulls":23},"11 BEECH",null,"B-","COLEGATE Marc1","ROBERTSON Martha11g/Re1",null,"4c","3a",null,null,"GGE",null,"13Y 7M"]
[{"$nulls":23},"11 ROWAN",null,"C+","COLLIER Emily2","PALMER Jack11y/Re3",null,"5c","4a",null,null,"SBK",null,"14Y 4M"]
[{"$nulls":23},"11 LARCH",null,"F+","COMFORT Ben1","ROWE Benjamin11r/Re2",null,"4b","4b",{"$nulls":4},"12Y"]
[{"$nulls":23},"11 LARCH",null,"D+","COOPER Nicole2","ZHANG Roberta11r/Re4",null,"4c","3c",{"$nulls":4},"13Y"]
[{"$nulls":23},"11 TEAK",null,"X","COPLEY Ashleigh1","HODGE Patricia11y/Re1",null,"3b","3b",null,null,"RHE",null,"14 yrs 1 mth"]
[{"$nulls":23},"11 ASH",null,"E-","CORLEY Nicola1","LI Clifford",null,"4b","4b",{"$nulls":4},"11Y 8M"]
[{"$nulls":23},"11 TEAK",null,"F-","CRABTREE Alfie2","BOWLING Joanne11y/Re5",null,"4b","4c",null,null,"GGE",null,"14Y 9M"]
[{"$nulls":23},"11 CEDAR",null,"U","CRABTREE Charlie1","JUSTICE Martin11r/Re2",null,"4b","4b",{"$nulls":4},"11Y"]
[{"$nulls":23},"11 OAK",null,"G-","CREW Jesse2","WILLIS Beth11g/Re3",null,"4c","4b",null,null,"SBK",null,"13Y"]
[{"$nulls":23},"11 ASH",null,"B-","CROW Sophie2","HESTER Jessica11g/Re2",null,"4b","4b",null,null,"KKA",null,"11Y 6M"]
[{"$nulls":23},"11 ASH",null,"D-","CUMMINGS Matthew1","FLOYD Samantha11g/Re4",null,"4a","4c",null,null,"GMT",null,"14Y 2M"]
[{"$nulls":23},"11 HOLLY",null,"D","DAVIE Rio1","GRAVES Jimmy11g/Re2",null,"3b","4c",null,null,"KKA",null,"11Y 4M"]
[{"$nulls":23},"11 OAK",null,"U","DAY Louie1","FISCHER Vincent11g/Re3",null,"5c","4a",null,null,"SBK",null,"13 yrs 1 mth"]
[{"$nulls":23},"11 SPRUCE",null,"A","DE MELO Leticia1","NORMAN Dianne11y/Re1",null,"5b","5b",null,null,"RHE",null,"14Y 9M"]
[{"$nulls":23},"11 ASH",null,"E-","DEANS Aaron1","BYRD Mary11g/Re4",null,"3b","3a",null,null,"GMT",null,"10Y 2M"]
[{"$nulls":23},"11 SPRUCE",null,"B","DEBENHAM Chloe2","KAPLAN Jeff11y/Re4",null,"4a","5b",null,null,"KKA",null,"13Y 3M"]
[{"$nulls":23},"11 SPRUCE",null,"F+","DELATOUCHE Sam1","HELLER Sandra11y/Re6",null,"4a","5b",null,null,"GMT",null,"12Y 6M"]
[{"$nulls":23},"11 TEAK",null,"F+","DELLAR Blake1","MAY Katie11y/Re5",null,"4a","4a",null,null,"GGE",null,"12Y 7M"]
[{"$nulls":23},"11 OAK",null,"U","DENNY Frank1","JENNINGS Raymond11g/Re2",null,"4c","5b",null,null,"KKA",null,"13Y 3M"]
[{"$nulls":23},"11 ELM",null,"C-","DHILLON Amandeep1","HANNA Roger11y/Re5",null,"4c","4a",null,null,"GGE",null,"14Y 8M"]
[{"$nulls":23},"11 CEDAR",null,"F","DIXON Ellie1","HOLLOWAY Kathy11r/Re1",null,"4a","4b",{"$nulls":4},"13Y 7M"]
[{"$nulls":23},"11 PINE",null,"C","DIXON Jema1","JONES Troy11y/Re2",null,"5c","5b",null,null,"GMT",null,"13Y 5M"]
[{"$nulls":23},"11 PINE",null,"C","DOGBEY Casey1","VICK Martin11y/Re4",null,"5b","5c",null,null,"KKA",null,"15Y 4M"]
[{"$nulls":23},"11 ROWAN",null,"C","DONEY Casey1","O'DONNELL Jack11y/Re6",null,"4b","5c",null,null,"GMT",null,"12Y 5M"]
[{"$nulls":23},"11 CEDAR",null,"D+","DONNELLY Kirsten2","GOLDMAN Vincent11r/Re1",null,"4a","4b",{"$nulls":4},"13Y 2M"]
[{"$nulls":23},"11 SPRUCE",null,"E-","DOS SANTOS Simon1","MCKENNA Beth11y/Re4",null,"4a","4b",null,null,"KKA",null,"15Y 2M"]
[{"$nulls":23},"11 CEDAR",null,"G-","DOWN Keiran2","WATSON Franklin11r/Re4",null,"3b","3b",{"$nulls":4},"10Y"]
[{"$nulls":23},"11 SPRUCE",null,"C","DOWNING Samuel1","ABBOTT Glen11y/Re4",null,"4b","4a",null,null,"KKA",null,"14Y 2M"]
[{"$nulls":23},"11 HOLLY",null,"G-","DOYLE Mitchell1","SINGER Judith11g/Re3",null,"3c","4c",null,null,"SBK",null,"11Y 4M"]
[{"$nulls":23},"11 TEAK",null,"D+","DRANE Liam1","HALL Alice11y/Re4",null,"5b","5b",null,null,"KKA",null,"15Y 5M"]
[{"$nulls":23},"11 WILLOW",null,"G+","DRAPER Joshua1","FARRELL Bruce11r/Re3",null,"4c","4c",{"$nulls":4},"11Y 6M"]
[{"$nulls":23},"11 OAK",null,"U","DRAPER Samuel2","LUCAS Kathleen11g/Re1",null,"4b","4c",null,null,"GGE",null,"13Y 6M"]
[{"$nulls":23},"11 OAK",null,"U","DUFFIN Kayleigh-Ann2","NORMAN Amy11g/Re2",null,"4b","4b",null,null,"KKA",null,"14Y 2M"]
[{"$nulls":23},"11 WILLOW",null,"E","DUKES Tarrant1","ATKINS Ronnie11r/Re4",null,"4c","4b",{"$nulls":4},"14Y 5M"]
[{"$nulls":23},"11 CEDAR",null,"D+","EDEN Charlotte1","MONROE Martha11r/Re3",null,"4c","3a",{"$nulls":4},"13Y"]
[{"$nulls":23},"11 TEAK",null,"C+","EDWARDS Ben2","ROBERTSON Lynn11y/Re3",null,"4b","5b",null,null,"SBK",null,"14Y 2M"]
[{"$nulls":23},"11 TEAK",null,"B-","EDWARDS Chloe2","REID Robert11y/Re5",null,"5c","4b",null,null,"GGE",null,"13Y 7M"]
[{"$nulls":23},"11 BEECH",null,"D+","ELEY Shania1","CHANDLER Pauline11g/Re2",null,"5b","5b",null,null,"KKA",null,"11Y 5M"]
[{"$nulls":23},"11 PINE",null,"B+","ELLIS Myles2","FINCH Stephen11y/Re2",null,"4a","5b",null,null,"GMT",null,"13Y 8M"]
[{"$nulls":23},"11 CEDAR",null,"B+","ELPHICK Lauren2","ADKINS Donna11r/Re1",null,"5c","4c",{"$nulls":4},"15Y"]
[{"$nulls":23},"11 CEDAR",null,"C","EVBUOMWAN Tracy2","WHITAKER Ben11r/Re1",null,"3b","4b",{"$nulls":4},"14Y 3M"]
[{"$nulls":23},"11 ELM",null,"C","FISHER Jordan1","ALEXANDER Kristin11y/Re6",null,"4b","5c",null,null,"GMT",null,"11 yrs 1 mth"]
[{"$nulls":23},"11 HOLLY",null,"G-","FORSTER Ryan1","CONNER Ryan11g/Re2",null,"4c","3b",null,null,"KKA",null,"12Y 9M"]
[{"$nulls":23},"11 CEDAR",null,"E-","FOSTER Aidan1","WATERS Tracey11r/Re3",null,"2c","4c",{"$nulls":4},"10Y 5M"]
[{"$nulls":23},"11 ASH",null,"E+","FOSTER Karen1","BECKER Mark11g/Re2",null,"4c","3a",null,null,"KKA",null,"11Y 9M"]
[{"$nulls":23},"11 SPRUCE",null,"A","FOX Matthew1","LOVE Janet11y/Re3",null,"4a","4b",null,null,"SBK",null,"15Y 4M"]
[{"$nulls":23},"11 CEDAR",null,"C+","FRANKIS Harry1","ADKINS Leo11r/Re1",null,"4b","4b",{"$nulls":4},"13Y 8M"]
[{"$nulls":23},"11 ASH",null,"E+","FRANKLIN Ben1","FOX Sarah11g/Re4",null,"2b","2b",null,null,"GMT",null,"12Y 3M"]
[{"$nulls":23},"11 SPRUCE",null,"F","GAMMON Nicholas2","HATCHER Gladys11y/Re4",null,"4b","5b",null,null,"KKA",null,"14Y 7M"]
[{"$nulls":23},"11 WILLOW",null,"F-","GARRAWAY Darren1","WU Hazel",null,"3c","3b",{"$nulls":4},"7Y 5M"]
[{"$nulls":23},"11 PINE",null,"A*1","GATES Emily2","LLOYD Hazel11y/Re1",null,"5a","5b",null,null,"RHE",null,"15Y 6M"]
[{"$nulls":23},"11 CEDAR",null,"D-","GAYNOR David1","JOYCE Jerome11r/Re1",null,"4c","4b",{"$nulls":4},"10Y 7M"]
[{"$nulls":23},"11 CEDAR",null,"D+","GIBSON James2","WELCH Vincent11r/Re1",null,"3b","4b",{"$nulls":4},"12Y 6M"]
[{"$nulls":23},"11 PINE",null,"C+","GLADDISH Ross1","CHAPPELL Joseph11y/Re6",null,"5c","5b",null,null,"GMT",null,"14Y 7M"]
[{"$nulls":23},"11 TEAK",null,"A","GLOVER Gillian2","MACDONALD Alison11y/Re1",null,"5b","5b",null,null,"RHE",null,"15 yrs 1 mth"]
[{"$nulls":23},"11 TEAK",null,"B-","GODDARD James1","KANE Eric11y/Re3",null,"5b","4a",null,null,"SBK",null,"14Y 4M"]
[{"$nulls":23},"11 TEAK",null,"B","GOLDING Shannon2","PICKETT Claire11y/Re3",null,"4a","5c",null,null,"SBK",null,"12Y 7M"]
[{"$nulls":23},"11 OAK",null,"C","GRAHAM Lorraine1","BRANCH Judy11r/Re2",null,"4b","4b",{"$nulls":4},"11Y 2M"]
[{"$nulls":23},"11 OAK",null,"E","GREEN Anya1","MCNEILL Timothy",null,"4b","4a",{"$nulls":4},"14Y 5M"]
[{"$nulls":23},"11 LARCH",null,"C","GREEN Bethany1","WEINSTEIN Ted11r/Re1",null,"4c","4a",{"$nulls":4},"14Y 8M"]
[{"$nulls":23},"11 ROWAN",null,"B+","GURU Karan1","MIDDLETON Sandra11y/Re3",null,"5b","5b",null,null,"SBK",null,"13Y 3M"]
[{"$nulls":23},"11 PINE",null,"D-","HADLER Ashley1","RICH Lester11y/Re1",null,"5c","5b",null,null,"RHE",null,"15Y 4M"]
[{"$nulls":23},"11 ELM",null,"F-","HALEY Robert1","CARLTON Johnny11y/Re4",null,"4a","4b",null,null,"KKA",null,"13Y 7M"]
[{"$nulls":23},"11 WILLOW",null,"D+","HALLINAN Raegan2","SCHULTZ Lauren11r/Re4",null,"3b","4b"]
[{"$nulls":23},"11 TEAK",null,"C","HARRIGAN Rosie2","NICHOLS Carolyn11y/Re2",null,"4b","4a",null,null,"GMT",null,"15Y 3M"]
[{"$nulls":23},"11 BEECH",null,"D-","HARRIS Christian2","STEVENSON Charlene11g/Re3",null,"3a","4c",null,null,"SBK",null,"13Y"]
[{"$nulls":23},"11 LARCH",null,"G-","HARVEY Christopher1","DUNN Sheryl11r/Re4",null,"4b","4b",{"$nulls":4},"12Y 8M"]
[{"$nulls":23},"11 BEECH",null,"D+","HARVEY Megan2","WEST Ben11g/Re1",null,"5c","4c",null,null,"GGE",null,"13Y 9M"]
[{"$nulls":23},"11 ROWAN",null,"D-","HARWOOD Molly2","O'BRIEN Linda11y/Re3",null,"5c","4a",null,null,"SBK",null,"14 yrs 1 mth"]
[{"$nulls":23},"11 ROWAN",null,"B-","HAYES Emily1","BARR Sarah11y/Re2",null,"4b","5b",null,null,"GMT",null,"15Y 5M"]
[{"$nulls":23},"11 SPRUCE",null,"B-","HAYES Ryan1","HEATH Rebecca11y/Re2",null,"5c","5b",null,null,"GMT",null,"15Y 2M"]
[{"$nulls":23},"11 SPRUCE",null,"D-","HE David2","BOSWELL Glenda11y/Re1",null,"4b","5b",null,null,"RHE",null,"14Y 3M"]
[{"$nulls":23},"11 SPRUCE",null,"A*","HEAD Chloe2","PITTMAN Don11y/Re4",null,"5b","5c",null,null,"KKA",null,"14Y 9M"]
[{"$nulls":23},"11 WILLOW",null,"D","HEATH Emily-Jayne2","WEINER Gregory11r/Re2",null,"4a","4b",{"$nulls":4},"13Y 6M"]
[{"$nulls":23},"11 ELM",null,"C","HEMMINGS Benjamin2","PETERSEN Randy11y/Re4",null,"5c","5c",null,null,"KKA",null,"14Y"]
[{"$nulls":23},"11 ROWAN",null,"G-","HEMPLE Callum1","DAVIS Geraldine11y/Re5",null,"4a","5a",null,null,"GGE",null,"13Y 6M"]
[{"$nulls":23},"11 LARCH",null,"E","HERRIDGE Callum1","COLEMAN Edna11r/Re2",null,"4b","4b",{"$nulls":4},"11Y 9M"]
[{"$nulls":23},"11 ASH",null,"D-","HESELDEN Bethany2","NORMAN Faye11g/Re1",null,"4a","3b",null,null,"GGE",null,"11Y 6M"]
[{"$nulls":23},"11 ELM",null,"U","HILL Ethan1","BURCH Kathy11y/Re3",null,"4b","4a",null,null,"SBK",null,"10Y 3M"]
[{"$nulls":23},"11 ELM",null,"E-","HIND Lewis1","WEINER Marguerite11y/Re3",null,"4b","5b",null,null,"SBK",null,"14Y 8M"]
[{"$nulls":23},"11 SPRUCE",null,"C-","HITIMANA Benjamin1","PARROTT Marvin11y/Re3",null,"4a","4c",null,null,"SBK",null,"14Y 7M"]
[{"$nulls":23},"11 ASH",null,"G+","HOANG Kevin1","HENRY Alex11g/Re3",null,"3b","4b",null,null,"SBK",null,"12 yrs 1 mth"]
[{"$nulls":23},"11 ELM",null,"C+","HODGE Zachary1","GRAY Alexander11y/Re5",null,"5c","5c",null,null,"GGE",null,"13Y 2M"]
[{"$nulls":23},"11 OAK",null,"E-","HOLDEN Jamie1","MCLEAN Karl11r/Re2",null,"4a","4b",{"$nulls":4},"12Y 8M"]
[{"$nulls":23},"11 BEECH",null,"C","HOLDER Daniel1","EASON Laura11g/Re1",null,"4c","5c",null,null,"GGE",null,"11Y 5M"]
[{"$nulls":23},"11 TEAK",null,"E-","HOLLIS Luke2","WEEKS Melinda11y/Re5",null,"4b","4b",null,null,"GGE",null,"14Y 5M"]
[{"$nulls":23},"11 ROWAN",null,"E-","HOOTON Sophie1","SIEGEL Eva11y/Re2",null,"4a","5b",null,null,"GMT",null,"15Y 5M"]
[{"$nulls":23},"11 CEDAR",null,"E","HOPKINSON Megan2","PUCKETT Robert11r/Re2",null,"4a","5b",{"$nulls":4},"13Y 8M"]
[{"$nulls":23},"11 HOLLY",null,"C","HOWELL Megan2","HEATH Bill11g/Re1",null,"4a","4c",null,null,"GGE",null,"13Y 4M"]
[{"$nulls":23},"11 ROWAN",null,"A","HOWES Katie2","HOYLE Edna11y/Re1",null,"5c","4a",null,null,"RHE",null,"15Y 3M"]
[{"$nulls":23},"11 LARCH",null,"F+","HOY Jake1","GARRETT Clifford",null,"3b","2b",{"$nulls":4},"12Y 9M"]
[{"$nulls":23},"11 LARCH",null,"C+","HUGHES Abbey2","BAKER Glenda11r/Re2",null,"4c","3b",{"$nulls":4},"11Y 7M"]
[{"$nulls":23},"11 ROWAN",null,"B","HUMPHREY George2","GOLDMAN Arthur11y/Re2",null,"5b","5a",null,null,"GMT",null,"14Y 6M"]
[{"$nulls":23},"11 PINE",null,"B+","HUNT Georgia2","SHAFFER Wesley11y/Re2",null,"5c","5a",null,null,"GMT",null,"15 yrs 1 mth"]
[{"$nulls":23},"11 HOLLY",null,"C-","HUSSAIN Aliya1","CHOI Allison11g/Re2",null,"4c","4b",null,null,"KKA",null,"13Y 4M"]
[{"$nulls":23},"11 PINE",null,"G-","HUSSEIN Angie2","SHELTON Claire11y/Re3",null,"5b","5b",null,null,"SBK",null,"14Y 5M"]
[{"$nulls":23},"11 WILLOW",null,"D+","ILIFF Taylor1","HOUSE Jeremy11r/Re2",null,"4b","4a",{"$nulls":4},"14Y 3M"]
[{"$nulls":23},"11 HOLLY",null,"C","ISMAIL Jordan2","LYONS Christy11g/Re1",null,"4b","3b",null,null,"GGE",null,"13Y 8M"]
[{"$nulls":23},"11 HOLLY",null,"G-","JACKSON Hollie2","MOSER Wesley11g/Re3",null,"3b","4b",null,null,"SBK",null,"12Y 4M"]
[{"$nulls":23},"11 HOLLY",null,"D","JAMESON Amy2","DICKINSON Lucy11g/Re2",null,"3b","3b",null,null,"KKA",null,"12Y 9M"]
[{"$nulls":23},"11 OAK",null,"E+","JARVIS Danny2","ABBOTT Susan11r/Re4",null,"3a","2b",{"$nulls":4},"10Y 8M"]
[{"$nulls":23},"11 SPRUCE",null,"F-","JARVIS-FAY Adelle1","HOBBS Nancy11y/Re6",null,"4b","4b",null,null,"GMT",null,"15Y 4M"]
[{"$nulls":23},"11 HOLLY",null,"F+","JEEVES Chloe2","DODSON Monica11g/Re3",null,"3a","3b",null,null,"SBK",null,"12Y 5M"]
[{"$nulls":23},"11 OAK",null,"D+","JEFFKINS Ellie1","SPENCER Justin11r/Re4",null,"4b","3b",{"$nulls":4},"12Y 9M"]
[{"$nulls":23},"11 HOLLY",null,"C","JENKINS Harvey1","BURGESS Margaret11g/Re1",null,"4b","4b",null,null,"GGE",null,"13Y 7M"]
[{"$nulls":23},"11 ROWAN",null,"D-","JENNINGS Chloe2","LIU Philip11y/Re2",null,"4b","5c",null,null,"GMT",null,"14Y 3M"]
[{"$nulls":23},"11 ELM",null,"A*","JENNINGS Marianne1","WONG Miriam11y/Re6",null,"5c","5b",null,null,"GMT",null,"15Y"]
[{"$nulls":23},"11 LARCH",null,"D-","JOHNSON Aydan1","BLACKBURN Miriam11r/Re4",null,"3b","2b"]
[{"$nulls":23},"11 ELM",null,"C+","JOHNSON Daniel1","MCKAY Christopher11y/Re6",null,"5c","4a",null,null,"GMT",null,"15Y"]
[{"$nulls":23},"11 ELM",null,"B","KAJOMBO KASEKA Bruno1","MIDDLETON Joanna11y/Re3",null,"4b","5b",null,null,"SBK",null,"14Y 9M"]
[{"$nulls":23},"11 PINE",null,"A","KANDOLA Robbie1","REID Janice11y/Re4",null,"5c","4b",null,null,"KKA",null,"14Y 4M"]
[{"$nulls":23},"11 BEECH",null,"E+","KEEN Daniel1","BRASWELL Brian11g/Re2",null,"4c","4b",null,null,"KKA",null,"14Y"]
[{"$nulls":23},"11 SPRUCE",null,"B","KELLEHER Jessica2","STEELE Juan11y/Re1",null,"5b","5b",null,null,"RHE",null,"15Y 5M"]
[{"$nulls":23},"11 TEAK",null,"B","KELLY Casey1","BARRETT Tommy11y/Re3",null,"4b","4b",null,null,"SBK",null,"13 yrs 1 mth"]
[{"$nulls":23},"11 CEDAR",null,"E-","KERWICK Georgie2","NANCE Alice11r/Re2",null,"4b","4b",{"$nulls":4},"14Y 3M"]
[{"$nulls":23},"11 TEAK",null,"C+","KHAIRA Jagdeep1","WASHINGTON Adam11y/Re3",null,"4a","4b",null,null,"SBK",null,"15Y"]
[{"$nulls":23},"11 TEAK",null,"X","KILLICK Harry2","ROGERS Larry11y/Re2",null,"5c","4b",null,null,"GMT",null,"14Y 6M"]
[{"$nulls":23},"11 WILLOW",null,"D+","KING Jacob1","MCMAHON Angela11r/Re4",null,"4b","4b",{"$nulls":4},"13Y 3M"]
[{"$nulls":23},"11 BEECH",null,"G-","KINGSMAN Billy1","MILES Lawrence11g/Re3",null,"4b","4c",null,null,"SBK",null,"12Y 7M"]
[{"$nulls":23},"11 WILLOW",null,"F+","KORKMAZOGLU Ceren1","KRAMER Glen11r/Re4",null,"3b","3b",{"$nulls":4},"11 yrs 1 mth"]
[{"$nulls":23},"11 ROWAN",null,"A","LAING Amy2","JENNINGS Valerie11y/Re4",null,"5b","5b",null,null,"KKA",null,"14Y 6M"]
[{"$nulls":23},"11 LARCH",null,"D+","LAMAGNA-WELLS Francesco1","BOLTON Lillian11r/Re1",null,"4b","4b",{"$nulls":4},"14Y 6M"]
[{"$nulls":23},"11 BEECH",null,"F-","LAUNDY Megan2","HENDRIX Ashley11g/Re3",null,0,0,null,null,"SBK",null,"14Y 4M"]
[{"$nulls":23},"11 CEDAR",null,"D-","LEE Timothy1","NICHOLS Ian11r/Re4",null,"4b","4b",{"$nulls":4},"14Y"]
[{"$nulls":23},"11 ASH",null,"E-","LEEDS Peter1","SAUNDERS Gina11g/Re3",null,"4b","4b",null,null,"SBK",null,"9Y 6M"]
[{"$nulls":23},"11 BEECH",null,"E-","LEMOS Lisa1","LEHMAN Donna11g/Re2",null,"4a","5c",null,null,"KKA",null,"15 yrs 1 mth"]
[{"$nulls":23},"11 CEDAR",null,"F","LENNON Ethan1","SHERRILL Catherine11r/Re4",null,"W","W",{"$nulls":4},"8Y 3M"]
[{"$nulls":23},"11 ELM",null,"B-","LEWIS Alfie2","CASH Lester11y/Re2",null,"4b","5b",null,null,"GMT",null,"14Y 6M"]
[{"$nulls":23},"11 LARCH",null,"G-","LODGE Archie1","PITTMAN Jacob11r/Re3",null,"4c","3a",{"$nulls":4},"8Y 3M"]
[{"$nulls":23},"11 ASH",null,"D-","LOWE Jack1","SULLIVAN Nancy11g/Re3",null,"4b","4b",null,null,"SBK",null,"13Y 7M"]
[{"$nulls":23},"11 LARCH",null,"E-","LUDLOW Shae1","MACK Lloyd11r/Re2",null,"3b","4b",{"$nulls":4},"11Y 6M"]
[{"$nulls":23},"11 PINE",null,"B+","MANAK Joe1","RICE Donna11y/Re1",null,"5b","5b",null,null,"RHE",null,"14Y 7M"]
[{"$nulls":23},"11 ROWAN",null,"G-","MASSEY Bayley1","CHERRY Wendy11y/Re4",null,"4b","5b",null,null,"KKA",null,"14Y 3M"]
[{"$nulls":23},"11 SPRUCE",null,"B-","MASTERS Megan2","RICHMOND Lucille11y/Re4",null,"5b","5c",null,null,"KKA",null,"15Y 6M"]
[{"$nulls":23},"11 WILLOW",null,"D-","MCALONEN Keaton1","YORK Virginia11r/Re3",null,"5c","4b",{"$nulls":4},"11Y 2M"]
[{"$nulls":23},"11 LARCH",null,"E+","MCCARTHY Nathan2","WILEY Bruce11r/Re2",null,"2b","4c",{"$nulls":4},"9Y 8M"]
[{"$nulls":23},"11 ASH",null,"C-","MCINTOSH Lucy2","REED Geoffrey11g/Re3",null,"3a","3c",null,null,"SBK",null,"12Y 9M"]
[{"$nulls":23},"11 ASH",null,"D-","MCKINNON Ashleigh1","NASH Tiffany11g/Re3",null,"3b","3b",null,null,"SBK",null,"11Y 9M"]
[{"$nulls":23},"11 CEDAR",null,"D+","MCLAREN Lauren1","STARR Melinda11r/Re2",null,"5c","4b",{"$nulls":4},"15Y"]
[{"$nulls":23},"11 LARCH",null,"C-","MCLELLAN-WHITE Alice1","HOLLAND Julie11r/Re1",null,"4b","4b",{"$nulls":4},"13Y 7M"]
[{"$nulls":23},"11 LARCH",null,"C+","MILLS Laynie2","CLEMENTS Karen11r/Re4",null,"4a","4c",{"$nulls":4},"12Y 2M"]
[{"$nulls":23},"11 WILLOW",null,"D","MILSOM Luke1","SCHULTZ Judy11r/Re1",null,"4c","5c",{"$nulls":4},"13Y 3M"]
[{"$nulls":23},"11 BEECH",null,"C-","MITCHELL Sian1","HAWLEY Raymond11g/Re1",null,"4b","4b",null,null,"GGE",null,"12Y 4M"]
[{"$nulls":23},"11 LARCH",null,"F+","MITCHESON Daniel1","SKINNER Julie11r/Re1",null,"4b","4b",{"$nulls":4},"12Y 3M"]
[{"$nulls":23},"11 HOLLY",null,"E","MORGAN Julie1","WINTERS Colleen",null,"3c","N",{"$nulls":4},"9Y 9M"]
[{"$nulls":23},"11 ELM",null,"B","MUGISA Destiny1","DOLAN Judith11y/Re2",null,"5c","5c",null,null,"GMT",null,"14 yrs 1 mth"]
[{"$nulls":23},"11 CEDAR",null,"C-","MURPHY Amy2","TURNER Luis11r/Re2",null,"5c","4b",{"$nulls":4},"14Y 5M"]
[{"$nulls":23},"11 ASH",null,"E-","MURPHY Shannon2","BEATTY Bradley11g/Re2",null,"4b","4a",null,null,"KKA",null,"10Y 7M"]
[{"$nulls":23},"11 ASH",null,"C-","MURSELAJ Jasmine2","DOUGLAS Glenda11g/Re1",null,"4b","4b",null,null,"GGE",null,"14 yrs 1 mth"]
[{"$nulls":23},"11 SPRUCE",null,"C","MUSPRATT Philip2","BYRNE Brent11y/Re6",null,"4a","5a",null,null,"GMT",null,"13Y 4M"]
[{"$nulls":23},"11 OAK",null,"D","NICHOLLS Aaron1","MAYER Sharon11r/Re2",null,"4c","4a",{"$nulls":4},"14Y 2M"]
[{"$nulls":23},"11 SPRUCE",null,"C","NITCHEU Siefu1","COCHRAN Mary11y/Re2",null,"4b","5c",null,null,"GMT",null,"15Y 2M"]
[{"$nulls":23},"11 ROWAN",null,"E-","OBODE Samuel1","JENSEN Geraldine11y/Re1",null,"5c","5c",null,null,"RHE",null,"14 yrs 1 mth"]
[{"$nulls":23},"11 ELM",null,"B-","ODIGIE Erunmwunse2","YATES Rita11y/Re5",null,"5c","4a",null,null,"GGE",null,"14Y 7M"]
[{"$nulls":23},"11 OAK",null,"C","O'HALLORAN Harri-Marie1","HAYNES Annie11r/Re4",null,"2a","3a",{"$nulls":4},"10Y 4M"]
[{"$nulls":23},"11 TEAK",null,"A*1","OKORONKWO Imanuella2","HARMON Ruth11y/Re1",null,"5c","4b",null,null,"RHE",null,"15Y 6M"]
[{"$nulls":23},"11 BEECH",null,"E-","O'NEILL Kayleigh1","BAREFOOT Jane11g/Re2",null,"4c","3b",null,null,"KKA",null,"15Y 3M"]
[{"$nulls":23},"11 PINE",null,"A*","ONILEERE Aminat1","GROSS Kimberly11y/Re1",null,0,0,null,null,"RHE",null,"15Y 5M"]
[{"$nulls":23},"11 ASH",null,"C","OSBORNE Benjamin1","PICKETT Kenneth11g/Re1",null,"4b","4b",null,null,"GGE",null,"14Y 4M"]
[{"$nulls":23},"11 HOLLY",null,"D","PAGE Callum2","SINGLETON Jim11g/Re2",null,"4b","4b",null,null,"KKA",null,"14 yrs 1 mth"]
[{"$nulls":23},"11 PINE",null,"A","PARSONS Maria2","BALLARD Steven11y/Re3",null,"5b","5c",null,null,"SBK",null,"15Y 3M"]
[{"$nulls":23},"11 BEECH",null,"E-","PASKINS George1","SPIVEY Pauline11g/Re2",null,"4b","4b",null,null,"KKA",null,"14Y 2M"]
[{"$nulls":23},"11 ASH",null,"G+","PEARCE James1","MANGUM Lynne",null,"2b","2b",{"$nulls":4},"8Y 7M"]
[{"$nulls":23},"11 PINE",null,"A*","PEEL Sophie2","MCCALL Rose11y/Re1",null,"5b","5b",null,null,"RHE",null,"15Y 8M"]
[{"$nulls":23},"11 ROWAN",null,"B-","PEPPER Courteney1","POLLARD Kathy11y/Re5",null,"4a","5b",null,null,"GGE",null,"15Y 9M"]
[{"$nulls":23},"11 SPRUCE",null,"C+","PETTITT Deven1","GARCIA Catherine11y/Re1",null,"4a","5b",null,null,"RHE",null,"15Y 3M"]
[{"$nulls":23},"11 LARCH",null,"G-","PETTITT Jake1","CRANE Diana11r/Re3",null,"3a","3b",{"$nulls":4},"14Y 8M"]
[{"$nulls":23},"11 ELM",null,"E-","PHEASANT Ben1","CRANE Marian11y/Re3",null,"4b","5b",null,null,"SBK",null,"14Y 6M"]
[{"$nulls":23},"11 ELM",null,"B+","PHILLIPS Jordan1","DIAZ Sheryl11y/Re3",null,"4a","5b",null,null,"SBK"]
[{"$nulls":23},"11 HOLLY",null,"C-","PIDDINGTON Ellie2","CAREY Vivian11g/Re2",null,"3b","3a",null,null,"KKA",null,"12Y 2M"]
[{"$nulls":23},"11 ROWAN",null,"D","POSUNIAK Patryk1","LI Harold11y/Re5",null,"4b","5b",null,null,"GGE",null,"14Y"]
[{"$nulls":23},"11 CEDAR",null,"B-","POWELL Shane1","MILLS Vicki11r/Re1",null,"5b","4b",{"$nulls":4},"12Y 5M"]
[{"$nulls":23},"11 OAK",null,"C+","QUILALA Angela2","MCDONALD Alvin11r/Re3",null,"4a","4b",{"$nulls":4},"14Y 4M"]
[{"$nulls":23},"11 OAK",null,"F-","RANDALL Jordon1","MOORE Jacob",null,"3a","3c",{"$nulls":4},"11Y 9M"]
[{"$nulls":23},"11 WILLOW",null,"G+","RATCLIFF Aaron1","LANIER Audrey11r/Re2",null,"4b","4b",{"$nulls":4},"13Y 6M"]
[{"$nulls":23},"11 WILLOW",null,"C-","READ Nathan1","HARRIS Christina11r/Re1",null,"4b","4a",{"$nulls":4},"13Y 7M"]
[{"$nulls":23},"11 LARCH",null,"D+","READ Sam1","UNDERWOOD Joseph11r/Re2",null,"4a","4c",{"$nulls":4},"13Y"]
[{"$nulls":23},"11 PINE",null,"C-","REAVILL Billy1","PARSONS Evelyn11y/Re6",null,"5c","5b",null,null,"GMT",null,"15Y"]
[{"$nulls":23},"11 PINE",null,"C","REID Jamie1","BANKS Ben11y/Re3",null,"5b","5a",null,null,"SBK",null,"15Y 5M"]
[{"$nulls":23},"11 ROWAN",null,"D-","REID Molly2","SHERRILL Dorothy11y/Re2",null,"5c","5b",null,null,"GMT",null,"13Y 7M"]
[{"$nulls":23},"11 CEDAR",null,"C+","RHODEN Kieran1","OAKLEY Theresa11r/Re1",null,"4b","3c",{"$nulls":4},"14Y 9M"]
[{"$nulls":23},"11 ELM",null,"E-","RICHARDS Danielle1","MAYNARD Barry11y/Re3",null,"4b","4a",null,null,"SBK",null,"14Y 7M"]
[{"$nulls":23},"11 CEDAR",null,"D-","RICKMAN Harry1","HILL Jerome11r/Re1",null,"4b","4b",{"$nulls":4},"12Y 5M"]
[{"$nulls":23},"11 BEECH",null,"D-","RIVERS Charlie1","LIVINGSTON Jason",null,"4c","4c"]
[{"$nulls":23},"11 PINE",null,"B-","ROBINS Daniel1","LAM Norman11y/Re3",null,"5c","5b",null,null,"SBK",null,"15Y 2M"]
[{"$nulls":23},"11 WILLOW",null,"C-","ROWLAND Jade1","THOMPSON Glen11r/Re3",null,"4c","4c",{"$nulls":4},"13Y 3M"]
[{"$nulls":23},"11 LARCH",null,"G","RUSSELL Amber1","CREECH Ellen11r/Re3",null,"2c","3c",{"$nulls":4},"12 yrs 1 mth"]
[{"$nulls":23},"11 TEAK",null,"C+","RUSSELL Paul1","DILLON Dianne11y/Re5",null,"4b","4b",null,null,"GGE",null,"13Y 7M"]
[{"$nulls":23},"11 WILLOW",null,"D-","SAHOTA Callum2","FOSTER Harry11r/Re3",null,"4b","3a",{"$nulls":4},"12Y 2M"]
[{"$nulls":23},"11 PINE",null,"A","SAN Katie2","STARR Tim11y/Re1",null,"5b","5b",null,null,"RHE",null,"15Y 5M"]
[{"$nulls":23},"11 CEDAR",null,"C","SANGAR Sade2","BARBOUR Eddie11r/Re2",null,"3b","4b",{"$nulls":4},"14Y 2M"]
[{"$nulls":23},"11 ROWAN",null,"C-","SANGHA Naveena2","BURKE Arnold11y/Re6",null,"4b","4a",null,null,"GMT",null,"15Y"]
[{"$nulls":23},"11 ASH",null,"G","SAUNDERS Ashley1","RITCHIE Melanie11g/Re4",null,"3b","3b",null,null,"GMT",null,"7Y 8M"]
[{"$nulls":23},"11 PINE",null,"B","SAUROSI Tadiwanashe1","ODOM Ronald11y/Re2",null,"5b","5b",null,null,"GMT",null,"15Y 3M"]
[{"$nulls":23},"11 OAK",null,"B-","SAWYER Cicarna-Lee2","ROSENBERG Peter11r/Re2",null,"4c","4b",{"$nulls":4},"13Y"]
[{"$nulls":23},"11 ROWAN",null,"A","SCOTT Charlotte1","GARRETT Jean11y/Re5",null,"4a","5b",null,null,"GGE",null,"15Y"]
[{"$nulls":23},"11 LARCH",null,"B-","SEHMI Natalie2","CATES Tracy11r/Re1",null,"4b","4b",{"$nulls":4},"12Y 4M"]
[{"$nulls":23},"11 PINE",null,"C+","SHAW William1","OLSON Emma11y/Re4",null,"4b","5b",null,null,"KKA",null,"14Y 7M"]
[{"$nulls":23},"11 WILLOW",null,"E+","SHEPARD Billy-Joe1","COX Molly11r/Re3",null,"2b","2b",{"$nulls":4},"10Y 5M"]
[{"$nulls":23},"11 SPRUCE",null,"G+","SHERREN Sam1","ERICKSON Carlos11y/Re6",null,"4c","5b",null,null,"GMT",null,"14Y 9M"]
[{"$nulls":23},"11 PINE",null,"B-","SLATER Matthew1","BRIGGS Andrew11y/Re1",null,"4a","5c",null,null,"RHE",null,"15Y 3M"]
[{"$nulls":23},"11 WILLOW",null,"D-","SLATTERY Alexandria1","KLEIN Bill11r/Re1",null,"4b","4b",{"$nulls":4},"12Y"]
[{"$nulls":23},"11 HOLLY",null,"G-","SMALL Morgan2","GOLDBERG Eileen11g/Re2",null,"3a","4a",null,null,"KKA",null,"12Y 5M"]
[{"$nulls":23},"11 LARCH",null,"E-","SMERECZYNSKI Dominik1","HINSON Randall11r/Re2",null,"3a","4b",{"$nulls":4},"12Y 4M"]
[{"$nulls":23},"11 BEECH",null,"G+","SMERECZYNSKI Patryk1","WEISS Kelly",null,"3c","4b",null,null,"GMT",null,"11Y 9M"]
[{"$nulls":23},"11 BEECH",null,"E","SMITH Jade2","PRITCHARD Elaine11g/Re3",null,"4b","4b",null,null,"SBK",null,"13Y 6M"]
[{"$nulls":23},"11 OAK",null,"C+","SMITH Jordanna2","GOLDMAN Rhonda11r/Re2",null,"4a","4b",{"$nulls":4},"14Y 8M"]
[{"$nulls":23},"11 WILLOW",null,"C-","SMITH Katie2","LASSITER Leo11r/Re2",null,"3b","4b",{"$nulls":4},"11Y 9M"]
[{"$nulls":23},"11 CEDAR",null,"U","SMITH Kieran1","MASSEY Clarence11r/Re3",null,"3b","4b",{"$nulls":4},"8Y 6M"]
[{"$nulls":23},"11 ROWAN",null,"B","SMITH Megan4","STARK Grace11y/Re5",null,"4b","4a",null,null,"GGE",null,"15Y 6M"]
[{"$nulls":23},"11 HOLLY",null,"G-","SMITH Peter2","DUNLAP Jordan11g/Re3",null,"3b","4b",null,null,"SBK",null,"11Y 2M"]
[{"$nulls":23},"11 ASH",null,"F","STACEY Leah2","HUMPHREY Glenda11g/Re1",null,"4a","4a",null,null,"GGE",null,"14Y"]
[{"$nulls":23},"11 CEDAR",null,"C","STEPHENS Kimberley1","SINGLETON Jacob11r/Re1",null,"4b","4a",{"$nulls":4},"11Y 9M"]
[{"$nulls":23},"11 SPRUCE",null,"C+","STONE Chloe2","HOROWITZ Jordan11y/Re4",null,"4a","5c",null,null,"KKA",null,"13Y 9M"]
[{"$nulls":23},"11 LARCH",null,"D","STUCHBURY Leslie1","HOOVER Joanna11r/Re1",null,"4b","3b",{"$nulls":4},"11Y 7M"]
[{"$nulls":23},"11 OAK",null,"D-","SULLIVAN Barney1","KANG Sandra11r/Re1",null,"4a","4b",{"$nulls":4},"10Y 9M"]
[{"$nulls":23},"11 HOLLY",null,"G+","SWAN Callum2","MELTON Stephen11g/Re4",null,"2a","2c",null,null,"GMT",null,"13Y 4M"]
[{"$nulls":23},"11 SPRUCE",null,"D","SWANDALE George2","TEAGUE Jessica11y/Re2",null,"4b","5b",null,null,"GMT",null,"14Y 9M"]
[{"$nulls":23},"11 SPRUCE",null,"C","SWANNELL Sam2","ELLINGTON Regina11y/Re4",null,"4b","4b",null,null,"KKA",null,"13Y 4M"]
[{"$nulls":23},"11 WILLOW",null,"E-","TABER Sam1","JENNINGS Joyce11r/Re3",null,"4b","3c",{"$nulls":4},"12Y 8M"]
[{"$nulls":23},"11 OAK",null,"F","TAPLIN Ben1","ALBRIGHT Betty11r/Re3",null,"4b","5b",{"$nulls":4},"13Y 6M"]
[{"$nulls":23},"11 ASH",null,"D-","TAPPENDEN Jamie1","ALSTON Jerry11g/Re4",null,"2b","3c",null,null,"GMT",null,"8Y 3M"]
[{"$nulls":23},"11 OAK",null,"D","THOMAS Ethan1","BURNETTE Tommy11r/Re3",null,"4b","4b",{"$nulls":4},"12Y 9M"]
[{"$nulls":23},"11 PINE",null,"C+","THOMPSON Ellie2","O'NEAL Alan11y/Re2",null,"4a","5c",null,null,"GMT",null,"15Y 4M"]
[{"$nulls":23},"11 ELM",null,"B-","THOMPSON Riley2","MORRIS Christina11y/Re2",null,"5b","5b",null,null,"GMT",null,"14Y 4M"]
[{"$nulls":23},"11 WILLOW",null,"D+","THORPE Elizabeth1","CALLAHAN Veronica11r/Re1",null,"4b","3b",{"$nulls":4},"13 yrs 1 mth"]
[{"$nulls":23},"11 ELM",null,"F-","TIMMS James1","CONWAY Kelly11y/Re4",null,"5b","5b",null,null,"KKA",null,"15Y 4M"]
[{"$nulls":23},"11 WILLOW",null,"F+","TINDALL-BLYTH Oliver1","GLOVER George11r/Re3",null,"4b","4c",{"$nulls":4},"14Y 2M"]
[{"$nulls":23},"11 ELM",null,"B+","TOMBS Shannon1","SAVAGE Nina11y/Re1",null,"4a","4b",null,null,"RHE",null,"15Y"]
[{"$nulls":23},"11 OAK",null,"C-","TURNER Liberty2","WANG Jay11r/Re1",null,"4b","4a",{"$nulls":4},"14Y"]
[{"$nulls":23},"11 SPRUCE",null,"C-","TURNER Luke1","BARBOUR Brenda11y/Re6",null,"4a","5c",null,null,"GMT",null,"14Y 3M"]
[{"$nulls":23},"11 TEAK",null,"A","UKANDU Jessica2","SHERRILL Joshua11y/Re5",null,"4b","4b",null,null,"GGE",null,"13Y"]
[{"$nulls":23},"11 OAK",null,"E+","URQUHART Ryan1","PIERCE Nelson11r/Re4",null,"2b","2b",{"$nulls":4},"9Y 6M"]
[{"$nulls":23},"11 ASH",null,"E-","VANDEPEER Chloe2","WOODWARD Vincent11g/Re2",null,"3a","3a",null,null,"KKA",null,"11Y"]
[{"$nulls":23},"11 HOLLY",null,"X","VURDU Ozan1","LANGSTON Hannah11g/Re4",null,"2b","3b",null,null,"GMT",null,"10Y 9M"]
[{"$nulls":23},"11 ASH",null,"C","WADDELL Annie2","EATON Alice11g/Re3",null,"4c","4a",null,null,"SBK",null,"14Y 4M"]
[{"$nulls":23},"11 SPRUCE",null,"E+","WARD Jonathan1","LOWE Elisabeth11y/Re3",null,"4a","5b",null,null,"SBK",null,"14 yrs 1 mth"]
[{"$nulls":23},"11 ROWAN",null,"C+","WARREN Charlie1","STANTON Matthew11y/Re5",null,"4a","5c",null,null,"GGE",null,"14 yrs 1 mth"]
[{"$nulls":23},"11 SPRUCE",null,"B-","WATERS Rebecca2","FULLER Thomas11y/Re4",null,"4a","5b",null,null,"KKA",null,"15Y 4M"]
[{"$nulls":23},"11 ELM",null,"C","WATSHAM Samuel2","SIMMONS Benjamin11y/Re4",null,"4a","5c",null,null,"KKA",null,"14Y 6M"]
[{"$nulls":23},"11 PINE",null,"C+","WEATHERLEY Sydney1","SCHULTZ Kristine11y/Re6",null,"4a","5c",null,null,"GMT",null,"11Y"]
[{"$nulls":23},"11 CEDAR",null,"E+","WHITE Emily-Jo2","KNIGHT Jordan11r/Re4",null,"4b","4c",{"$nulls":4},"12Y 3M"]
[{"$nulls":23},"11 PINE",null,"B+","WHITE Macauley1","SCHROEDER Floyd11y/Re3",null,"5c","5a",null,null,"SBK",null,"13Y 7M"]
[{"$nulls":23},"11 ROWAN",null,"E-","WHITE Ryan2","TURNER Virginia11y/Re6",null,"5b","5b",null,null,"GMT",null,"15Y"]
[{"$nulls":23},"11 PINE",null,"B","WHITEHEAD George1","FRENCH Deborah11y/Re5",null,"5b","5b",null,null,"GGE",null,"13Y 6M"]
[{"$nulls":23},"11 HOLLY",null,"D-","WILKINSON Molly-Mae2","HUGHES Peter11g/Re3",null,"4a","3b",null,null,"SBK",null,"11Y 3M"]
[{"$nulls":23},"11 WILLOW",null,"D+","WILLIAMS Grace1","PATE Bernard11r/Re2",null,"4b","4c",{"$nulls":4},"14Y 3M"]
[{"$nulls":23},"11 LARCH",null,"E+","WILLIS Demi2","BURNETT Harold11r/Re3",null,"2b","2b"]
[{"$nulls":23},"11 ROWAN",null,"B","WILSON Megan2","FRANCIS Gretchen11y/Re1",null,"4a","4a",null,null,"RHE",null,"15Y 3M"]
[{"$nulls":23},"11 OAK",null,"D-","WITCHLOW Jemma1","HORN Cheryl11r/Re4",null,"3b","3a",{"$nulls":4},"10Y 9M"]
[{"$nulls":23},"11 WILLOW",null,"D+","WOOD Chevonne2","FORREST Audrey11r/Re4",null,"5c","4b",{"$nulls":4},"14 yrs 1 mth"]
[{"$nulls":23},"11 TEAK",null,"C-","WOODBRIDGE Ryan2","LEVIN Alan11y/Re2",null,"4b","4b",null,null,"GMT",null,"15Y"]
[{"$nulls":23},"11 HOLLY",null,"C-","WRIGHT Caitlin2","DURHAM Nancy11g/Re3",null,"4c","4c",null,null,"SBK",null,"13Y 5M"]
[{"$nulls":23},"11 TEAK",null,"A*1","YATES Safara2","GUTHRIE Peter11y/Re1",null,"5b","5b",null,null,"RHE",null,"15Y 7M"]
[{"$nulls":23},"11 TEAK",null,"A","YORK Eleanor1","HENSLEY Benjamin11y/Re4",null,"4a","4a",null,null,"KKA",null,"13Y 3M"]

{"sheet":"class2","index":7,"n_rows":345,"n_cols":229,"rows_kept":345,"hidden":true,"merged":[[0,8,1,11],[0,20,0,22],[1,13,1,16],[1,20,1,22],[2,8,2,11],[2,13,2,16],[2,20,2,22],[3,8,3,9],[3,10,3,11],[3,13,3,14],[3,15,3,16],[3,20,3,22],[4,8,4,9],[4,10,4,11],[4,13,4,14],[4,15,4,16],[4,20,4,22],[5,8,5,9],[5,10,5,11],[5,13,5,14],[5,15,5,16],[5,20,5,22],[6,8,6,9],[6,10,6,11],[6,13,6,14],[6,15,6,16],[6,20,6,22],[7,20,7,22],[8,20,8,22],[11,51,12,51],[13,51,14,51],[15,25,16,28],[15,29,16,32],[15,38,16,41],[15,42,16,45],[15,227,15,235],[16,227,16,235],[17,25,17,28],[17,29,17,32],[17,38,17,41],[17,42,17,45],[18,25,18,26],[18,27,18,28],[18,29,18,30],[18,31,18,32],[18,38,18,39],[18,40,18,41],[18,42,18,43],[18,44,18,45],[18,228,18,235],[19,25,19,26],[19,27,19,28],[19,29,19,30],[19,31,19,32],[19,38,19,39],[19,40,19,41],[19,42,19,43],[19,44,19,45],[19,51,21,51],[19,228,19,235],[20,25,20,26],[20,27,20,28],[20,29,20,30],[20,31,20,32],[20,38,20,39],[20,40,20,41],[20,42,20,43],[20,44,20,45],[20,228,20,235],[21,25,21,26],[21,27,21,28],[21,29,21,30],[21,31,21,32],[21,38,21,39],[21,40,21,41],[21,42,21,43],[21,44,21,45],[21,228,21,235],[22,25,23,28],[22,29,23,32],[22,38,23,41],[22,42,23,45],[22,51,23,51],[22,228,22,235],[23,228,23,235],[24,25,24,28],[24,29,24,32],[24,38,24,41],[24,42,24,45],[24,228,24,235],[25,25,25,26],[25,27,25,28],[25,29,25,30],[25,31,25,32],[25,38,25,39],[25,40,25,41],[25,42,25,43],[25,44,25,45],[25,228,25,235],[26,25,26,26],[26,27,26,28],[26,29,26,30],[26,31,26,32],[26,38,26,39],[26,40,26,41],[26,42,26,43],[26,44,26,45],[26,228,26,235],[27,25,27,26],[27,27,27,28],[27,29,27,30],[27,31,27,32],[27,38,27,39],[27,40,27,41],[27,42,27,43],[27,44,27,45],[27,228,27,235],[28,25,28,26],[28,27,28,28],[28,29,28,30],[28,31,28,32],[28,38,28,39],[28,40,28,41],[28,42,28,43],[28,44,28,45],[28,228,28,235],[29,228,29,235],[30,228,30,235],[31,228,31,235],[32,228,32,235],[33,12,34,15],[33,16,34,19],[33,25,34,28],[33,29,34,32],[33,38,34,41],[33,42,34,45],[33,228,33,235],[34,228,34,235],[35,12,35,15],[35,16,35,19],[35,25,35,28],[35,29,35,32],[35,38,35,41],[35,42,35,45],[35,228,35,235],[36,12,36,13],[36,14,36,15],[36,16,36,17],[36,18,36,19],[36,25,36,26],[36,27,36,28],[36,29,36,30],[36,31,36,32],[36,38,36,39],[36,40,36,41],[36,42,36,43],[36,44,36,45],[36,228,36,235],[37,12,37,13],[37,14,37,15],[37,16,37,17],[37,18,37,19],[37,25,37,26],[37,27,37,28],[37,29,37,30],[37,31,37,32],[37,38,37,39],[37,40,37,41],[37,42,37,43],[37,44,37,45],[37,228,37,235],[38,12,38,13],[38,14,38,15],[38,16,38,17],[38,18,38,19],[38,25,38,26],[38,27,38,28],[38,29,38,30],[38,31,38,32],[38,38,38,39],[38,40,38,41],[38,42,38,43],[38,44,38,45],[38,228,38,235],[39,12,39,13],[39,14,39,15],[39,16,39,17],[39,18,39,19],[39,25,39,26],[39,27,39,28],[39,29,39,30],[39,31,39,32],[39,38,39,39],[39,40,39,41],[39,42,39,43],[39,44,39,45],[39,228,39,235],[40,12,41,15],[40,16,41,19],[40,25,41,28],[40,29,41,32],[40,38,41,41],[40,42,41,45],[40,228,40,235],[41,228,41,235],[42,12,42,15],[42,16,42,19],[42,25,42,28],[42,29,42,32],[42,38,42,41],[42,42,42,45],[42,228,42,235],[43,12,43,13],[43,14,43,15],[43,16,43,17],[43,18,43,19],[43,25,43,26],[43,27,43,28],[43,29,43,30],[43,31,43,32],[43,38,43,39],[43,40,43,41],[43,42,43,43],[43,44,43,45],[43,228,43,235],[44,12,44,13],[44,14,44,15],[44,16,44,17],[44,18,44,19],[44,25,44,26],[44,27,44,28],[44,29,44,30],[44,31,44,32],[44,38,44,39],[44,40,44,41],[44,42,44,43],[44,44,44,45],[44,228,44,235],[45,12,45,13],[45,14,45,15],[45,16,45,17],[45,18,45,19],[45,25,45,26],[45,27,45,28],[45,29,45,30],[45,31,45,32],[45,38,45,39],[45,40,45,41],[45,42,45,43],[45,44,45,45],[45,228,45,235],[46,12,46,13],[46,14,46,15],[46,16,46,17],[46,18,46,19],[46,25,46,26],[46,27,46,28],[46,29,46,30],[46,31,46,32],[46,38,46,39],[46,40,46,41],[46,42,46,43],[46,44,46,45],[46,228,46,235],[47,12,48,15],[47,16,48,19],[47,25,48,28],[47,29,48,32],[47,38,48,41],[47,42,48,45],[47,228,47,235],[48,228,48,235],[49,12,49,15],[49,16,49,19],[49,25,49,28],[49,29,49,32],[49,38,49,41],[49,42,49,45],[49,228,49,235],[50,12,50,13],[50,14,50,15],[50,16,50,17],[50,18,50,19],[50,25,50,26],[50,27,50,28],[50,29,50,30],[50,31,50,32],[50,38,50,39],[50,40,50,41],[50,42,50,43],[50,44,50,45],[50,228,50,235],[51,12,51,13],[51,14,51,15],[51,16,51,17],[51,18,51,19],[51,25,51,26],[51,27,51,28],[51,29,51,30],[51,31,51,32],[51,38,51,39],[51,40,51,41],[51,42,51,43],[51,44,51,45],[51,228,51,235],[52,12,52,13],[52,14,52,15],[52,16,52,17],[52,18,52,19],[52,25,52,26],[52,27,52,28],[52,29,52,30],[52,31,52,32],[52,38,52,39],[52,40,52,41],[52,42,52,43],[52,44,52,45],[53,12,53,13],[53,14,53,15],[53,16,53,17],[53,18,53,19],[53,25,53,26],[53,27,53,28],[53,29,53,30],[53,31,53,32],[53,38,53,39],[53,40,53,41],[53,42,53,43],[53,44,53,45],[56,43,59,48],[74,18,76,25],[74,26,76,29],[154,18,156,25],[154,26,156,29],[253,18,255,25],[253,26,255,29],[339,18,341,25],[339,26,341,29],[444,18,446,25],[444,26,446,29],[551,18,553,25],[551,26,553,29],[662,18,664,25],[662,26,664,29],[728,18,730,25],[728,26,730,29],[815,19,817,26],[815,27,817,30],[914,19,916,26],[914,27,916,30],[1000,19,1002,26],[1000,27,1002,30],[1105,19,1107,26],[1105,27,1107,30],[1212,19,1214,26],[1212,27,1214,30],[1323,19,1325,26],[1323,27,1325,30]]}
[{"$f":"Main!H2","v":"SPR 1"},0,1,null,{"$f":"IFERROR(IF(SEARCH(\"7\",BA10)=1,7),\"\")","v":""},{"$f":"IFERROR(IF(SEARCH(\"8\",BA10)=1,8),\"\")","v":8},{"$f":"IFERROR(IF(SEARCH(\"9\",BA10)=1,9),\"\")","v":""},{"$f":"IFERROR(IF(SEARCH(\"10\",BA10)=1,10),\"\")","v":""},{"$f":"IFERROR(IF(SEARCH(\"11\",BA10)=1,11),\"\")","v":""},{"$nulls":3},64,{"$f":"IF(ISODD(M1),\"Disable Table Creation\",\"Enable Table Creation\")","v":"Enable Table Creation"},1,{"$nulls":5},"hide/show needs",null,null,"0to1",0,{"$nulls":29},"Aut 1",{"$nulls":13},"Classlist",{"$nulls":7},"Classlist",{"$nulls":11},"Classlist"]
[{"$nulls":20},"hide/show c/grade",null,null,"2to3",3,{"$nulls":29},"Aut 2",{"$nulls":13},"Classlist",{"$nulls":7},"Classlist",{"$nulls":11},"Classlist"]
[null,null,{"$f":"MATCH(I2&$AZ$14,name&Group2,0)","v":{"$error":"#N/A"}},{"$nulls":5},{"$f":"IFERROR(IF($Y$1=1,\"\",VLOOKUP(I1,needstable,8,FALSE)),\"\")","v":"    "},{"$nulls":4},"",{"$nulls":6},"hide/show KS2",null,null,"4to5",5,{"$nulls":29},"Spr 1",{"$nulls":13},"Classlist",{"$nulls":7},"Classlist",{"$nulls":11},"Classlist"]
[{"$nulls":8},"C/grade",null,{"$f":"Sheet2rng!$D$1","v":"KS2"},null,null,"C/grade",null,"KS2",{"$nulls":4},"hide/show target",null,null,"6to7",7,{"$nulls":29},"Spr 2",{"$nulls":13},"Classlist",{"$nulls":7},"Classlist",{"$nulls":11},"Classlist"]
[{"$nulls":8},{"$f":"IFERROR(IF($Y$2=2,\"\",IF($Y$2=3,INDEX(indexdatabase,MATCH(I1&$AZ$14,name&Group2,0),MATCH($AZ$23,Sheet2rng!$A$1:$AK$1,0)))),\"\")","v":""},null,{"$f":"IFERROR(IF($Y$3=4,\"\",IF($Y$3=5,INDEX(indexdatabase,MATCH(I1&$AZ$14,name&Group2,0),MATCH($P$4,Sheet2rng!$A$1:$AK$1,0)))),\"\")","v":""},null,null,"",null,"",{"$nulls":4},"hide/show AR",null,null,"8to9",9,{"$nulls":29},"Sum 1",{"$nulls":13},"Classlist",{"$nulls":7},"Classlist",{"$nulls":11},"Classlist"]
[{"$nulls":8},{"$f":"Sheet2rng!$C$1","v":"Target"},null,{"$f":"Sheet2rng!$E$1","v":"AR"},null,null,"Target",null,"AR",{"$nulls":38},"Sum 2",{"$nulls":13},"Classlist",{"$nulls":7},"Classlist",{"$nulls":11},"Classlist"]
[{"$nulls":8},{"$f":"IFERROR(IF($Y$4=6,\"\",IF($Y$4=7,INDEX(indexdatabase,MATCH(I1&$AZ$14,name&Group2,0),MATCH($N$6,Sheet2rng!$A$1:$AK$1,0)))),\"\")","v":""},null,{"$f":"IFERROR(IF($Y$5=8,\"\",IF($Y$5=9,INDEX(Sheet2rng,MATCH(I1&$AZ$14,name&Group2,0),MATCH($P$6,sheet2columns,0)))),\"\")","v":""},null,null,"",null,"",{"$nulls":52},"Classlist",{"$nulls":7},"Classlist",{"$nulls":11},"Classlist"]
[{"$nulls":68},"Classlist",{"$nulls":7},"Classlist",{"$nulls":11},"Classlist"]
[{"$nulls":11},{"$f":"AZ23","v":"SPR 1"},{"$nulls":56},"Classlist",{"$nulls":7},"Classlist",null,{"$f":"IFERROR(INDEX(indexdatabase,MATCH(I2&$AZ$14,name&Group2,0),MATCH($A$1,Sheet2rng!$F$1:$K$1,0)+27),\"\")","v":""},{"$f":"IF(OR(AZ27=\"Aut 1\",AZ27=\"Aut 2\",AZ27=\"Spr 1\"),1,2)","v":1},{"$f":"IF(AZ4018=\"Sum 2\",3,\"\")","v":""},{"$f":"IFERROR(INDEX(Sheet2rng!$A$1:$AK$2500,MATCH(I2&AZ14,Sheet2rng!$A$1:$A$2500&Sheet2rng!$B$1:$B$28,0),MATCH(\"Target\",Sheet2rng!$A$1:$AK$1,0)),\"\")","v":""},{"$nulls":6},"Classlist"]
[{"$nulls":52},{"$f":"AZ14","v":"8A-RE"},{"$nulls":15},"Classlist",{"$nulls":7},"Classlist",null,{"$f":"CONCATENATE(I2,AZ14)","v":"8A-RE"},{"$nulls":9},"Classlist"]
[{"$nulls":52},"Class","FSM","PPI",{"$nulls":13},"Classlist",null,"PPI",{"$nulls":5},"Classlist",{"$nulls":11},"Classlist"]
[{"$nulls":51},"Select class",{"$nulls":13},"11B/So1",null,null,{"$f":"IF($BA$10=\"\",\"\",IFERROR(INDEX(name,BT12,1),\"\"))","v":"Francis"},"IFERROR(INDEX(Sheet2rng,MATCH(BA12,sheet2rows,0), MATCH($BB$11,sheet2columns,0)),\"\")",{"$f":"IFERROR(INDEX(indexdatabase,MATCH(BQ12&$AZ$14,name&Group2,0),MATCH(\"PPI\",Sheet2rng!$A$1:$AK$1,0)),\"\")","v":"Y"},{"$f":"IFERROR(SMALL(IF(LEFT(Group2,LEN(class2!$BA$10))=class2!$BA$10,ROW(Group2)),ROW(A1)),\"\")","v":9},{"$nulls":4},"HILL Gretchen",{"$nulls":11},"Francis"]
[{"$nulls":65},"11A/So1",null,null,"Kristine","IFERROR(INDEX(Sheet2rng,MATCH(BA12,sheet2rows,0), MATCH($BB$11,sheet2columns,0)),\"\")",{"$f":"IFERROR(INDEX(indexdatabase,MATCH(BQ13&$AZ$14,name&Group2,0),MATCH(\"PPI\",Sheet2rng!$A$1:$AK$1,0)),\"\")","v":0},{"$f":"IFERROR(SMALL(IF(LEFT(Group2,LEN(class2!$BA$10))=class2!$BA$10,ROW(Group2)),ROW(A2)),\"\")","v":14},{"$nulls":4},"MCLAUGHLIN Dolores",{"$nulls":11},"Kristine"]
[{"$nulls":51},"8A-RE",{"$nulls":13},"11P/So1",null,null,"Crystal","IFERROR(INDEX(Sheet2rng,MATCH(BA12,sheet2rows,0), MATCH($BB$11,sheet2columns,0)),\"\")",{"$f":"IFERROR(INDEX(indexdatabase,MATCH(BQ14&$AZ$14,name&Group2,0),MATCH(\"PPI\",Sheet2rng!$A$1:$AK$1,0)),\"\")","v":0},{"$f":"IFERROR(SMALL(IF(LEFT(Group2,LEN(class2!$BA$10))=class2!$BA$10,ROW(Group2)),ROW(A3)),\"\")","v":15},{"$nulls":4},"STEELE Eric",{"$nulls":11},"Crystal"]
[{"$nulls":54},"SEND","MAT","EAL","SEND/","MAT/","EAL/",{"$nulls":5},"11Q/So1",null,null,"Priscilla","IFERROR(INDEX(Sheet2rng,MATCH(BA12,sheet2rows,0), MATCH($BB$11,sheet2columns,0)),\"\")",{"$f":"IFERROR(INDEX(indexdatabase,MATCH(BQ15&$AZ$14,name&Group2,0),MATCH(\"PPI\",Sheet2rng!$A$1:$AK$1,0)),\"\")","v":"Y"},{"$f":"IFERROR(SMALL(IF(LEFT(Group2,LEN(class2!$BA$10))=class2!$BA$10,ROW(Group2)),ROW(A4)),\"\")","v":27},{"$nulls":4},"VICK Franklin",{"$nulls":11},"Priscilla"]
[{"$nulls":29},{"$f":"IFERROR(IF(SEARCH(\"11\",BV25)=1,11),\"\")","v":""},{"$nulls":8},{"$f":"IFERROR(IF(SEARCH(\"11\",CE25)=1,11),\"\")","v":""},{"$nulls":3},"Kristina",{"$nulls":9},{"$f":"IFERROR(INDEX(indexdatabase,MATCH(BQ12&$AZ$14,name&Group2,0),MATCH(\"AR\",Sheet2rng!$A$1:$AK$1,0)),\"\")","v":0},{"$f":"BQ12","v":"Francis"},{"$f":"IFERROR(INDEX(indexdatabase,MATCH($BB16&$AZ$14,name&Group2,0),MATCH(\"SEND\",Sheet2rng!$A$1:$AO$1,0)),\"\")","v":0},{"$f":"IFERROR(INDEX(indexdatabase,MATCH($BB16&$AZ$14,name&Group2,0),MATCH(\"MAT\",Sheet2rng!$A$1:$AO$1,0)),\"\")","v":0},{"$f":"IFERROR(INDEX(indexdatabase,MATCH($BB16&$AZ$14,name&Group2,0),MATCH(\"EAL\",Sheet2rng!$A$1:$AO$1,0)),\"\")","v":"OTH"},{"$f":"IF($BC16=0,\"\",IF($BC16=\"\",\"\",IF($BC16=\"N\",\"\",$BF$15&$BC16)))","v":""},{"$f":"IF($BD16=0,\"\",IF($BD16=\"\",\"\",IF($BD16=\"N\",\"\",$BG$15&$BD16)))","v":""},{"$f":"IF($BE16=0,\"\",IF($BE16=\"\",\"\",IF($BE16=\"N\",\"\",$BH$15&$BE16)))","v":"EAL/OTH"},{"$f":"CONCATENATE(BF16,\"  \",BG16,\"  \",BH16)","v":"    EAL/OTH"},{"$nulls":4},"11B/So2",null,null,"Elsie","IFERROR(INDEX(Sheet2rng,MATCH(BA12,sheet2rows,0), MATCH($BB$11,sheet2columns,0)),\"\")",{"$f":"IFERROR(INDEX(indexdatabase,MATCH(BQ16&$AZ$14,name&Group2,0),MATCH(\"PPI\",Sheet2rng!$A$1:$AK$1,0)),\"\")","v":"Y"},{"$f":"IFERROR(SMALL(IF(LEFT(Group2,LEN(class2!$BA$10))=class2!$BA$10,ROW(Group2)),ROW(A5)),\"\")","v":28},{"$nulls":4},"GOLDSTEIN Gretchen",{"$nulls":11},"Elsie",{"$nulls":138},{"$f":"BA10","v":"8A-RE"}]
[{"$nulls":52},{"$f":"IFERROR(INDEX(indexdatabase,MATCH(BQ13&$AZ$14,name&Group2,0),MATCH(\"AR\",Sheet2rng!$A$1:$AK$1,0)),\"\")","v":0},{"$f":"BQ13","v":"Kristine"},{"$f":"IFERROR(INDEX(indexdatabase,MATCH($BB17&$AZ$14,name&Group2,0),MATCH(\"SEND\",Sheet2rng!$A$1:$AO$1,0)),\"\")","v":0},{"$f":"IFERROR(INDEX(indexdatabase,MATCH($BB17&$AZ$14,name&Group2,0),MATCH(\"MAT\",Sheet2rng!$A$1:$AO$1,0)),\"\")","v":0},{"$f":"IFERROR(INDEX(indexdatabase,MATCH($BB17&$AZ$14,name&Group2,0),MATCH(\"EAL\",Sheet2rng!$A$1:$AO$1,0)),\"\")","v":"OTH"},{"$f":"IF($BC17=0,\"\",IF($BC17=\"\",\"\",IF($BC17=\"N\",\"\",$BF$15&$BC17)))","v":""},{"$f":"IF($BD17=0,\"\",IF($BD17=\"\",\"\",IF($BD17=\"N\",\"\",$BG$15&$BD17)))","v":""},{"$f":"IF($BE17=0,\"\",IF($BE17=\"\",\"\",IF($BE17=\"N\",\"\",$BH$15&$BE17)))","v":"EAL/OTH"},{"$f":"CONCATENATE(BF17,\"  \",BG17,\"  \",BH17)","v":"    EAL/OTH"},{"$nulls":7},"Darlene","IFERROR(INDEX(Sheet2rng,MATCH(BA12,sheet2rows,0), MATCH($BB$11,sheet2columns,0)),\"\")",{"$f":"IFERROR(INDEX(indexdatabase,MATCH(BQ17&$AZ$14,name&Group2,0),MATCH(\"PPI\",Sheet2rng!$A$1:$AK$1,0)),\"\")","v":0},{"$f":"IFERROR(SMALL(IF(LEFT(Group2,LEN(class2!$BA$10))=class2!$BA$10,ROW(Group2)),ROW(A6)),\"\")","v":37},{"$nulls":4},"MANGUM Patricia",{"$nulls":11},"Darlene",{"$nulls":138},"Progress since AUT1"]
[{"$nulls":25},{"$f":"IFERROR(IF($Y$1=1,\"\",VLOOKUP(Z16,needstable,8,FALSE)),\"\")","v":""},{"$nulls":3},{"$f":"IFERROR(IF($Y$1=1,\"\",VLOOKUP(AD16,needstable,8,FALSE)),\"\")","v":"    "},{"$nulls":8},{"$f":"IFERROR(IF($Y$1=1,\"\",VLOOKUP(AM16,needstable,8,FALSE)),\"\")","v":"    "},{"$nulls":3},{"$f":"IFERROR(IF($Y$1=1,\"\",VLOOKUP(AQ16,needstable,8,FALSE)),\"\")","v":""},{"$nulls":9},{"$f":"IFERROR(INDEX(indexdatabase,MATCH(BQ14&$AZ$14,name&Group2,0),MATCH(\"AR\",Sheet2rng!$A$1:$AK$1,0)),\"\")","v":0},"Crystal",{"$f":"IFERROR(INDEX(indexdatabase,MATCH($BB18&$AZ$14,name&Group2,0),MATCH(\"SEND\",Sheet2rng!$A$1:$AO$1,0)),\"\")","v":0},{"$f":"IFERROR(INDEX(indexdatabase,MATCH($BB18&$AZ$14,name&Group2,0),MATCH(\"MAT\",Sheet2rng!$A$1:$AO$1,0)),\"\")","v":0},{"$f":"IFERROR(INDEX(indexdatabase,MATCH($BB18&$AZ$14,name&Group2,0),MATCH(\"EAL\",Sheet2rng!$A$1:$AO$1,0)),\"\")","v":"OTH"},"","","EAL/OTH","    EAL/OTH",{"$nulls":7},"Glenda","IFERROR(INDEX(Sheet2rng,MATCH(BA12,sheet2rows,0), MATCH($BB$11,sheet2columns,0)),\"\")",{"$f":"IFERROR(INDEX(indexdatabase,MATCH(BQ18&$AZ$14,name&Group2,0),MATCH(\"PPI\",Sheet2rng!$A$1:$AK$1,0)),\"\")","v":"Y"},{"$f":"IFERROR(SMALL(IF(LEFT(Group2,LEN(class2!$BA$10))=class2!$BA$10,ROW(Group2)),ROW(A7)),\"\")","v":45},{"$nulls":4},"MERRITT Shirley",{"$nulls":11},"Glenda"]
[{"$nulls":25},"C/grade",null,{"$f":"Sheet2rng!$D$1","v":"KS2"},null,"C/grade",null,{"$f":"Sheet2rng!$D$1","v":"KS2"},{"$nulls":6},"C/grade",null,{"$f":"Sheet2rng!$D$1","v":"KS2"},null,"C/grade",null,{"$f":"Sheet2rng!$D$1","v":"KS2"},{"$nulls":7},{"$f":"IFERROR(INDEX(indexdatabase,MATCH(BQ15&$AZ$14,name&Group2,0),MATCH(\"AR\",Sheet2rng!$A$1:$AK$1,0)),\"\")","v":0},"Priscilla",{"$f":"IFERROR(INDEX(indexdatabase,MATCH($BB19&$AZ$14,name&Group2,0),MATCH(\"SEND\",Sheet2rng!$A$1:$AO$1,0)),\"\")","v":0},{"$f":"IFERROR(INDEX(indexdatabase,MATCH($BB19&$AZ$14,name&Group2,0),MATCH(\"MAT\",Sheet2rng!$A$1:$AO$1,0)),\"\")","v":0},{"$f":"IFERROR(INDEX(indexdatabase,MATCH($BB19&$AZ$14,name&Group2,0),MATCH(\"EAL\",Sheet2rng!$A$1:$AO$1,0)),\"\")","v":"OTH"},"","","EAL/OTH","    EAL/OTH",{"$nulls":7},"Vickie","IFERROR(INDEX(Sheet2rng,MATCH(BA12,sheet2rows,0), MATCH($BB$11,sheet2columns,0)),\"\")",{"$f":"IFERROR(INDEX(indexdatabase,MATCH(BQ19&$AZ$14,name&Group2,0),MATCH(\"PPI\",Sheet2rng!$A$1:$AK$1,0)),\"\")","v":0},{"$f":"IFERROR(SMALL(IF(LEFT(Group2,LEN(class2!$BA$10))=class2!$BA$10,ROW(Group2)),ROW(A8)),\"\")","v":49},{"$nulls":4},"MORGAN Glenda",{"$nulls":11},"Vickie",{"$nulls":138},{"$f":"DT338","v":0},0]
[{"$nulls":25},{"$f":"IFERROR(IF($Y$2=2,\"\",IF($Y$2=3,INDEX(indexdatabase,MATCH(Z16&$AZ$14,name&Group2,0),MATCH($AZ$23,Sheet2rng!$A$1:$AK$1,0)))),\"\")","v":""},null,{"$f":"IFERROR(IF($Y$3=4,\"\",IF($Y$3=5,INDEX(indexdatabase,MATCH(Z16&$AZ$14,name&Group2,0),MATCH($P$4,Sheet2rng!$A$1:$AK$1,0)))),\"\")","v":""},null,{"$f":"IFERROR(IF($Y$2=2,\"\",IF($Y$2=3,INDEX(indexdatabase,MATCH(AD16&$AZ$14,name&Group2,0),MATCH($AZ$23,Sheet2rng!$A$1:$AK$1,0)))),\"\")","v":""},null,{"$f":"IFERROR(IF($Y$3=4,\"\",IF($Y$3=5,INDEX(indexdatabase,MATCH(AD16&$AZ$14,name&Group2,0),MATCH($P$4,Sheet2rng!$A$1:$AK$1,0)))),\"\")","v":""},{"$nulls":6},{"$f":"IFERROR(IF($Y$2=2,\"\",IF($Y$2=3,INDEX(indexdatabase,MATCH(AM16&$AZ$14,name&Group2,0),MATCH($AZ$23,Sheet2rng!$A$1:$AK$1,0)))),\"\")","v":""},null,{"$f":"IFERROR(IF($Y$3=4,\"\",IF($Y$3=5,INDEX(indexdatabase,MATCH(AM16&$AZ$14,name&Group2,0),MATCH($P$4,Sheet2rng!$A$1:$AK$1,0)))),\"\")","v":""},null,{"$f":"IFERROR(IF($Y$2=2,\"\",IF($Y$2=3,INDEX(indexdatabase,MATCH(AQ16&$AZ$14,name&Group2,0),MATCH($AZ$23,Sheet2rng!$A$1:$AK$1,0)))),\"\")","v":""},null,{"$f":"IFERROR(IF($Y$3=4,\"\",IF($Y$3=5,INDEX(indexdatabase,MATCH(AQ16&$AZ$14,name&Group2,0),MATCH($P$4,Sheet2rng!$A$1:$AK$1,0)))),\"\")","v":""},{"$nulls":6},"Assessment period",{"$f":"IFERROR(INDEX(indexdatabase,MATCH(BQ16&$AZ$14,name&Group2,0),MATCH(\"AR\",Sheet2rng!$A$1:$AK$1,0)),\"\")","v":0},"Elsie",{"$f":"IFERROR(INDEX(indexdatabase,MATCH($BB20&$AZ$14,name&Group2,0),MATCH(\"SEND\",Sheet2rng!$A$1:$AO$1,0)),\"\")","v":0},{"$f":"IFERROR(INDEX(indexdatabase,MATCH($BB20&$AZ$14,name&Group2,0),MATCH(\"MAT\",Sheet2rng!$A$1:$AO$1,0)),\"\")","v":0},{"$f":"IFERROR(INDEX(indexdatabase,MATCH($BB20&$AZ$14,name&Group2,0),MATCH(\"EAL\",Sheet2rng!$A$1:$AO$1,0)),\"\")","v":"NOT/kn"},"","","EAL/NOT/kn","    EAL/NOT/kn",{"$nulls":7},"Allan","IFERROR(INDEX(Sheet2rng,MATCH(BA12,sheet2rows,0), MATCH($BB$11,sheet2columns,0)),\"\")",{"$f":"IFERROR(INDEX(indexdatabase,MATCH(BQ20&$AZ$14,name&Group2,0),MATCH(\"PPI\",Sheet2rng!$A$1:$AK$1,0)),\"\")","v":0},{"$f":"IFERROR(SMALL(IF(LEFT(Group2,LEN(class2!$BA$10))=class2!$BA$10,ROW(Group2)),ROW(A9)),\"\")","v":51},{"$nulls":4},"RICH Jessica",{"$nulls":11},"Allan",{"$nulls":44},{"$f":"IF(EE20=1,1,IF(EE20=2,2,IF(EE20=EE19,ED19,IF(EE20>EE19,ED19+1))))","v":0},"","ABU Aisha",{"$nulls":5},{"$f":"IF(EM20=1,1,IF(EM20=2,2,IF(EM20=EM19,EL19,IF(EM20>EM19,EL19+1))))","v":1},1,"CHATTEN Zoe",{"$nulls":5},{"$f":"IF(EU20=1,1,IF(EU20=2,2,IF(EU20=EU19,ET19,IF(EU20>EU19,ET19+1))))","v":0},"","ABU Aisha",{"$nulls":5},{"$f":"IF(FC20=1,1,IF(FC20=2,2,IF(FC20=FC19,FB19,IF(FC20>FC19,FB19+1))))","v":0},"","ABU Aisha",{"$nulls":5},{"$f":"IF(FK20=1,1,IF(FK20=2,2,IF(FK20=FK19,FJ19,IF(FK20>FK19,FJ19+1))))","v":0},"","ABU Aisha",{"$nulls":5},{"$f":"IF(FS20=1,1,IF(FS20=2,2,IF(FS20=FS19,FR19,IF(FS20>FS19,FR19+1))))","v":0},"","ABU Aisha",{"$nulls":51},0,0]
[{"$nulls":25},{"$f":"Sheet2rng!$C$1","v":"Target"},null,{"$f":"Sheet2rng!$E$1","v":"AR"},null,{"$f":"Sheet2rng!$C$1","v":"Target"},null,{"$f":"Sheet2rng!$E$1","v":"AR"},{"$nulls":6},{"$f":"Sheet2rng!$C$1","v":"Target"},null,{"$f":"Sheet2rng!$E$1","v":"AR"},null,{"$f":"Sheet2rng!$C$1","v":"Target"},null,{"$f":"Sheet2rng!$E$1","v":"AR"},{"$nulls":7},{"$f":"IFERROR(INDEX(indexdatabase,MATCH(BQ17&$AZ$14,name&Group2,0),MATCH(\"AR\",Sheet2rng!$A$1:$AK$1,0)),\"\")","v":0},"Darlene",{"$f":"IFERROR(INDEX(indexdatabase,MATCH($BB21&$AZ$14,name&Group2,0),MATCH(\"SEND\",Sheet2rng!$A$1:$AO$1,0)),\"\")","v":0},{"$f":"IFERROR(INDEX(indexdatabase,MATCH($BB21&$AZ$14,name&Group2,0),MATCH(\"MAT\",Sheet2rng!$A$1:$AO$1,0)),\"\")","v":0},{"$f":"IFERROR(INDEX(indexdatabase,MATCH($BB21&$AZ$14,name&Group2,0),MATCH(\"EAL\",Sheet2rng!$A$1:$AO$1,0)),\"\")","v":"ENG"},"","","EAL/ENG","    EAL/ENG",{"$nulls":7},"Calvin","IFERROR(INDEX(Sheet2rng,MATCH(BA12,sheet2rows,0), MATCH($BB$11,sheet2columns,0)),\"\")",{"$f":"IFERROR(INDEX(indexdatabase,MATCH(BQ21&$AZ$14,name&Group2,0),MATCH(\"PPI\",Sheet2rng!$A$1:$AK$1,0)),\"\")","v":0},{"$f":"IFERROR(SMALL(IF(LEFT(Group2,LEN(class2!$BA$10))=class2!$BA$10,ROW(Group2)),ROW(A10)),\"\")","v":56},{"$nulls":4},"HINTON Luis",{"$nulls":11},"Calvin",{"$nulls":44},{"$f":"IF(EE21=1,1,IF(EE21=2,2,IF(EE21=EE20,ED20,IF(EE21>EE20,ED20+1))))","v":0},"","ALFORD Harry",{"$nulls":5},{"$f":"IF(EM21=1,1,IF(EM21=2,2,IF(EM21=EM20,EL20,IF(EM21>EM20,EL20+1))))","v":2},2,"ALFORD Harry",{"$nulls":5},{"$f":"IF(EU21=1,1,IF(EU21=2,2,IF(EU21=EU20,ET20,IF(EU21>EU20,ET20+1))))","v":0},"","ALFORD Harry",{"$nulls":5},{"$f":"IF(FC21=1,1,IF(FC21=2,2,IF(FC21=FC20,FB20,IF(FC21>FC20,FB20+1))))","v":0},"","ALFORD Harry",{"$nulls":5},{"$f":"IF(FK21=1,1,IF(FK21=2,2,IF(FK21=FK20,FJ20,IF(FK21>FK20,FJ20+1))))","v":0},"","ALFORD Harry",{"$nulls":5},{"$f":"IF(FS21=1,1,IF(FS21=2,2,IF(FS21=FS20,FR20,IF(FS21>FS20,FR20+1))))","v":0},"","ALFORD Harry",{"$nulls":51},0,0]
[{"$nulls":25},{"$f":"IFERROR(IF($Y$4=6,\"\",IF($Y$4=7,INDEX(indexdatabase,MATCH(Z16&$AZ$14,name&Group2,0),MATCH($N$6,Sheet2rng!$A$1:$AK$1,0)))),\"\")","v":""},null,{"$f":"IFERROR(IF($Y$5=8,\"\",IF($Y$5=9,INDEX(Sheet2rng,MATCH(Z16&$AZ$14,name&Group2,0),MATCH($P$6,sheet2columns,0)))),\"\")","v":""},null,{"$f":"IFERROR(IF($Y$4=6,\"\",IF($Y$4=7,INDEX(indexdatabase,MATCH(AD16&$AZ$14,name&Group2,0),MATCH($N$6,Sheet2rng!$A$1:$AK$1,0)))),\"\")","v":""},null,{"$f":"IFERROR(IF($Y$5=8,\"\",IF($Y$5=9,INDEX(Sheet2rng,MATCH(AD16&$AZ$14,name&Group2,0),MATCH($P$6,sheet2columns,0)))),\"\")","v":""},{"$nulls":6},{"$f":"IFERROR(IF($Y$4=6,\"\",IF($Y$4=7,INDEX(indexdatabase,MATCH(AM16&$AZ$14,name&Group2,0),MATCH($N$6,Sheet2rng!$A$1:$AK$1,0)))),\"\")","v":""},null,{"$f":"IFERROR(IF($Y$5=8,\"\",IF($Y$5=9,INDEX(Sheet2rng,MATCH(AM16&$AZ$14,name&Group2,0),MATCH($P$6,sheet2columns,0)))),\"\")","v":""},null,{"$f":"IFERROR(IF($Y$4=6,\"\",IF($Y$4=7,INDEX(indexdatabase,MATCH(AQ16&$AZ$14,name&Group2,0),MATCH($N$6,Sheet2rng!$A$1:$AK$1,0)))),\"\")","v":""},null,{"$f":"IFERROR(IF($Y$5=8,\"\",IF($Y$5=9,INDEX(Sheet2rng,MATCH(AQ16&$AZ$14,name&Group2,0),MATCH($P$6,sheet2columns,0)))),\"\")","v":""},{"$nulls":7},{"$f":"IFERROR(INDEX(indexdatabase,MATCH(BQ18&$AZ$14,name&Group2,0),MATCH(\"AR\",Sheet2rng!$A$1:$AK$1,0)),\"\")","v":0},"Glenda",{"$f":"IFERROR(INDEX(indexdatabase,MATCH($BB22&$AZ$14,name&Group2,0),MATCH(\"SEND\",Sheet2rng!$A$1:$AO$1,0)),\"\")","v":0},{"$f":"IFERROR(INDEX(indexdatabase,MATCH($BB22&$AZ$14,name&Group2,0),MATCH(\"MAT\",Sheet2rng!$A$1:$AO$1,0)),\"\")","v":0},{"$f":"IFERROR(INDEX(indexdatabase,MATCH($BB22&$AZ$14,name&Group2,0),MATCH(\"EAL\",Sheet2rng!$A$1:$AO$1,0)),\"\")","v":"NOT/kn"},"","","EAL/NOT/kn","    EAL/NOT/kn",{"$nulls":7},"Faye","IFERROR(INDEX(Sheet2rng,MATCH(BA12,sheet2rows,0), MATCH($BB$11,sheet2columns,0)),\"\")",{"$f":"IFERROR(INDEX(indexdatabase,MATCH(BQ22&$AZ$14,name&Group2,0),MATCH(\"PPI\",Sheet2rng!$A$1:$AK$1,0)),\"\")","v":0},{"$f":"IFERROR(SMALL(IF(LEFT(Group2,LEN(class2!$BA$10))=class2!$BA$10,ROW(Group2)),ROW(A11)),\"\")","v":63},{"$nulls":4},"PARKS Gary",{"$nulls":11},"Faye",{"$nulls":44},0,"","BAKER Lucy",{"$nulls":5},2,2,"DONNELLY Kirsten",{"$nulls":5},0,"","BAKER Lucy",{"$nulls":5},0,"","BAKER Lucy",{"$nulls":5},0,"","BAKER Lucy",{"$nulls":5},0,"","BAKER Lucy",{"$nulls":51},0,0]
[{"$nulls":29},{"$f":"IFERROR(IF(SEARCH(\"11\",BV32)=1,11),\"\")","v":""},{"$nulls":8},{"$f":"IFERROR(IF(SEARCH(\"11\",CE32)=1,11),\"\")","v":""},{"$nulls":3},{"$f":"IFERROR(IF(SEARCH(\"11\",CI32)=1,11),\"\")","v":""},{"$nulls":8},"SPR 1",{"$f":"IFERROR(INDEX(indexdatabase,MATCH(BQ19&$AZ$14,name&Group2,0),MATCH(\"AR\",Sheet2rng!$A$1:$AK$1,0)),\"\")","v":0},"Vickie",{"$f":"IFERROR(INDEX(indexdatabase,MATCH($BB23&$AZ$14,name&Group2,0),MATCH(\"SEND\",Sheet2rng!$A$1:$AO$1,0)),\"\")","v":0},{"$f":"IFERROR(INDEX(indexdatabase,MATCH($BB23&$AZ$14,name&Group2,0),MATCH(\"MAT\",Sheet2rng!$A$1:$AO$1,0)),\"\")","v":0},{"$f":"IFERROR(INDEX(indexdatabase,MATCH($BB23&$AZ$14,name&Group2,0),MATCH(\"EAL\",Sheet2rng!$A$1:$AO$1,0)),\"\")","v":"OTH"},"","","EAL/OTH","    EAL/OTH",{"$nulls":7},"Jennifer","IFERROR(INDEX(Sheet2rng,MATCH(BA12,sheet2rows,0), MATCH($BB$11,sheet2columns,0)),\"\")",{"$f":"IFERROR(INDEX(indexdatabase,MATCH(BQ23&$AZ$14,name&Group2,0),MATCH(\"PPI\",Sheet2rng!$A$1:$AK$1,0)),\"\")","v":0},{"$f":"IFERROR(SMALL(IF(LEFT(Group2,LEN(class2!$BA$10))=class2!$BA$10,ROW(Group2)),ROW(A12)),\"\")","v":69},{"$nulls":4},"ABRAMS Patricia",{"$nulls":11},"Jennifer",{"$nulls":44},0,"","BAVERSTOCK Adam",{"$nulls":5},2,2,"DOWN Keiran",{"$nulls":5},0,"","BAVERSTOCK Adam",{"$nulls":5},0,"","BAVERSTOCK Adam",{"$nulls":5},0,"","BAVERSTOCK Adam",{"$nulls":5},0,"","BAVERSTOCK Adam",{"$nulls":51},0,0]
[{"$nulls":52},{"$f":"IFERROR(INDEX(indexdatabase,MATCH(BQ20&$AZ$14,name&Group2,0),MATCH(\"AR\",Sheet2rng!$A$1:$AK$1,0)),\"\")","v":0},"Allan",{"$f":"IFERROR(INDEX(indexdatabase,MATCH($BB24&$AZ$14,name&Group2,0),MATCH(\"SEND\",Sheet2rng!$A$1:$AO$1,0)),\"\")","v":0},{"$f":"IFERROR(INDEX(indexdatabase,MATCH($BB24&$AZ$14,name&Group2,0),MATCH(\"MAT\",Sheet2rng!$A$1:$AO$1,0)),\"\")","v":0},{"$f":"IFERROR(INDEX(indexdatabase,MATCH($BB24&$AZ$14,name&Group2,0),MATCH(\"EAL\",Sheet2rng!$A$1:$AO$1,0)),\"\")","v":"OTH"},"","","EAL/OTH","    EAL/OTH",{"$nulls":7},"Danny","IFERROR(INDEX(Sheet2rng,MATCH(BA12,sheet2rows,0), MATCH($BB$11,sheet2columns,0)),\"\")",{"$f":"IFERROR(INDEX(indexdatabase,MATCH(BQ24&$AZ$14,name&Group2,0),MATCH(\"PPI\",Sheet2rng!$A$1:$AK$1,0)),\"\")","v":"Y"},{"$f":"IFERROR(SMALL(IF(LEFT(Group2,LEN(class2!$BA$10))=class2!$BA$10,ROW(Group2)),ROW(A13)),\"\")","v":79},{"$nulls":4},"TILLEY Jennifer",{"$nulls":11},"Danny",{"$nulls":44},0,"","BLE Grace",{"$nulls":5},2,2,"HARRIS Christian",{"$nulls":5},0,"","BLE Grace",{"$nulls":5},0,"","BLE Grace",{"$nulls":5},0,"","BLE Grace",{"$nulls":5},0,"","BLE Grace",{"$nulls":51},0,0]
[{"$nulls":25},{"$f":"IFERROR(IF($Y$1=1,\"\",VLOOKUP(Z23,needstable,8,FALSE)),\"\")","v":""},{"$nulls":3},{"$f":"IFERROR(IF($Y$1=1,\"\",VLOOKUP(AD23,needstable,8,FALSE)),\"\")","v":"    "},{"$nulls":8},{"$f":"IFERROR(IF($Y$1=1,\"\",VLOOKUP(AM23,needstable,8,FALSE)),\"\")","v":"    "},{"$nulls":3},{"$f":"IFERROR(IF($Y$1=1,\"\",VLOOKUP(AQ23,needstable,8,FALSE)),\"\")","v":"    "},{"$nulls":9},{"$f":"IFERROR(INDEX(indexdatabase,MATCH(BQ21&$AZ$14,name&Group2,0),MATCH(\"AR\",Sheet2rng!$A$1:$AK$1,0)),\"\")","v":0},"Calvin",{"$f":"IFERROR(INDEX(indexdatabase,MATCH($BB25&$AZ$14,name&Group2,0),MATCH(\"SEND\",Sheet2rng!$A$1:$AO$1,0)),\"\")","v":0},{"$f":"IFERROR(INDEX(indexdatabase,MATCH($BB25&$AZ$14,name&Group2,0),MATCH(\"MAT\",Sheet2rng!$A$1:$AO$1,0)),\"\")","v":0},{"$f":"IFERROR(INDEX(indexdatabase,MATCH($BB25&$AZ$14,name&Group2,0),MATCH(\"EAL\",Sheet2rng!$A$1:$AO$1,0)),\"\")","v":"OTH"},"","","EAL/OTH","    EAL/OTH",{"$nulls":7},"Alice","IFERROR(INDEX(Sheet2rng,MATCH(BA12,sheet2rows,0), MATCH($BB$11,sheet2columns,0)),\"\")",{"$f":"IFERROR(INDEX(indexdatabase,MATCH(BQ25&$AZ$14,name&Group2,0),MATCH(\"PPI\",Sheet2rng!$A$1:$AK$1,0)),\"\")","v":"Y"},{"$f":"IFERROR(SMALL(IF(LEFT(Group2,LEN(class2!$BA$10))=class2!$BA$10,ROW(Group2)),ROW(A14)),\"\")","v":81},{"$nulls":4},"SUMNER Vincent",{"$nulls":11},"Alice",{"$nulls":44},0,"","CHATTEN Zoe",{"$nulls":5},2,2,"MURPHY Shannon",{"$nulls":5},0,"","CHATTEN Zoe",{"$nulls":5},0,"","CHATTEN Zoe",{"$nulls":5},0,"","CHATTEN Zoe",{"$nulls":5},0,"","CHATTEN Zoe",{"$nulls":51},0,0]
[{"$nulls":25},"C/grade",null,{"$f":"Sheet2rng!$D$1","v":"KS2"},null,"C/grade",null,{"$f":"Sheet2rng!$D$1","v":"KS2"},{"$nulls":6},"C/grade",null,{"$f":"Sheet2rng!$D$1","v":"KS2"},null,"C/grade",null,{"$f":"Sheet2rng!$D$1","v":"KS2"},{"$nulls":7},{"$f":"IFERROR(INDEX(indexdatabase,MATCH(BQ22&$AZ$14,name&Group2,0),MATCH(\"AR\",Sheet2rng!$A$1:$AK$1,0)),\"\")","v":0},"Faye",{"$f":"IFERROR(INDEX(indexdatabase,MATCH($BB26&$AZ$14,name&Group2,0),MATCH(\"SEND\",Sheet2rng!$A$1:$AO$1,0)),\"\")","v":0},{"$f":"IFERROR(INDEX(indexdatabase,MATCH($BB26&$AZ$14,name&Group2,0),MATCH(\"MAT\",Sheet2rng!$A$1:$AO$1,0)),\"\")","v":0},{"$f":"IFERROR(INDEX(indexdatabase,MATCH($BB26&$AZ$14,name&Group2,0),MATCH(\"EAL\",Sheet2rng!$A$1:$AO$1,0)),\"\")","v":"NOT/kn"},"","","EAL/NOT/kn","    EAL/NOT/kn",{"$nulls":7},"Martin","IFERROR(INDEX(Sheet2rng,MATCH(BA12,sheet2rows,0), MATCH($BB$11,sheet2columns,0)),\"\")",{"$f":"IFERROR(INDEX(indexdatabase,MATCH(BQ26&$AZ$14,name&Group2,0),MATCH(\"PPI\",Sheet2rng!$A$1:$AK$1,0)),\"\")","v":"Y"},{"$f":"IFERROR(SMALL(IF(LEFT(Group2,LEN(class2!$BA$10))=class2!$BA$10,ROW(Group2)),ROW(A15)),\"\")","v":94},{"$nulls":4},"BYRNE Danny",{"$nulls":11},"Martin",{"$nulls":44},0,"","CHEEMA Gurvinder",{"$nulls":5},2,2,"PIDDINGTON Ellie",{"$nulls":5},0,"","CHEEMA Gurvinder",{"$nulls":5},0,"","CHEEMA Gurvinder",{"$nulls":5},0,"","CHEEMA Gurvinder",{"$nulls":5},0,"","CHEEMA Gurvinder",{"$nulls":51},0,0]
[{"$nulls":25},{"$f":"IFERROR(IF($Y$2=2,\"\",IF($Y$2=3,INDEX(indexdatabase,MATCH(Z23&$AZ$14,name&Group2,0),MATCH($AZ$23,Sheet2rng!$A$1:$AK$1,0)))),\"\")","v":""},null,{"$f":"IFERROR(IF($Y$3=4,\"\",IF($Y$3=5,INDEX(indexdatabase,MATCH(Z23&$AZ$14,name&Group2,0),MATCH($P$4,Sheet2rng!$A$1:$AK$1,0)))),\"\")","v":""},null,{"$f":"IFERROR(IF($Y$2=2,\"\",IF($Y$2=3,INDEX(indexdatabase,MATCH(AD23&$AZ$14,name&Group2,0),MATCH($AZ$23,Sheet2rng!$A$1:$AK$1,0)))),\"\")","v":""},null,{"$f":"IFERROR(IF($Y$3=4,\"\",IF($Y$3=5,INDEX(indexdatabase,MATCH(AD23&$AZ$14,name&Group2,0),MATCH($P$4,Sheet2rng!$A$1:$AK$1,0)))),\"\")","v":""},{"$nulls":6},{"$f":"IFERROR(IF($Y$2=2,\"\",IF($Y$2=3,INDEX(indexdatabase,MATCH(AM23&$AZ$14,name&Group2,0),MATCH($AZ$23,Sheet2rng!$A$1:$AK$1,0)))),\"\")","v":""},null,{"$f":"IFERROR(IF($Y$3=4,\"\",IF($Y$3=5,INDEX(indexdatabase,MATCH(AM23&$AZ$14,name&Group2,0),MATCH($P$4,Sheet2rng!$A$1:$AK$1,0)))),\"\")","v":""},null,{"$f":"IFERROR(IF($Y$2=2,\"\",IF($Y$2=3,INDEX(indexdatabase,MATCH(AQ23&$AZ$14,name&Group2,0),MATCH($AZ$23,Sheet2rng!$A$1:$AK$1,0)))),\"\")","v":""},null,{"$f":"IFERROR(IF($Y$3=4,\"\",IF($Y$3=5,INDEX(indexdatabase,MATCH(AQ23&$AZ$14,name&Group2,0),MATCH($P$4,Sheet2rng!$A$1:$AK$1,0)))),\"\")","v":""},{"$nulls":6},{"$f":"AZ23","v":"SPR 1"},{"$f":"IFERROR(INDEX(indexdatabase,MATCH(BQ23&$AZ$14,name&Group2,0),MATCH(\"AR\",Sheet2rng!$A$1:$AK$1,0)),\"\")","v":0},"Jennifer",{"$f":"IFERROR(INDEX(indexdatabase,MATCH($BB27&$AZ$14,name&Group2,0),MATCH(\"SEND\",Sheet2rng!$A$1:$AO$1,0)),\"\")","v":"E"},{"$f":"IFERROR(INDEX(indexdatabase,MATCH($BB27&$AZ$14,name&Group2,0),MATCH(\"MAT\",Sheet2rng!$A$1:$AO$1,0)),\"\")","v":0},{"$f":"IFERROR(INDEX(indexdatabase,MATCH($BB27&$AZ$14,name&Group2,0),MATCH(\"EAL\",Sheet2rng!$A$1:$AO$1,0)),\"\")","v":"NOT/kn"},"SEND/E","","EAL/NOT/kn","SEND/E    EAL/NOT/kn",{"$nulls":7},"Jessica","IFERROR(INDEX(Sheet2rng,MATCH(BA12,sheet2rows,0), MATCH($BB$11,sheet2columns,0)),\"\")",{"$f":"IFERROR(INDEX(indexdatabase,MATCH(BQ27&$AZ$14,name&Group2,0),MATCH(\"PPI\",Sheet2rng!$A$1:$AK$1,0)),\"\")","v":0},{"$f":"IFERROR(SMALL(IF(LEFT(Group2,LEN(class2!$BA$10))=class2!$BA$10,ROW(Group2)),ROW(A16)),\"\")","v":96},{"$nulls":4},"ROBERTSON Martha",{"$nulls":11},"Jessica",{"$nulls":44},0,"","DONNELLY Kirsten",{"$nulls":5},2,2,"QUILALA Angela",{"$nulls":5},0,"","DONNELLY Kirsten",{"$nulls":5},0,"","DONNELLY Kirsten",{"$nulls":5},0,"","DONNELLY Kirsten",{"$nulls":5},0,"","DONNELLY Kirsten",{"$nulls":51},0,0]
[{"$nulls":25},{"$f":"Sheet2rng!$C$1","v":"Target"},null,{"$f":"Sheet2rng!$E$1","v":"AR"},null,{"$f":"Sheet2rng!$C$1","v":"Target"},null,{"$f":"Sheet2rng!$E$1","v":"AR"},{"$nulls":6},{"$f":"Sheet2rng!$C$1","v":"Target"},null,{"$f":"Sheet2rng!$E$1","v":"AR"},null,{"$f":"Sheet2rng!$C$1","v":"Target"},null,{"$f":"Sheet2rng!$E$1","v":"AR"},{"$nulls":7},{"$f":"IFERROR(INDEX(indexdatabase,MATCH(BQ24&$AZ$14,name&Group2,0),MATCH(\"AR\",Sheet2rng!$A$1:$AK$1,0)),\"\")","v":0},"Danny",{"$f":"IFERROR(INDEX(indexdatabase,MATCH($BB28&$AZ$14,name&Group2,0),MATCH(\"SEND\",Sheet2rng!$A$1:$AO$1,0)),\"\")","v":0},{"$f":"IFERROR(INDEX(indexdatabase,MATCH($BB28&$AZ$14,name&Group2,0),MATCH(\"MAT\",Sheet2rng!$A$1:$AO$1,0)),\"\")","v":0},{"$f":"IFERROR(INDEX(indexdatabase,MATCH($BB28&$AZ$14,name&Group2,0),MATCH(\"EAL\",Sheet2rng!$A$1:$AO$1,0)),\"\")","v":"NOT/kn"},"","","EAL/NOT/kn","    EAL/NOT/kn",{"$nulls":7},"Raymond","IFERROR(INDEX(Sheet2rng,MATCH(BA12,sheet2rows,0), MATCH($BB$11,sheet2columns,0)),\"\")",{"$f":"IFERROR(INDEX(indexdatabase,MATCH(BQ28&$AZ$14,name&Group2,0),MATCH(\"PPI\",Sheet2rng!$A$1:$AK$1,0)),\"\")","v":0},{"$f":"IFERROR(SMALL(IF(LEFT(Group2,LEN(class2!$BA$10))=class2!$BA$10,ROW(Group2)),ROW(A17)),\"\")","v":105},{"$nulls":4},"PALMER Jack",{"$nulls":11},"Raymond",{"$nulls":44},0,"","DOWN Keiran",{"$nulls":5},2,2,"SMITH Jade",{"$nulls":5},0,"","DOWN Keiran",{"$nulls":5},0,"","DOWN Keiran",{"$nulls":5},0,"","DOWN Keiran",{"$nulls":5},0,"","DOWN Keiran",{"$nulls":51},0,0]
[{"$nulls":25},{"$f":"IFERROR(IF($Y$4=6,\"\",IF($Y$4=7,INDEX(indexdatabase,MATCH(Z23&$AZ$14,name&Group2,0),MATCH($N$6,Sheet2rng!$A$1:$AK$1,0)))),\"\")","v":""},null,{"$f":"IFERROR(IF($Y$5=8,\"\",IF($Y$5=9,INDEX(Sheet2rng,MATCH(Z23&$AZ$14,name&Group2,0),MATCH($P$6,sheet2columns,0)))),\"\")","v":""},null,{"$f":"IFERROR(IF($Y$4=6,\"\",IF($Y$4=7,INDEX(indexdatabase,MATCH(AD23&$AZ$14,name&Group2,0),MATCH($N$6,Sheet2rng!$A$1:$AK$1,0)))),\"\")","v":""},null,{"$f":"IFERROR(IF($Y$5=8,\"\",IF($Y$5=9,INDEX(Sheet2rng,MATCH(AD23&$AZ$14,name&Group2,0),MATCH($P$6,sheet2columns,0)))),\"\")","v":""},{"$nulls":6},{"$f":"IFERROR(IF($Y$4=6,\"\",IF($Y$4=7,INDEX(indexdatabase,MATCH(AM23&$AZ$14,name&Group2,0),MATCH($N$6,Sheet2rng!$A$1:$AK$1,0)))),\"\")","v":""},null,{"$f":"IFERROR(IF($Y$5=8,\"\",IF($Y$5=9,INDEX(Sheet2rng,MATCH(AM23&$AZ$14,name&Group2,0),MATCH($P$6,sheet2columns,0)))),\"\")","v":""},null,{"$f":"IFERROR(IF($Y$4=6,\"\",IF($Y$4=7,INDEX(indexdatabase,MATCH(AQ23&$AZ$14,name&Group2,0),MATCH($N$6,Sheet2rng!$A$1:$AK$1,0)))),\"\")","v":""},null,{"$f":"IFERROR(IF($Y$5=8,\"\",IF($Y$5=9,INDEX(Sheet2rng,MATCH(AQ23&$AZ$14,name&Group2,0),MATCH($P$6,sheet2columns,0)))),\"\")","v":""},{"$nulls":7},{"$f":"IFERROR(INDEX(indexdatabase,MATCH(BQ25&$AZ$14,name&Group2,0),MATCH(\"AR\",Sheet2rng!$A$1:$AK$1,0)),\"\")","v":0},"Alice",{"$f":"IFERROR(INDEX(indexdatabase,MATCH($BB29&$AZ$14,name&Group2,0),MATCH(\"SEND\",Sheet2rng!$A$1:$AO$1,0)),\"\")","v":"K"},{"$f":"IFERROR(INDEX(indexdatabase,MATCH($BB29&$AZ$14,name&Group2,0),MATCH(\"MAT\",Sheet2rng!$A$1:$AO$1,0)),\"\")","v":0},{"$f":"IFERROR(INDEX(indexdatabase,MATCH($BB29&$AZ$14,name&Group2,0),MATCH(\"EAL\",Sheet2rng!$A$1:$AO$1,0)),\"\")","v":"OTH"},"SEND/K","","EAL/OTH","SEND/K    EAL/OTH",{"$nulls":7},"Tracey","IFERROR(INDEX(Sheet2rng,MATCH(BA12,sheet2rows,0), MATCH($BB$11,sheet2columns,0)),\"\")",{"$f":"IFERROR(INDEX(indexdatabase,MATCH(BQ29&$AZ$14,name&Group2,0),MATCH(\"PPI\",Sheet2rng!$A$1:$AK$1,0)),\"\")","v":0},{"$f":"IFERROR(SMALL(IF(LEFT(Group2,LEN(class2!$BA$10))=class2!$BA$10,ROW(Group2)),ROW(A18)),\"\")","v":130},{"$nulls":4},"ROWE Benjamin",{"$nulls":11},"Tracey",{"$nulls":44},0,"","GIBSON James",{"$nulls":5},2,2,"TURNER Liberty",{"$nulls":5},0,"","GIBSON James",{"$nulls":5},0,"","GIBSON James",{"$nulls":5},0,"","GIBSON James",{"$nulls":5},0,"","GIBSON James",{"$nulls":51},0,0]
[{"$nulls":52},{"$f":"IFERROR(INDEX(indexdatabase,MATCH(BQ26&$AZ$14,name&Group2,0),MATCH(\"AR\",Sheet2rng!$A$1:$AK$1,0)),\"\")","v":0},"Martin",{"$f":"IFERROR(INDEX(indexdatabase,MATCH($BB30&$AZ$14,name&Group2,0),MATCH(\"SEND\",Sheet2rng!$A$1:$AO$1,0)),\"\")","v":0},{"$f":"IFERROR(INDEX(indexdatabase,MATCH($BB30&$AZ$14,name&Group2,0),MATCH(\"MAT\",Sheet2rng!$A$1:$AO$1,0)),\"\")","v":0},{"$f":"IFERROR(INDEX(indexdatabase,MATCH($BB30&$AZ$14,name&Group2,0),MATCH(\"EAL\",Sheet2rng!$A$1:$AO$1,0)),\"\")","v":"ENG"},"","","EAL/ENG","    EAL/ENG",{"$nulls":7},"Leo","IFERROR(INDEX(Sheet2rng,MATCH(BA12,sheet2rows,0), MATCH($BB$11,sheet2columns,0)),\"\")",{"$f":"IFERROR(INDEX(indexdatabase,MATCH(BQ30&$AZ$14,name&Group2,0),MATCH(\"PPI\",Sheet2rng!$A$1:$AK$1,0)),\"\")","v":0},{"$f":"IFERROR(SMALL(IF(LEFT(Group2,LEN(class2!$BA$10))=class2!$BA$10,ROW(Group2)),ROW(A19)),\"\")","v":133},{"$nulls":4},"HESTER Jessica",{"$nulls":11},"Leo",{"$nulls":44},0,"","HARRIS Christian",{"$nulls":5},3,11,"BAKER Lucy",{"$nulls":5},0,"","HARRIS Christian",{"$nulls":5},0,"","HARRIS Christian",{"$nulls":5},0,"","HARRIS Christian",{"$nulls":5},0,"","HARRIS Christian",{"$nulls":51},0,0]
[{"$nulls":52},{"$f":"IFERROR(INDEX(indexdatabase,MATCH(BQ27&$AZ$14,name&Group2,0),MATCH(\"AR\",Sheet2rng!$A$1:$AK$1,0)),\"\")","v":0},"Jessica",{"$f":"IFERROR(INDEX(indexdatabase,MATCH($BB31&$AZ$14,name&Group2,0),MATCH(\"SEND\",Sheet2rng!$A$1:$AO$1,0)),\"\")","v":0},{"$f":"IFERROR(INDEX(indexdatabase,MATCH($BB31&$AZ$14,name&Group2,0),MATCH(\"MAT\",Sheet2rng!$A$1:$AO$1,0)),\"\")","v":0},{"$f":"IFERROR(INDEX(indexdatabase,MATCH($BB31&$AZ$14,name&Group2,0),MATCH(\"EAL\",Sheet2rng!$A$1:$AO$1,0)),\"\")","v":"OTH"},"","","EAL/OTH","    EAL/OTH",{"$nulls":7},"Gregory","IFERROR(INDEX(Sheet2rng,MATCH(BA12,sheet2rows,0), MATCH($BB$11,sheet2columns,0)),\"\")",{"$f":"IFERROR(INDEX(indexdatabase,MATCH(BQ31&$AZ$14,name&Group2,0),MATCH(\"PPI\",Sheet2rng!$A$1:$AK$1,0)),\"\")","v":0},{"$f":"IFERROR(SMALL(IF(LEFT(Group2,LEN(class2!$BA$10))=class2!$BA$10,ROW(Group2)),ROW(A20)),\"\")","v":160},{"$nulls":4},"GOLDMAN Vincent",{"$nulls":11},"Gregory",{"$nulls":44},0,"","HARVEY Megan",{"$nulls":5},3,11,"BAVERSTOCK Adam",{"$nulls":5},0,"","HARVEY Megan",{"$nulls":5},0,"","HARVEY Megan",{"$nulls":5},0,"","HARVEY Megan",{"$nulls":5},0,"","HARVEY Megan",{"$nulls":51},0,0]
[{"$nulls":52},{"$f":"IFERROR(INDEX(indexdatabase,MATCH(BQ28&$AZ$14,name&Group2,0),MATCH(\"AR\",Sheet2rng!$A$1:$AK$1,0)),\"\")","v":0},"Raymond",{"$f":"IFERROR(INDEX(indexdatabase,MATCH($BB32&$AZ$14,name&Group2,0),MATCH(\"SEND\",Sheet2rng!$A$1:$AO$1,0)),\"\")","v":0},{"$f":"IFERROR(INDEX(indexdatabase,MATCH($BB32&$AZ$14,name&Group2,0),MATCH(\"MAT\",Sheet2rng!$A$1:$AO$1,0)),\"\")","v":0},{"$f":"IFERROR(INDEX(indexdatabase,MATCH($BB32&$AZ$14,name&Group2,0),MATCH(\"EAL\",Sheet2rng!$A$1:$AO$1,0)),\"\")","v":"OTH"},"","","EAL/OTH","    EAL/OTH",{"$nulls":7},"Randy","IFERROR(INDEX(Sheet2rng,MATCH(BA12,sheet2rows,0), MATCH($BB$11,sheet2columns,0)),\"\")",{"$f":"IFERROR(INDEX(indexdatabase,MATCH(BQ32&$AZ$14,name&Group2,0),MATCH(\"PPI\",Sheet2rng!$A$1:$AK$1,0)),\"\")","v":0},{"$f":"IFERROR(SMALL(IF(LEFT(Group2,LEN(class2!$BA$10))=class2!$BA$10,ROW(Group2)),ROW(A21)),\"\")","v":161},{"$nulls":4},"MCKENNA Beth",{"$nulls":11},"Randy",{"$nulls":44},0,"","HEATH Emily-Jayne",{"$nulls":5},3,11,"CHEEMA Gurvinder",{"$nulls":5},0,"","HEATH Emily-Jayne",{"$nulls":5},0,"","HEATH Emily-Jayne",{"$nulls":5},0,"","HEATH Emily-Jayne",{"$nulls":5},0,"","HEATH Emily-Jayne",{"$nulls":51},0,0]
[{"$nulls":52},{"$f":"IFERROR(INDEX(indexdatabase,MATCH(BQ29&$AZ$14,name&Group2,0),MATCH(\"AR\",Sheet2rng!$A$1:$AK$1,0)),\"\")","v":0},"Tracey",{"$f":"IFERROR(INDEX(indexdatabase,MATCH($BB33&$AZ$14,name&Group2,0),MATCH(\"SEND\",Sheet2rng!$A$1:$AO$1,0)),\"\")","v":0},{"$f":"IFERROR(INDEX(indexdatabase,MATCH($BB33&$AZ$14,name&Group2,0),MATCH(\"MAT\",Sheet2rng!$A$1:$AO$1,0)),\"\")","v":0},{"$f":"IFERROR(INDEX(indexdatabase,MATCH($BB33&$AZ$14,name&Group2,0),MATCH(\"EAL\",Sheet2rng!$A$1:$AO$1,0)),\"\")","v":"ENB"},"","","EAL/ENB","    EAL/ENB",{"$nulls":7},"","IFERROR(INDEX(Sheet2rng,MATCH(BA12,sheet2rows,0), MATCH($BB$11,sheet2columns,0)),\"\")",{"$f":"IFERROR(INDEX(indexdatabase,MATCH(BQ33&$AZ$14,name&Group2,0),MATCH(\"PPI\",Sheet2rng!$A$1:$AK$1,0)),\"\")","v":""},{"$f":"IFERROR(SMALL(IF(LEFT(Group2,LEN(class2!$BA$10))=class2!$BA$10,ROW(Group2)),ROW(A22)),\"\")","v":""},{"$nulls":4},"FINCH Stephen",{"$nulls":56},0,"","HOWELL Megan",{"$nulls":5},3,11,"GIBSON James",{"$nulls":5},0,"","HOWELL Megan",{"$nulls":5},0,"","HOWELL Megan",{"$nulls":5},0,"","HOWELL Megan",{"$nulls":5},0,"","HOWELL Megan",{"$nulls":51},0,0]
[{"$nulls":12},{"$f":"IFERROR(IF(SEARCH(\"11\",BE43)=1,11),\"\")","v":""},{"$nulls":3},{"$f":"IFERROR(IF(SEARCH(\"11\",BI43)=1,11),\"\")","v":""},{"$nulls":12},{"$f":"IFERROR(IF(SEARCH(\"11\",BV43)=1,11),\"\")","v":""},{"$nulls":8},{"$f":"IFERROR(IF(SEARCH(\"11\",CE43)=1,11),\"\")","v":""},{"$nulls":3},{"$f":"IFERROR(IF(SEARCH(\"11\",CI43)=1,11),\"\")","v":""},{"$nulls":9},{"$f":"IFERROR(INDEX(indexdatabase,MATCH(BQ30&$AZ$14,name&Group2,0),MATCH(\"AR\",Sheet2rng!$A$1:$AK$1,0)),\"\")","v":0},"Leo",{"$f":"IFERROR(INDEX(indexdatabase,MATCH($BB34&$AZ$14,name&Group2,0),MATCH(\"SEND\",Sheet2rng!$A$1:$AO$1,0)),\"\")","v":0},{"$f":"IFERROR(INDEX(indexdatabase,MATCH($BB34&$AZ$14,name&Group2,0),MATCH(\"MAT\",Sheet2rng!$A$1:$AO$1,0)),\"\")","v":0},{"$f":"IFERROR(INDEX(indexdatabase,MATCH($BB34&$AZ$14,name&Group2,0),MATCH(\"EAL\",Sheet2rng!$A$1:$AO$1,0)),\"\")","v":"ENG"},"","","EAL/ENG","    EAL/ENG",{"$nulls":7},"","IFERROR(INDEX(Sheet2rng,MATCH(BA12,sheet2rows,0), MATCH($BB$11,sheet2columns,0)),\"\")",{"$f":"IFERROR(INDEX(indexdatabase,MATCH(BQ34&$AZ$14,name&Group2,0),MATCH(\"PPI\",Sheet2rng!$A$1:$AK$1,0)),\"\")","v":""},{"$f":"IFERROR(SMALL(IF(LEFT(Group2,LEN(class2!$BA$10))=class2!$BA$10,ROW(Group2)),ROW(A23)),\"\")","v":""},{"$nulls":4},"CONNER Ryan",{"$nulls":56},0,"","JAMESON Amy",{"$nulls":5},3,11,"HARVEY Megan",{"$nulls":5},0,"","JAMESON Amy",{"$nulls":5},0,"","JAMESON Amy",{"$nulls":5},0,"","JAMESON Amy",{"$nulls":5},0,"","JAMESON Amy",{"$nulls":51},0,0]
[{"$nulls":52},{"$f":"IFERROR(INDEX(indexdatabase,MATCH(BQ31&$AZ$14,name&Group2,0),MATCH(\"AR\",Sheet2rng!$A$1:$AK$1,0)),\"\")","v":0},"Gregory",{"$f":"IFERROR(INDEX(indexdatabase,MATCH($BB35&$AZ$14,name&Group2,0),MATCH(\"SEND\",Sheet2rng!$A$1:$AO$1,0)),\"\")","v":0},{"$f":"IFERROR(INDEX(indexdatabase,MATCH($BB35&$AZ$14,name&Group2,0),MATCH(\"MAT\",Sheet2rng!$A$1:$AO$1,0)),\"\")","v":0},{"$f":"IFERROR(INDEX(indexdatabase,MATCH($BB35&$AZ$14,name&Group2,0),MATCH(\"EAL\",Sheet2rng!$A$1:$AO$1,0)),\"\")","v":"ENG"},"","","EAL/ENG","    EAL/ENG",{"$nulls":7},"","IFERROR(INDEX(Sheet2rng,MATCH(BA12,sheet2rows,0), MATCH($BB$11,sheet2columns,0)),\"\")",{"$f":"IFERROR(INDEX(indexdatabase,MATCH(BQ35&$AZ$14,name&Group2,0),MATCH(\"PPI\",Sheet2rng!$A$1:$AK$1,0)),\"\")","v":""},{"$f":"IFERROR(SMALL(IF(LEFT(Group2,LEN(class2!$BA$10))=class2!$BA$10,ROW(Group2)),ROW(A24)),\"\")","v":""},{"$nulls":4},"",{"$nulls":56},0,"","KERWICK Georgie",{"$nulls":5},3,11,"HEATH Emily-Jayne",{"$nulls":5},0,"","KERWICK Georgie",{"$nulls":5},0,"","KERWICK Georgie",{"$nulls":5},0,"","KERWICK Georgie",{"$nulls":5},0,"","KERWICK Georgie",{"$nulls":51},0,0]
[{"$nulls":12},{"$f":"IFERROR(IF($Y$1=1,\"\",VLOOKUP(M34,needstable,8,FALSE)),\"\")","v":"    "},{"$nulls":3},{"$f":"IFERROR(IF($Y$1=1,\"\",VLOOKUP(Q34,needstable,8,FALSE)),\"\")","v":"    "},{"$nulls":8},{"$f":"IFERROR(IF($Y$1=1,\"\",VLOOKUP(Z34,needstable,8,FALSE)),\"\")","v":""},{"$nulls":3},{"$f":"IFERROR(IF($Y$1=1,\"\",VLOOKUP(AD34,needstable,8,FALSE)),\"\")","v":"    "},{"$nulls":8},{"$f":"IFERROR(IF($Y$1=1,\"\",VLOOKUP(AM34,needstable,8,FALSE)),\"\")","v":"    "},{"$nulls":3},{"$f":"IFERROR(IF($Y$1=1,\"\",VLOOKUP(AQ34,needstable,8,FALSE)),\"\")","v":"    "},{"$nulls":9},{"$f":"IFERROR(INDEX(indexdatabase,MATCH(BQ32&$AZ$14,name&Group2,0),MATCH(\"AR\",Sheet2rng!$A$1:$AK$1,0)),\"\")","v":0},"Randy",{"$f":"IFERROR(INDEX(indexdatabase,MATCH($BB36&$AZ$14,name&Group2,0),MATCH(\"SEND\",Sheet2rng!$A$1:$AO$1,0)),\"\")","v":0},{"$f":"IFERROR(INDEX(indexdatabase,MATCH($BB36&$AZ$14,name&Group2,0),MATCH(\"MAT\",Sheet2rng!$A$1:$AO$1,0)),\"\")","v":0},{"$f":"IFERROR(INDEX(indexdatabase,MATCH($BB36&$AZ$14,name&Group2,0),MATCH(\"EAL\",Sheet2rng!$A$1:$AO$1,0)),\"\")","v":"OTH"},"","","EAL/OTH","    EAL/OTH",{"$nulls":7},"","IFERROR(INDEX(Sheet2rng,MATCH(BA12,sheet2rows,0), MATCH($BB$11,sheet2columns,0)),\"\")",{"$f":"IFERROR(INDEX(indexdatabase,MATCH(BQ36&$AZ$14,name&Group2,0),MATCH(\"PPI\",Sheet2rng!$A$1:$AK$1,0)),\"\")","v":""},{"$f":"IFERROR(SMALL(IF(LEFT(Group2,LEN(class2!$BA$10))=class2!$BA$10,ROW(Group2)),ROW(A25)),\"\")","v":""},{"$nulls":4},"",{"$nulls":56},0,"","MURPHY Shannon",{"$nulls":5},3,11,"HOWELL Megan",{"$nulls":5},0,"","MURPHY Shannon",{"$nulls":5},0,"","MURPHY Shannon",{"$nulls":5},0,"","MURPHY Shannon",{"$nulls":5},0,"","MURPHY Shannon",{"$nulls":51},0,0]
[{"$nulls":12},"C/grade",null,{"$f":"Sheet2rng!$D$1","v":"KS2"},null,"C/grade",null,{"$f":"Sheet2rng!$D$1","v":"KS2"},{"$nulls":6},"C/grade",null,{"$f":"Sheet2rng!$D$1","v":"KS2"},null,"C/grade",null,{"$f":"Sheet2rng!$D$1","v":"KS2"},{"$nulls":6},"C/grade",null,{"$f":"Sheet2rng!$D$1","v":"KS2"},null,"C/grade",null,{"$f":"Sheet2rng!$D$1","v":"KS2"},{"$nulls":7},{"$f":"IFERROR(INDEX(indexdatabase,MATCH(BQ33&$AZ$14,name&Group2,0),MATCH(\"AR\",Sheet2rng!$A$1:$AK$1,0)),\"\")","v":""},"",{"$f":"IFERROR(INDEX(indexdatabase,MATCH($BB37&$AZ$14,name&Group2,0),MATCH(\"SEND\",Sheet2rng!$A$1:$AO$1,0)),\"\")","v":""},{"$f":"IFERROR(INDEX(indexdatabase,MATCH($BB37&$AZ$14,name&Group2,0),MATCH(\"MAT\",Sheet2rng!$A$1:$AO$1,0)),\"\")","v":""},{"$f":"IFERROR(INDEX(indexdatabase,MATCH($BB37&$AZ$14,name&Group2,0),MATCH(\"EAL\",Sheet2rng!$A$1:$AO$1,0)),\"\")","v":""},"","","","    ",{"$nulls":7},"","IFERROR(INDEX(Sheet2rng,MATCH(BA12,sheet2rows,0), MATCH($BB$11,sheet2columns,0)),\"\")",{"$f":"IFERROR(INDEX(indexdatabase,MATCH(BQ37&$AZ$14,name&Group2,0),MATCH(\"PPI\",Sheet2rng!$A$1:$AK$1,0)),\"\")","v":""},{"$f":"IFERROR(SMALL(IF(LEFT(Group2,LEN(class2!$BA$10))=class2!$BA$10,ROW(Group2)),ROW(A26)),\"\")","v":""},{"$nulls":4},"",{"$nulls":56},0,"","PIDDINGTON Ellie",{"$nulls":5},3,11,"SAHOTA Callum",{"$nulls":5},0,"","PIDDINGTON Ellie",{"$nulls":5},0,"","PIDDINGTON Ellie",{"$nulls":5},0,"","PIDDINGTON Ellie",{"$nulls":5},0,"","PIDDINGTON Ellie",{"$nulls":51},0,0]
[{"$nulls":12},{"$f":"IFERROR(IF($Y$2=2,\"\",IF($Y$2=3,INDEX(indexdatabase,MATCH(M34&$AZ$14,name&Group2,0),MATCH($AZ$23,Sheet2rng!$A$1:$AK$1,0)))),\"\")","v":""},null,{"$f":"IFERROR(IF($Y$3=4,\"\",IF($Y$3=5,INDEX(indexdatabase,MATCH(M34&$AZ$14,name&Group2,0),MATCH($P$4,Sheet2rng!$A$1:$AK$1,0)))),\"\")","v":""},null,{"$f":"IFERROR(IF($Y$2=2,\"\",IF($Y$2=3,INDEX(indexdatabase,MATCH(Q34&$AZ$14,name&Group2,0),MATCH($AZ$23,Sheet2rng!$A$1:$AK$1,0)))),\"\")","v":""},null,{"$f":"IFERROR(IF($Y$3=4,\"\",IF($Y$3=5,INDEX(indexdatabase,MATCH(Q34&$AZ$14,name&Group2,0),MATCH($P$4,Sheet2rng!$A$1:$AK$1,0)))),\"\")","v":""},{"$nulls":6},{"$f":"IFERROR(IF($Y$2=2,\"\",IF($Y$2=3,INDEX(indexdatabase,MATCH(Z34&$AZ$14,name&Group2,0),MATCH($AZ$23,Sheet2rng!$A$1:$AK$1,0)))),\"\")","v":""},null,{"$f":"IFERROR(IF($Y$3=4,\"\",IF($Y$3=5,INDEX(indexdatabase,MATCH(Z34&$AZ$14,name&Group2,0),MATCH($P$4,Sheet2rng!$A$1:$AK$1,0)))),\"\")","v":""},null,{"$f":"IFERROR(IF($Y$2=2,\"\",IF($Y$2=3,INDEX(indexdatabase,MATCH(AD34&$AZ$14,name&Group2,0),MATCH($AZ$23,Sheet2rng!$A$1:$AK$1,0)))),\"\")","v":""},null,{"$f":"IFERROR(IF($Y$3=4,\"\",IF($Y$3=5,INDEX(indexdatabase,MATCH(AD34&$AZ$14,name&Group2,0),MATCH($P$4,Sheet2rng!$A$1:$AK$1,0)))),\"\")","v":""},{"$nulls":6},{"$f":"IFERROR(IF($Y$2=2,\"\",IF($Y$2=3,INDEX(indexdatabase,MATCH(AM34&$AZ$14,name&Group2,0),MATCH($AZ$23,Sheet2rng!$A$1:$AK$1,0)))),\"\")","v":""},null,{"$f":"IFERROR(IF($Y$3=4,\"\",IF($Y$3=5,INDEX(indexdatabase,MATCH(AM34&$AZ$14,name&Group2,0),MATCH($P$4,Sheet2rng!$A$1:$AK$1,0)))),\"\")","v":""},null,{"$f":"IFERROR(IF($Y$2=2,\"\",IF($Y$2=3,INDEX(indexdatabase,MATCH(AQ34&$AZ$14,name&Group2,0),MATCH($AZ$23,Sheet2rng!$A$1:$AK$1,0)))),\"\")","v":""},null,{"$f":"IFERROR(IF($Y$3=4,\"\",IF($Y$3=5,INDEX(indexdatabase,MATCH(AQ34&$AZ$14,name&Group2,0),MATCH($P$4,Sheet2rng!$A$1:$AK$1,0)))),\"\")","v":""},{"$nulls":7},{"$f":"IFERROR(INDEX(indexdatabase,MATCH(BQ34&$AZ$14,name&Group2,0),MATCH(\"AR\",Sheet2rng!$A$1:$AK$1,0)),\"\")","v":""},"",{"$f":"IFERROR(INDEX(indexdatabase,MATCH($BB38&$AZ$14,name&Group2,0),MATCH(\"SEND\",Sheet2rng!$A$1:$AO$1,0)),\"\")","v":""},{"$f":"IFERROR(INDEX(indexdatabase,MATCH($BB38&$AZ$14,name&Group2,0),MATCH(\"MAT\",Sheet2rng!$A$1:$AO$1,0)),\"\")","v":""},{"$f":"IFERROR(INDEX(indexdatabase,MATCH($BB38&$AZ$14,name&Group2,0),MATCH(\"EAL\",Sheet2rng!$A$1:$AO$1,0)),\"\")","v":""},"","","","    ",{"$nulls":7},"","IFERROR(INDEX(Sheet2rng,MATCH(BA12,sheet2rows,0), MATCH($BB$11,sheet2columns,0)),\"\")",{"$f":"IFERROR(INDEX(indexdatabase,MATCH(BQ38&$AZ$14,name&Group2,0),MATCH(\"PPI\",Sheet2rng!$A$1:$AK$1,0)),\"\")","v":""},{"$f":"IFERROR(SMALL(IF(LEFT(Group2,LEN(class2!$BA$10))=class2!$BA$10,ROW(Group2)),ROW(A27)),\"\")","v":""},{"$nulls":4},"",{"$nulls":56},0,"","QUILALA Angela",{"$nulls":5},3,11,"WRIGHT Caitlin",{"$nulls":5},0,"","QUILALA Angela",{"$nulls":5},0,"","QUILALA Angela",{"$nulls":5},0,"","QUILALA Angela",{"$nulls":5},0,"","QUILALA Angela",{"$nulls":51},0,0]
[{"$nulls":12},{"$f":"Sheet2rng!$C$1","v":"Target"},null,{"$f":"Sheet2rng!$E$1","v":"AR"},null,{"$f":"Sheet2rng!$C$1","v":"Target"},null,{"$f":"Sheet2rng!$E$1","v":"AR"},{"$nulls":6},{"$f":"Sheet2rng!$C$1","v":"Target"},null,{"$f":"Sheet2rng!$E$1","v":"AR"},null,{"$f":"Sheet2rng!$C$1","v":"Target"},null,{"$f":"Sheet2rng!$E$1","v":"AR"},{"$nulls":6},{"$f":"Sheet2rng!$C$1","v":"Target"},null,{"$f":"Sheet2rng!$E$1","v":"AR"},null,{"$f":"Sheet2rng!$C$1","v":"Target"},null,{"$f":"Sheet2rng!$E$1","v":"AR"},{"$nulls":7},{"$f":"IFERROR(INDEX(indexdatabase,MATCH(BQ35&$AZ$14,name&Group2,0),MATCH(\"AR\",Sheet2rng!$A$1:$AK$1,0)),\"\")","v":""},"",{"$f":"IFERROR(INDEX(indexdatabase,MATCH($BB39&$AZ$14,name&Group2,0),MATCH(\"SEND\",Sheet2rng!$A$1:$AO$1,0)),\"\")","v":""},{"$f":"IFERROR(INDEX(indexdatabase,MATCH($BB39&$AZ$14,name&Group2,0),MATCH(\"MAT\",Sheet2rng!$A$1:$AO$1,0)),\"\")","v":""},{"$f":"IFERROR(INDEX(indexdatabase,MATCH($BB39&$AZ$14,name&Group2,0),MATCH(\"EAL\",Sheet2rng!$A$1:$AO$1,0)),\"\")","v":""},"","","","    ",{"$nulls":7},"","IFERROR(INDEX(Sheet2rng,MATCH(BA12,sheet2rows,0), MATCH($BB$11,sheet2columns,0)),\"\")",{"$f":"IFERROR(INDEX(indexdatabase,MATCH(BQ39&$AZ$14,name&Group2,0),MATCH(\"PPI\",Sheet2rng!$A$1:$AK$1,0)),\"\")","v":""},{"$f":"IFERROR(SMALL(IF(LEFT(Group2,LEN(class2!$BA$10))=class2!$BA$10,ROW(Group2)),ROW(A28)),\"\")","v":""},{"$nulls":4},"",{"$nulls":56},0,"","RIORDAN Robbie",{"$nulls":5},4,20,"ABU Aisha",{"$nulls":5},0,"","RIORDAN Robbie",{"$nulls":5},0,"","RIORDAN Robbie",{"$nulls":5},0,"","RIORDAN Robbie",{"$nulls":5},0,"","RIORDAN Robbie",{"$nulls":51},0,0]
[{"$nulls":12},{"$f":"IFERROR(IF($Y$4=6,\"\",IF($Y$4=7,INDEX(indexdatabase,MATCH(M34&$AZ$14,name&Group2,0),MATCH($N$6,Sheet2rng!$A$1:$AK$1,0)))),\"\")","v":""},null,{"$f":"IFERROR(IF($Y$5=8,\"\",IF($Y$5=9,INDEX(Sheet2rng,MATCH(M34&$AZ$14,name&Group2,0),MATCH($P$6,sheet2columns,0)))),\"\")","v":""},null,{"$f":"IFERROR(IF($Y$4=6,\"\",IF($Y$4=7,INDEX(indexdatabase,MATCH(Q34&$AZ$14,name&Group2,0),MATCH($N$6,Sheet2rng!$A$1:$AK$1,0)))),\"\")","v":""},null,{"$f":"IFERROR(IF($Y$5=8,\"\",IF($Y$5=9,INDEX(Sheet2rng,MATCH(Q34&$AZ$14,name&Group2,0),MATCH($P$6,sheet2columns,0)))),\"\")","v":""},{"$nulls":6},{"$f":"IFERROR(IF($Y$4=6,\"\",IF($Y$4=7,INDEX(indexdatabase,MATCH(Z34&$AZ$14,name&Group2,0),MATCH($N$6,Sheet2rng!$A$1:$AK$1,0)))),\"\")","v":""},null,{"$f":"IFERROR(IF($Y$5=8,\"\",IF($Y$5=9,INDEX(Sheet2rng,MATCH(Z34&$AZ$14,name&Group2,0),MATCH($P$6,sheet2columns,0)))),\"\")","v":""},null,{"$f":"IFERROR(IF($Y$4=6,\"\",IF($Y$4=7,INDEX(indexdatabase,MATCH(AD34&$AZ$14,name&Group2,0),MATCH($N$6,Sheet2rng!$A$1:$AK$1,0)))),\"\")","v":""},null,{"$f":"IFERROR(IF($Y$5=8,\"\",IF($Y$5=9,INDEX(Sheet2rng,MATCH(AD34&$AZ$14,name&Group2,0),MATCH($P$6,sheet2columns,0)))),\"\")","v":""},{"$nulls":6},{"$f":"IFERROR(IF($Y$4=6,\"\",IF($Y$4=7,INDEX(indexdatabase,MATCH(AM34&$AZ$14,name&Group2,0),MATCH($N$6,Sheet2rng!$A$1:$AK$1,0)))),\"\")","v":""},null,{"$f":"IFERROR(IF($Y$5=8,\"\",IF($Y$5=9,INDEX(Sheet2rng,MATCH(AM34&$AZ$14,name&Group2,0),MATCH($P$6,sheet2columns,0)))),\"\")","v":""},null,{"$f":"IFERROR(IF($Y$4=6,\"\",IF($Y$4=7,INDEX(indexdatabase,MATCH(AQ34&$AZ$14,name&Group2,0),MATCH($N$6,Sheet2rng!$A$1:$AK$1,0)))),\"\")","v":""},null,{"$f":"IFERROR(IF($Y$5=8,\"\",IF($Y$5=9,INDEX(Sheet2rng,MATCH(AQ34&$AZ$14,name&Group2,0),MATCH($P$6,sheet2columns,0)))),\"\")","v":""},{"$nulls":7},{"$f":"IFERROR(INDEX(indexdatabase,MATCH(BQ36&$AZ$14,name&Group2,0),MATCH(\"AR\",Sheet2rng!$A$1:$AK$1,0)),\"\")","v":""},"",{"$f":"IFERROR(INDEX(indexdatabase,MATCH($BB40&$AZ$14,name&Group2,0),MATCH(\"SEND\",Sheet2rng!$A$1:$AO$1,0)),\"\")","v":""},{"$f":"IFERROR(INDEX(indexdatabase,MATCH($BB40&$AZ$14,name&Group2,0),MATCH(\"MAT\",Sheet2rng!$A$1:$AO$1,0)),\"\")","v":""},{"$f":"IFERROR(INDEX(indexdatabase,MATCH($BB40&$AZ$14,name&Group2,0),MATCH(\"EAL\",Sheet2rng!$A$1:$AO$1,0)),\"\")","v":""},"","","","    ",{"$nulls":7},"","IFERROR(INDEX(Sheet2rng,MATCH(BA12,sheet2rows,0), MATCH($BB$11,sheet2columns,0)),\"\")",{"$f":"IFERROR(INDEX(indexdatabase,MATCH(BQ40&$AZ$14,name&Group2,0),MATCH(\"PPI\",Sheet2rng!$A$1:$AK$1,0)),\"\")","v":""},{"$f":"IFERROR(SMALL(IF(LEFT(Group2,LEN(class2!$BA$10))=class2!$BA$10,ROW(Group2)),ROW(A29)),\"\")","v":""},{"$nulls":4},"",{"$nulls":56},0,"","SAHOTA Callum",{"$nulls":5},4,20,"BLE Grace",{"$nulls":5},0,"","SAHOTA Callum",{"$nulls":5},0,"","SAHOTA Callum",{"$nulls":5},0,"","SAHOTA Callum",{"$nulls":5},0,"","SAHOTA Callum",{"$nulls":51},0,0]
[{"$nulls":12},{"$f":"IFERROR(IF(SEARCH(\"11\",BE50)=1,11),\"\")","v":""},{"$nulls":3},{"$f":"IFERROR(IF(SEARCH(\"11\",BI50)=1,11),\"\")","v":""},{"$nulls":12},{"$f":"IFERROR(IF(SEARCH(\"11\",BV50)=1,11),\"\")","v":""},{"$nulls":8},{"$f":"IFERROR(IF(SEARCH(\"11\",CE50)=1,11),\"\")","v":""},{"$nulls":3},{"$f":"IFERROR(IF(SEARCH(\"11\",CI50)=1,11),\"\")","v":""},{"$nulls":9},{"$f":"IFERROR(INDEX(indexdatabase,MATCH(BQ37&$AZ$14,name&Group2,0),MATCH(\"AR\",Sheet2rng!$A$1:$AK$1,0)),\"\")","v":""},"",{"$f":"IFERROR(INDEX(indexdatabase,MATCH($BB41&$AZ$14,name&Group2,0),MATCH(\"SEND\",Sheet2rng!$A$1:$AO$1,0)),\"\")","v":""},{"$f":"IFERROR(INDEX(indexdatabase,MATCH($BB41&$AZ$14,name&Group2,0),MATCH(\"MAT\",Sheet2rng!$A$1:$AO$1,0)),\"\")","v":""},{"$f":"IFERROR(INDEX(indexdatabase,MATCH($BB41&$AZ$14,name&Group2,0),MATCH(\"EAL\",Sheet2rng!$A$1:$AO$1,0)),\"\")","v":""},"","","","    ",{"$nulls":7},"","IFERROR(INDEX(Sheet2rng,MATCH(BA12,sheet2rows,0), MATCH($BB$11,sheet2columns,0)),\"\")",{"$f":"IFERROR(INDEX(indexdatabase,MATCH(BQ41&$AZ$14,name&Group2,0),MATCH(\"PPI\",Sheet2rng!$A$1:$AK$1,0)),\"\")","v":""},{"$f":"IFERROR(SMALL(IF(LEFT(Group2,LEN(class2!$BA$10))=class2!$BA$10,ROW(Group2)),ROW(A30)),\"\")","v":""},{"$nulls":4},"",{"$nulls":56},0,"","SAWYER Cicarna-Lee",{"$nulls":5},4,20,"JAMESON Amy",{"$nulls":5},0,"","SAWYER Cicarna-Lee",{"$nulls":5},0,"","SAWYER Cicarna-Lee",{"$nulls":5},0,"","SAWYER Cicarna-Lee",{"$nulls":5},0,"","SAWYER Cicarna-Lee",{"$nulls":51},0,0]
[{"$nulls":52},{"$f":"IFERROR(INDEX(indexdatabase,MATCH(BQ38&$AZ$14,name&Group2,0),MATCH(\"AR\",Sheet2rng!$A$1:$AK$1,0)),\"\")","v":""},"",{"$f":"IFERROR(INDEX(indexdatabase,MATCH($BB42&$AZ$14,name&Group2,0),MATCH(\"SEND\",Sheet2rng!$A$1:$AO$1,0)),\"\")","v":""},{"$f":"IFERROR(INDEX(indexdatabase,MATCH($BB42&$AZ$14,name&Group2,0),MATCH(\"MAT\",Sheet2rng!$A$1:$AO$1,0)),\"\")","v":""},{"$f":"IFERROR(INDEX(indexdatabase,MATCH($BB42&$AZ$14,name&Group2,0),MATCH(\"EAL\",Sheet2rng!$A$1:$AO$1,0)),\"\")","v":""},"","","","    ",{"$nulls":4},"10a/Pe6",null,null,"","IFERROR(INDEX(Sheet2rng,MATCH(BA12,sheet2rows,0), MATCH($BB$11,sheet2columns,0)),\"\")",{"$f":"IFERROR(INDEX(indexdatabase,MATCH(BQ42&$AZ$14,name&Group2,0),MATCH(\"PPI\",Sheet2rng!$A$1:$AK$1,0)),\"\")","v":""},{"$f":"IFERROR(SMALL(IF(LEFT(Group2,LEN(class2!$BA$10))=class2!$BA$10,ROW(Group2)),ROW(A31)),\"\")","v":""},{"$nulls":4},"",{"$nulls":56},0,"","SEHMI Natalie",{"$nulls":5},4,20,"KERWICK Georgie",{"$nulls":5},0,"","SEHMI Natalie",{"$nulls":5},0,"","SEHMI Natalie",{"$nulls":5},0,"","SEHMI Natalie",{"$nulls":5},0,"","SEHMI Natalie",{"$nulls":51},0,0]
[{"$nulls":12},{"$f":"IFERROR(IF($Y$1=1,\"\",VLOOKUP(M41,needstable,8,FALSE)),\"\")","v":"    "},{"$nulls":3},{"$f":"IFERROR(IF($Y$1=1,\"\",VLOOKUP(Q41,needstable,8,FALSE)),\"\")","v":"    "},{"$nulls":8},{"$f":"IFERROR(IF($Y$1=1,\"\",VLOOKUP(Z41,needstable,8,FALSE)),\"\")","v":""},{"$nulls":3},{"$f":"IFERROR(IF($Y$1=1,\"\",VLOOKUP(AD41,needstable,8,FALSE)),\"\")","v":"    "},{"$nulls":8},{"$f":"IFERROR(IF($Y$1=1,\"\",VLOOKUP(AM41,needstable,8,FALSE)),\"\")","v":"    "},{"$nulls":3},{"$f":"IFERROR(IF($Y$1=1,\"\",VLOOKUP(AQ41,needstable,8,FALSE)),\"\")","v":"    "},{"$nulls":9},{"$f":"IFERROR(INDEX(indexdatabase,MATCH(BQ39&$AZ$14,name&Group2,0),MATCH(\"AR\",Sheet2rng!$A$1:$AK$1,0)),\"\")","v":""},"",{"$f":"IFERROR(INDEX(indexdatabase,MATCH($BB43&$AZ$14,name&Group2,0),MATCH(\"SEND\",Sheet2rng!$A$1:$AO$1,0)),\"\")","v":""},{"$f":"IFERROR(INDEX(indexdatabase,MATCH($BB43&$AZ$14,name&Group2,0),MATCH(\"MAT\",Sheet2rng!$A$1:$AO$1,0)),\"\")","v":""},{"$f":"IFERROR(INDEX(indexdatabase,MATCH($BB43&$AZ$14,name&Group2,0),MATCH(\"EAL\",Sheet2rng!$A$1:$AO$1,0)),\"\")","v":""},"","","","    ",{"$nulls":4},"10A/Pg1",null,null,"","IFERROR(INDEX(Sheet2rng,MATCH(BA12,sheet2rows,0), MATCH($BB$11,sheet2columns,0)),\"\")",{"$f":"IFERROR(INDEX(indexdatabase,MATCH(BQ43&$AZ$14,name&Group2,0),MATCH(\"PPI\",Sheet2rng!$A$1:$AK$1,0)),\"\")","v":""},{"$f":"IFERROR(SMALL(IF(LEFT(Group2,LEN(class2!$BA$10))=class2!$BA$10,ROW(Group2)),ROW(A32)),\"\")","v":""},{"$nulls":4},"",{"$nulls":56},0,"","SMITH Jade",{"$nulls":5},4,20,"SAWYER Cicarna-Lee",{"$nulls":5},0,"","SMITH Jade",{"$nulls":5},0,"","SMITH Jade",{"$nulls":5},0,"","SMITH Jade",{"$nulls":5},0,"","SMITH Jade",{"$nulls":51},0,0]
[{"$nulls":12},"C/grade",null,{"$f":"Sheet2rng!$D$1","v":"KS2"},null,"C/grade",null,{"$f":"Sheet2rng!$D$1","v":"KS2"},{"$nulls":6},"C/grade",null,{"$f":"Sheet2rng!$D$1","v":"KS2"},null,"C/grade",null,{"$f":"Sheet2rng!$D$1","v":"KS2"},{"$nulls":6},"C/grade",null,{"$f":"Sheet2rng!$D$1","v":"KS2"},null,"C/grade",null,{"$f":"Sheet2rng!$D$1","v":"KS2"},{"$nulls":7},{"$f":"IFERROR(INDEX(indexdatabase,MATCH(BQ40&$AZ$14,name&Group2,0),MATCH(\"AR\",Sheet2rng!$A$1:$AK$1,0)),\"\")","v":""},"",{"$f":"IFERROR(INDEX(indexdatabase,MATCH($BB44&$AZ$14,name&Group2,0),MATCH(\"SEND\",Sheet2rng!$A$1:$AO$1,0)),\"\")","v":""},{"$f":"IFERROR(INDEX(indexdatabase,MATCH($BB44&$AZ$14,name&Group2,0),MATCH(\"MAT\",Sheet2rng!$A$1:$AO$1,0)),\"\")","v":""},{"$f":"IFERROR(INDEX(indexdatabase,MATCH($BB44&$AZ$14,name&Group2,0),MATCH(\"EAL\",Sheet2rng!$A$1:$AO$1,0)),\"\")","v":""},"","","","    ",{"$nulls":4},"10a/Sc1",null,null,"","IFERROR(INDEX(Sheet2rng,MATCH(BA12,sheet2rows,0), MATCH($BB$11,sheet2columns,0)),\"\")",{"$f":"IFERROR(INDEX(indexdatabase,MATCH(BQ44&$AZ$14,name&Group2,0),MATCH(\"PPI\",Sheet2rng!$A$1:$AK$1,0)),\"\")","v":""},{"$f":"IFERROR(SMALL(IF(LEFT(Group2,LEN(class2!$BA$10))=class2!$BA$10,ROW(Group2)),ROW(A33)),\"\")","v":""},{"$nulls":61},0,"","SWAN Callum",{"$nulls":5},4,20,"SEHMI Natalie",{"$nulls":5},0,"","SWAN Callum",{"$nulls":5},0,"","SWAN Callum",{"$nulls":5},0,"","SWAN Callum",{"$nulls":5},0,"","SWAN Callum",{"$nulls":51},0,0]
[{"$nulls":12},{"$f":"IFERROR(IF($Y$2=2,\"\",IF($Y$2=3,INDEX(indexdatabase,MATCH(M41&$AZ$14,name&Group2,0),MATCH($AZ$23,Sheet2rng!$A$1:$AK$1,0)))),\"\")","v":""},null,{"$f":"IFERROR(IF($Y$3=4,\"\",IF($Y$3=5,INDEX(indexdatabase,MATCH(M41&$AZ$14,name&Group2,0),MATCH($P$4,Sheet2rng!$A$1:$AK$1,0)))),\"\")","v":""},null,{"$f":"IFERROR(IF($Y$2=2,\"\",IF($Y$2=3,INDEX(indexdatabase,MATCH(Q41&$AZ$14,name&Group2,0),MATCH($AZ$23,Sheet2rng!$A$1:$AK$1,0)))),\"\")","v":""},null,{"$f":"IFERROR(IF($Y$3=4,\"\",IF($Y$3=5,INDEX(indexdatabase,MATCH(Q41&$AZ$14,name&Group2,0),MATCH($P$4,Sheet2rng!$A$1:$AK$1,0)))),\"\")","v":""},{"$nulls":6},{"$f":"IFERROR(IF($Y$2=2,\"\",IF($Y$2=3,INDEX(indexdatabase,MATCH(Z41&$AZ$14,name&Group2,0),MATCH($AZ$23,Sheet2rng!$A$1:$AK$1,0)))),\"\")","v":""},null,{"$f":"IFERROR(IF($Y$3=4,\"\",IF($Y$3=5,INDEX(indexdatabase,MATCH(Z41&$AZ$14,name&Group2,0),MATCH($P$4,Sheet2rng!$A$1:$AK$1,0)))),\"\")","v":""},null,{"$f":"IFERROR(IF($Y$2=2,\"\",IF($Y$2=3,INDEX(indexdatabase,MATCH(AD41&$AZ$14,name&Group2,0),MATCH($AZ$23,Sheet2rng!$A$1:$AK$1,0)))),\"\")","v":""},null,{"$f":"IFERROR(IF($Y$3=4,\"\",IF($Y$3=5,INDEX(indexdatabase,MATCH(AD41&$AZ$14,name&Group2,0),MATCH($P$4,Sheet2rng!$A$1:$AK$1,0)))),\"\")","v":""},{"$nulls":6},{"$f":"IFERROR(IF($Y$2=2,\"\",IF($Y$2=3,INDEX(indexdatabase,MATCH(AM41&$AZ$14,name&Group2,0),MATCH($AZ$23,Sheet2rng!$A$1:$AK$1,0)))),\"\")","v":""},null,{"$f":"IFERROR(IF($Y$3=4,\"\",IF($Y$3=5,INDEX(indexdatabase,MATCH(AM41&$AZ$14,name&Group2,0),MATCH($P$4,Sheet2rng!$A$1:$AK$1,0)))),\"\")","v":""},null,{"$f":"IFERROR(IF($Y$2=2,\"\",IF($Y$2=3,INDEX(indexdatabase,MATCH(AQ41&$AZ$14,name&Group2,0),MATCH($AZ$23,Sheet2rng!$A$1:$AK$1,0)))),\"\")","v":""},null,{"$f":"IFERROR(IF($Y$3=4,\"\",IF($Y$3=5,INDEX(indexdatabase,MATCH(AQ41&$AZ$14,name&Group2,0),MATCH($P$4,Sheet2rng!$A$1:$AK$1,0)))),\"\")","v":""},{"$nulls":7},{"$f":"IFERROR(INDEX(indexdatabase,MATCH(BQ41&$AZ$14,name&Group2,0),MATCH(\"AR\",Sheet2rng!$A$1:$AK$1,0)),\"\")","v":""},"",{"$f":"IFERROR(INDEX(indexdatabase,MATCH($BB45&$AZ$14,name&Group2,0),MATCH(\"SEND\",Sheet2rng!$A$1:$AO$1,0)),\"\")","v":""},{"$f":"IFERROR(INDEX(indexdatabase,MATCH($BB45&$AZ$14,name&Group2,0),MATCH(\"MAT\",Sheet2rng!$A$1:$AO$1,0)),\"\")","v":""},{"$f":"IFERROR(INDEX(indexdatabase,MATCH($BB45&$AZ$14,name&Group2,0),MATCH(\"EAL\",Sheet2rng!$A$1:$AO$1,0)),\"\")","v":""},"","","","    ",{"$nulls":4},"10a/Sc2",null,null,"","IFERROR(INDEX(Sheet2rng,MATCH(BA12,sheet2rows,0), MATCH($BB$11,sheet2columns,0)),\"\")",{"$f":"IFERROR(INDEX(indexdatabase,MATCH(BQ45&$AZ$14,name&Group2,0),MATCH(\"PPI\",Sheet2rng!$A$1:$AK$1,0)),\"\")","v":""},{"$f":"IFERROR(SMALL(IF(LEFT(Group2,LEN(class2!$BA$10))=class2!$BA$10,ROW(Group2)),ROW(A34)),\"\")","v":""},{"$nulls":62},"","TURNER Liberty",{"$nulls":6},20,"SWAN Callum",{"$nulls":6},"","TURNER Liberty",{"$nulls":6},"","TURNER Liberty",{"$nulls":6},"","TURNER Liberty",{"$nulls":6},"","TURNER Liberty",{"$nulls":51},0,0]
[{"$nulls":12},{"$f":"Sheet2rng!$C$1","v":"Target"},null,{"$f":"Sheet2rng!$E$1","v":"AR"},null,{"$f":"Sheet2rng!$C$1","v":"Target"},null,{"$f":"Sheet2rng!$E$1","v":"AR"},{"$nulls":6},{"$f":"Sheet2rng!$C$1","v":"Target"},null,{"$f":"Sheet2rng!$E$1","v":"AR"},null,{"$f":"Sheet2rng!$C$1","v":"Target"},null,{"$f":"Sheet2rng!$E$1","v":"AR"},{"$nulls":6},{"$f":"Sheet2rng!$C$1","v":"Target"},null,{"$f":"Sheet2rng!$E$1","v":"AR"},null,{"$f":"Sheet2rng!$C$1","v":"Target"},null,{"$f":"Sheet2rng!$E$1","v":"AR"},{"$nulls":7},{"$f":"IFERROR(INDEX(indexdatabase,MATCH(BQ42&$AZ$14,name&Group2,0),MATCH(\"AR\",Sheet2rng!$A$1:$AK$1,0)),\"\")","v":""},"",{"$f":"IFERROR(INDEX(indexdatabase,MATCH($BB46&$AZ$14,name&Group2,0),MATCH(\"SEND\",Sheet2rng!$A$1:$AO$1,0)),\"\")","v":""},{"$f":"IFERROR(INDEX(indexdatabase,MATCH($BB46&$AZ$14,name&Group2,0),MATCH(\"MAT\",Sheet2rng!$A$1:$AO$1,0)),\"\")","v":""},{"$f":"IFERROR(INDEX(indexdatabase,MATCH($BB46&$AZ$14,name&Group2,0),MATCH(\"EAL\",Sheet2rng!$A$1:$AO$1,0)),\"\")","v":""},"","","","    ",{"$nulls":4},"10a/Sc3",null,null,"","IFERROR(INDEX(Sheet2rng,MATCH(BA12,sheet2rows,0), MATCH($BB$11,sheet2columns,0)),\"\")",{"$f":"IFERROR(INDEX(indexdatabase,MATCH(BQ46&$AZ$14,name&Group2,0),MATCH(\"PPI\",Sheet2rng!$A$1:$AK$1,0)),\"\")","v":""},{"$f":"IFERROR(SMALL(IF(LEFT(Group2,LEN(class2!$BA$10))=class2!$BA$10,ROW(Group2)),ROW(A35)),\"\")","v":""},{"$nulls":62},"","WILLIS Demi",{"$nulls":6},20,"WILLIS Demi",{"$nulls":6},"","WILLIS Demi",{"$nulls":6},"","WILLIS Demi",{"$nulls":6},"","WILLIS Demi",{"$nulls":6},"","WILLIS Demi",{"$nulls":51},0,0]
[{"$nulls":12},{"$f":"IFERROR(IF($Y$4=6,\"\",IF($Y$4=7,INDEX(indexdatabase,MATCH(M41&$AZ$14,name&Group2,0),MATCH($N$6,Sheet2rng!$A$1:$AK$1,0)))),\"\")","v":""},null,{"$f":"IFERROR(IF($Y$5=8,\"\",IF($Y$5=9,INDEX(Sheet2rng,MATCH(M41&$AZ$14,name&Group2,0),MATCH($P$6,sheet2columns,0)))),\"\")","v":""},null,{"$f":"IFERROR(IF($Y$4=6,\"\",IF($Y$4=7,INDEX(indexdatabase,MATCH(Q41&$AZ$14,name&Group2,0),MATCH($N$6,Sheet2rng!$A$1:$AK$1,0)))),\"\")","v":""},null,{"$f":"IFERROR(IF($Y$5=8,\"\",IF($Y$5=9,INDEX(Sheet2rng,MATCH(Q41&$AZ$14,name&Group2,0),MATCH($P$6,sheet2columns,0)))),\"\")","v":""},{"$nulls":6},{"$f":"IFERROR(IF($Y$4=6,\"\",IF($Y$4=7,INDEX(indexdatabase,MATCH(Z41&$AZ$14,name&Group2,0),MATCH($N$6,Sheet2rng!$A$1:$AK$1,0)))),\"\")","v":""},null,{"$f":"IFERROR(IF($Y$5=8,\"\",IF($Y$5=9,INDEX(Sheet2rng,MATCH(Z41&$AZ$14,name&Group2,0),MATCH($P$6,sheet2columns,0)))),\"\")","v":""},null,{"$f":"IFERROR(IF($Y$4=6,\"\",IF($Y$4=7,INDEX(indexdatabase,MATCH(AD41&$AZ$14,name&Group2,0),MATCH($N$6,Sheet2rng!$A$1:$AK$1,0)))),\"\")","v":""},null,{"$f":"IFERROR(IF($Y$5=8,\"\",IF($Y$5=9,INDEX(Sheet2rng,MATCH(AD41&$AZ$14,name&Group2,0),MATCH($P$6,sheet2columns,0)))),\"\")","v":""},{"$nulls":6},{"$f":"IFERROR(IF($Y$4=6,\"\",IF($Y$4=7,INDEX(indexdatabase,MATCH(AM41&$AZ$14,name&Group2,0),MATCH($N$6,Sheet2rng!$A$1:$AK$1,0)))),\"\")","v":""},null,{"$f":"IFERROR(IF($Y$5=8,\"\",IF($Y$5=9,INDEX(Sheet2rng,MATCH(AM41&$AZ$14,name&Group2,0),MATCH($P$6,sheet2columns,0)))),\"\")","v":""},null,{"$f":"IFERROR(IF($Y$4=6,\"\",IF($Y$4=7,INDEX(indexdatabase,MATCH(AQ41&$AZ$14,name&Group2,0),MATCH($N$6,Sheet2rng!$A$1:$AK$1,0)))),\"\")","v":""},null,{"$f":"IFERROR(IF($Y$5=8,\"\",IF($Y$5=9,INDEX(Sheet2rng,MATCH(AQ41&$AZ$14,name&Group2,0),MATCH($P$6,sheet2columns,0)))),\"\")","v":""},{"$nulls":7},{"$f":"IFERROR(INDEX(indexdatabase,MATCH(BQ43&$AZ$14,name&Group2,0),MATCH(\"AR\",Sheet2rng!$A$1:$AK$1,0)),\"\")","v":""},null,{"$f":"IFERROR(INDEX(indexdatabase,MATCH($BB47&$AZ$14,name&Group2,0),MATCH(\"SEND\",Sheet2rng!$A$1:$AO$1,0)),\"\")","v":""},{"$f":"IFERROR(INDEX(indexdatabase,MATCH($BB47&$AZ$14,name&Group2,0),MATCH(\"MAT\",Sheet2rng!$A$1:$AO$1,0)),\"\")","v":""},{"$f":"IFERROR(INDEX(indexdatabase,MATCH($BB47&$AZ$14,name&Group2,0),MATCH(\"EAL\",Sheet2rng!$A$1:$AO$1,0)),\"\")","v":""},"","","","    ",{"$nulls":4},"10a/Sc4",null,null,"","IFERROR(INDEX(Sheet2rng,MATCH(BA12,sheet2rows,0), MATCH($BB$11,sheet2columns,0)),\"\")",{"$f":"IFERROR(INDEX(indexdatabase,MATCH(BQ47&$AZ$14,name&Group2,0),MATCH(\"PPI\",Sheet2rng!$A$1:$AK$1,0)),\"\")","v":""},{"$f":"IFERROR(SMALL(IF(LEFT(Group2,LEN(class2!$BA$10))=class2!$BA$10,ROW(Group2)),ROW(A36)),\"\")","v":""},{"$nulls":62},"","WRIGHT Caitlin",{"$nulls":6},"","RIORDAN Robbie",{"$nulls":6},"","WRIGHT Caitlin",{"$nulls":6},"","WRIGHT Caitlin",{"$nulls":6},"","WRIGHT Caitlin",{"$nulls":6},"","WRIGHT Caitlin",{"$nulls":51},0,0]
[{"$nulls":12},{"$f":"IFERROR(IF(SEARCH(\"11\",BE57)=1,11),\"\")","v":""},{"$nulls":3},{"$f":"IFERROR(IF(SEARCH(\"11\",BI57)=1,11),\"\")","v":""},{"$nulls":12},{"$f":"IFERROR(IF(SEARCH(\"11\",BV57)=1,11),\"\")","v":""},{"$nulls":8},{"$f":"IFERROR(IF(SEARCH(\"11\",CE57)=1,11),\"\")","v":""},{"$nulls":3},{"$f":"IFERROR(IF(SEARCH(\"11\",CI57)=1,11),\"\")","v":""},{"$nulls":9},{"$f":"IFERROR(INDEX(indexdatabase,MATCH(BQ44&$AZ$14,name&Group2,0),MATCH(\"AR\",Sheet2rng!$A$1:$AK$1,0)),\"\")","v":""},null,{"$f":"IFERROR(INDEX(indexdatabase,MATCH($BB48&$AZ$14,name&Group2,0),MATCH(\"SEND\",Sheet2rng!$A$1:$AO$1,0)),\"\")","v":""},{"$f":"IFERROR(INDEX(indexdatabase,MATCH($BB48&$AZ$14,name&Group2,0),MATCH(\"MAT\",Sheet2rng!$A$1:$AO$1,0)),\"\")","v":""},{"$f":"IFERROR(INDEX(indexdatabase,MATCH($BB48&$AZ$14,name&Group2,0),MATCH(\"EAL\",Sheet2rng!$A$1:$AO$1,0)),\"\")","v":""},"","","",{"$f":"CONCATENATE(BF48,\"  \",BG48,\"  \",BH48)","v":"    "},{"$nulls":4},"10a/Sc5",null,null,"","IFERROR(INDEX(Sheet2rng,MATCH(BA12,sheet2rows,0), MATCH($BB$11,sheet2columns,0)),\"\")",{"$f":"IFERROR(INDEX(indexdatabase,MATCH(BQ48&$AZ$14,name&Group2,0),MATCH(\"PPI\",Sheet2rng!$A$1:$AK$1,0)),\"\")","v":""},{"$f":"IFERROR(SMALL(IF(LEFT(Group2,LEN(class2!$BA$10))=class2!$BA$10,ROW(Group2)),ROW(A37)),\"\")","v":""},{"$nulls":62},"","",{"$nulls":6},"","",{"$nulls":6},"","",{"$nulls":6},"","",{"$nulls":6},"","",{"$nulls":6},"","",{"$nulls":51},0,0]
[{"$nulls":65},"10a/Sc6",null,null,"","IFERROR(INDEX(Sheet2rng,MATCH(BA12,sheet2rows,0), MATCH($BB$11,sheet2columns,0)),\"\")",{"$f":"IFERROR(INDEX(indexdatabase,MATCH(BQ49&$AZ$14,name&Group2,0),MATCH(\"PPI\",Sheet2rng!$A$1:$AK$1,0)),\"\")","v":""},{"$f":"IFERROR(SMALL(IF(LEFT(Group2,LEN(class2!$BA$10))=class2!$BA$10,ROW(Group2)),ROW(A38)),\"\")","v":""},{"$nulls":155},0,0]
[{"$nulls":12},{"$f":"IFERROR(IF($Y$1=1,\"\",VLOOKUP(M48,needstable,8,FALSE)),\"\")","v":"    "},{"$nulls":3},{"$f":"IFERROR(IF($Y$1=1,\"\",VLOOKUP(Q48,needstable,8,FALSE)),\"\")","v":"    "},{"$nulls":8},{"$f":"IFERROR(IF($Y$1=1,\"\",VLOOKUP(Z48,needstable,8,FALSE)),\"\")","v":""},{"$nulls":3},{"$f":"IFERROR(IF($Y$1=1,\"\",VLOOKUP(AD48,needstable,8,FALSE)),\"\")","v":"    "},{"$nulls":8},{"$f":"IFERROR(IF($Y$1=1,\"\",VLOOKUP(AM48,needstable,8,FALSE)),\"\")","v":"    "},{"$nulls":3},{"$f":"IFERROR(IF($Y$1=1,\"\",VLOOKUP(AQ48,needstable,8,FALSE)),\"\")","v":"    "},{"$nulls":22},"10A/So1",null,null,"","IFERROR(INDEX(Sheet2rng,MATCH(BA12,sheet2rows,0), MATCH($BB$11,sheet2columns,0)),\"\")",{"$f":"IFERROR(INDEX(indexdatabase,MATCH(BQ50&$AZ$14,name&Group2,0),MATCH(\"PPI\",Sheet2rng!$A$1:$AK$1,0)),\"\")","v":""},{"$f":"IFERROR(SMALL(IF(LEFT(Group2,LEN(class2!$BA$10))=class2!$BA$10,ROW(Group2)),ROW(A39)),\"\")","v":""},{"$nulls":62},"","",{"$nulls":6},"","",{"$nulls":6},"","",{"$nulls":5},{"$f":"IF(FC50=1,1,IF(FC50=2,2,IF(FC50=FC49,FB49,IF(FC50>FC49,FB49+1))))","v":0},"","",{"$nulls":5},{"$f":"IF(FK50=1,1,IF(FK50=2,2,IF(FK50=FK49,FJ49,IF(FK50>FK49,FJ49+1))))","v":0},"","",{"$nulls":5},{"$f":"IF(FS50=1,1,IF(FS50=2,2,IF(FS50=FS49,FR49,IF(FS50>FS49,FR49+1))))","v":0},"","",{"$nulls":51},0,0]
[{"$nulls":12},"C/grade",null,{"$f":"Sheet2rng!$D$1","v":"KS2"},null,"C/grade",null,{"$f":"Sheet2rng!$D$1","v":"KS2"},{"$nulls":6},"C/grade",null,{"$f":"Sheet2rng!$D$1","v":"KS2"},null,"C/grade",null,{"$f":"Sheet2rng!$D$1","v":"KS2"},{"$nulls":6},"C/grade",null,{"$f":"Sheet2rng!$D$1","v":"KS2"},null,"C/grade",null,{"$f":"Sheet2rng!$D$1","v":"KS2"},{"$nulls":20},"10A/So2",null,null,"","IFERROR(INDEX(Sheet2rng,MATCH(BA12,sheet2rows,0), MATCH($BB$11,sheet2columns,0)),\"\")",{"$f":"IFERROR(INDEX(indexdatabase,MATCH(BQ51&$AZ$14,name&Group2,0),MATCH(\"PPI\",Sheet2rng!$A$1:$AK$1,0)),\"\")","v":""},{"$f":"IFERROR(SMALL(IF(LEFT(Group2,LEN(class2!$BA$10))=class2!$BA$10,ROW(Group2)),ROW(A40)),\"\")","v":""},{"$nulls":62},"","",{"$nulls":6},"","",{"$nulls":6},"","",{"$nulls":6},"","",{"$nulls":6},"","",{"$nulls":6},"","",{"$nulls":52},{"$f":"DU370","v":0}]
[{"$nulls":12},{"$f":"IFERROR(IF($Y$2=2,\"\",IF($Y$2=3,INDEX(indexdatabase,MATCH(M48&$AZ$14,name&Group2,0),MATCH($AZ$23,Sheet2rng!$A$1:$AK$1,0)))),\"\")","v":""},null,{"$f":"IFERROR(IF($Y$3=4,\"\",IF($Y$3=5,INDEX(indexdatabase,MATCH(M48&$AZ$14,name&Group2,0),MATCH($P$4,Sheet2rng!$A$1:$AK$1,0)))),\"\")","v":""},null,{"$f":"IFERROR(IF($Y$2=2,\"\",IF($Y$2=3,INDEX(indexdatabase,MATCH(Q48&$AZ$14,name&Group2,0),MATCH($AZ$23,Sheet2rng!$A$1:$AK$1,0)))),\"\")","v":""},null,{"$f":"IFERROR(IF($Y$3=4,\"\",IF($Y$3=5,INDEX(indexdatabase,MATCH(Q48&$AZ$14,name&Group2,0),MATCH($P$4,Sheet2rng!$A$1:$AK$1,0)))),\"\")","v":""},{"$nulls":6},{"$f":"IFERROR(IF($Y$2=2,\"\",IF($Y$2=3,INDEX(indexdatabase,MATCH(Z48&$AZ$14,name&Group2,0),MATCH($AZ$23,Sheet2rng!$A$1:$AK$1,0)))),\"\")","v":""},null,{"$f":"IFERROR(IF($Y$3=4,\"\",IF($Y$3=5,INDEX(indexdatabase,MATCH(Z48&$AZ$14,name&Group2,0),MATCH($P$4,Sheet2rng!$A$1:$AK$1,0)))),\"\")","v":""},null,{"$f":"IFERROR(IF($Y$2=2,\"\",IF($Y$2=3,INDEX(indexdatabase,MATCH(AD48&$AZ$14,name&Group2,0),MATCH($AZ$23,Sheet2rng!$A$1:$AK$1,0)))),\"\")","v":""},null,{"$f":"IFERROR(IF($Y$3=4,\"\",IF($Y$3=5,INDEX(indexdatabase,MATCH(AD48&$AZ$14,name&Group2,0),MATCH($P$4,Sheet2rng!$A$1:$AK$1,0)))),\"\")","v":""},{"$nulls":6},{"$f":"IFERROR(IF($Y$2=2,\"\",IF($Y$2=3,INDEX(indexdatabase,MATCH(AM48&$AZ$14,name&Group2,0),MATCH($AZ$23,Sheet2rng!$A$1:$AK$1,0)))),\"\")","v":""},null,{"$f":"IFERROR(IF($Y$3=4,\"\",IF($Y$3=5,INDEX(indexdatabase,MATCH(AM48&$AZ$14,name&Group2,0),MATCH($P$4,Sheet2rng!$A$1:$AK$1,0)))),\"\")","v":""},null,{"$f":"IFERROR(IF($Y$2=2,\"\",IF($Y$2=3,INDEX(indexdatabase,MATCH(AQ48&$AZ$14,name&Group2,0),MATCH($AZ$23,Sheet2rng!$A$1:$AK$1,0)))),\"\")","v":""},null,{"$f":"IFERROR(IF($Y$3=4,\"\",IF($Y$3=5,INDEX(indexdatabase,MATCH(AQ48&$AZ$14,name&Group2,0),MATCH($P$4,Sheet2rng!$A$1:$AK$1,0)))),\"\")","v":""},{"$nulls":20},"10A/Sp1",null,null,"","IFERROR(INDEX(Sheet2rng,MATCH(BA12,sheet2rows,0), MATCH($BB$11,sheet2columns,0)),\"\")",{"$f":"IFERROR(INDEX(indexdatabase,MATCH(BQ52&$AZ$14,name&Group2,0),MATCH(\"PPI\",Sheet2rng!$A$1:$AK$1,0)),\"\")","v":""},{"$f":"IFERROR(SMALL(IF(LEFT(Group2,LEN(class2!$BA$10))=class2!$BA$10,ROW(Group2)),ROW(A41)),\"\")","v":""},{"$nulls":62},"","",{"$nulls":6},"","",{"$nulls":6},"","",{"$nulls":6},"","",{"$nulls":6},"","",{"$nulls":6},"",""]
[{"$nulls":12},{"$f":"Sheet2rng!$C$1","v":"Target"},null,{"$f":"Sheet2rng!$E$1","v":"AR"},null,{"$f":"Sheet2rng!$C$1","v":"Target"},null,{"$f":"Sheet2rng!$E$1","v":"AR"},{"$nulls":6},{"$f":"Sheet2rng!$C$1","v":"Target"},null,{"$f":"Sheet2rng!$E$1","v":"AR"},null,{"$f":"Sheet2rng!$C$1","v":"Target"},null,{"$f":"Sheet2rng!$E$1","v":"AR"},{"$nulls":6},{"$f":"Sheet2rng!$C$1","v":"Target"},null,{"$f":"Sheet2rng!$E$1","v":"AR"},null,{"$f":"Sheet2rng!$C$1","v":"Target"},null,{"$f":"Sheet2rng!$E$1","v":"AR"},{"$nulls":20},"10B/Ab1",null,null,"","IFERROR(INDEX(Sheet2rng,MATCH(BA12,sheet2rows,0), MATCH($BB$11,sheet2columns,0)),\"\")",{"$f":"IFERROR(INDEX(indexdatabase,MATCH(BQ53&$AZ$14,name&Group2,0),MATCH(\"PPI\",Sheet2rng!$A$1:$AK$1,0)),\"\")","v":""},{"$f":"IFERROR(SMALL(IF(LEFT(Group2,LEN(class2!$BA$10))=class2!$BA$10,ROW(Group2)),ROW(A42)),\"\")","v":""},{"$nulls":62},"","",{"$nulls":6},"","",{"$nulls":6},"","",{"$nulls":6},"","",{"$nulls":6},"","",{"$nulls":6},"",""]
[{"$nulls":12},{"$f":"IFERROR(IF($Y$4=6,\"\",IF($Y$4=7,INDEX(indexdatabase,MATCH(M48&$AZ$14,name&Group2,0),MATCH($N$6,Sheet2rng!$A$1:$AK$1,0)))),\"\")","v":""},null,{"$f":"IFERROR(IF($Y$5=8,\"\",IF($Y$5=9,INDEX(Sheet2rng,MATCH(M48&$AZ$14,name&Group2,0),MATCH($P$6,sheet2columns,0)))),\"\")","v":""},null,{"$f":"IFERROR(IF($Y$4=6,\"\",IF($Y$4=7,INDEX(indexdatabase,MATCH(Q48&$AZ$14,name&Group2,0),MATCH($N$6,Sheet2rng!$A$1:$AK$1,0)))),\"\")","v":""},null,{"$f":"IFERROR(IF($Y$5=8,\"\",IF($Y$5=9,INDEX(Sheet2rng,MATCH(Q48&$AZ$14,name&Group2,0),MATCH($P$6,sheet2columns,0)))),\"\")","v":""},{"$nulls":6},{"$f":"IFERROR(IF($Y$4=6,\"\",IF($Y$4=7,INDEX(indexdatabase,MATCH(Z48&$AZ$14,name&Group2,0),MATCH($N$6,Sheet2rng!$A$1:$AK$1,0)))),\"\")","v":""},null,{"$f":"IFERROR(IF($Y$5=8,\"\",IF($Y$5=9,INDEX(Sheet2rng,MATCH(Z48&$AZ$14,name&Group2,0),MATCH($P$6,sheet2columns,0)))),\"\")","v":""},null,{"$f":"IFERROR(IF($Y$4=6,\"\",IF($Y$4=7,INDEX(indexdatabase,MATCH(AD48&$AZ$14,name&Group2,0),MATCH($N$6,Sheet2rng!$A$1:$AK$1,0)))),\"\")","v":""},null,{"$f":"IFERROR(IF($Y$5=8,\"\",IF($Y$5=9,INDEX(Sheet2rng,MATCH(AD48&$AZ$14,name&Group2,0),MATCH($P$6,sheet2columns,0)))),\"\")","v":""},{"$nulls":6},{"$f":"IFERROR(IF($Y$4=6,\"\",IF($Y$4=7,INDEX(indexdatabase,MATCH(AM48&$AZ$14,name&Group2,0),MATCH($N$6,Sheet2rng!$A$1:$AK$1,0)))),\"\")","v":""},null,{"$f":"IFERROR(IF($Y$5=8,\"\",IF($Y$5=9,INDEX(Sheet2rng,MATCH(AM48&$AZ$14,name&Group2,0),MATCH($P$6,sheet2columns,0)))),\"\")","v":""},null,{"$f":"IFERROR(IF($Y$4=6,\"\",IF($Y$4=7,INDEX(indexdatabase,MATCH(AQ48&$AZ$14,name&Group2,0),MATCH($N$6,Sheet2rng!$A$1:$AK$1,0)))),\"\")","v":""},null,{"$f":"IFERROR(IF($Y$5=8,\"\",IF($Y$5=9,INDEX(Sheet2rng,MATCH(AQ48&$AZ$14,name&Group2,0),MATCH($P$6,sheet2columns,0)))),\"\")","v":""},{"$nulls":20},"10B/Ad1",null,null,"","IFERROR(INDEX(Sheet2rng,MATCH(BA12,sheet2rows,0), MATCH($BB$11,sheet2columns,0)),\"\")",{"$f":"IFERROR(INDEX(indexdatabase,MATCH(BQ54&$AZ$14,name&Group2,0),MATCH(\"PPI\",Sheet2rng!$A$1:$AK$1,0)),\"\")","v":""},{"$f":"IFERROR(SMALL(IF(LEFT(Group2,LEN(class2!$BA$10))=class2!$BA$10,ROW(Group2)),ROW(A43)),\"\")","v":""},{"$nulls":62},"","",{"$nulls":6},"","",{"$nulls":6},"","",{"$nulls":6},"","",{"$nulls":6},"","",{"$nulls":6},"",""]
[{"$nulls":65},"10B/Bu1",null,null,"","IFERROR(INDEX(Sheet2rng,MATCH(BA12,sheet2rows,0), MATCH($BB$11,sheet2columns,0)),\"\")",{"$f":"IFERROR(INDEX(indexdatabase,MATCH(BQ55&$AZ$14,name&Group2,0),MATCH(\"PPI\",Sheet2rng!$A$1:$AK$1,0)),\"\")","v":""},{"$f":"IFERROR(SMALL(IF(LEFT(Group2,LEN(class2!$BA$10))=class2!$BA$10,ROW(Group2)),ROW(A44)),\"\")","v":""}]
[{"$nulls":65},"10B/Cs1",null,null,"","IFERROR(INDEX(Sheet2rng,MATCH(BA12,sheet2rows,0), MATCH($BB$11,sheet2columns,0)),\"\")",{"$f":"IFERROR(INDEX(indexdatabase,MATCH(BQ56&$AZ$14,name&Group2,0),MATCH(\"PPI\",Sheet2rng!$A$1:$AK$1,0)),\"\")","v":""},{"$f":"IFERROR(SMALL(IF(LEFT(Group2,LEN(class2!$BA$10))=class2!$BA$10,ROW(Group2)),ROW(A45)),\"\")","v":""}]
[{"$nulls":43},"Teacher's table",{"$nulls":21},"10B/Gg1",null,null,"","IFERROR(INDEX(Sheet2rng,MATCH(BA12,sheet2rows,0), MATCH($BB$11,sheet2columns,0)),\"\")",{"$f":"IFERROR(INDEX(indexdatabase,MATCH(BQ57&$AZ$14,name&Group2,0),MATCH(\"PPI\",Sheet2rng!$A$1:$AK$1,0)),\"\")","v":""},{"$f":"IFERROR(SMALL(IF(LEFT(Group2,LEN(class2!$BA$10))=class2!$BA$10,ROW(Group2)),ROW(A46)),\"\")","v":""}]
[{"$nulls":65},"10B/Hi1",null,null,"","IFERROR(INDEX(Sheet2rng,MATCH(BA12,sheet2rows,0), MATCH($BB$11,sheet2columns,0)),\"\")",{"$f":"IFERROR(INDEX(indexdatabase,MATCH(BQ58&$AZ$14,name&Group2,0),MATCH(\"PPI\",Sheet2rng!$A$1:$AK$1,0)),\"\")","v":""},{"$f":"IFERROR(SMALL(IF(LEFT(Group2,LEN(class2!$BA$10))=class2!$BA$10,ROW(Group2)),ROW(A47)),\"\")","v":""}]
[{"$nulls":65},"10B/Hi2",null,null,"","IFERROR(INDEX(Sheet2rng,MATCH(BA12,sheet2rows,0), MATCH($BB$11,sheet2columns,0)),\"\")",{"$f":"IFERROR(INDEX(indexdatabase,MATCH(BQ59&$AZ$14,name&Group2,0),MATCH(\"PPI\",Sheet2rng!$A$1:$AK$1,0)),\"\")","v":""},{"$f":"IFERROR(SMALL(IF(LEFT(Group2,LEN(class2!$BA$10))=class2!$BA$10,ROW(Group2)),ROW(A48)),\"\")","v":""}]
[{"$nulls":65},"10B/It1",null,null,"","IFERROR(INDEX(Sheet2rng,MATCH(BA12,sheet2rows,0), MATCH($BB$11,sheet2columns,0)),\"\")",{"$f":"IFERROR(INDEX(indexdatabase,MATCH(BQ60&$AZ$14,name&Group2,0),MATCH(\"PPI\",Sheet2rng!$A$1:$AK$1,0)),\"\")","v":""},{"$f":"IFERROR(SMALL(IF(LEFT(Group2,LEN(class2!$BA$10))=class2!$BA$10,ROW(Group2)),ROW(A49)),\"\")","v":""}]
[{"$nulls":65},"10b/Pe1",null,null,"","IFERROR(INDEX(Sheet2rng,MATCH(BA12,sheet2rows,0), MATCH($BB$11,sheet2columns,0)),\"\")",{"$f":"IFERROR(INDEX(indexdatabase,MATCH(BQ61&$AZ$14,name&Group2,0),MATCH(\"PPI\",Sheet2rng!$A$1:$AK$1,0)),\"\")","v":""},{"$f":"IFERROR(SMALL(IF(LEFT(Group2,LEN(class2!$BA$10))=class2!$BA$10,ROW(Group2)),ROW(A50)),\"\")","v":""}]
[{"$nulls":65},"10b/Pe2"]
[{"$nulls":65},"10b/Pe3"]
[{"$nulls":65},"10b/Pe4",{"$nulls":67},{"$f":"IF(EE64=1,1,IF(EE64=2,2,IF(EE64=EE63,ED63,IF(EE64>EE63,ED63+1))))","v":1},1,"ABU Aisha",{"$f":"ED64","v":1},{"$nulls":4},{"$f":"IF(EM64=1,1,IF(EM64=2,2,IF(EM64=EM63,EL63,IF(EM64>EM63,EL63+1))))","v":1},1,"GIBSON James",{"$f":"EL64","v":1},{"$nulls":4},{"$f":"IF(EU64=1,1,IF(EU64=2,2,IF(EU64=EU63,ET63,IF(EU64>EU63,ET63+1))))","v":0},"","ABU Aisha",{"$f":"ET64","v":0},{"$nulls":4},{"$f":"IF(FC64=1,1,IF(FC64=2,2,IF(FC64=FC63,FB63,IF(FC64>FC63,FB63+1))))","v":0},"","ABU Aisha",{"$f":"FB64","v":0},{"$nulls":4},{"$f":"IF(FK64=1,1,IF(FK64=2,2,IF(FK64=FK63,FJ63,IF(FK64>FK63,FJ63+1))))","v":0},"","ABU Aisha",{"$f":"FJ64","v":0},{"$nulls":4},{"$f":"IF(FS64=1,1,IF(FS64=2,2,IF(FS64=FS63,FR63,IF(FS64>FS63,FR63+1))))","v":0},"","ABU Aisha",{"$f":"FR64","v":0}]
[{"$nulls":65},"10B/Pt1"]
[{"$nulls":65},"10B/Pt2"]
[{"$nulls":65},"10B/Ts1"]
[{"$nulls":65},"10bc/En1"]
[{"$nulls":65},"10bc/En2"]
[{"$nulls":65},"10bc/En3"]
[{"$nulls":65},"10bc/En4"]
[{"$nulls":65},"10bc/En5"]
[{"$nulls":65},"10bc/En6"]
[{"$nulls":65},"10bc/En7"]
[{"$nulls":65},"10bc/Ep1"]
[{"$nulls":65},"10bc/Ep2"]
[{"$nulls":65},"10bc/Ep3"]
[{"$nulls":65},"10bc/Ep4"]
[{"$nulls":65},"10bc/Ep5"]
[{"$nulls":65},"10bc/Ep6"]
[{"$nulls":65},"10bc/Ep7"]
[{"$nulls":65},"10bc/Sc1"]
[{"$nulls":65},"10bc/Sc2"]
[{"$nulls":65},"10bc/Sc3"]
[{"$nulls":65},"10bc/Sc4"]
[{"$nulls":65},"10bc/Sc5"]
[{"$nulls":65},"10bc/Sc6"]
[{"$nulls":65},"10bc/Sc7"]
[{"$nulls":65},"10bd/Ma1"]
[{"$nulls":65},"10bd/Ma2"]
[{"$nulls":65},"10bd/Ma3"]
[{"$nulls":65},"10bd/Ma4"]
[{"$nulls":65},"10bd/Ma5"]
[{"$nulls":65},"10bd/Ma6"]
[{"$nulls":65},"10bd/Ma7"]
[{"$nulls":65},"10bd/Ma8"]
[{"$nulls":65},"10C/Be1"]
[{"$nulls":65},"10C/Dr1"]
[{"$nulls":65},"10C/Fr1"]
[{"$nulls":65},"10C/Gg1"]
[{"$nulls":65},"10C/Hi1"]
[{"$nulls":65},"10C/It1"]
[{"$nulls":65},"10C/Pg1"]
[{"$nulls":65},"10C/Rm1"]
[{"$nulls":65},"10C/So1"]
[{"$nulls":65},"10C/Ts1"]
[{"$nulls":65},"10cd/Pe1"]
[{"$nulls":65},"10cd/Pe2"]
[{"$nulls":65},"10cd/Pe3"]
[{"$nulls":65},"10cd/Pe4"]
[{"$nulls":65},"10cd/Pe5"]
[{"$nulls":65},"10D/Be1"]
[{"$nulls":65},"10d/En1"]
[{"$nulls":65},"10D/Gg1"]
[{"$nulls":65},"10D/It1"]
[{"$nulls":65},"10d/Sc1"]
[{"$nulls":65},"10D/So1"]
[{"$nulls":65},"10d/Vo1"]
[{"$nulls":65},"10E/Fc1"]
[{"$nulls":65},"10E/Pb1"]
[{"$nulls":65},"10E/Pb2"]
[{"$nulls":65},"10E/Pt1"]
[{"$nulls":65},"10E/Pt2"]
[{"$nulls":65},"10F/Ab1"]
[{"$nulls":65},"10F/It1"]
[{"$nulls":65},"10F/Rm1"]
[{"$nulls":65},"10F/Tt1"]
[{"$nulls":65},"11A/Cs1"]
[{"$nulls":65},"11A/Dr1"]
[{"$nulls":65},"11A/Ec1"]
[{"$nulls":65},"11a/En1"]
[{"$nulls":65},"11a/En2"]
[{"$nulls":65},"11a/En3"]
[{"$nulls":65},"11a/En4"]
[{"$nulls":65},"11a/En5"]
[{"$nulls":65},"11a/Ep1"]
[{"$nulls":65},"11a/Ep2"]
[{"$nulls":65},"11a/Ep3"]
[{"$nulls":65},"11a/Ep4"]
[{"$nulls":65},"11a/Ep5"]
[{"$nulls":65},"11A/Fr1"]
[{"$nulls":65},"11A/Gg1"]
[{"$nulls":65},"11A/Hi1"]
[{"$nulls":65},"11A/Hi2"]
[{"$nulls":65},"11a/Ma1"]
[{"$nulls":65},"11a/Ma2"]
[{"$nulls":65},"11a/Ma3"]
[{"$nulls":65},"11a/Ma4"]
[{"$nulls":65},"11a/Ma5"]
[{"$nulls":65},"11a/Pe1"]
[{"$nulls":65},"11a/Pe2"]
[{"$nulls":65},"11a/Pe3"]
[{"$nulls":65},"11a/Pe4"]
[{"$nulls":65},"11a/Pe5"]
[{"$nulls":65},"11a/Pe6"]
[{"$nulls":65},"11A/Pg1"]
[{"$nulls":65},"11A/Pg2"]
[{"$nulls":65},"11A/Pt1"]
[{"$nulls":65},"11A/Pt2"]
[{"$nulls":65},"11A/Rm1"]
[{"$nulls":65},"11a/Sc1"]
[{"$nulls":65},"11a/Sc2"]
[{"$nulls":65},"11a/Sc3"]
[{"$nulls":65},"11a/Sc4"]
[{"$nulls":65},"11a/Sc5"]
[{"$nulls":65},"11A/So1"]
[{"$nulls":65},"11B/Ar1"]
[{"$nulls":65},"11B/Bb1"]
[{"$nulls":65},"11B/Bu1"]
[{"$nulls":65},"11B/Cs1"]
[{"$nulls":65},"11B/Dr1"]
[{"$nulls":65},"11B/Gg1"]
[{"$nulls":65},"11B/Hg1"]
[{"$nulls":65},"11B/Hi1"]
[{"$nulls":65},"11b/Pe1"]
[{"$nulls":65},"11b/Pe2"]
[{"$nulls":65},"11b/Pe3"]
[{"$nulls":65},"11b/Pe4"]
[{"$nulls":65},"11B/Pg1"]
[{"$nulls":65},"11B/Pg2"]
[{"$nulls":65},"11B/So1"]
[{"$nulls":65},"11B/Sp1"]
[{"$nulls":65},"11bc/En1"]
[{"$nulls":65},"11bc/En2"]
[{"$nulls":65},"11bc/En3"]
[{"$nulls":65},"11bc/En4"]
[{"$nulls":65},"11bc/En5"]
[{"$nulls":65},"11bc/En6"]
[{"$nulls":65},"11bc/En7"]
[{"$nulls":65},"11bc/Ep1"]
[{"$nulls":65},"11bc/Ep2"]
[{"$nulls":65},"11bc/Ep3"]
[{"$nulls":65},"11bc/Ep4"]
[{"$nulls":65},"11bc/Ep5"]
[{"$nulls":65},"11bc/Ep6"]
[{"$nulls":65},"11bc/Ep7"]
[{"$nulls":65},"11bc/Sc1"]
[{"$nulls":65},"11bc/Sc2"]
[{"$nulls":65},"11bc/Sc3"]
[{"$nulls":65},"11bc/Sc4"]
[{"$nulls":65},"11bc/Sc5"]
[{"$nulls":65},"11bc/Sc6"]
[{"$nulls":65},"11bc/Sc7"]
[{"$nulls":65},"11bd/Ma1"]
[{"$nulls":65},"11bd/Ma2"]
[{"$nulls":65},"11bd/Ma3"]
[{"$nulls":65},"11bd/Ma4"]
[{"$nulls":65},"11bd/Ma5"]
[{"$nulls":65},"11bd/Ma6"]
[{"$nulls":65},"11bd/Ma7"]
[{"$nulls":65},"11bd/Ma8"]
[{"$nulls":65},"11C/Ab1"]
[{"$nulls":65},"11C/Bb1"]
[{"$nulls":65},"11C/Bu1"]
[{"$nulls":65},"11C/Cs1"]
[{"$nulls":65},"11C/Fr1"]
[{"$nulls":65},"11C/Gg1"]
[{"$nulls":65},"11C/Hi1"]
[{"$nulls":65},"11C/Ib1"]
[{"$nulls":65},"11C/It1"]
[{"$nulls":65},"11C/Mu1"]
[{"$nulls":65},"11C/So1"]
[{"$nulls":65},"11cd/Pe1"]
[{"$nulls":65},"11cd/Pe2"]
[{"$nulls":65},"11cd/Pe3"]
[{"$nulls":65},"11cd/Pe4"]
[{"$nulls":65},"11D/Ab1"]
[{"$nulls":65},"11D/Bb1"]
[{"$nulls":65},"11D/Dr1"]
[{"$nulls":65},"11d/En1"]
[{"$nulls":65},"11D/Fc1"]
[{"$nulls":65},"11d/Sc1"]
[{"$nulls":65},"11d/Vo1"]
[{"$nulls":65},"11E/Hi1"]
[{"$nulls":65},"11E/Ib1"]
[{"$nulls":65},"11E/Rm1"]
[{"$nulls":65},"11E/So1"]
[{"$nulls":65},"11F/Bb1"]
[{"$nulls":65},"11F/Fc1"]
[{"$nulls":65},"11F/Ib1"]
[{"$nulls":65},"11F/Pb1"]
[{"$nulls":65},"12A/Ac1"]
[{"$nulls":65},"12A/Ar1"]
[{"$nulls":65},"12A/En1"]
[{"$nulls":65},"12A/Fr1"]
[{"$nulls":65},"12A/Ma1"]
[{"$nulls":65},"12A/Pb1"]
[{"$nulls":65},"12A/Pv1"]
[{"$nulls":65},"12A/Py1"]
[{"$nulls":65},"12A/Sm1"]
[{"$nulls":65},"12A/So1"]
[{"$nulls":65},"12A/Ws1"]
[{"$nulls":65},"12B/Ch1"]
[{"$nulls":65},"12B/Ec1"]
[{"$nulls":65},"12B/It1"]
[{"$nulls":65},"12B/Ms1"]
[{"$nulls":65},"12B/Pb1"]
[{"$nulls":65},"12B/Pb2"]
[{"$nulls":65},"12B/Pi1"]
[{"$nulls":65},"12B/Pv1"]
[{"$nulls":65},"12B/Sm1"]
[{"$nulls":65},"12B/Tt1"]
[{"$nulls":65},"12C/Bb1"]
[{"$nulls":65},"12C/Bi1"]
[{"$nulls":65},"12C/Bu1"]
[{"$nulls":65},"12C/En1"]
[{"$nulls":65},"12C/Hi1"]
[{"$nulls":65},"12C/Pb1"]
[{"$nulls":65},"12C/Pf1"]
[{"$nulls":65},"12C/Pt1"]
[{"$nulls":65},"12C/Pv1"]
[{"$nulls":65},"12D/En1"]
[{"$nulls":65},"12D/It1"]
[{"$nulls":65},"12D/La1"]
[{"$nulls":65},"12D/Ma1"]
[{"$nulls":65},"12D/Pb1"]
[{"$nulls":65},"12D/Pb2"]
[{"$nulls":65},"12D/Pf1"]
[{"$nulls":65},"12D/Pv1"]
[{"$nulls":65},"12D1/Bb1"]
[{"$nulls":65},"12D1/Ma1"]
[{"$nulls":65},"12E/En1"]
[{"$nulls":65},"12E/En2"]
[{"$nulls":65},"12E/Fm1"]
[{"$nulls":65},"12E/Ma1"]
[{"$nulls":65},"12E/Ma2"]
[{"$nulls":65},"12E/Pe1"]
[{"$nulls":65},"12E/Pv1"]
[{"$nulls":65},"12f/En1"]
[{"$nulls":65},"12f/Fb1"]
[{"$nulls":65},"12f/Ma1"]
[{"$nulls":65},"12f/Pb1"]
[{"$nulls":65},"13A/Bb1"]
[{"$nulls":65},"13A/Bu1"]
[{"$nulls":65},"13A/Fs1"]
[{"$nulls":65},"13A/Hi1"]
[{"$nulls":65},"13A/Ma1"]
[{"$nulls":65},"13A/Pe1"]
[{"$nulls":65},"13A/Pf1"]
[{"$nulls":65},"13A/Pv1"]
[{"$nulls":65},"13B/Ac1"]
[{"$nulls":65},"13B/Ar1"]
[{"$nulls":65},"13B/La1"]
[{"$nulls":65},"13B/Pb1"]
[{"$nulls":65},"13B/Pf1"]
[{"$nulls":65},"13B/Pv1"]
[{"$nulls":65},"13B/So1"]
[{"$nulls":65},"13C/En1"]
[{"$nulls":65},"13C/It1"]
[{"$nulls":65},"13C/Pb1"]
[{"$nulls":65},"13C/Pe1"]
[{"$nulls":65},"13C/Pv1"]
[{"$nulls":65},"13C/Tt1"]
[{"$nulls":65},"13D/At1"]
[{"$nulls":65},"13D/Ms1"]
[{"$nulls":65},"13D/Pv1"]
[{"$nulls":65},"13D/Py1"]
[{"$nulls":65},"13E/Bi1"]
[{"$nulls":65},"13E/Ec1"]
[{"$nulls":65},"13E/En1"]
[{"$nulls":65},"13E/Ho1"]
[{"$nulls":65},"13E/Mu1"]
[{"$nulls":65},"13E/Or1"]
[{"$nulls":65},"13E/Pb1"]
[{"$nulls":65},"13E/Pv1"]
[{"$nulls":65},"7a/Ar1"]
[{"$nulls":65},"7a/Ar2"]
[{"$nulls":65},"7a/Ar3"]
[{"$nulls":65},"7a/Dr1"]
[{"$nulls":65},"7a/Dr2"]
[{"$nulls":65},"7a/Dr3"]
[{"$nulls":65},"7a/Dt1"]
[{"$nulls":65},"7a/Dt2"]
[{"$nulls":65},"7a/Dt3"]
[{"$nulls":65},"7a/Dt4"]
[{"$nulls":65},"7a/En1"]
[{"$nulls":65},"7a/En2"]
[{"$nulls":65},"7a/En3"]
[{"$nulls":65},"7a/Ep1"]
[{"$nulls":65},"7a/Ep2"]
[{"$nulls":65},"7a/Ep3"]
[{"$nulls":65},"7a/Fr1"]
[{"$nulls":65},"7a/Fr2"]
[{"$nulls":65},"7a/Gg1"]
[{"$nulls":65},"7a/Gg2"]

{"sheet":"Class3","index":8,"n_rows":345,"n_cols":229,"rows_kept":345,"hidden":true,"merged":[[0,8,1,11],[0,20,0,22],[1,13,1,16],[1,20,1,22],[2,8,2,11],[2,13,2,16],[2,20,2,22],[3,8,3,9],[3,10,3,11],[3,13,3,14],[3,15,3,16],[3,20,3,22],[4,8,4,9],[4,10,4,11],[4,13,4,14],[4,15,4,16],[4,20,4,22],[5,8,5,9],[5,10,5,11],[5,13,5,14],[5,15,5,16],[5,20,5,22],[6,8,6,9],[6,10,6,11],[6,13,6,14],[6,15,6,16],[6,20,6,22],[7,20,7,22],[8,20,8,22],[11,51,12,51],[13,51,14,51],[15,25,16,28],[15,29,16,32],[15,38,16,41],[15,42,16,45],[15,227,15,235],[16,227,16,235],[17,25,17,28],[17,29,17,32],[17,38,17,41],[17,42,17,45],[18,25,18,26],[18,27,18,28],[18,29,18,30],[18,31,18,32],[18,38,18,39],[18,40,18,41],[18,42,18,43],[18,44,18,45],[18,228,18,235],[19,25,19,26],[19,27,19,28],[19,29,19,30],[19,31,19,32],[19,38,19,39],[19,40,19,41],[19,42,19,43],[19,44,19,45],[19,51,21,51],[19,228,19,235],[20,25,20,26],[20,27,20,28],[20,29,20,30],[20,31,20,32],[20,38,20,39],[20,40,20,41],[20,42,20,43],[20,44,20,45],[20,228,20,235],[21,25,21,26],[21,27,21,28],[21,29,21,30],[21,31,21,32],[21,38,21,39],[21,40,21,41],[21,42,21,43],[21,44,21,45],[21,228,21,235],[22,25,23,28],[22,29,23,32],[22,38,23,41],[22,42,23,45],[22,51,23,51],[22,228,22,235],[23,228,23,235],[24,25,24,28],[24,29,24,32],[24,38,24,41],[24,42,24,45],[24,228,24,235],[25,25,25,26],[25,27,25,28],[25,29,25,30],[25,31,25,32],[25,38,25,39],[25,40,25,41],[25,42,25,43],[25,44,25,45],[25,228,25,235],[26,25,26,26],[26,27,26,28],[26,29,26,30],[26,31,26,32],[26,38,26,39],[26,40,26,41],[26,42,26,43],[26,44,26,45],[26,228,26,235],[27,25,27,26],[27,27,27,28],[27,29,27,30],[27,31,27,32],[27,38,27,39],[27,40,27,41],[27,42,27,43],[27,44,27,45],[27,228,27,235],[28,25,28,26],[28,27,28,28],[28,29,28,30],[28,31,28,32],[28,38,28,39],[28,40,28,41],[28,42,28,43],[28,44,28,45],[28,228,28,235],[29,228,29,235],[30,228,30,235],[31,228,31,235],[32,228,32,235],[33,12,34,15],[33,16,34,19],[33,25,34,28],[33,29,34,32],[33,38,34,41],[33,42,34,45],[33,228,33,235],[34,228,34,235],[35,12,35,15],[35,16,35,19],[35,25,35,28],[35,29,35,32],[35,38,35,41],[35,42,35,45],[35,228,35,235],[36,12,36,13],[36,14,36,15],[36,16,36,17],[36,18,36,19],[36,25,36,26],[36,27,36,28],[36,29,36,30],[36,31,36,32],[36,38,36,39],[36,40,36,41],[36,42,36,43],[36,44,36,45],[36,228,36,235],[37,12,37,13],[37,14,37,15],[37,16,37,17],[37,18,37,19],[37,25,37,26],[37,27,37,28],[37,29,37,30],[37,31,37,32],[37,38,37,39],[37,40,37,41],[37,42,37,43],[37,44,37,45],[37,228,37,235],[38,12,38,13],[38,14,38,15],[38,16,38,17],[38,18,38,19],[38,25,38,26],[38,27,38,28],[38,29,38,30],[38,31,38,32],[38,38,38,39],[38,40,38,41],[38,42,38,43],[38,44,38,45],[38,228,38,235],[39,12,39,13],[39,14,39,15],[39,16,39,17],[39,18,39,19],[39,25,39,26],[39,27,39,28],[39,29,39,30],[39,31,39,32],[39,38,39,39],[39,40,39,41],[39,42,39,43],[39,44,39,45],[39,228,39,235],[40,12,41,15],[40,16,41,19],[40,25,41,28],[40,29,41,32],[40,38,41,41],[40,42,41,45],[40,228,40,235],[41,228,41,235],[42,12,42,15],[42,16,42,19],[42,25,42,28],[42,29,42,32],[42,38,42,41],[42,42,42,45],[42,228,42,235],[43,12,43,13],[43,14,43,15],[43,16,43,17],[43,18,43,19],[43,25,43,26],[43,27,43,28],[43,29,43,30],[43,31,43,32],[43,38,43,39],[43,40,43,41],[43,42,43,43],[43,44,43,45],[43,228,43,235],[44,12,44,13],[44,14,44,15],[44,16,44,17],[44,18,44,19],[44,25,44,26],[44,27,44,28],[44,29,44,30],[44,31,44,32],[44,38,44,39],[44,40,44,41],[44,42,44,43],[44,44,44,45],[44,228,44,235],[45,12,45,13],[45,14,45,15],[45,16,45,17],[45,18,45,19],[45,25,45,26],[45,27,45,28],[45,29,45,30],[45,31,45,32],[45,38,45,39],[45,40,45,41],[45,42,45,43],[45,44,45,45],[45,228,45,235],[46,12,46,13],[46,14,46,15],[46,16,46,17],[46,18,46,19],[46,25,46,26],[46,27,46,28],[46,29,46,30],[46,31,46,32],[46,38,46,39],[46,40,46,41],[46,42,46,43],[46,44,46,45],[46,228,46,235],[47,12,48,15],[47,16,48,19],[47,25,48,28],[47,29,48,32],[47,38,48,41],[47,42,48,45],[47,228,47,235],[48,228,48,235],[49,12,49,15],[49,16,49,19],[49,25,49,28],[49,29,49,32],[49,38,49,41],[49,42,49,45],[49,228,49,235],[50,12,50,13],[50,14,50,15],[50,16,50,17],[50,18,50,19],[50,25,50,26],[50,27,50,28],[50,29,50,30],[50,31,50,32],[50,38,50,39],[50,40,50,41],[50,42,50,43],[50,44,50,45],[50,228,50,235],[51,12,51,13],[51,14,51,15],[51,16,51,17],[51,18,51,19],[51,25,51,26],[51,27,51,28],[51,29,51,30],[51,31,51,32],[51,38,51,39],[51,40,51,41],[51,42,51,43],[51,44,51,45],[51,228,51,235],[52,12,52,13],[52,14,52,15],[52,16,52,17],[52,18,52,19],[52,25,52,26],[52,27,52,28],[52,29,52,30],[52,31,52,32],[52,38,52,39],[52,40,52,41],[52,42,52,43],[52,44,52,45],[53,12,53,13],[53,14,53,15],[53,16,53,17],[53,18,53,19],[53,25,53,26],[53,27,53,28],[53,29,53,30],[53,31,53,32],[53,38,53,39],[53,40,53,41],[53,42,53,43],[53,44,53,45],[56,43,59,48],[74,18,76,25],[74,26,76,29],[154,18,156,25],[154,26,156,29],[253,18,255,25],[253,26,255,29],[339,18,341,25],[339,26,341,29],[444,18,446,25],[444,26,446,29],[551,18,553,25],[551,26,553,29],[662,18,664,25],[662,26,664,29],[728,18,730,25],[728,26,730,29],[815,19,817,26],[815,27,817,30],[914,19,916,26],[914,27,916,30],[1000,19,1002,26],[1000,27,1002,30],[1105,19,1107,26],[1105,27,1107,30],[1212,19,1214,26],[1212,27,1214,30],[1323,19,1325,26],[1323,27,1325,30]]}
[{"$f":"Main!H2","v":"SPR 1"},0,1,null,{"$f":"IFERROR(IF(SEARCH(\"7\",BA10)=1,7),\"\")","v":""},{"$f":"IFERROR(IF(SEARCH(\"8\",BA10)=1,8),\"\")","v":8},{"$f":"IFERROR(IF(SEARCH(\"9\",BA10)=1,9),\"\")","v":""},{"$f":"IFERROR(IF(SEARCH(\"10\",BA10)=1,10),\"\")","v":""},{"$f":"IFERROR(IF(SEARCH(\"11\",BA10)=1,11),\"\")","v":""},{"$nulls":3},64,{"$f":"IF(ISODD(M1),\"Disable Table Creation\",\"Enable Table Creation\")","v":"Enable Table Creation"},1,{"$nulls":5},"hide/show needs",null,null,"0to1",0,{"$nulls":29},"Aut 1",{"$nulls":13},"Classlist",{"$nulls":7},"Classlist",{"$nulls":11},"Classlist"]
[{"$nulls":20},"hide/show c/grade",null,null,"2to3",3,{"$nulls":29},"Aut 2",{"$nulls":13},"Classlist",{"$nulls":7},"Classlist",{"$nulls":11},"Classlist"]
[null,null,{"$f":"MATCH(I2&$AZ$14,name&Group2,0)","v":{"$error":"#N/A"}},{"$nulls":5},{"$f":"IFERROR(IF($Y$1=1,\"\",VLOOKUP(I1,needstable,8,FALSE)),\"\")","v":"    "},{"$nulls":4},"",{"$nulls":6},"hide/show KS2",null,null,"4to5",5,{"$nulls":29},"Spr 1",{"$nulls":13},"Classlist",{"$nulls":7},"Classlist",{"$nulls":11},"Classlist"]
[{"$nulls":8},"C/grade",null,{"$f":"Sheet2rng!$D$1","v":"KS2"},null,null,"C/grade",null,"KS2",{"$nulls":4},"hide/show target",null,null,"6to7",7,{"$nulls":29},"Spr 2",{"$nulls":13},"Classlist",{"$nulls":7},"Classlist",{"$nulls":11},"Classlist"]
[{"$nulls":8},{"$f":"IFERROR(IF($Y$2=2,\"\",IF($Y$2=3,INDEX(indexdatabase,MATCH(I1&$AZ$14,name&Group2,0),MATCH($AZ$23,Sheet2rng!$A$1:$AK$1,0)))),\"\")","v":""},null,{"$f":"IFERROR(IF($Y$3=4,\"\",IF($Y$3=5,INDEX(indexdatabase,MATCH(I1&$AZ$14,name&Group2,0),MATCH($P$4,Sheet2rng!$A$1:$AK$1,0)))),\"\")","v":""},null,null,"",null,"",{"$nulls":4},"hide/show AR",null,null,"8to9",9,{"$nulls":29},"Sum 1",{"$nulls":13},"Classlist",{"$nulls":7},"Classlist",{"$nulls":11},"Classlist"]
[{"$nulls":8},{"$f":"Sheet2rng!$C$1","v":"Target"},null,{"$f":"Sheet2rng!$E$1","v":"AR"},null,null,"Target",null,"AR",{"$nulls":38},"Sum 2",{"$nulls":13},"Classlist",{"$nulls":7},"Classlist",{"$nulls":11},"Classlist"]
[{"$nulls":8},{"$f":"IFERROR(IF($Y$4=6,\"\",IF($Y$4=7,INDEX(indexdatabase,MATCH(I1&$AZ$14,name&Group2,0),MATCH($N$6,Sheet2rng!$A$1:$AK$1,0)))),\"\")","v":""},null,{"$f":"IFERROR(IF($Y$5=8,\"\",IF($Y$5=9,INDEX(Sheet2rng,MATCH(I1&$AZ$14,name&Group2,0),MATCH($P$6,sheet2columns,0)))),\"\")","v":""},null,null,"",null,"",{"$nulls":52},"Classlist",{"$nulls":7},"Classlist",{"$nulls":11},"Classlist"]
[{"$nulls":68},"Classlist",{"$nulls":7},"Classlist",{"$nulls":11},"Classlist"]
[{"$nulls":11},{"$f":"AZ23","v":"SPR 1"},{"$nulls":56},"Classlist",{"$nulls":7},"Classlist",null,{"$f":"IFERROR(INDEX(indexdatabase,MATCH(I2&$AZ$14,name&Group2,0),MATCH($A$1,Sheet2rng!$F$1:$K$1,0)+27),\"\")","v":""},{"$f":"IF(OR(AZ27=\"Aut 1\",AZ27=\"Aut 2\",AZ27=\"Spr 1\"),1,2)","v":1},{"$f":"IF(AZ4018=\"Sum 2\",3,\"\")","v":""},{"$f":"IFERROR(INDEX(Sheet2rng!$A$1:$AK$2500,MATCH(I2&AZ14,Sheet2rng!$A$1:$A$2500&Sheet2rng!$B$1:$B$28,0),MATCH(\"Target\",Sheet2rng!$A$1:$AK$1,0)),\"\")","v":""},{"$nulls":6},"Classlist"]
[{"$nulls":52},{"$f":"AZ14","v":"8C-RE"},{"$nulls":15},"Classlist",{"$nulls":7},"Classlist",null,{"$f":"CONCATENATE(I2,AZ14)","v":"8C-RE"},{"$nulls":9},"Classlist"]
[{"$nulls":52},"Class","FSM","PPI",{"$nulls":13},"Classlist",null,"PPI",{"$nulls":5},"Classlist",{"$nulls":11},"Classlist"]
[{"$nulls":51},"Select class",{"$nulls":13},"11B/So1",null,null,{"$f":"IF($BA$10=\"\",\"\",IFERROR(INDEX(name,BT12,1),\"\"))","v":"Kristina"},"IFERROR(INDEX(Sheet2rng,MATCH(BA12,sheet2rows,0), MATCH($BB$11,sheet2columns,0)),\"\")",{"$f":"IFERROR(INDEX(indexdatabase,MATCH(BQ12&$AZ$14,name&Group2,0),MATCH(\"PPI\",Sheet2rng!$A$1:$AK$1,0)),\"\")","v":"Y"},{"$f":"IFERROR(SMALL(IF(LEFT(Group2,LEN(Class3!$BA$10))=Class3!$BA$10,ROW(Group2)),ROW(A1)),\"\")","v":2},{"$nulls":4},"HILL Gretchen",{"$nulls":11},"Kristina"]
[{"$nulls":65},"11A/So1",null,null,"Gretchen","IFERROR(INDEX(Sheet2rng,MATCH(BA12,sheet2rows,0), MATCH($BB$11,sheet2columns,0)),\"\")",{"$f":"IFERROR(INDEX(indexdatabase,MATCH(BQ13&$AZ$14,name&Group2,0),MATCH(\"PPI\",Sheet2rng!$A$1:$AK$1,0)),\"\")","v":0},{"$f":"IFERROR(SMALL(IF(LEFT(Group2,LEN(Class3!$BA$10))=Class3!$BA$10,ROW(Group2)),ROW(A2)),\"\")","v":24},{"$nulls":4},"MCLAUGHLIN Dolores",{"$nulls":11},"Gretchen"]
[{"$nulls":51},"8C-RE",{"$nulls":13},"11P/So1",null,null,"Tim","IFERROR(INDEX(Sheet2rng,MATCH(BA12,sheet2rows,0), MATCH($BB$11,sheet2columns,0)),\"\")",{"$f":"IFERROR(INDEX(indexdatabase,MATCH(BQ14&$AZ$14,name&Group2,0),MATCH(\"PPI\",Sheet2rng!$A$1:$AK$1,0)),\"\")","v":"Y"},{"$f":"IFERROR(SMALL(IF(LEFT(Group2,LEN(Class3!$BA$10))=Class3!$BA$10,ROW(Group2)),ROW(A3)),\"\")","v":25},{"$nulls":4},"STEELE Eric",{"$nulls":11},"Tim"]
[{"$nulls":54},"SEND","MAT","EAL","SEND/","MAT/","EAL/",{"$nulls":5},"11Q/So1",null,null,"Donald","IFERROR(INDEX(Sheet2rng,MATCH(BA12,sheet2rows,0), MATCH($BB$11,sheet2columns,0)),\"\")",{"$f":"IFERROR(INDEX(indexdatabase,MATCH(BQ15&$AZ$14,name&Group2,0),MATCH(\"PPI\",Sheet2rng!$A$1:$AK$1,0)),\"\")","v":0},{"$f":"IFERROR(SMALL(IF(LEFT(Group2,LEN(Class3!$BA$10))=Class3!$BA$10,ROW(Group2)),ROW(A4)),\"\")","v":32},{"$nulls":4},"VICK Franklin",{"$nulls":11},"Donald"]
[{"$nulls":29},{"$f":"IFERROR(IF(SEARCH(\"11\",BV25)=1,11),\"\")","v":""},{"$nulls":8},{"$f":"IFERROR(IF(SEARCH(\"11\",CE25)=1,11),\"\")","v":""},{"$nulls":3},"Paul",{"$nulls":9},{"$f":"IFERROR(INDEX(indexdatabase,MATCH(BQ12&$AZ$14,name&Group2,0),MATCH(\"AR\",Sheet2rng!$A$1:$AK$1,0)),\"\")","v":"H"},{"$f":"BQ12","v":"Kristina"},{"$f":"IFERROR(INDEX(indexdatabase,MATCH($BB16&$AZ$14,name&Group2,0),MATCH(\"SEND\",Sheet2rng!$A$1:$AO$1,0)),\"\")","v":0},{"$f":"IFERROR(INDEX(indexdatabase,MATCH($BB16&$AZ$14,name&Group2,0),MATCH(\"MAT\",Sheet2rng!$A$1:$AO$1,0)),\"\")","v":0},{"$f":"IFERROR(INDEX(indexdatabase,MATCH($BB16&$AZ$14,name&Group2,0),MATCH(\"EAL\",Sheet2rng!$A$1:$AO$1,0)),\"\")","v":"OTH"},{"$f":"IF($BC16=0,\"\",IF($BC16=\"\",\"\",IF($BC16=\"N\",\"\",$BF$15&$BC16)))","v":""},{"$f":"IF($BD16=0,\"\",IF($BD16=\"\",\"\",IF($BD16=\"N\",\"\",$BG$15&$BD16)))","v":""},{"$f":"IF($BE16=0,\"\",IF($BE16=\"\",\"\",IF($BE16=\"N\",\"\",$BH$15&$BE16)))","v":"EAL/OTH"},{"$f":"CONCATENATE(BF16,\"  \",BG16,\"  \",BH16)","v":"    EAL/OTH"},{"$nulls":4},"11B/So2",null,null,"Paul","IFERROR(INDEX(Sheet2rng,MATCH(BA12,sheet2rows,0), MATCH($BB$11,sheet2columns,0)),\"\")",{"$f":"IFERROR(INDEX(indexdatabase,MATCH(BQ16&$AZ$14,name&Group2,0),MATCH(\"PPI\",Sheet2rng!$A$1:$AK$1,0)),\"\")","v":0},{"$f":"IFERROR(SMALL(IF(LEFT(Group2,LEN(Class3!$BA$10))=Class3!$BA$10,ROW(Group2)),ROW(A5)),\"\")","v":34},{"$nulls":4},"GOLDSTEIN Gretchen",{"$nulls":11},"Paul",{"$nulls":138},{"$f":"BA10","v":"8C-RE"}]
[{"$nulls":52},{"$f":"IFERROR(INDEX(indexdatabase,MATCH(BQ13&$AZ$14,name&Group2,0),MATCH(\"AR\",Sheet2rng!$A$1:$AK$1,0)),\"\")","v":0},{"$f":"BQ13","v":"Gretchen"},{"$f":"IFERROR(INDEX(indexdatabase,MATCH($BB17&$AZ$14,name&Group2,0),MATCH(\"SEND\",Sheet2rng!$A$1:$AO$1,0)),\"\")","v":0},{"$f":"IFERROR(INDEX(indexdatabase,MATCH($BB17&$AZ$14,name&Group2,0),MATCH(\"MAT\",Sheet2rng!$A$1:$AO$1,0)),\"\")","v":0},{"$f":"IFERROR(INDEX(indexdatabase,MATCH($BB17&$AZ$14,name&Group2,0),MATCH(\"EAL\",Sheet2rng!$A$1:$AO$1,0)),\"\")","v":"OTH"},{"$f":"IF($BC17=0,\"\",IF($BC17=\"\",\"\",IF($BC17=\"N\",\"\",$BF$15&$BC17)))","v":""},{"$f":"IF($BD17=0,\"\",IF($BD17=\"\",\"\",IF($BD17=\"N\",\"\",$BG$15&$BD17)))","v":""},{"$f":"IF($BE17=0,\"\",IF($BE17=\"\",\"\",IF($BE17=\"N\",\"\",$BH$15&$BE17)))","v":"EAL/OTH"},{"$f":"CONCATENATE(BF17,\"  \",BG17,\"  \",BH17)","v":"    EAL/OTH"},{"$nulls":7},"Melanie","IFERROR(INDEX(Sheet2rng,MATCH(BA12,sheet2rows,0), MATCH($BB$11,sheet2columns,0)),\"\")",{"$f":"IFERROR(INDEX(indexdatabase,MATCH(BQ17&$AZ$14,name&Group2,0),MATCH(\"PPI\",Sheet2rng!$A$1:$AK$1,0)),\"\")","v":0},{"$f":"IFERROR(SMALL(IF(LEFT(Group2,LEN(Class3!$BA$10))=Class3!$BA$10,ROW(Group2)),ROW(A6)),\"\")","v":52},{"$nulls":4},"MANGUM Patricia",{"$nulls":11},"Melanie",{"$nulls":138},"Progress since AUT1"]
[{"$nulls":25},{"$f":"IFERROR(IF($Y$1=1,\"\",VLOOKUP(Z16,needstable,8,FALSE)),\"\")","v":""},{"$nulls":3},{"$f":"IFERROR(IF($Y$1=1,\"\",VLOOKUP(AD16,needstable,8,FALSE)),\"\")","v":"    "},{"$nulls":8},{"$f":"IFERROR(IF($Y$1=1,\"\",VLOOKUP(AM16,needstable,8,FALSE)),\"\")","v":"    "},{"$nulls":3},{"$f":"IFERROR(IF($Y$1=1,\"\",VLOOKUP(AQ16,needstable,8,FALSE)),\"\")","v":"SEND/K    EAL/ENG"},{"$nulls":9},{"$f":"IFERROR(INDEX(indexdatabase,MATCH(BQ14&$AZ$14,name&Group2,0),MATCH(\"AR\",Sheet2rng!$A$1:$AK$1,0)),\"\")","v":0},"Tim",{"$f":"IFERROR(INDEX(indexdatabase,MATCH($BB18&$AZ$14,name&Group2,0),MATCH(\"SEND\",Sheet2rng!$A$1:$AO$1,0)),\"\")","v":"K"},{"$f":"IFERROR(INDEX(indexdatabase,MATCH($BB18&$AZ$14,name&Group2,0),MATCH(\"MAT\",Sheet2rng!$A$1:$AO$1,0)),\"\")","v":0},{"$f":"IFERROR(INDEX(indexdatabase,MATCH($BB18&$AZ$14,name&Group2,0),MATCH(\"EAL\",Sheet2rng!$A$1:$AO$1,0)),\"\")","v":"OTH"},"SEND/K","","EAL/OTH","SEND/K    EAL/OTH",{"$nulls":7},"Alison","IFERROR(INDEX(Sheet2rng,MATCH(BA12,sheet2rows,0), MATCH($BB$11,sheet2columns,0)),\"\")",{"$f":"IFERROR(INDEX(indexdatabase,MATCH(BQ18&$AZ$14,name&Group2,0),MATCH(\"PPI\",Sheet2rng!$A$1:$AK$1,0)),\"\")","v":"Y"},{"$f":"IFERROR(SMALL(IF(LEFT(Group2,LEN(Class3!$BA$10))=Class3!$BA$10,ROW(Group2)),ROW(A7)),\"\")","v":67},{"$nulls":4},"MERRITT Shirley",{"$nulls":11},"Alison"]
[{"$nulls":25},"C/grade",null,{"$f":"Sheet2rng!$D$1","v":"KS2"},null,"C/grade",null,{"$f":"Sheet2rng!$D$1","v":"KS2"},{"$nulls":6},"C/grade",null,{"$f":"Sheet2rng!$D$1","v":"KS2"},null,"C/grade",null,{"$f":"Sheet2rng!$D$1","v":"KS2"},{"$nulls":7},{"$f":"IFERROR(INDEX(indexdatabase,MATCH(BQ15&$AZ$14,name&Group2,0),MATCH(\"AR\",Sheet2rng!$A$1:$AK$1,0)),\"\")","v":0},"Donald",{"$f":"IFERROR(INDEX(indexdatabase,MATCH($BB19&$AZ$14,name&Group2,0),MATCH(\"SEND\",Sheet2rng!$A$1:$AO$1,0)),\"\")","v":0},{"$f":"IFERROR(INDEX(indexdatabase,MATCH($BB19&$AZ$14,name&Group2,0),MATCH(\"MAT\",Sheet2rng!$A$1:$AO$1,0)),\"\")","v":0},{"$f":"IFERROR(INDEX(indexdatabase,MATCH($BB19&$AZ$14,name&Group2,0),MATCH(\"EAL\",Sheet2rng!$A$1:$AO$1,0)),\"\")","v":"ENG"},"","","EAL/ENG","    EAL/ENG",{"$nulls":7},"Brandon","IFERROR(INDEX(Sheet2rng,MATCH(BA12,sheet2rows,0), MATCH($BB$11,sheet2columns,0)),\"\")",{"$f":"IFERROR(INDEX(indexdatabase,MATCH(BQ19&$AZ$14,name&Group2,0),MATCH(\"PPI\",Sheet2rng!$A$1:$AK$1,0)),\"\")","v":0},{"$f":"IFERROR(SMALL(IF(LEFT(Group2,LEN(Class3!$BA$10))=Class3!$BA$10,ROW(Group2)),ROW(A8)),\"\")","v":71},{"$nulls":4},"MORGAN Glenda",{"$nulls":11},"Brandon",{"$nulls":138},{"$f":"DT338","v":0},0]
[{"$nulls":25},{"$f":"IFERROR(IF($Y$2=2,\"\",IF($Y$2=3,INDEX(indexdatabase,MATCH(Z16&$AZ$14,name&Group2,0),MATCH($AZ$23,Sheet2rng!$A$1:$AK$1,0)))),\"\")","v":""},null,{"$f":"IFERROR(IF($Y$3=4,\"\",IF($Y$3=5,INDEX(indexdatabase,MATCH(Z16&$AZ$14,name&Group2,0),MATCH($P$4,Sheet2rng!$A$1:$AK$1,0)))),\"\")","v":""},null,{"$f":"IFERROR(IF($Y$2=2,\"\",IF($Y$2=3,INDEX(indexdatabase,MATCH(AD16&$AZ$14,name&Group2,0),MATCH($AZ$23,Sheet2rng!$A$1:$AK$1,0)))),\"\")","v":""},null,{"$f":"IFERROR(IF($Y$3=4,\"\",IF($Y$3=5,INDEX(indexdatabase,MATCH(AD16&$AZ$14,name&Group2,0),MATCH($P$4,Sheet2rng!$A$1:$AK$1,0)))),\"\")","v":""},{"$nulls":6},{"$f":"IFERROR(IF($Y$2=2,\"\",IF($Y$2=3,INDEX(indexdatabase,MATCH(AM16&$AZ$14,name&Group2,0),MATCH($AZ$23,Sheet2rng!$A$1:$AK$1,0)))),\"\")","v":""},null,{"$f":"IFERROR(IF($Y$3=4,\"\",IF($Y$3=5,INDEX(indexdatabase,MATCH(AM16&$AZ$14,name&Group2,0),MATCH($P$4,Sheet2rng!$A$1:$AK$1,0)))),\"\")","v":""},null,{"$f":"IFERROR(IF($Y$2=2,\"\",IF($Y$2=3,INDEX(indexdatabase,MATCH(AQ16&$AZ$14,name&Group2,0),MATCH($AZ$23,Sheet2rng!$A$1:$AK$1,0)))),\"\")","v":1},null,{"$f":"IFERROR(IF($Y$3=4,\"\",IF($Y$3=5,INDEX(indexdatabase,MATCH(AQ16&$AZ$14,name&Group2,0),MATCH($P$4,Sheet2rng!$A$1:$AK$1,0)))),\"\")","v":0},{"$nulls":6},"Assessment period",{"$f":"IFERROR(INDEX(indexdatabase,MATCH(BQ16&$AZ$14,name&Group2,0),MATCH(\"AR\",Sheet2rng!$A$1:$AK$1,0)),\"\")","v":0},"Paul",{"$f":"IFERROR(INDEX(indexdatabase,MATCH($BB20&$AZ$14,name&Group2,0),MATCH(\"SEND\",Sheet2rng!$A$1:$AO$1,0)),\"\")","v":"K"},{"$f":"IFERROR(INDEX(indexdatabase,MATCH($BB20&$AZ$14,name&Group2,0),MATCH(\"MAT\",Sheet2rng!$A$1:$AO$1,0)),\"\")","v":0},{"$f":"IFERROR(INDEX(indexdatabase,MATCH($BB20&$AZ$14,name&Group2,0),MATCH(\"EAL\",Sheet2rng!$A$1:$AO$1,0)),\"\")","v":"ENG"},"SEND/K","","EAL/ENG","SEND/K    EAL/ENG",{"$nulls":7},"Patricia","IFERROR(INDEX(Sheet2rng,MATCH(BA12,sheet2rows,0), MATCH($BB$11,sheet2columns,0)),\"\")",{"$f":"IFERROR(INDEX(indexdatabase,MATCH(BQ20&$AZ$14,name&Group2,0),MATCH(\"PPI\",Sheet2rng!$A$1:$AK$1,0)),\"\")","v":0},{"$f":"IFERROR(SMALL(IF(LEFT(Group2,LEN(Class3!$BA$10))=Class3!$BA$10,ROW(Group2)),ROW(A9)),\"\")","v":75},{"$nulls":4},"RICH Jessica",{"$nulls":11},"Patricia",{"$nulls":44},{"$f":"IF(EE20=1,1,IF(EE20=2,2,IF(EE20=EE19,ED19,IF(EE20>EE19,ED19+1))))","v":0},"","ABU Aisha",{"$nulls":5},{"$f":"IF(EM20=1,1,IF(EM20=2,2,IF(EM20=EM19,EL19,IF(EM20>EM19,EL19+1))))","v":1},1,"CHATTEN Zoe",{"$nulls":5},{"$f":"IF(EU20=1,1,IF(EU20=2,2,IF(EU20=EU19,ET19,IF(EU20>EU19,ET19+1))))","v":0},"","ABU Aisha",{"$nulls":5},{"$f":"IF(FC20=1,1,IF(FC20=2,2,IF(FC20=FC19,FB19,IF(FC20>FC19,FB19+1))))","v":0},"","ABU Aisha",{"$nulls":5},{"$f":"IF(FK20=1,1,IF(FK20=2,2,IF(FK20=FK19,FJ19,IF(FK20>FK19,FJ19+1))))","v":0},"","ABU Aisha",{"$nulls":5},{"$f":"IF(FS20=1,1,IF(FS20=2,2,IF(FS20=FS19,FR19,IF(FS20>FS19,FR19+1))))","v":0},"","ABU Aisha",{"$nulls":51},0,0]
[{"$nulls":25},{"$f":"Sheet2rng!$C$1","v":"Target"},null,{"$f":"Sheet2rng!$E$1","v":"AR"},null,{"$f":"Sheet2rng!$C$1","v":"Target"},null,{"$f":"Sheet2rng!$E$1","v":"AR"},{"$nulls":6},{"$f":"Sheet2rng!$C$1","v":"Target"},null,{"$f":"Sheet2rng!$E$1","v":"AR"},null,{"$f":"Sheet2rng!$C$1","v":"Target"},null,{"$f":"Sheet2rng!$E$1","v":"AR"},{"$nulls":7},{"$f":"IFERROR(INDEX(indexdatabase,MATCH(BQ17&$AZ$14,name&Group2,0),MATCH(\"AR\",Sheet2rng!$A$1:$AK$1,0)),\"\")","v":0},"Melanie",{"$f":"IFERROR(INDEX(indexdatabase,MATCH($BB21&$AZ$14,name&Group2,0),MATCH(\"SEND\",Sheet2rng!$A$1:$AO$1,0)),\"\")","v":0},{"$f":"IFERROR(INDEX(indexdatabase,MATCH($BB21&$AZ$14,name&Group2,0),MATCH(\"MAT\",Sheet2rng!$A$1:$AO$1,0)),\"\")","v":0},{"$f":"IFERROR(INDEX(indexdatabase,MATCH($BB21&$AZ$14,name&Group2,0),MATCH(\"EAL\",Sheet2rng!$A$1:$AO$1,0)),\"\")","v":"NOT/kn"},"","","EAL/NOT/kn","    EAL/NOT/kn",{"$nulls":7},"Jennifer","IFERROR(INDEX(Sheet2rng,MATCH(BA12,sheet2rows,0), MATCH($BB$11,sheet2columns,0)),\"\")",{"$f":"IFERROR(INDEX(indexdatabase,MATCH(BQ21&$AZ$14,name&Group2,0),MATCH(\"PPI\",Sheet2rng!$A$1:$AK$1,0)),\"\")","v":0},{"$f":"IFERROR(SMALL(IF(LEFT(Group2,LEN(Class3!$BA$10))=Class3!$BA$10,ROW(Group2)),ROW(A10)),\"\")","v":76},{"$nulls":4},"HINTON Luis",{"$nulls":11},"Jennifer",{"$nulls":44},{"$f":"IF(EE21=1,1,IF(EE21=2,2,IF(EE21=EE20,ED20,IF(EE21>EE20,ED20+1))))","v":0},"","ALFORD Harry",{"$nulls":5},{"$f":"IF(EM21=1,1,IF(EM21=2,2,IF(EM21=EM20,EL20,IF(EM21>EM20,EL20+1))))","v":2},2,"ALFORD Harry",{"$nulls":5},{"$f":"IF(EU21=1,1,IF(EU21=2,2,IF(EU21=EU20,ET20,IF(EU21>EU20,ET20+1))))","v":0},"","ALFORD Harry",{"$nulls":5},{"$f":"IF(FC21=1,1,IF(FC21=2,2,IF(FC21=FC20,FB20,IF(FC21>FC20,FB20+1))))","v":0},"","ALFORD Harry",{"$nulls":5},{"$f":"IF(FK21=1,1,IF(FK21=2,2,IF(FK21=FK20,FJ20,IF(FK21>FK20,FJ20+1))))","v":0},"","ALFORD Harry",{"$nulls":5},{"$f":"IF(FS21=1,1,IF(FS21=2,2,IF(FS21=FS20,FR20,IF(FS21>FS20,FR20+1))))","v":0},"","ALFORD Harry",{"$nulls":51},0,0]
[{"$nulls":25},{"$f":"IFERROR(IF($Y$4=6,\"\",IF($Y$4=7,INDEX(indexdatabase,MATCH(Z16&$AZ$14,name&Group2,0),MATCH($N$6,Sheet2rng!$A$1:$AK$1,0)))),\"\")","v":""},null,{"$f":"IFERROR(IF($Y$5=8,\"\",IF($Y$5=9,INDEX(Sheet2rng,MATCH(Z16&$AZ$14,name&Group2,0),MATCH($P$6,sheet2columns,0)))),\"\")","v":""},null,{"$f":"IFERROR(IF($Y$4=6,\"\",IF($Y$4=7,INDEX(indexdatabase,MATCH(AD16&$AZ$14,name&Group2,0),MATCH($N$6,Sheet2rng!$A$1:$AK$1,0)))),\"\")","v":""},null,{"$f":"IFERROR(IF($Y$5=8,\"\",IF($Y$5=9,INDEX(Sheet2rng,MATCH(AD16&$AZ$14,name&Group2,0),MATCH($P$6,sheet2columns,0)))),\"\")","v":""},{"$nulls":6},{"$f":"IFERROR(IF($Y$4=6,\"\",IF($Y$4=7,INDEX(indexdatabase,MATCH(AM16&$AZ$14,name&Group2,0),MATCH($N$6,Sheet2rng!$A$1:$AK$1,0)))),\"\")","v":""},null,{"$f":"IFERROR(IF($Y$5=8,\"\",IF($Y$5=9,INDEX(Sheet2rng,MATCH(AM16&$AZ$14,name&Group2,0),MATCH($P$6,sheet2columns,0)))),\"\")","v":""},null,{"$f":"IFERROR(IF($Y$4=6,\"\",IF($Y$4=7,INDEX(indexdatabase,MATCH(AQ16&$AZ$14,name&Group2,0),MATCH($N$6,Sheet2rng!$A$1:$AK$1,0)))),\"\")","v":"2+"},null,{"$f":"IFERROR(IF($Y$5=8,\"\",IF($Y$5=9,INDEX(Sheet2rng,MATCH(AQ16&$AZ$14,name&Group2,0),MATCH($P$6,sheet2columns,0)))),\"\")","v":0},{"$nulls":7},{"$f":"IFERROR(INDEX(indexdatabase,MATCH(BQ18&$AZ$14,name&Group2,0),MATCH(\"AR\",Sheet2rng!$A$1:$AK$1,0)),\"\")","v":0},"Alison",{"$f":"IFERROR(INDEX(indexdatabase,MATCH($BB22&$AZ$14,name&Group2,0),MATCH(\"SEND\",Sheet2rng!$A$1:$AO$1,0)),\"\")","v":0},{"$f":"IFERROR(INDEX(indexdatabase,MATCH($BB22&$AZ$14,name&Group2,0),MATCH(\"MAT\",Sheet2rng!$A$1:$AO$1,0)),\"\")","v":0},{"$f":"IFERROR(INDEX(indexdatabase,MATCH($BB22&$AZ$14,name&Group2,0),MATCH(\"EAL\",Sheet2rng!$A$1:$AO$1,0)),\"\")","v":"NOT/kn"},"","","EAL/NOT/kn","    EAL/NOT/kn",{"$nulls":7},"Mary","IFERROR(INDEX(Sheet2rng,MATCH(BA12,sheet2rows,0), MATCH($BB$11,sheet2columns,0)),\"\")",{"$f":"IFERROR(INDEX(indexdatabase,MATCH(BQ22&$AZ$14,name&Group2,0),MATCH(\"PPI\",Sheet2rng!$A$1:$AK$1,0)),\"\")","v":"Y"},{"$f":"IFERROR(SMALL(IF(LEFT(Group2,LEN(Class3!$BA$10))=Class3!$BA$10,ROW(Group2)),ROW(A11)),\"\")","v":77},{"$nulls":4},"PARKS Gary",{"$nulls":11},"Mary",{"$nulls":44},0,"","BAKER Lucy",{"$nulls":5},2,2,"DONNELLY Kirsten",{"$nulls":5},0,"","BAKER Lucy",{"$nulls":5},0,"","BAKER Lucy",{"$nulls":5},0,"","BAKER Lucy",{"$nulls":5},0,"","BAKER Lucy",{"$nulls":51},0,0]
[{"$nulls":29},{"$f":"IFERROR(IF(SEARCH(\"11\",BV32)=1,11),\"\")","v":""},{"$nulls":8},{"$f":"IFERROR(IF(SEARCH(\"11\",CE32)=1,11),\"\")","v":""},{"$nulls":3},{"$f":"IFERROR(IF(SEARCH(\"11\",CI32)=1,11),\"\")","v":""},{"$nulls":8},"SPR 1",{"$f":"IFERROR(INDEX(indexdatabase,MATCH(BQ19&$AZ$14,name&Group2,0),MATCH(\"AR\",Sheet2rng!$A$1:$AK$1,0)),\"\")","v":0},"Brandon",{"$f":"IFERROR(INDEX(indexdatabase,MATCH($BB23&$AZ$14,name&Group2,0),MATCH(\"SEND\",Sheet2rng!$A$1:$AO$1,0)),\"\")","v":0},{"$f":"IFERROR(INDEX(indexdatabase,MATCH($BB23&$AZ$14,name&Group2,0),MATCH(\"MAT\",Sheet2rng!$A$1:$AO$1,0)),\"\")","v":0},{"$f":"IFERROR(INDEX(indexdatabase,MATCH($BB23&$AZ$14,name&Group2,0),MATCH(\"EAL\",Sheet2rng!$A$1:$AO$1,0)),\"\")","v":"OTH"},"","","EAL/OTH","    EAL/OTH",{"$nulls":7},"Vincent","IFERROR(INDEX(Sheet2rng,MATCH(BA12,sheet2rows,0), MATCH($BB$11,sheet2columns,0)),\"\")",{"$f":"IFERROR(INDEX(indexdatabase,MATCH(BQ23&$AZ$14,name&Group2,0),MATCH(\"PPI\",Sheet2rng!$A$1:$AK$1,0)),\"\")","v":0},{"$f":"IFERROR(SMALL(IF(LEFT(Group2,LEN(Class3!$BA$10))=Class3!$BA$10,ROW(Group2)),ROW(A12)),\"\")","v":99},{"$nulls":4},"ABRAMS Patricia",{"$nulls":11},"Vincent",{"$nulls":44},0,"","BAVERSTOCK Adam",{"$nulls":5},2,2,"DOWN Keiran",{"$nulls":5},0,"","BAVERSTOCK Adam",{"$nulls":5},0,"","BAVERSTOCK Adam",{"$nulls":5},0,"","BAVERSTOCK Adam",{"$nulls":5},0,"","BAVERSTOCK Adam",{"$nulls":51},0,0]
[{"$nulls":52},{"$f":"IFERROR(INDEX(indexdatabase,MATCH(BQ20&$AZ$14,name&Group2,0),MATCH(\"AR\",Sheet2rng!$A$1:$AK$1,0)),\"\")","v":0},"Patricia",{"$f":"IFERROR(INDEX(indexdatabase,MATCH($BB24&$AZ$14,name&Group2,0),MATCH(\"SEND\",Sheet2rng!$A$1:$AO$1,0)),\"\")","v":0},{"$f":"IFERROR(INDEX(indexdatabase,MATCH($BB24&$AZ$14,name&Group2,0),MATCH(\"MAT\",Sheet2rng!$A$1:$AO$1,0)),\"\")","v":0},{"$f":"IFERROR(INDEX(indexdatabase,MATCH($BB24&$AZ$14,name&Group2,0),MATCH(\"EAL\",Sheet2rng!$A$1:$AO$1,0)),\"\")","v":"NOT/kn"},"","","EAL/NOT/kn","    EAL/NOT/kn",{"$nulls":7},"Katie","IFERROR(INDEX(Sheet2rng,MATCH(BA12,sheet2rows,0), MATCH($BB$11,sheet2columns,0)),\"\")",{"$f":"IFERROR(INDEX(indexdatabase,MATCH(BQ24&$AZ$14,name&Group2,0),MATCH(\"PPI\",Sheet2rng!$A$1:$AK$1,0)),\"\")","v":0},{"$f":"IFERROR(SMALL(IF(LEFT(Group2,LEN(Class3!$BA$10))=Class3!$BA$10,ROW(Group2)),ROW(A13)),\"\")","v":104},{"$nulls":4},"TILLEY Jennifer",{"$nulls":11},"Katie",{"$nulls":44},0,"","BLE Grace",{"$nulls":5},2,2,"HARRIS Christian",{"$nulls":5},0,"","BLE Grace",{"$nulls":5},0,"","BLE Grace",{"$nulls":5},0,"","BLE Grace",{"$nulls":5},0,"","BLE Grace",{"$nulls":51},0,0]
[{"$nulls":25},{"$f":"IFERROR(IF($Y$1=1,\"\",VLOOKUP(Z23,needstable,8,FALSE)),\"\")","v":""},{"$nulls":3},{"$f":"IFERROR(IF($Y$1=1,\"\",VLOOKUP(AD23,needstable,8,FALSE)),\"\")","v":"    "},{"$nulls":8},{"$f":"IFERROR(IF($Y$1=1,\"\",VLOOKUP(AM23,needstable,8,FALSE)),\"\")","v":"    "},{"$nulls":3},{"$f":"IFERROR(IF($Y$1=1,\"\",VLOOKUP(AQ23,needstable,8,FALSE)),\"\")","v":"    "},{"$nulls":9},{"$f":"IFERROR(INDEX(indexdatabase,MATCH(BQ21&$AZ$14,name&Group2,0),MATCH(\"AR\",Sheet2rng!$A$1:$AK$1,0)),\"\")","v":0},"Jennifer",{"$f":"IFERROR(INDEX(indexdatabase,MATCH($BB25&$AZ$14,name&Group2,0),MATCH(\"SEND\",Sheet2rng!$A$1:$AO$1,0)),\"\")","v":0},{"$f":"IFERROR(INDEX(indexdatabase,MATCH($BB25&$AZ$14,name&Group2,0),MATCH(\"MAT\",Sheet2rng!$A$1:$AO$1,0)),\"\")","v":0},{"$f":"IFERROR(INDEX(indexdatabase,MATCH($BB25&$AZ$14,name&Group2,0),MATCH(\"EAL\",Sheet2rng!$A$1:$AO$1,0)),\"\")","v":"ENG"},"","","EAL/ENG","    EAL/ENG",{"$nulls":7},"Jack","IFERROR(INDEX(Sheet2rng,MATCH(BA12,sheet2rows,0), MATCH($BB$11,sheet2columns,0)),\"\")",{"$f":"IFERROR(INDEX(indexdatabase,MATCH(BQ25&$AZ$14,name&Group2,0),MATCH(\"PPI\",Sheet2rng!$A$1:$AK$1,0)),\"\")","v":"Y"},{"$f":"IFERROR(SMALL(IF(LEFT(Group2,LEN(Class3!$BA$10))=Class3!$BA$10,ROW(Group2)),ROW(A14)),\"\")","v":110},{"$nulls":4},"SUMNER Vincent",{"$nulls":11},"Jack",{"$nulls":44},0,"","CHATTEN Zoe",{"$nulls":5},2,2,"MURPHY Shannon",{"$nulls":5},0,"","CHATTEN Zoe",{"$nulls":5},0,"","CHATTEN Zoe",{"$nulls":5},0,"","CHATTEN Zoe",{"$nulls":5},0,"","CHATTEN Zoe",{"$nulls":51},0,0]
[{"$nulls":25},"C/grade",null,{"$f":"Sheet2rng!$D$1","v":"KS2"},null,"C/grade",null,{"$f":"Sheet2rng!$D$1","v":"KS2"},{"$nulls":6},"C/grade",null,{"$f":"Sheet2rng!$D$1","v":"KS2"},null,"C/grade",null,{"$f":"Sheet2rng!$D$1","v":"KS2"},{"$nulls":7},{"$f":"IFERROR(INDEX(indexdatabase,MATCH(BQ22&$AZ$14,name&Group2,0),MATCH(\"AR\",Sheet2rng!$A$1:$AK$1,0)),\"\")","v":0},"Mary",{"$f":"IFERROR(INDEX(indexdatabase,MATCH($BB26&$AZ$14,name&Group2,0),MATCH(\"SEND\",Sheet2rng!$A$1:$AO$1,0)),\"\")","v":0},{"$f":"IFERROR(INDEX(indexdatabase,MATCH($BB26&$AZ$14,name&Group2,0),MATCH(\"MAT\",Sheet2rng!$A$1:$AO$1,0)),\"\")","v":0},{"$f":"IFERROR(INDEX(indexdatabase,MATCH($BB26&$AZ$14,name&Group2,0),MATCH(\"EAL\",Sheet2rng!$A$1:$AO$1,0)),\"\")","v":"ENG"},"","","EAL/ENG","    EAL/ENG",{"$nulls":7},"Amy","IFERROR(INDEX(Sheet2rng,MATCH(BA12,sheet2rows,0), MATCH($BB$11,sheet2columns,0)),\"\")",{"$f":"IFERROR(INDEX(indexdatabase,MATCH(BQ26&$AZ$14,name&Group2,0),MATCH(\"PPI\",Sheet2rng!$A$1:$AK$1,0)),\"\")","v":"Y"},{"$f":"IFERROR(SMALL(IF(LEFT(Group2,LEN(Class3!$BA$10))=Class3!$BA$10,ROW(Group2)),ROW(A15)),\"\")","v":119},{"$nulls":4},"BYRNE Danny",{"$nulls":11},"Amy",{"$nulls":44},0,"","CHEEMA Gurvinder",{"$nulls":5},2,2,"PIDDINGTON Ellie",{"$nulls":5},0,"","CHEEMA Gurvinder",{"$nulls":5},0,"","CHEEMA Gurvinder",{"$nulls":5},0,"","CHEEMA Gurvinder",{"$nulls":5},0,"","CHEEMA Gurvinder",{"$nulls":51},0,0]
[{"$nulls":25},{"$f":"IFERROR(IF($Y$2=2,\"\",IF($Y$2=3,INDEX(indexdatabase,MATCH(Z23&$AZ$14,name&Group2,0),MATCH($AZ$23,Sheet2rng!$A$1:$AK$1,0)))),\"\")","v":""},null,{"$f":"IFERROR(IF($Y$3=4,\"\",IF($Y$3=5,INDEX(indexdatabase,MATCH(Z23&$AZ$14,name&Group2,0),MATCH($P$4,Sheet2rng!$A$1:$AK$1,0)))),\"\")","v":""},null,{"$f":"IFERROR(IF($Y$2=2,\"\",IF($Y$2=3,INDEX(indexdatabase,MATCH(AD23&$AZ$14,name&Group2,0),MATCH($AZ$23,Sheet2rng!$A$1:$AK$1,0)))),\"\")","v":""},null,{"$f":"IFERROR(IF($Y$3=4,\"\",IF($Y$3=5,INDEX(indexdatabase,MATCH(AD23&$AZ$14,name&Group2,0),MATCH($P$4,Sheet2rng!$A$1:$AK$1,0)))),\"\")","v":""},{"$nulls":6},{"$f":"IFERROR(IF($Y$2=2,\"\",IF($Y$2=3,INDEX(indexdatabase,MATCH(AM23&$AZ$14,name&Group2,0),MATCH($AZ$23,Sheet2rng!$A$1:$AK$1,0)))),\"\")","v":""},null,{"$f":"IFERROR(IF($Y$3=4,\"\",IF($Y$3=5,INDEX(indexdatabase,MATCH(AM23&$AZ$14,name&Group2,0),MATCH($P$4,Sheet2rng!$A$1:$AK$1,0)))),\"\")","v":""},null,{"$f":"IFERROR(IF($Y$2=2,\"\",IF($Y$2=3,INDEX(indexdatabase,MATCH(AQ23&$AZ$14,name&Group2,0),MATCH($AZ$23,Sheet2rng!$A$1:$AK$1,0)))),\"\")","v":""},null,{"$f":"IFERROR(IF($Y$3=4,\"\",IF($Y$3=5,INDEX(indexdatabase,MATCH(AQ23&$AZ$14,name&Group2,0),MATCH($P$4,Sheet2rng!$A$1:$AK$1,0)))),\"\")","v":""},{"$nulls":6},{"$f":"AZ23","v":"SPR 1"},{"$f":"IFERROR(INDEX(indexdatabase,MATCH(BQ23&$AZ$14,name&Group2,0),MATCH(\"AR\",Sheet2rng!$A$1:$AK$1,0)),\"\")","v":0},"Vincent",{"$f":"IFERROR(INDEX(indexdatabase,MATCH($BB27&$AZ$14,name&Group2,0),MATCH(\"SEND\",Sheet2rng!$A$1:$AO$1,0)),\"\")","v":"K"},{"$f":"IFERROR(INDEX(indexdatabase,MATCH($BB27&$AZ$14,name&Group2,0),MATCH(\"MAT\",Sheet2rng!$A$1:$AO$1,0)),\"\")","v":0},{"$f":"IFERROR(INDEX(indexdatabase,MATCH($BB27&$AZ$14,name&Group2,0),MATCH(\"EAL\",Sheet2rng!$A$1:$AO$1,0)),\"\")","v":"NOT/kn"},"SEND/K","","EAL/NOT/kn","SEND/K    EAL/NOT/kn",{"$nulls":7},"Lynn","IFERROR(INDEX(Sheet2rng,MATCH(BA12,sheet2rows,0), MATCH($BB$11,sheet2columns,0)),\"\")",{"$f":"IFERROR(INDEX(indexdatabase,MATCH(BQ27&$AZ$14,name&Group2,0),MATCH(\"PPI\",Sheet2rng!$A$1:$AK$1,0)),\"\")","v":0},{"$f":"IFERROR(SMALL(IF(LEFT(Group2,LEN(Class3!$BA$10))=Class3!$BA$10,ROW(Group2)),ROW(A16)),\"\")","v":122},{"$nulls":4},"ROBERTSON Martha",{"$nulls":11},"Lynn",{"$nulls":44},0,"","DONNELLY Kirsten",{"$nulls":5},2,2,"QUILALA Angela",{"$nulls":5},0,"","DONNELLY Kirsten",{"$nulls":5},0,"","DONNELLY Kirsten",{"$nulls":5},0,"","DONNELLY Kirsten",{"$nulls":5},0,"","DONNELLY Kirsten",{"$nulls":51},0,0]
[{"$nulls":25},{"$f":"Sheet2rng!$C$1","v":"Target"},null,{"$f":"Sheet2rng!$E$1","v":"AR"},null,{"$f":"Sheet2rng!$C$1","v":"Target"},null,{"$f":"Sheet2rng!$E$1","v":"AR"},{"$nulls":6},{"$f":"Sheet2rng!$C$1","v":"Target"},null,{"$f":"Sheet2rng!$E$1","v":"AR"},null,{"$f":"Sheet2rng!$C$1","v":"Target"},null,{"$f":"Sheet2rng!$E$1","v":"AR"},{"$nulls":7},{"$f":"IFERROR(INDEX(indexdatabase,MATCH(BQ24&$AZ$14,name&Group2,0),MATCH(\"AR\",Sheet2rng!$A$1:$AK$1,0)),\"\")","v":0},"Katie",{"$f":"IFERROR(INDEX(indexdatabase,MATCH($BB28&$AZ$14,name&Group2,0),MATCH(\"SEND\",Sheet2rng!$A$1:$AO$1,0)),\"\")","v":0},{"$f":"IFERROR(INDEX(indexdatabase,MATCH($BB28&$AZ$14,name&Group2,0),MATCH(\"MAT\",Sheet2rng!$A$1:$AO$1,0)),\"\")","v":0},{"$f":"IFERROR(INDEX(indexdatabase,MATCH($BB28&$AZ$14,name&Group2,0),MATCH(\"EAL\",Sheet2rng!$A$1:$AO$1,0)),\"\")","v":"NOT/kn"},"","","EAL/NOT/kn","    EAL/NOT/kn",{"$nulls":7},"Ben","IFERROR(INDEX(Sheet2rng,MATCH(BA12,sheet2rows,0), MATCH($BB$11,sheet2columns,0)),\"\")",{"$f":"IFERROR(INDEX(indexdatabase,MATCH(BQ28&$AZ$14,name&Group2,0),MATCH(\"PPI\",Sheet2rng!$A$1:$AK$1,0)),\"\")","v":"Y"},{"$f":"IFERROR(SMALL(IF(LEFT(Group2,LEN(Class3!$BA$10))=Class3!$BA$10,ROW(Group2)),ROW(A17)),\"\")","v":127},{"$nulls":4},"PALMER Jack",{"$nulls":11},"Ben",{"$nulls":44},0,"","DOWN Keiran",{"$nulls":5},2,2,"SMITH Jade",{"$nulls":5},0,"","DOWN Keiran",{"$nulls":5},0,"","DOWN Keiran",{"$nulls":5},0,"","DOWN Keiran",{"$nulls":5},0,"","DOWN Keiran",{"$nulls":51},0,0]
[{"$nulls":25},{"$f":"IFERROR(IF($Y$4=6,\"\",IF($Y$4=7,INDEX(indexdatabase,MATCH(Z23&$AZ$14,name&Group2,0),MATCH($N$6,Sheet2rng!$A$1:$AK$1,0)))),\"\")","v":""},null,{"$f":"IFERROR(IF($Y$5=8,\"\",IF($Y$5=9,INDEX(Sheet2rng,MATCH(Z23&$AZ$14,name&Group2,0),MATCH($P$6,sheet2columns,0)))),\"\")","v":""},null,{"$f":"IFERROR(IF($Y$4=6,\"\",IF($Y$4=7,INDEX(indexdatabase,MATCH(AD23&$AZ$14,name&Group2,0),MATCH($N$6,Sheet2rng!$A$1:$AK$1,0)))),\"\")","v":""},null,{"$f":"IFERROR(IF($Y$5=8,\"\",IF($Y$5=9,INDEX(Sheet2rng,MATCH(AD23&$AZ$14,name&Group2,0),MATCH($P$6,sheet2columns,0)))),\"\")","v":""},{"$nulls":6},{"$f":"IFERROR(IF($Y$4=6,\"\",IF($Y$4=7,INDEX(indexdatabase,MATCH(AM23&$AZ$14,name&Group2,0),MATCH($N$6,Sheet2rng!$A$1:$AK$1,0)))),\"\")","v":""},null,{"$f":"IFERROR(IF($Y$5=8,\"\",IF($Y$5=9,INDEX(Sheet2rng,MATCH(AM23&$AZ$14,name&Group2,0),MATCH($P$6,sheet2columns,0)))),\"\")","v":""},null,{"$f":"IFERROR(IF($Y$4=6,\"\",IF($Y$4=7,INDEX(indexdatabase,MATCH(AQ23&$AZ$14,name&Group2,0),MATCH($N$6,Sheet2rng!$A$1:$AK$1,0)))),\"\")","v":""},null,{"$f":"IFERROR(IF($Y$5=8,\"\",IF($Y$5=9,INDEX(Sheet2rng,MATCH(AQ23&$AZ$14,name&Group2,0),MATCH($P$6,sheet2columns,0)))),\"\")","v":""},{"$nulls":7},{"$f":"IFERROR(INDEX(indexdatabase,MATCH(BQ25&$AZ$14,name&Group2,0),MATCH(\"AR\",Sheet2rng!$A$1:$AK$1,0)),\"\")","v":0},"Jack",{"$f":"IFERROR(INDEX(indexdatabase,MATCH($BB29&$AZ$14,name&Group2,0),MATCH(\"SEND\",Sheet2rng!$A$1:$AO$1,0)),\"\")","v":0},{"$f":"IFERROR(INDEX(indexdatabase,MATCH($BB29&$AZ$14,name&Group2,0),MATCH(\"MAT\",Sheet2rng!$A$1:$AO$1,0)),\"\")","v":0},{"$f":"IFERROR(INDEX(indexdatabase,MATCH($BB29&$AZ$14,name&Group2,0),MATCH(\"EAL\",Sheet2rng!$A$1:$AO$1,0)),\"\")","v":"NOT/kn"},"","","EAL/NOT/kn","    EAL/NOT/kn",{"$nulls":7},"Sarah","IFERROR(INDEX(Sheet2rng,MATCH(BA12,sheet2rows,0), MATCH($BB$11,sheet2columns,0)),\"\")",{"$f":"IFERROR(INDEX(indexdatabase,MATCH(BQ29&$AZ$14,name&Group2,0),MATCH(\"PPI\",Sheet2rng!$A$1:$AK$1,0)),\"\")","v":0},{"$f":"IFERROR(SMALL(IF(LEFT(Group2,LEN(Class3!$BA$10))=Class3!$BA$10,ROW(Group2)),ROW(A18)),\"\")","v":134},{"$nulls":4},"ROWE Benjamin",{"$nulls":11},"Sarah",{"$nulls":44},0,"","GIBSON James",{"$nulls":5},2,2,"TURNER Liberty",{"$nulls":5},0,"","GIBSON James",{"$nulls":5},0,"","GIBSON James",{"$nulls":5},0,"","GIBSON James",{"$nulls":5},0,"","GIBSON James",{"$nulls":51},0,0]
[{"$nulls":52},{"$f":"IFERROR(INDEX(indexdatabase,MATCH(BQ26&$AZ$14,name&Group2,0),MATCH(\"AR\",Sheet2rng!$A$1:$AK$1,0)),\"\")","v":0},"Amy",{"$f":"IFERROR(INDEX(indexdatabase,MATCH($BB30&$AZ$14,name&Group2,0),MATCH(\"SEND\",Sheet2rng!$A$1:$AO$1,0)),\"\")","v":0},{"$f":"IFERROR(INDEX(indexdatabase,MATCH($BB30&$AZ$14,name&Group2,0),MATCH(\"MAT\",Sheet2rng!$A$1:$AO$1,0)),\"\")","v":0},{"$f":"IFERROR(INDEX(indexdatabase,MATCH($BB30&$AZ$14,name&Group2,0),MATCH(\"EAL\",Sheet2rng!$A$1:$AO$1,0)),\"\")","v":"ENG"},"","","EAL/ENG","    EAL/ENG",{"$nulls":7},"Timothy","IFERROR(INDEX(Sheet2rng,MATCH(BA12,sheet2rows,0), MATCH($BB$11,sheet2columns,0)),\"\")",{"$f":"IFERROR(INDEX(indexdatabase,MATCH(BQ30&$AZ$14,name&Group2,0),MATCH(\"PPI\",Sheet2rng!$A$1:$AK$1,0)),\"\")","v":0},{"$f":"IFERROR(SMALL(IF(LEFT(Group2,LEN(Class3!$BA$10))=Class3!$BA$10,ROW(Group2)),ROW(A19)),\"\")","v":145},{"$nulls":4},"HESTER Jessica",{"$nulls":11},"Timothy",{"$nulls":44},0,"","HARRIS Christian",{"$nulls":5},3,11,"BAKER Lucy",{"$nulls":5},0,"","HARRIS Christian",{"$nulls":5},0,"","HARRIS Christian",{"$nulls":5},0,"","HARRIS Christian",{"$nulls":5},0,"","HARRIS Christian",{"$nulls":51},0,0]
[{"$nulls":52},{"$f":"IFERROR(INDEX(indexdatabase,MATCH(BQ27&$AZ$14,name&Group2,0),MATCH(\"AR\",Sheet2rng!$A$1:$AK$1,0)),\"\")","v":0},"Lynn",{"$f":"IFERROR(INDEX(indexdatabase,MATCH($BB31&$AZ$14,name&Group2,0),MATCH(\"SEND\",Sheet2rng!$A$1:$AO$1,0)),\"\")","v":"K"},{"$f":"IFERROR(INDEX(indexdatabase,MATCH($BB31&$AZ$14,name&Group2,0),MATCH(\"MAT\",Sheet2rng!$A$1:$AO$1,0)),\"\")","v":0},{"$f":"IFERROR(INDEX(indexdatabase,MATCH($BB31&$AZ$14,name&Group2,0),MATCH(\"EAL\",Sheet2rng!$A$1:$AO$1,0)),\"\")","v":"OTH"},"SEND/K","","EAL/OTH","SEND/K    EAL/OTH",{"$nulls":7},"Rebecca","IFERROR(INDEX(Sheet2rng,MATCH(BA12,sheet2rows,0), MATCH($BB$11,sheet2columns,0)),\"\")",{"$f":"IFERROR(INDEX(indexdatabase,MATCH(BQ31&$AZ$14,name&Group2,0),MATCH(\"PPI\",Sheet2rng!$A$1:$AK$1,0)),\"\")","v":0},{"$f":"IFERROR(SMALL(IF(LEFT(Group2,LEN(Class3!$BA$10))=Class3!$BA$10,ROW(Group2)),ROW(A20)),\"\")","v":157},{"$nulls":4},"GOLDMAN Vincent",{"$nulls":11},"Rebecca",{"$nulls":44},0,"","HARVEY Megan",{"$nulls":5},3,11,"BAVERSTOCK Adam",{"$nulls":5},0,"","HARVEY Megan",{"$nulls":5},0,"","HARVEY Megan",{"$nulls":5},0,"","HARVEY Megan",{"$nulls":5},0,"","HARVEY Megan",{"$nulls":51},0,0]
[{"$nulls":52},{"$f":"IFERROR(INDEX(indexdatabase,MATCH(BQ28&$AZ$14,name&Group2,0),MATCH(\"AR\",Sheet2rng!$A$1:$AK$1,0)),\"\")","v":0},"Ben",{"$f":"IFERROR(INDEX(indexdatabase,MATCH($BB32&$AZ$14,name&Group2,0),MATCH(\"SEND\",Sheet2rng!$A$1:$AO$1,0)),\"\")","v":0},{"$f":"IFERROR(INDEX(indexdatabase,MATCH($BB32&$AZ$14,name&Group2,0),MATCH(\"MAT\",Sheet2rng!$A$1:$AO$1,0)),\"\")","v":0},{"$f":"IFERROR(INDEX(indexdatabase,MATCH($BB32&$AZ$14,name&Group2,0),MATCH(\"EAL\",Sheet2rng!$A$1:$AO$1,0)),\"\")","v":"OTH"},"","","EAL/OTH","    EAL/OTH",{"$nulls":7},"Faye","IFERROR(INDEX(Sheet2rng,MATCH(BA12,sheet2rows,0), MATCH($BB$11,sheet2columns,0)),\"\")",{"$f":"IFERROR(INDEX(indexdatabase,MATCH(BQ32&$AZ$14,name&Group2,0),MATCH(\"PPI\",Sheet2rng!$A$1:$AK$1,0)),\"\")","v":0},{"$f":"IFERROR(SMALL(IF(LEFT(Group2,LEN(Class3!$BA$10))=Class3!$BA$10,ROW(Group2)),ROW(A21)),\"\")","v":164},{"$nulls":4},"MCKENNA Beth",{"$nulls":11},"Faye",{"$nulls":44},0,"","HEATH Emily-Jayne",{"$nulls":5},3,11,"CHEEMA Gurvinder",{"$nulls":5},0,"","HEATH Emily-Jayne",{"$nulls":5},0,"","HEATH Emily-Jayne",{"$nulls":5},0,"","HEATH Emily-Jayne",{"$nulls":5},0,"","HEATH Emily-Jayne",{"$nulls":51},0,0]
[{"$nulls":52},{"$f":"IFERROR(INDEX(indexdatabase,MATCH(BQ29&$AZ$14,name&Group2,0),MATCH(\"AR\",Sheet2rng!$A$1:$AK$1,0)),\"\")","v":0},"Sarah",{"$f":"IFERROR(INDEX(indexdatabase,MATCH($BB33&$AZ$14,name&Group2,0),MATCH(\"SEND\",Sheet2rng!$A$1:$AO$1,0)),\"\")","v":0},{"$f":"IFERROR(INDEX(indexdatabase,MATCH($BB33&$AZ$14,name&Group2,0),MATCH(\"MAT\",Sheet2rng!$A$1:$AO$1,0)),\"\")","v":0},{"$f":"IFERROR(INDEX(indexdatabase,MATCH($BB33&$AZ$14,name&Group2,0),MATCH(\"EAL\",Sheet2rng!$A$1:$AO$1,0)),\"\")","v":"NOT/kn"},"","","EAL/NOT/kn","    EAL/NOT/kn",{"$nulls":7},"Karl","IFERROR(INDEX(Sheet2rng,MATCH(BA12,sheet2rows,0), MATCH($BB$11,sheet2columns,0)),\"\")",{"$f":"IFERROR(INDEX(indexdatabase,MATCH(BQ33&$AZ$14,name&Group2,0),MATCH(\"PPI\",Sheet2rng!$A$1:$AK$1,0)),\"\")","v":"Y"},{"$f":"IFERROR(SMALL(IF(LEFT(Group2,LEN(Class3!$BA$10))=Class3!$BA$10,ROW(Group2)),ROW(A22)),\"\")","v":170},{"$nulls":4},"FINCH Stephen",{"$nulls":11},"Karl",{"$nulls":44},0,"","HOWELL Megan",{"$nulls":5},3,11,"GIBSON James",{"$nulls":5},0,"","HOWELL Megan",{"$nulls":5},0,"","HOWELL Megan",{"$nulls":5},0,"","HOWELL Megan",{"$nulls":5},0,"","HOWELL Megan",{"$nulls":51},0,0]
[{"$nulls":12},{"$f":"IFERROR(IF(SEARCH(\"11\",BE43)=1,11),\"\")","v":""},{"$nulls":3},{"$f":"IFERROR(IF(SEARCH(\"11\",BI43)=1,11),\"\")","v":""},{"$nulls":12},{"$f":"IFERROR(IF(SEARCH(\"11\",BV43)=1,11),\"\")","v":""},{"$nulls":8},{"$f":"IFERROR(IF(SEARCH(\"11\",CE43)=1,11),\"\")","v":""},{"$nulls":3},{"$f":"IFERROR(IF(SEARCH(\"11\",CI43)=1,11),\"\")","v":""},{"$nulls":9},{"$f":"IFERROR(INDEX(indexdatabase,MATCH(BQ30&$AZ$14,name&Group2,0),MATCH(\"AR\",Sheet2rng!$A$1:$AK$1,0)),\"\")","v":0},"Timothy",{"$f":"IFERROR(INDEX(indexdatabase,MATCH($BB34&$AZ$14,name&Group2,0),MATCH(\"SEND\",Sheet2rng!$A$1:$AO$1,0)),\"\")","v":0},{"$f":"IFERROR(INDEX(indexdatabase,MATCH($BB34&$AZ$14,name&Group2,0),MATCH(\"MAT\",Sheet2rng!$A$1:$AO$1,0)),\"\")","v":0},{"$f":"IFERROR(INDEX(indexdatabase,MATCH($BB34&$AZ$14,name&Group2,0),MATCH(\"EAL\",Sheet2rng!$A$1:$AO$1,0)),\"\")","v":"NOT/kn"},"","","EAL/NOT/kn","    EAL/NOT/kn",{"$nulls":7},"","IFERROR(INDEX(Sheet2rng,MATCH(BA12,sheet2rows,0), MATCH($BB$11,sheet2columns,0)),\"\")",{"$f":"IFERROR(INDEX(indexdatabase,MATCH(BQ34&$AZ$14,name&Group2,0),MATCH(\"PPI\",Sheet2rng!$A$1:$AK$1,0)),\"\")","v":""},{"$f":"IFERROR(SMALL(IF(LEFT(Group2,LEN(Class3!$BA$10))=Class3!$BA$10,ROW(Group2)),ROW(A23)),\"\")","v":""},{"$nulls":4},"CONNER Ryan",{"$nulls":56},0,"","JAMESON Amy",{"$nulls":5},3,11,"HARVEY Megan",{"$nulls":5},0,"","JAMESON Amy",{"$nulls":5},0,"","JAMESON Amy",{"$nulls":5},0,"","JAMESON Amy",{"$nulls":5},0,"","JAMESON Amy",{"$nulls":51},0,0]
[{"$nulls":52},{"$f":"IFERROR(INDEX(indexdatabase,MATCH(BQ31&$AZ$14,name&Group2,0),MATCH(\"AR\",Sheet2rng!$A$1:$AK$1,0)),\"\")","v":0},"Rebecca",{"$f":"IFERROR(INDEX(indexdatabase,MATCH($BB35&$AZ$14,name&Group2,0),MATCH(\"SEND\",Sheet2rng!$A$1:$AO$1,0)),\"\")","v":0},{"$f":"IFERROR(INDEX(indexdatabase,MATCH($BB35&$AZ$14,name&Group2,0),MATCH(\"MAT\",Sheet2rng!$A$1:$AO$1,0)),\"\")","v":0},{"$f":"IFERROR(INDEX(indexdatabase,MATCH($BB35&$AZ$14,name&Group2,0),MATCH(\"EAL\",Sheet2rng!$A$1:$AO$1,0)),\"\")","v":"OTH"},"","","EAL/OTH","    EAL/OTH",{"$nulls":7},"","IFERROR(INDEX(Sheet2rng,MATCH(BA12,sheet2rows,0), MATCH($BB$11,sheet2columns,0)),\"\")",{"$f":"IFERROR(INDEX(indexdatabase,MATCH(BQ35&$AZ$14,name&Group2,0),MATCH(\"PPI\",Sheet2rng!$A$1:$AK$1,0)),\"\")","v":""},{"$f":"IFERROR(SMALL(IF(LEFT(Group2,LEN(Class3!$BA$10))=Class3!$BA$10,ROW(Group2)),ROW(A24)),\"\")","v":""},{"$nulls":4},"",{"$nulls":56},0,"","KERWICK Georgie",{"$nulls":5},3,11,"HEATH Emily-Jayne",{"$nulls":5},0,"","KERWICK Georgie",{"$nulls":5},0,"","KERWICK Georgie",{"$nulls":5},0,"","KERWICK Georgie",{"$nulls":5},0,"","KERWICK Georgie",{"$nulls":51},0,0]
[{"$nulls":12},{"$f":"IFERROR(IF($Y$1=1,\"\",VLOOKUP(M34,needstable,8,FALSE)),\"\")","v":"    "},{"$nulls":3},{"$f":"IFERROR(IF($Y$1=1,\"\",VLOOKUP(Q34,needstable,8,FALSE)),\"\")","v":"    "},{"$nulls":8},{"$f":"IFERROR(IF($Y$1=1,\"\",VLOOKUP(Z34,needstable,8,FALSE)),\"\")","v":""},{"$nulls":3},{"$f":"IFERROR(IF($Y$1=1,\"\",VLOOKUP(AD34,needstable,8,FALSE)),\"\")","v":"    "},{"$nulls":8},{"$f":"IFERROR(IF($Y$1=1,\"\",VLOOKUP(AM34,needstable,8,FALSE)),\"\")","v":"    "},{"$nulls":3},{"$f":"IFERROR(IF($Y$1=1,\"\",VLOOKUP(AQ34,needstable,8,FALSE)),\"\")","v":"    "},{"$nulls":9},{"$f":"IFERROR(INDEX(indexdatabase,MATCH(BQ32&$AZ$14,name&Group2,0),MATCH(\"AR\",Sheet2rng!$A$1:$AK$1,0)),\"\")","v":0},"Faye",{"$f":"IFERROR(INDEX(indexdatabase,MATCH($BB36&$AZ$14,name&Group2,0),MATCH(\"SEND\",Sheet2rng!$A$1:$AO$1,0)),\"\")","v":0},{"$f":"IFERROR(INDEX(indexdatabase,MATCH($BB36&$AZ$14,name&Group2,0),MATCH(\"MAT\",Sheet2rng!$A$1:$AO$1,0)),\"\")","v":0},{"$f":"IFERROR(INDEX(indexdatabase,MATCH($BB36&$AZ$14,name&Group2,0),MATCH(\"EAL\",Sheet2rng!$A$1:$AO$1,0)),\"\")","v":"OTH"},"","","EAL/OTH","    EAL/OTH",{"$nulls":7},"","IFERROR(INDEX(Sheet2rng,MATCH(BA12,sheet2rows,0), MATCH($BB$11,sheet2columns,0)),\"\")",{"$f":"IFERROR(INDEX(indexdatabase,MATCH(BQ36&$AZ$14,name&Group2,0),MATCH(\"PPI\",Sheet2rng!$A$1:$AK$1,0)),\"\")","v":""},{"$f":"IFERROR(SMALL(IF(LEFT(Group2,LEN(Class3!$BA$10))=Class3!$BA$10,ROW(Group2)),ROW(A25)),\"\")","v":""},{"$nulls":4},"",{"$nulls":56},0,"","MURPHY Shannon",{"$nulls":5},3,11,"HOWELL Megan",{"$nulls":5},0,"","MURPHY Shannon",{"$nulls":5},0,"","MURPHY Shannon",{"$nulls":5},0,"","MURPHY Shannon",{"$nulls":5},0,"","MURPHY Shannon",{"$nulls":51},0,0]
[{"$nulls":12},"C/grade",null,{"$f":"Sheet2rng!$D$1","v":"KS2"},null,"C/grade",null,{"$f":"Sheet2rng!$D$1","v":"KS2"},{"$nulls":6},"C/grade",null,{"$f":"Sheet2rng!$D$1","v":"KS2"},null,"C/grade",null,{"$f":"Sheet2rng!$D$1","v":"KS2"},{"$nulls":6},"C/grade",null,{"$f":"Sheet2rng!$D$1","v":"KS2"},null,"C/grade",null,{"$f":"Sheet2rng!$D$1","v":"KS2"},{"$nulls":7},{"$f":"IFERROR(INDEX(indexdatabase,MATCH(BQ33&$AZ$14,name&Group2,0),MATCH(\"AR\",Sheet2rng!$A$1:$AK$1,0)),\"\")","v":0},"Karl",{"$f":"IFERROR(INDEX(indexdatabase,MATCH($BB37&$AZ$14,name&Group2,0),MATCH(\"SEND\",Sheet2rng!$A$1:$AO$1,0)),\"\")","v":0},{"$f":"IFERROR(INDEX(indexdatabase,MATCH($BB37&$AZ$14,name&Group2,0),MATCH(\"MAT\",Sheet2rng!$A$1:$AO$1,0)),\"\")","v":0},{"$f":"IFERROR(INDEX(indexdatabase,MATCH($BB37&$AZ$14,name&Group2,0),MATCH(\"EAL\",Sheet2rng!$A$1:$AO$1,0)),\"\")","v":"NOT/kn"},"","","EAL/NOT/kn","    EAL/NOT/kn",{"$nulls":7},"","IFERROR(INDEX(Sheet2rng,MATCH(BA12,sheet2rows,0), MATCH($BB$11,sheet2columns,0)),\"\")",{"$f":"IFERROR(INDEX(indexdatabase,MATCH(BQ37&$AZ$14,name&Group2,0),MATCH(\"PPI\",Sheet2rng!$A$1:$AK$1,0)),\"\")","v":""},{"$f":"IFERROR(SMALL(IF(LEFT(Group2,LEN(Class3!$BA$10))=Class3!$BA$10,ROW(Group2)),ROW(A26)),\"\")","v":""},{"$nulls":4},"",{"$nulls":56},0,"","PIDDINGTON Ellie",{"$nulls":5},3,11,"SAHOTA Callum",{"$nulls":5},0,"","PIDDINGTON Ellie",{"$nulls":5},0,"","PIDDINGTON Ellie",{"$nulls":5},0,"","PIDDINGTON Ellie",{"$nulls":5},0,"","PIDDINGTON Ellie",{"$nulls":51},0,0]
[{"$nulls":12},{"$f":"IFERROR(IF($Y$2=2,\"\",IF($Y$2=3,INDEX(indexdatabase,MATCH(M34&$AZ$14,name&Group2,0),MATCH($AZ$23,Sheet2rng!$A$1:$AK$1,0)))),\"\")","v":""},null,{"$f":"IFERROR(IF($Y$3=4,\"\",IF($Y$3=5,INDEX(indexdatabase,MATCH(M34&$AZ$14,name&Group2,0),MATCH($P$4,Sheet2rng!$A$1:$AK$1,0)))),\"\")","v":""},null,{"$f":"IFERROR(IF($Y$2=2,\"\",IF($Y$2=3,INDEX(indexdatabase,MATCH(Q34&$AZ$14,name&Group2,0),MATCH($AZ$23,Sheet2rng!$A$1:$AK$1,0)))),\"\")","v":""},null,{"$f":"IFERROR(IF($Y$3=4,\"\",IF($Y$3=5,INDEX(indexdatabase,MATCH(Q34&$AZ$14,name&Group2,0),MATCH($P$4,Sheet2rng!$A$1:$AK$1,0)))),\"\")","v":""},{"$nulls":6},{"$f":"IFERROR(IF($Y$2=2,\"\",IF($Y$2=3,INDEX(indexdatabase,MATCH(Z34&$AZ$14,name&Group2,0),MATCH($AZ$23,Sheet2rng!$A$1:$AK$1,0)))),\"\")","v":""},null,{"$f":"IFERROR(IF($Y$3=4,\"\",IF($Y$3=5,INDEX(indexdatabase,MATCH(Z34&$AZ$14,name&Group2,0),MATCH($P$4,Sheet2rng!$A$1:$AK$1,0)))),\"\")","v":""},null,{"$f":"IFERROR(IF($Y$2=2,\"\",IF($Y$2=3,INDEX(indexdatabase,MATCH(AD34&$AZ$14,name&Group2,0),MATCH($AZ$23,Sheet2rng!$A$1:$AK$1,0)))),\"\")","v":""},null,{"$f":"IFERROR(IF($Y$3=4,\"\",IF($Y$3=5,INDEX(indexdatabase,MATCH(AD34&$AZ$14,name&Group2,0),MATCH($P$4,Sheet2rng!$A$1:$AK$1,0)))),\"\")","v":""},{"$nulls":6},{"$f":"IFERROR(IF($Y$2=2,\"\",IF($Y$2=3,INDEX(indexdatabase,MATCH(AM34&$AZ$14,name&Group2,0),MATCH($AZ$23,Sheet2rng!$A$1:$AK$1,0)))),\"\")","v":""},null,{"$f":"IFERROR(IF($Y$3=4,\"\",IF($Y$3=5,INDEX(indexdatabase,MATCH(AM34&$AZ$14,name&Group2,0),MATCH($P$4,Sheet2rng!$A$1:$AK$1,0)))),\"\")","v":""},null,{"$f":"IFERROR(IF($Y$2=2,\"\",IF($Y$2=3,INDEX(indexdatabase,MATCH(AQ34&$AZ$14,name&Group2,0),MATCH($AZ$23,Sheet2rng!$A$1:$AK$1,0)))),\"\")","v":""},null,{"$f":"IFERROR(IF($Y$3=4,\"\",IF($Y$3=5,INDEX(indexdatabase,MATCH(AQ34&$AZ$14,name&Group2,0),MATCH($P$4,Sheet2rng!$A$1:$AK$1,0)))),\"\")","v":""},{"$nulls":7},{"$f":"IFERROR(INDEX(indexdatabase,MATCH(BQ34&$AZ$14,name&Group2,0),MATCH(\"AR\",Sheet2rng!$A$1:$AK$1,0)),\"\")","v":""},"",{"$f":"IFERROR(INDEX(indexdatabase,MATCH($BB38&$AZ$14,name&Group2,0),MATCH(\"SEND\",Sheet2rng!$A$1:$AO$1,0)),\"\")","v":""},{"$f":"IFERROR(INDEX(indexdatabase,MATCH($BB38&$AZ$14,name&Group2,0),MATCH(\"MAT\",Sheet2rng!$A$1:$AO$1,0)),\"\")","v":""},{"$f":"IFERROR(INDEX(indexdatabase,MATCH($BB38&$AZ$14,name&Group2,0),MATCH(\"EAL\",Sheet2rng!$A$1:$AO$1,0)),\"\")","v":""},"","","","    ",{"$nulls":7},"","IFERROR(INDEX(Sheet2rng,MATCH(BA12,sheet2rows,0), MATCH($BB$11,sheet2columns,0)),\"\")",{"$f":"IFERROR(INDEX(indexdatabase,MATCH(BQ38&$AZ$14,name&Group2,0),MATCH(\"PPI\",Sheet2rng!$A$1:$AK$1,0)),\"\")","v":""},{"$f":"IFERROR(SMALL(IF(LEFT(Group2,LEN(Class3!$BA$10))=Class3!$BA$10,ROW(Group2)),ROW(A27)),\"\")","v":""},{"$nulls":4},"",{"$nulls":56},0,"","QUILALA Angela",{"$nulls":5},3,11,"WRIGHT Caitlin",{"$nulls":5},0,"","QUILALA Angela",{"$nulls":5},0,"","QUILALA Angela",{"$nulls":5},0,"","QUILALA Angela",{"$nulls":5},0,"","QUILALA Angela",{"$nulls":51},0,0]
[{"$nulls":12},{"$f":"Sheet2rng!$C$1","v":"Target"},null,{"$f":"Sheet2rng!$E$1","v":"AR"},null,{"$f":"Sheet2rng!$C$1","v":"Target"},null,{"$f":"Sheet2rng!$E$1","v":"AR"},{"$nulls":6},{"$f":"Sheet2rng!$C$1","v":"Target"},null,{"$f":"Sheet2rng!$E$1","v":"AR"},null,{"$f":"Sheet2rng!$C$1","v":"Target"},null,{"$f":"Sheet2rng!$E$1","v":"AR"},{"$nulls":6},{"$f":"Sheet2rng!$C$1","v":"Target"},null,{"$f":"Sheet2rng!$E$1","v":"AR"},null,{"$f":"Sheet2rng!$C$1","v":"Target"},null,{"$f":"Sheet2rng!$E$1","v":"AR"},{"$nulls":7},{"$f":"IFERROR(INDEX(indexdatabase,MATCH(BQ35&$AZ$14,name&Group2,0),MATCH(\"AR\",Sheet2rng!$A$1:$AK$1,0)),\"\")","v":""},"",{"$f":"IFERROR(INDEX(indexdatabase,MATCH($BB39&$AZ$14,name&Group2,0),MATCH(\"SEND\",Sheet2rng!$A$1:$AO$1,0)),\"\")","v":""},{"$f":"IFERROR(INDEX(indexdatabase,MATCH($BB39&$AZ$14,name&Group2,0),MATCH(\"MAT\",Sheet2rng!$A$1:$AO$1,0)),\"\")","v":""},{"$f":"IFERROR(INDEX(indexdatabase,MATCH($BB39&$AZ$14,name&Group2,0),MATCH(\"EAL\",Sheet2rng!$A$1:$AO$1,0)),\"\")","v":""},"","","","    ",{"$nulls":7},"","IFERROR(INDEX(Sheet2rng,MATCH(BA12,sheet2rows,0), MATCH($BB$11,sheet2columns,0)),\"\")",{"$f":"IFERROR(INDEX(indexdatabase,MATCH(BQ39&$AZ$14,name&Group2,0),MATCH(\"PPI\",Sheet2rng!$A$1:$AK$1,0)),\"\")","v":""},{"$f":"IFERROR(SMALL(IF(LEFT(Group2,LEN(Class3!$BA$10))=Class3!$BA$10,ROW(Group2)),ROW(A28)),\"\")","v":""},{"$nulls":4},"",{"$nulls":56},0,"","RIORDAN Robbie",{"$nulls":5},4,20,"ABU Aisha",{"$nulls":5},0,"","RIORDAN Robbie",{"$nulls":5},0,"","RIORDAN Robbie",{"$nulls":5},0,"","RIORDAN Robbie",{"$nulls":5},0,"","RIORDAN Robbie",{"$nulls":51},0,0]
[{"$nulls":12},{"$f":"IFERROR(IF($Y$4=6,\"\",IF($Y$4=7,INDEX(indexdatabase,MATCH(M34&$AZ$14,name&Group2,0),MATCH($N$6,Sheet2rng!$A$1:$AK$1,0)))),\"\")","v":""},null,{"$f":"IFERROR(IF($Y$5=8,\"\",IF($Y$5=9,INDEX(Sheet2rng,MATCH(M34&$AZ$14,name&Group2,0),MATCH($P$6,sheet2columns,0)))),\"\")","v":""},null,{"$f":"IFERROR(IF($Y$4=6,\"\",IF($Y$4=7,INDEX(indexdatabase,MATCH(Q34&$AZ$14,name&Group2,0),MATCH($N$6,Sheet2rng!$A$1:$AK$1,0)))),\"\")","v":""},null,{"$f":"IFERROR(IF($Y$5=8,\"\",IF($Y$5=9,INDEX(Sheet2rng,MATCH(Q34&$AZ$14,name&Group2,0),MATCH($P$6,sheet2columns,0)))),\"\")","v":""},{"$nulls":6},{"$f":"IFERROR(IF($Y$4=6,\"\",IF($Y$4=7,INDEX(indexdatabase,MATCH(Z34&$AZ$14,name&Group2,0),MATCH($N$6,Sheet2rng!$A$1:$AK$1,0)))),\"\")","v":""},null,{"$f":"IFERROR(IF($Y$5=8,\"\",IF($Y$5=9,INDEX(Sheet2rng,MATCH(Z34&$AZ$14,name&Group2,0),MATCH($P$6,sheet2columns,0)))),\"\")","v":""},null,{"$f":"IFERROR(IF($Y$4=6,\"\",IF($Y$4=7,INDEX(indexdatabase,MATCH(AD34&$AZ$14,name&Group2,0),MATCH($N$6,Sheet2rng!$A$1:$AK$1,0)))),\"\")","v":""},null,{"$f":"IFERROR(IF($Y$5=8,\"\",IF($Y$5=9,INDEX(Sheet2rng,MATCH(AD34&$AZ$14,name&Group2,0),MATCH($P$6,sheet2columns,0)))),\"\")","v":""},{"$nulls":6},{"$f":"IFERROR(IF($Y$4=6,\"\",IF($Y$4=7,INDEX(indexdatabase,MATCH(AM34&$AZ$14,name&Group2,0),MATCH($N$6,Sheet2rng!$A$1:$AK$1,0)))),\"\")","v":""},null,{"$f":"IFERROR(IF($Y$5=8,\"\",IF($Y$5=9,INDEX(Sheet2rng,MATCH(AM34&$AZ$14,name&Group2,0),MATCH($P$6,sheet2columns,0)))),\"\")","v":""},null,{"$f":"IFERROR(IF($Y$4=6,\"\",IF($Y$4=7,INDEX(indexdatabase,MATCH(AQ34&$AZ$14,name&Group2,0),MATCH($N$6,Sheet2rng!$A$1:$AK$1,0)))),\"\")","v":""},null,{"$f":"IFERROR(IF($Y$5=8,\"\",IF($Y$5=9,INDEX(Sheet2rng,MATCH(AQ34&$AZ$14,name&Group2,0),MATCH($P$6,sheet2columns,0)))),\"\")","v":""},{"$nulls":7},{"$f":"IFERROR(INDEX(indexdatabase,MATCH(BQ36&$AZ$14,name&Group2,0),MATCH(\"AR\",Sheet2rng!$A$1:$AK$1,0)),\"\")","v":""},"",{"$f":"IFERROR(INDEX(indexdatabase,MATCH($BB40&$AZ$14,name&Group2,0),MATCH(\"SEND\",Sheet2rng!$A$1:$AO$1,0)),\"\")","v":""},{"$f":"IFERROR(INDEX(indexdatabase,MATCH($BB40&$AZ$14,name&Group2,0),MATCH(\"MAT\",Sheet2rng!$A$1:$AO$1,0)),\"\")","v":""},{"$f":"IFERROR(INDEX(indexdatabase,MATCH($BB40&$AZ$14,name&Group2,0),MATCH(\"EAL\",Sheet2rng!$A$1:$AO$1,0)),\"\")","v":""},"","","","    ",{"$nulls":7},"","IFERROR(INDEX(Sheet2rng,MATCH(BA12,sheet2rows,0), MATCH($BB$11,sheet2columns,0)),\"\")",{"$f":"IFERROR(INDEX(indexdatabase,MATCH(BQ40&$AZ$14,name&Group2,0),MATCH(\"PPI\",Sheet2rng!$A$1:$AK$1,0)),\"\")","v":""},{"$f":"IFERROR(SMALL(IF(LEFT(Group2,LEN(Class3!$BA$10))=Class3!$BA$10,ROW(Group2)),ROW(A29)),\"\")","v":""},{"$nulls":4},"",{"$nulls":56},0,"","SAHOTA Callum",{"$nulls":5},4,20,"BLE Grace",{"$nulls":5},0,"","SAHOTA Callum",{"$nulls":5},0,"","SAHOTA Callum",{"$nulls":5},0,"","SAHOTA Callum",{"$nulls":5},0,"","SAHOTA Callum",{"$nulls":51},0,0]
[{"$nulls":12},{"$f":"IFERROR(IF(SEARCH(\"11\",BE50)=1,11),\"\")","v":""},{"$nulls":3},{"$f":"IFERROR(IF(SEARCH(\"11\",BI50)=1,11),\"\")","v":""},{"$nulls":12},{"$f":"IFERROR(IF(SEARCH(\"11\",BV50)=1,11),\"\")","v":""},{"$nulls":8},{"$f":"IFERROR(IF(SEARCH(\"11\",CE50)=1,11),\"\")","v":""},{"$nulls":3},{"$f":"IFERROR(IF(SEARCH(\"11\",CI50)=1,11),\"\")","v":""},{"$nulls":9},{"$f":"IFERROR(INDEX(indexdatabase,MATCH(BQ37&$AZ$14,name&Group2,0),MATCH(\"AR\",Sheet2rng!$A$1:$AK$1,0)),\"\")","v":""},"",{"$f":"IFERROR(INDEX(indexdatabase,MATCH($BB41&$AZ$14,name&Group2,0),MATCH(\"SEND\",Sheet2rng!$A$1:$AO$1,0)),\"\")","v":""},{"$f":"IFERROR(INDEX(indexdatabase,MATCH($BB41&$AZ$14,name&Group2,0),MATCH(\"MAT\",Sheet2rng!$A$1:$AO$1,0)),\"\")","v":""},{"$f":"IFERROR(INDEX(indexdatabase,MATCH($BB41&$AZ$14,name&Group2,0),MATCH(\"EAL\",Sheet2rng!$A$1:$AO$1,0)),\"\")","v":""},"","","","    ",{"$nulls":7},"","IFERROR(INDEX(Sheet2rng,MATCH(BA12,sheet2rows,0), MATCH($BB$11,sheet2columns,0)),\"\")",{"$f":"IFERROR(INDEX(indexdatabase,MATCH(BQ41&$AZ$14,name&Group2,0),MATCH(\"PPI\",Sheet2rng!$A$1:$AK$1,0)),\"\")","v":""},{"$f":"IFERROR(SMALL(IF(LEFT(Group2,LEN(Class3!$BA$10))=Class3!$BA$10,ROW(Group2)),ROW(A30)),\"\")","v":""},{"$nulls":4},"",{"$nulls":56},0,"","SAWYER Cicarna-Lee",{"$nulls":5},4,20,"JAMESON Amy",{"$nulls":5},0,"","SAWYER Cicarna-Lee",{"$nulls":5},0,"","SAWYER Cicarna-Lee",{"$nulls":5},0,"","SAWYER Cicarna-Lee",{"$nulls":5},0,"","SAWYER Cicarna-Lee",{"$nulls":51},0,0]
[{"$nulls":52},{"$f":"IFERROR(INDEX(indexdatabase,MATCH(BQ38&$AZ$14,name&Group2,0),MATCH(\"AR\",Sheet2rng!$A$1:$AK$1,0)),\"\")","v":""},"",{"$f":"IFERROR(INDEX(indexdatabase,MATCH($BB42&$AZ$14,name&Group2,0),MATCH(\"SEND\",Sheet2rng!$A$1:$AO$1,0)),\"\")","v":""},{"$f":"IFERROR(INDEX(indexdatabase,MATCH($BB42&$AZ$14,name&Group2,0),MATCH(\"MAT\",Sheet2rng!$A$1:$AO$1,0)),\"\")","v":""},{"$f":"IFERROR(INDEX(indexdatabase,MATCH($BB42&$AZ$14,name&Group2,0),MATCH(\"EAL\",Sheet2rng!$A$1:$AO$1,0)),\"\")","v":""},"","","","    ",{"$nulls":4},"10a/Pe6",null,null,"","IFERROR(INDEX(Sheet2rng,MATCH(BA12,sheet2rows,0), MATCH($BB$11,sheet2columns,0)),\"\")",{"$f":"IFERROR(INDEX(indexdatabase,MATCH(BQ42&$AZ$14,name&Group2,0),MATCH(\"PPI\",Sheet2rng!$A$1:$AK$1,0)),\"\")","v":""},{"$f":"IFERROR(SMALL(IF(LEFT(Group2,LEN(Class3!$BA$10))=Class3!$BA$10,ROW(Group2)),ROW(A31)),\"\")","v":""},{"$nulls":4},"",{"$nulls":56},0,"","SEHMI Natalie",{"$nulls":5},4,20,"KERWICK Georgie",{"$nulls":5},0,"","SEHMI Natalie",{"$nulls":5},0,"","SEHMI Natalie",{"$nulls":5},0,"","SEHMI Natalie",{"$nulls":5},0,"","SEHMI Natalie",{"$nulls":51},0,0]
[{"$nulls":12},{"$f":"IFERROR(IF($Y$1=1,\"\",VLOOKUP(M41,needstable,8,FALSE)),\"\")","v":"    "},{"$nulls":3},{"$f":"IFERROR(IF($Y$1=1,\"\",VLOOKUP(Q41,needstable,8,FALSE)),\"\")","v":"    "},{"$nulls":8},{"$f":"IFERROR(IF($Y$1=1,\"\",VLOOKUP(Z41,needstable,8,FALSE)),\"\")","v":""},{"$nulls":3},{"$f":"IFERROR(IF($Y$1=1,\"\",VLOOKUP(AD41,needstable,8,FALSE)),\"\")","v":"    "},{"$nulls":8},{"$f":"IFERROR(IF($Y$1=1,\"\",VLOOKUP(AM41,needstable,8,FALSE)),\"\")","v":"    "},{"$nulls":3},{"$f":"IFERROR(IF($Y$1=1,\"\",VLOOKUP(AQ41,needstable,8,FALSE)),\"\")","v":"    "},{"$nulls":9},{"$f":"IFERROR(INDEX(indexdatabase,MATCH(BQ39&$AZ$14,name&Group2,0),MATCH(\"AR\",Sheet2rng!$A$1:$AK$1,0)),\"\")","v":""},"",{"$f":"IFERROR(INDEX(indexdatabase,MATCH($BB43&$AZ$14,name&Group2,0),MATCH(\"SEND\",Sheet2rng!$A$1:$AO$1,0)),\"\")","v":""},{"$f":"IFERROR(INDEX(indexdatabase,MATCH($BB43&$AZ$14,name&Group2,0),MATCH(\"MAT\",Sheet2rng!$A$1:$AO$1,0)),\"\")","v":""},{"$f":"IFERROR(INDEX(indexdatabase,MATCH($BB43&$AZ$14,name&Group2,0),MATCH(\"EAL\",Sheet2rng!$A$1:$AO$1,0)),\"\")","v":""},"","","","    ",{"$nulls":4},"10A/Pg1",null,null,"","IFERROR(INDEX(Sheet2rng,MATCH(BA12,sheet2rows,0), MATCH($BB$11,sheet2columns,0)),\"\")",{"$f":"IFERROR(INDEX(indexdatabase,MATCH(BQ43&$AZ$14,name&Group2,0),MATCH(\"PPI\",Sheet2rng!$A$1:$AK$1,0)),\"\")","v":""},{"$f":"IFERROR(SMALL(IF(LEFT(Group2,LEN(Class3!$BA$10))=Class3!$BA$10,ROW(Group2)),ROW(A32)),\"\")","v":""},{"$nulls":4},"",{"$nulls":56},0,"","SMITH Jade",{"$nulls":5},4,20,"SAWYER Cicarna-Lee",{"$nulls":5},0,"","SMITH Jade",{"$nulls":5},0,"","SMITH Jade",{"$nulls":5},0,"","SMITH Jade",{"$nulls":5},0,"","SMITH Jade",{"$nulls":51},0,0]
[{"$nulls":12},"C/grade",null,{"$f":"Sheet2rng!$D$1","v":"KS2"},null,"C/grade",null,{"$f":"Sheet2rng!$D$1","v":"KS2"},{"$nulls":6},"C/grade",null,{"$f":"Sheet2rng!$D$1","v":"KS2"},null,"C/grade",null,{"$f":"Sheet2rng!$D$1","v":"KS2"},{"$nulls":6},"C/grade",null,{"$f":"Sheet2rng!$D$1","v":"KS2"},null,"C/grade",null,{"$f":"Sheet2rng!$D$1","v":"KS2"},{"$nulls":7},{"$f":"IFERROR(INDEX(indexdatabase,MATCH(BQ40&$AZ$14,name&Group2,0),MATCH(\"AR\",Sheet2rng!$A$1:$AK$1,0)),\"\")","v":""},"",{"$f":"IFERROR(INDEX(indexdatabase,MATCH($BB44&$AZ$14,name&Group2,0),MATCH(\"SEND\",Sheet2rng!$A$1:$AO$1,0)),\"\")","v":""},{"$f":"IFERROR(INDEX(indexdatabase,MATCH($BB44&$AZ$14,name&Group2,0),MATCH(\"MAT\",Sheet2rng!$A$1:$AO$1,0)),\"\")","v":""},{"$f":"IFERROR(INDEX(indexdatabase,MATCH($BB44&$AZ$14,name&Group2,0),MATCH(\"EAL\",Sheet2rng!$A$1:$AO$1,0)),\"\")","v":""},"","","","    ",{"$nulls":4},"10a/Sc1",null,null,"","IFERROR(INDEX(Sheet2rng,MATCH(BA12,sheet2rows,0), MATCH($BB$11,sheet2columns,0)),\"\")",{"$f":"IFERROR(INDEX(indexdatabase,MATCH(BQ44&$AZ$14,name&Group2,0),MATCH(\"PPI\",Sheet2rng!$A$1:$AK$1,0)),\"\")","v":""},{"$f":"IFERROR(SMALL(IF(LEFT(Group2,LEN(Class3!$BA$10))=Class3!$BA$10,ROW(Group2)),ROW(A33)),\"\")","v":""},{"$nulls":61},0,"","SWAN Callum",{"$nulls":5},4,20,"SEHMI Natalie",{"$nulls":5},0,"","SWAN Callum",{"$nulls":5},0,"","SWAN Callum",{"$nulls":5},0,"","SWAN Callum",{"$nulls":5},0,"","SWAN Callum",{"$nulls":51},0,0]
[{"$nulls":12},{"$f":"IFERROR(IF($Y$2=2,\"\",IF($Y$2=3,INDEX(indexdatabase,MATCH(M41&$AZ$14,name&Group2,0),MATCH($AZ$23,Sheet2rng!$A$1:$AK$1,0)))),\"\")","v":""},null,{"$f":"IFERROR(IF($Y$3=4,\"\",IF($Y$3=5,INDEX(indexdatabase,MATCH(M41&$AZ$14,name&Group2,0),MATCH($P$4,Sheet2rng!$A$1:$AK$1,0)))),\"\")","v":""},null,{"$f":"IFERROR(IF($Y$2=2,\"\",IF($Y$2=3,INDEX(indexdatabase,MATCH(Q41&$AZ$14,name&Group2,0),MATCH($AZ$23,Sheet2rng!$A$1:$AK$1,0)))),\"\")","v":""},null,{"$f":"IFERROR(IF($Y$3=4,\"\",IF($Y$3=5,INDEX(indexdatabase,MATCH(Q41&$AZ$14,name&Group2,0),MATCH($P$4,Sheet2rng!$A$1:$AK$1,0)))),\"\")","v":""},{"$nulls":6},{"$f":"IFERROR(IF($Y$2=2,\"\",IF($Y$2=3,INDEX(indexdatabase,MATCH(Z41&$AZ$14,name&Group2,0),MATCH($AZ$23,Sheet2rng!$A$1:$AK$1,0)))),\"\")","v":""},null,{"$f":"IFERROR(IF($Y$3=4,\"\",IF($Y$3=5,INDEX(indexdatabase,MATCH(Z41&$AZ$14,name&Group2,0),MATCH($P$4,Sheet2rng!$A$1:$AK$1,0)))),\"\")","v":""},null,{"$f":"IFERROR(IF($Y$2=2,\"\",IF($Y$2=3,INDEX(indexdatabase,MATCH(AD41&$AZ$14,name&Group2,0),MATCH($AZ$23,Sheet2rng!$A$1:$AK$1,0)))),\"\")","v":""},null,{"$f":"IFERROR(IF($Y$3=4,\"\",IF($Y$3=5,INDEX(indexdatabase,MATCH(AD41&$AZ$14,name&Group2,0),MATCH($P$4,Sheet2rng!$A$1:$AK$1,0)))),\"\")","v":""},{"$nulls":6},{"$f":"IFERROR(IF($Y$2=2,\"\",IF($Y$2=3,INDEX(indexdatabase,MATCH(AM41&$AZ$14,name&Group2,0),MATCH($AZ$23,Sheet2rng!$A$1:$AK$1,0)))),\"\")","v":""},null,{"$f":"IFERROR(IF($Y$3=4,\"\",IF($Y$3=5,INDEX(indexdatabase,MATCH(AM41&$AZ$14,name&Group2,0),MATCH($P$4,Sheet2rng!$A$1:$AK$1,0)))),\"\")","v":""},null,{"$f":"IFERROR(IF($Y$2=2,\"\",IF($Y$2=3,INDEX(indexdatabase,MATCH(AQ41&$AZ$14,name&Group2,0),MATCH($AZ$23,Sheet2rng!$A$1:$AK$1,0)))),\"\")","v":""},null,{"$f":"IFERROR(IF($Y$3=4,\"\",IF($Y$3=5,INDEX(indexdatabase,MATCH(AQ41&$AZ$14,name&Group2,0),MATCH($P$4,Sheet2rng!$A$1:$AK$1,0)))),\"\")","v":""},{"$nulls":7},{"$f":"IFERROR(INDEX(indexdatabase,MATCH(BQ41&$AZ$14,name&Group2,0),MATCH(\"AR\",Sheet2rng!$A$1:$AK$1,0)),\"\")","v":""},"",{"$f":"IFERROR(INDEX(indexdatabase,MATCH($BB45&$AZ$14,name&Group2,0),MATCH(\"SEND\",Sheet2rng!$A$1:$AO$1,0)),\"\")","v":""},{"$f":"IFERROR(INDEX(indexdatabase,MATCH($BB45&$AZ$14,name&Group2,0),MATCH(\"MAT\",Sheet2rng!$A$1:$AO$1,0)),\"\")","v":""},{"$f":"IFERROR(INDEX(indexdatabase,MATCH($BB45&$AZ$14,name&Group2,0),MATCH(\"EAL\",Sheet2rng!$A$1:$AO$1,0)),\"\")","v":""},"","","","    ",{"$nulls":4},"10a/Sc2",null,null,"","IFERROR(INDEX(Sheet2rng,MATCH(BA12,sheet2rows,0), MATCH($BB$11,sheet2columns,0)),\"\")",{"$f":"IFERROR(INDEX(indexdatabase,MATCH(BQ45&$AZ$14,name&Group2,0),MATCH(\"PPI\",Sheet2rng!$A$1:$AK$1,0)),\"\")","v":""},{"$f":"IFERROR(SMALL(IF(LEFT(Group2,LEN(Class3!$BA$10))=Class3!$BA$10,ROW(Group2)),ROW(A34)),\"\")","v":""},{"$nulls":62},"","TURNER Liberty",{"$nulls":6},20,"SWAN Callum",{"$nulls":6},"","TURNER Liberty",{"$nulls":6},"","TURNER Liberty",{"$nulls":6},"","TURNER Liberty",{"$nulls":6},"","TURNER Liberty",{"$nulls":51},0,0]
[{"$nulls":12},{"$f":"Sheet2rng!$C$1","v":"Target"},null,{"$f":"Sheet2rng!$E$1","v":"AR"},null,{"$f":"Sheet2rng!$C$1","v":"Target"},null,{"$f":"Sheet2rng!$E$1","v":"AR"},{"$nulls":6},{"$f":"Sheet2rng!$C$1","v":"Target"},null,{"$f":"Sheet2rng!$E$1","v":"AR"},null,{"$f":"Sheet2rng!$C$1","v":"Target"},null,{"$f":"Sheet2rng!$E$1","v":"AR"},{"$nulls":6},{"$f":"Sheet2rng!$C$1","v":"Target"},null,{"$f":"Sheet2rng!$E$1","v":"AR"},null,{"$f":"Sheet2rng!$C$1","v":"Target"},null,{"$f":"Sheet2rng!$E$1","v":"AR"},{"$nulls":7},{"$f":"IFERROR(INDEX(indexdatabase,MATCH(BQ42&$AZ$14,name&Group2,0),MATCH(\"AR\",Sheet2rng!$A$1:$AK$1,0)),\"\")","v":""},"",{"$f":"IFERROR(INDEX(indexdatabase,MATCH($BB46&$AZ$14,name&Group2,0),MATCH(\"SEND\",Sheet2rng!$A$1:$AO$1,0)),\"\")","v":""},{"$f":"IFERROR(INDEX(indexdatabase,MATCH($BB46&$AZ$14,name&Group2,0),MATCH(\"MAT\",Sheet2rng!$A$1:$AO$1,0)),\"\")","v":""},{"$f":"IFERROR(INDEX(indexdatabase,MATCH($BB46&$AZ$14,name&Group2,0),MATCH(\"EAL\",Sheet2rng!$A$1:$AO$1,0)),\"\")","v":""},"","","","    ",{"$nulls":4},"10a/Sc3",null,null,"","IFERROR(INDEX(Sheet2rng,MATCH(BA12,sheet2rows,0), MATCH($BB$11,sheet2columns,0)),\"\")",{"$f":"IFERROR(INDEX(indexdatabase,MATCH(BQ46&$AZ$14,name&Group2,0),MATCH(\"PPI\",Sheet2rng!$A$1:$AK$1,0)),\"\")","v":""},{"$f":"IFERROR(SMALL(IF(LEFT(Group2,LEN(Class3!$BA$10))=Class3!$BA$10,ROW(Group2)),ROW(A35)),\"\")","v":""},{"$nulls":62},"","WILLIS Demi",{"$nulls":6},20,"WILLIS Demi",{"$nulls":6},"","WILLIS Demi",{"$nulls":6},"","WILLIS Demi",{"$nulls":6},"","WILLIS Demi",{"$nulls":6},"","WILLIS Demi",{"$nulls":51},0,0]
[{"$nulls":12},{"$f":"IFERROR(IF($Y$4=6,\"\",IF($Y$4=7,INDEX(indexdatabase,MATCH(M41&$AZ$14,name&Group2,0),MATCH($N$6,Sheet2rng!$A$1:$AK$1,0)))),\"\")","v":""},null,{"$f":"IFERROR(IF($Y$5=8,\"\",IF($Y$5=9,INDEX(Sheet2rng,MATCH(M41&$AZ$14,name&Group2,0),MATCH($P$6,sheet2columns,0)))),\"\")","v":""},null,{"$f":"IFERROR(IF($Y$4=6,\"\",IF($Y$4=7,INDEX(indexdatabase,MATCH(Q41&$AZ$14,name&Group2,0),MATCH($N$6,Sheet2rng!$A$1:$AK$1,0)))),\"\")","v":""},null,{"$f":"IFERROR(IF($Y$5=8,\"\",IF($Y$5=9,INDEX(Sheet2rng,MATCH(Q41&$AZ$14,name&Group2,0),MATCH($P$6,sheet2columns,0)))),\"\")","v":""},{"$nulls":6},{"$f":"IFERROR(IF($Y$4=6,\"\",IF($Y$4=7,INDEX(indexdatabase,MATCH(Z41&$AZ$14,name&Group2,0),MATCH($N$6,Sheet2rng!$A$1:$AK$1,0)))),\"\")","v":""},null,{"$f":"IFERROR(IF($Y$5=8,\"\",IF($Y$5=9,INDEX(Sheet2rng,MATCH(Z41&$AZ$14,name&Group2,0),MATCH($P$6,sheet2columns,0)))),\"\")","v":""},null,{"$f":"IFERROR(IF($Y$4=6,\"\",IF($Y$4=7,INDEX(indexdatabase,MATCH(AD41&$AZ$14,name&Group2,0),MATCH($N$6,Sheet2rng!$A$1:$AK$1,0)))),\"\")","v":""},null,{"$f":"IFERROR(IF($Y$5=8,\"\",IF($Y$5=9,INDEX(Sheet2rng,MATCH(AD41&$AZ$14,name&Group2,0),MATCH($P$6,sheet2columns,0)))),\"\")","v":""},{"$nulls":6},{"$f":"IFERROR(IF($Y$4=6,\"\",IF($Y$4=7,INDEX(indexdatabase,MATCH(AM41&$AZ$14,name&Group2,0),MATCH($N$6,Sheet2rng!$A$1:$AK$1,0)))),\"\")","v":""},null,{"$f":"IFERROR(IF($Y$5=8,\"\",IF($Y$5=9,INDEX(Sheet2rng,MATCH(AM41&$AZ$14,name&Group2,0),MATCH($P$6,sheet2columns,0)))),\"\")","v":""},null,{"$f":"IFERROR(IF($Y$4=6,\"\",IF($Y$4=7,INDEX(indexdatabase,MATCH(AQ41&$AZ$14,name&Group2,0),MATCH($N$6,Sheet2rng!$A$1:$AK$1,0)))),\"\")","v":""},null,{"$f":"IFERROR(IF($Y$5=8,\"\",IF($Y$5=9,INDEX(Sheet2rng,MATCH(AQ41&$AZ$14,name&Group2,0),MATCH($P$6,sheet2columns,0)))),\"\")","v":""},{"$nulls":7},{"$f":"IFERROR(INDEX(indexdatabase,MATCH(BQ43&$AZ$14,name&Group2,0),MATCH(\"AR\",Sheet2rng!$A$1:$AK$1,0)),\"\")","v":""},null,{"$f":"IFERROR(INDEX(indexdatabase,MATCH($BB47&$AZ$14,name&Group2,0),MATCH(\"SEND\",Sheet2rng!$A$1:$AO$1,0)),\"\")","v":""},{"$f":"IFERROR(INDEX(indexdatabase,MATCH($BB47&$AZ$14,name&Group2,0),MATCH(\"MAT\",Sheet2rng!$A$1:$AO$1,0)),\"\")","v":""},{"$f":"IFERROR(INDEX(indexdatabase,MATCH($BB47&$AZ$14,name&Group2,0),MATCH(\"EAL\",Sheet2rng!$A$1:$AO$1,0)),\"\")","v":""},"","","","    ",{"$nulls":4},"10a/Sc4",null,null,"","IFERROR(INDEX(Sheet2rng,MATCH(BA12,sheet2rows,0), MATCH($BB$11,sheet2columns,0)),\"\")",{"$f":"IFERROR(INDEX(indexdatabase,MATCH(BQ47&$AZ$14,name&Group2,0),MATCH(\"PPI\",Sheet2rng!$A$1:$AK$1,0)),\"\")","v":""},{"$f":"IFERROR(SMALL(IF(LEFT(Group2,LEN(Class3!$BA$10))=Class3!$BA$10,ROW(Group2)),ROW(A36)),\"\")","v":""},{"$nulls":62},"","WRIGHT Caitlin",{"$nulls":6},"","RIORDAN Robbie",{"$nulls":6},"","WRIGHT Caitlin",{"$nulls":6},"","WRIGHT Caitlin",{"$nulls":6},"","WRIGHT Caitlin",{"$nulls":6},"","WRIGHT Caitlin",{"$nulls":51},0,0]
[{"$nulls":12},{"$f":"IFERROR(IF(SEARCH(\"11\",BE57)=1,11),\"\")","v":""},{"$nulls":3},{"$f":"IFERROR(IF(SEARCH(\"11\",BI57)=1,11),\"\")","v":""},{"$nulls":12},{"$f":"IFERROR(IF(SEARCH(\"11\",BV57)=1,11),\"\")","v":""},{"$nulls":8},{"$f":"IFERROR(IF(SEARCH(\"11\",CE57)=1,11),\"\")","v":""},{"$nulls":3},{"$f":"IFERROR(IF(SEARCH(\"11\",CI57)=1,11),\"\")","v":""},{"$nulls":9},{"$f":"IFERROR(INDEX(indexdatabase,MATCH(BQ44&$AZ$14,name&Group2,0),MATCH(\"AR\",Sheet2rng!$A$1:$AK$1,0)),\"\")","v":""},null,{"$f":"IFERROR(INDEX(indexdatabase,MATCH($BB48&$AZ$14,name&Group2,0),MATCH(\"SEND\",Sheet2rng!$A$1:$AO$1,0)),\"\")","v":""},{"$f":"IFERROR(INDEX(indexdatabase,MATCH($BB48&$AZ$14,name&Group2,0),MATCH(\"MAT\",Sheet2rng!$A$1:$AO$1,0)),\"\")","v":""},{"$f":"IFERROR(INDEX(indexdatabase,MATCH($BB48&$AZ$14,name&Group2,0),MATCH(\"EAL\",Sheet2rng!$A$1:$AO$1,0)),\"\")","v":""},"","","",{"$f":"CONCATENATE(BF48,\"  \",BG48,\"  \",BH48)","v":"    "},{"$nulls":4},"10a/Sc5",null,null,"","IFERROR(INDEX(Sheet2rng,MATCH(BA12,sheet2rows,0), MATCH($BB$11,sheet2columns,0)),\"\")",{"$f":"IFERROR(INDEX(indexdatabase,MATCH(BQ48&$AZ$14,name&Group2,0),MATCH(\"PPI\",Sheet2rng!$A$1:$AK$1,0)),\"\")","v":""},{"$f":"IFERROR(SMALL(IF(LEFT(Group2,LEN(Class3!$BA$10))=Class3!$BA$10,ROW(Group2)),ROW(A37)),\"\")","v":""},{"$nulls":62},"","",{"$nulls":6},"","",{"$nulls":6},"","",{"$nulls":6},"","",{"$nulls":6},"","",{"$nulls":6},"","",{"$nulls":51},0,0]
[{"$nulls":65},"10a/Sc6",null,null,"","IFERROR(INDEX(Sheet2rng,MATCH(BA12,sheet2rows,0), MATCH($BB$11,sheet2columns,0)),\"\")",{"$f":"IFERROR(INDEX(indexdatabase,MATCH(BQ49&$AZ$14,name&Group2,0),MATCH(\"PPI\",Sheet2rng!$A$1:$AK$1,0)),\"\")","v":""},{"$f":"IFERROR(SMALL(IF(LEFT(Group2,LEN(Class3!$BA$10))=Class3!$BA$10,ROW(Group2)),ROW(A38)),\"\")","v":""},{"$nulls":155},0,0]
[{"$nulls":12},{"$f":"IFERROR(IF($Y$1=1,\"\",VLOOKUP(M48,needstable,8,FALSE)),\"\")","v":"    "},{"$nulls":3},{"$f":"IFERROR(IF($Y$1=1,\"\",VLOOKUP(Q48,needstable,8,FALSE)),\"\")","v":"    "},{"$nulls":8},{"$f":"IFERROR(IF($Y$1=1,\"\",VLOOKUP(Z48,needstable,8,FALSE)),\"\")","v":""},{"$nulls":3},{"$f":"IFERROR(IF($Y$1=1,\"\",VLOOKUP(AD48,needstable,8,FALSE)),\"\")","v":"    "},{"$nulls":8},{"$f":"IFERROR(IF($Y$1=1,\"\",VLOOKUP(AM48,needstable,8,FALSE)),\"\")","v":"    "},{"$nulls":3},{"$f":"IFERROR(IF($Y$1=1,\"\",VLOOKUP(AQ48,needstable,8,FALSE)),\"\")","v":"    "},{"$nulls":22},"10A/So1",null,null,"","IFERROR(INDEX(Sheet2rng,MATCH(BA12,sheet2rows,0), MATCH($BB$11,sheet2columns,0)),\"\")",{"$f":"IFERROR(INDEX(indexdatabase,MATCH(BQ50&$AZ$14,name&Group2,0),MATCH(\"PPI\",Sheet2rng!$A$1:$AK$1,0)),\"\")","v":""},{"$f":"IFERROR(SMALL(IF(LEFT(Group2,LEN(Class3!$BA$10))=Class3!$BA$10,ROW(Group2)),ROW(A39)),\"\")","v":""},{"$nulls":62},"","",{"$nulls":6},"","",{"$nulls":6},"","",{"$nulls":5},{"$f":"IF(FC50=1,1,IF(FC50=2,2,IF(FC50=FC49,FB49,IF(FC50>FC49,FB49+1))))","v":0},"","",{"$nulls":5},{"$f":"IF(FK50=1,1,IF(FK50=2,2,IF(FK50=FK49,FJ49,IF(FK50>FK49,FJ49+1))))","v":0},"","",{"$nulls":5},{"$f":"IF(FS50=1,1,IF(FS50=2,2,IF(FS50=FS49,FR49,IF(FS50>FS49,FR49+1))))","v":0},"","",{"$nulls":51},0,0]
[{"$nulls":12},"C/grade",null,{"$f":"Sheet2rng!$D$1","v":"KS2"},null,"C/grade",null,{"$f":"Sheet2rng!$D$1","v":"KS2"},{"$nulls":6},"C/grade",null,{"$f":"Sheet2rng!$D$1","v":"KS2"},null,"C/grade",null,{"$f":"Sheet2rng!$D$1","v":"KS2"},{"$nulls":6},"C/grade",null,{"$f":"Sheet2rng!$D$1","v":"KS2"},null,"C/grade",null,{"$f":"Sheet2rng!$D$1","v":"KS2"},{"$nulls":20},"10A/So2",null,null,"","IFERROR(INDEX(Sheet2rng,MATCH(BA12,sheet2rows,0), MATCH($BB$11,sheet2columns,0)),\"\")",{"$f":"IFERROR(INDEX(indexdatabase,MATCH(BQ51&$AZ$14,name&Group2,0),MATCH(\"PPI\",Sheet2rng!$A$1:$AK$1,0)),\"\")","v":""},{"$f":"IFERROR(SMALL(IF(LEFT(Group2,LEN(Class3!$BA$10))=Class3!$BA$10,ROW(Group2)),ROW(A40)),\"\")","v":""},{"$nulls":62},"","",{"$nulls":6},"","",{"$nulls":6},"","",{"$nulls":6},"","",{"$nulls":6},"","",{"$nulls":6},"","",{"$nulls":52},{"$f":"DU370","v":0}]
[{"$nulls":12},{"$f":"IFERROR(IF($Y$2=2,\"\",IF($Y$2=3,INDEX(indexdatabase,MATCH(M48&$AZ$14,name&Group2,0),MATCH($AZ$23,Sheet2rng!$A$1:$AK$1,0)))),\"\")","v":""},null,{"$f":"IFERROR(IF($Y$3=4,\"\",IF($Y$3=5,INDEX(indexdatabase,MATCH(M48&$AZ$14,name&Group2,0),MATCH($P$4,Sheet2rng!$A$1:$AK$1,0)))),\"\")","v":""},null,{"$f":"IFERROR(IF($Y$2=2,\"\",IF($Y$2=3,INDEX(indexdatabase,MATCH(Q48&$AZ$14,name&Group2,0),MATCH($AZ$23,Sheet2rng!$A$1:$AK$1,0)))),\"\")","v":""},null,{"$f":"IFERROR(IF($Y$3=4,\"\",IF($Y$3=5,INDEX(indexdatabase,MATCH(Q48&$AZ$14,name&Group2,0),MATCH($P$4,Sheet2rng!$A$1:$AK$1,0)))),\"\")","v":""},{"$nulls":6},{"$f":"IFERROR(IF($Y$2=2,\"\",IF($Y$2=3,INDEX(indexdatabase,MATCH(Z48&$AZ$14,name&Group2,0),MATCH($AZ$23,Sheet2rng!$A$1:$AK$1,0)))),\"\")","v":""},null,{"$f":"IFERROR(IF($Y$3=4,\"\",IF($Y$3=5,INDEX(indexdatabase,MATCH(Z48&$AZ$14,name&Group2,0),MATCH($P$4,Sheet2rng!$A$1:$AK$1,0)))),\"\")","v":""},null,{"$f":"IFERROR(IF($Y$2=2,\"\",IF($Y$2=3,INDEX(indexdatabase,MATCH(AD48&$AZ$14,name&Group2,0),MATCH($AZ$23,Sheet2rng!$A$1:$AK$1,0)))),\"\")","v":""},null,{"$f":"IFERROR(IF($Y$3=4,\"\",IF($Y$3=5,INDEX(indexdatabase,MATCH(AD48&$AZ$14,name&Group2,0),MATCH($P$4,Sheet2rng!$A$1:$AK$1,0)))),\"\")","v":""},{"$nulls":6},{"$f":"IFERROR(IF($Y$2=2,\"\",IF($Y$2=3,INDEX(indexdatabase,MATCH(AM48&$AZ$14,name&Group2,0),MATCH($AZ$23,Sheet2rng!$A$1:$AK$1,0)))),\"\")","v":""},null,{"$f":"IFERROR(IF($Y$3=4,\"\",IF($Y$3=5,INDEX(indexdatabase,MATCH(AM48&$AZ$14,name&Group2,0),MATCH($P$4,Sheet2rng!$A$1:$AK$1,0)))),\"\")","v":""},null,{"$f":"IFERROR(IF($Y$2=2,\"\",IF($Y$2=3,INDEX(indexdatabase,MATCH(AQ48&$AZ$14,name&Group2,0),MATCH($AZ$23,Sheet2rng!$A$1:$AK$1,0)))),\"\")","v":""},null,{"$f":"IFERROR(IF($Y$3=4,\"\",IF($Y$3=5,INDEX(indexdatabase,MATCH(AQ48&$AZ$14,name&Group2,0),MATCH($P$4,Sheet2rng!$A$1:$AK$1,0)))),\"\")","v":""},{"$nulls":20},"10A/Sp1",null,null,"","IFERROR(INDEX(Sheet2rng,MATCH(BA12,sheet2rows,0), MATCH($BB$11,sheet2columns,0)),\"\")",{"$f":"IFERROR(INDEX(indexdatabase,MATCH(BQ52&$AZ$14,name&Group2,0),MATCH(\"PPI\",Sheet2rng!$A$1:$AK$1,0)),\"\")","v":""},{"$f":"IFERROR(SMALL(IF(LEFT(Group2,LEN(Class3!$BA$10))=Class3!$BA$10,ROW(Group2)),ROW(A41)),\"\")","v":""},{"$nulls":62},"","",{"$nulls":6},"","",{"$nulls":6},"","",{"$nulls":6},"","",{"$nulls":6},"","",{"$nulls":6},"",""]
[{"$nulls":12},{"$f":"Sheet2rng!$C$1","v":"Target"},null,{"$f":"Sheet2rng!$E$1","v":"AR"},null,{"$f":"Sheet2rng!$C$1","v":"Target"},null,{"$f":"Sheet2rng!$E$1","v":"AR"},{"$nulls":6},{"$f":"Sheet2rng!$C$1","v":"Target"},null,{"$f":"Sheet2rng!$E$1","v":"AR"},null,{"$f":"Sheet2rng!$C$1","v":"Target"},null,{"$f":"Sheet2rng!$E$1","v":"AR"},{"$nulls":6},{"$f":"Sheet2rng!$C$1","v":"Target"},null,{"$f":"Sheet2rng!$E$1","v":"AR"},null,{"$f":"Sheet2rng!$C$1","v":"Target"},null,{"$f":"Sheet2rng!$E$1","v":"AR"},{"$nulls":20},"10B/Ab1",null,null,"","IFERROR(INDEX(Sheet2rng,MATCH(BA12,sheet2rows,0), MATCH($BB$11,sheet2columns,0)),\"\")",{"$f":"IFERROR(INDEX(indexdatabase,MATCH(BQ53&$AZ$14,name&Group2,0),MATCH(\"PPI\",Sheet2rng!$A$1:$AK$1,0)),\"\")","v":""},{"$f":"IFERROR(SMALL(IF(LEFT(Group2,LEN(Class3!$BA$10))=Class3!$BA$10,ROW(Group2)),ROW(A42)),\"\")","v":""},{"$nulls":62},"","",{"$nulls":6},"","",{"$nulls":6},"","",{"$nulls":6},"","",{"$nulls":6},"","",{"$nulls":6},"",""]
[{"$nulls":12},{"$f":"IFERROR(IF($Y$4=6,\"\",IF($Y$4=7,INDEX(indexdatabase,MATCH(M48&$AZ$14,name&Group2,0),MATCH($N$6,Sheet2rng!$A$1:$AK$1,0)))),\"\")","v":""},null,{"$f":"IFERROR(IF($Y$5=8,\"\",IF($Y$5=9,INDEX(Sheet2rng,MATCH(M48&$AZ$14,name&Group2,0),MATCH($P$6,sheet2columns,0)))),\"\")","v":""},null,{"$f":"IFERROR(IF($Y$4=6,\"\",IF($Y$4=7,INDEX(indexdatabase,MATCH(Q48&$AZ$14,name&Group2,0),MATCH($N$6,Sheet2rng!$A$1:$AK$1,0)))),\"\")","v":""},null,{"$f":"IFERROR(IF($Y$5=8,\"\",IF($Y$5=9,INDEX(Sheet2rng,MATCH(Q48&$AZ$14,name&Group2,0),MATCH($P$6,sheet2columns,0)))),\"\")","v":""},{"$nulls":6},{"$f":"IFERROR(IF($Y$4=6,\"\",IF($Y$4=7,INDEX(indexdatabase,MATCH(Z48&$AZ$14,name&Group2,0),MATCH($N$6,Sheet2rng!$A$1:$AK$1,0)))),\"\")","v":""},null,{"$f":"IFERROR(IF($Y$5=8,\"\",IF($Y$5=9,INDEX(Sheet2rng,MATCH(Z48&$AZ$14,name&Group2,0),MATCH($P$6,sheet2columns,0)))),\"\")","v":""},null,{"$f":"IFERROR(IF($Y$4=6,\"\",IF($Y$4=7,INDEX(indexdatabase,MATCH(AD48&$AZ$14,name&Group2,0),MATCH($N$6,Sheet2rng!$A$1:$AK$1,0)))),\"\")","v":""},null,{"$f":"IFERROR(IF($Y$5=8,\"\",IF($Y$5=9,INDEX(Sheet2rng,MATCH(AD48&$AZ$14,name&Group2,0),MATCH($P$6,sheet2columns,0)))),\"\")","v":""},{"$nulls":6},{"$f":"IFERROR(IF($Y$4=6,\"\",IF($Y$4=7,INDEX(indexdatabase,MATCH(AM48&$AZ$14,name&Group2,0),MATCH($N$6,Sheet2rng!$A$1:$AK$1,0)))),\"\")","v":""},null,{"$f":"IFERROR(IF($Y$5=8,\"\",IF($Y$5=9,INDEX(Sheet2rng,MATCH(AM48&$AZ$14,name&Group2,0),MATCH($P$6,sheet2columns,0)))),\"\")","v":""},null,{"$f":"IFERROR(IF($Y$4=6,\"\",IF($Y$4=7,INDEX(indexdatabase,MATCH(AQ48&$AZ$14,name&Group2,0),MATCH($N$6,Sheet2rng!$A$1:$AK$1,0)))),\"\")","v":""},null,{"$f":"IFERROR(IF($Y$5=8,\"\",IF($Y$5=9,INDEX(Sheet2rng,MATCH(AQ48&$AZ$14,name&Group2,0),MATCH($P$6,sheet2columns,0)))),\"\")","v":""},{"$nulls":20},"10B/Ad1",null,null,"","IFERROR(INDEX(Sheet2rng,MATCH(BA12,sheet2rows,0), MATCH($BB$11,sheet2columns,0)),\"\")",{"$f":"IFERROR(INDEX(indexdatabase,MATCH(BQ54&$AZ$14,name&Group2,0),MATCH(\"PPI\",Sheet2rng!$A$1:$AK$1,0)),\"\")","v":""},{"$f":"IFERROR(SMALL(IF(LEFT(Group2,LEN(Class3!$BA$10))=Class3!$BA$10,ROW(Group2)),ROW(A43)),\"\")","v":""},{"$nulls":62},"","",{"$nulls":6},"","",{"$nulls":6},"","",{"$nulls":6},"","",{"$nulls":6},"","",{"$nulls":6},"",""]
[{"$nulls":65},"10B/Bu1",null,null,"","IFERROR(INDEX(Sheet2rng,MATCH(BA12,sheet2rows,0), MATCH($BB$11,sheet2columns,0)),\"\")",{"$f":"IFERROR(INDEX(indexdatabase,MATCH(BQ55&$AZ$14,name&Group2,0),MATCH(\"PPI\",Sheet2rng!$A$1:$AK$1,0)),\"\")","v":""},{"$f":"IFERROR(SMALL(IF(LEFT(Group2,LEN(Class3!$BA$10))=Class3!$BA$10,ROW(Group2)),ROW(A44)),\"\")","v":""}]
[{"$nulls":65},"10B/Cs1",null,null,"","IFERROR(INDEX(Sheet2rng,MATCH(BA12,sheet2rows,0), MATCH($BB$11,sheet2columns,0)),\"\")",{"$f":"IFERROR(INDEX(indexdatabase,MATCH(BQ56&$AZ$14,name&Group2,0),MATCH(\"PPI\",Sheet2rng!$A$1:$AK$1,0)),\"\")","v":""},{"$f":"IFERROR(SMALL(IF(LEFT(Group2,LEN(Class3!$BA$10))=Class3!$BA$10,ROW(Group2)),ROW(A45)),\"\")","v":""}]
[{"$nulls":43},"Teacher's table",{"$nulls":21},"10B/Gg1",null,null,"","IFERROR(INDEX(Sheet2rng,MATCH(BA12,sheet2rows,0), MATCH($BB$11,sheet2columns,0)),\"\")",{"$f":"IFERROR(INDEX(indexdatabase,MATCH(BQ57&$AZ$14,name&Group2,0),MATCH(\"PPI\",Sheet2rng!$A$1:$AK$1,0)),\"\")","v":""},{"$f":"IFERROR(SMALL(IF(LEFT(Group2,LEN(Class3!$BA$10))=Class3!$BA$10,ROW(Group2)),ROW(A46)),\"\")","v":""}]
[{"$nulls":65},"10B/Hi1",null,null,"","IFERROR(INDEX(Sheet2rng,MATCH(BA12,sheet2rows,0), MATCH($BB$11,sheet2columns,0)),\"\")",{"$f":"IFERROR(INDEX(indexdatabase,MATCH(BQ58&$AZ$14,name&Group2,0),MATCH(\"PPI\",Sheet2rng!$A$1:$AK$1,0)),\"\")","v":""},{"$f":"IFERROR(SMALL(IF(LEFT(Group2,LEN(Class3!$BA$10))=Class3!$BA$10,ROW(Group2)),ROW(A47)),\"\")","v":""}]
[{"$nulls":65},"10B/Hi2",null,null,"","IFERROR(INDEX(Sheet2rng,MATCH(BA12,sheet2rows,0), MATCH($BB$11,sheet2columns,0)),\"\")",{"$f":"IFERROR(INDEX(indexdatabase,MATCH(BQ59&$AZ$14,name&Group2,0),MATCH(\"PPI\",Sheet2rng!$A$1:$AK$1,0)),\"\")","v":""},{"$f":"IFERROR(SMALL(IF(LEFT(Group2,LEN(Class3!$BA$10))=Class3!$BA$10,ROW(Group2)),ROW(A48)),\"\")","v":""}]
[{"$nulls":65},"10B/It1",null,null,"","IFERROR(INDEX(Sheet2rng,MATCH(BA12,sheet2rows,0), MATCH($BB$11,sheet2columns,0)),\"\")",{"$f":"IFERROR(INDEX(indexdatabase,MATCH(BQ60&$AZ$14,name&Group2,0),MATCH(\"PPI\",Sheet2rng!$A$1:$AK$1,0)),\"\")","v":""},{"$f":"IFERROR(SMALL(IF(LEFT(Group2,LEN(Class3!$BA$10))=Class3!$BA$10,ROW(Group2)),ROW(A49)),\"\")","v":""}]
[{"$nulls":65},"10b/Pe1",null,null,"","IFERROR(INDEX(Sheet2rng,MATCH(BA12,sheet2rows,0), MATCH($BB$11,sheet2columns,0)),\"\")",{"$f":"IFERROR(INDEX(indexdatabase,MATCH(BQ61&$AZ$14,name&Group2,0),MATCH(\"PPI\",Sheet2rng!$A$1:$AK$1,0)),\"\")","v":""},{"$f":"IFERROR(SMALL(IF(LEFT(Group2,LEN(Class3!$BA$10))=Class3!$BA$10,ROW(Group2)),ROW(A50)),\"\")","v":""}]
[{"$nulls":65},"10b/Pe2"]
[{"$nulls":65},"10b/Pe3"]
[{"$nulls":65},"10b/Pe4",{"$nulls":67},{"$f":"IF(EE64=1,1,IF(EE64=2,2,IF(EE64=EE63,ED63,IF(EE64>EE63,ED63+1))))","v":1},1,"ABU Aisha",{"$f":"ED64","v":1},{"$nulls":4},{"$f":"IF(EM64=1,1,IF(EM64=2,2,IF(EM64=EM63,EL63,IF(EM64>EM63,EL63+1))))","v":1},1,"GIBSON James",{"$f":"EL64","v":1},{"$nulls":4},{"$f":"IF(EU64=1,1,IF(EU64=2,2,IF(EU64=EU63,ET63,IF(EU64>EU63,ET63+1))))","v":0},"","ABU Aisha",{"$f":"ET64","v":0},{"$nulls":4},{"$f":"IF(FC64=1,1,IF(FC64=2,2,IF(FC64=FC63,FB63,IF(FC64>FC63,FB63+1))))","v":0},"","ABU Aisha",{"$f":"FB64","v":0},{"$nulls":4},{"$f":"IF(FK64=1,1,IF(FK64=2,2,IF(FK64=FK63,FJ63,IF(FK64>FK63,FJ63+1))))","v":0},"","ABU Aisha",{"$f":"FJ64","v":0},{"$nulls":4},{"$f":"IF(FS64=1,1,IF(FS64=2,2,IF(FS64=FS63,FR63,IF(FS64>FS63,FR63+1))))","v":0},"","ABU Aisha",{"$f":"FR64","v":0}]
[{"$nulls":65},"10B/Pt1"]
[{"$nulls":65},"10B/Pt2"]
[{"$nulls":65},"10B/Ts1"]
[{"$nulls":65},"10bc/En1"]
[{"$nulls":65},"10bc/En2"]
[{"$nulls":65},"10bc/En3"]
[{"$nulls":65},"10bc/En4"]
[{"$nulls":65},"10bc/En5"]
[{"$nulls":65},"10bc/En6"]
[{"$nulls":65},"10bc/En7"]
[{"$nulls":65},"10bc/Ep1"]
[{"$nulls":65},"10bc/Ep2"]
[{"$nulls":65},"10bc/Ep3"]
[{"$nulls":65},"10bc/Ep4"]
[{"$nulls":65},"10bc/Ep5"]
[{"$nulls":65},"10bc/Ep6"]
[{"$nulls":65},"10bc/Ep7"]
[{"$nulls":65},"10bc/Sc1"]
[{"$nulls":65},"10bc/Sc2"]
[{"$nulls":65},"10bc/Sc3"]
[{"$nulls":65},"10bc/Sc4"]
[{"$nulls":65},"10bc/Sc5"]
[{"$nulls":65},"10bc/Sc6"]
[{"$nulls":65},"10bc/Sc7"]
[{"$nulls":65},"10bd/Ma1"]
[{"$nulls":65},"10bd/Ma2"]
[{"$nulls":65},"10bd/Ma3"]
[{"$nulls":65},"10bd/Ma4"]
[{"$nulls":65},"10bd/Ma5"]
[{"$nulls":65},"10bd/Ma6"]
[{"$nulls":65},"10bd/Ma7"]
[{"$nulls":65},"10bd/Ma8"]
[{"$nulls":65},"10C/Be1"]
[{"$nulls":65},"10C/Dr1"]
[{"$nulls":65},"10C/Fr1"]
[{"$nulls":65},"10C/Gg1"]
[{"$nulls":65},"10C/Hi1"]
[{"$nulls":65},"10C/It1"]
[{"$nulls":65},"10C/Pg1"]
[{"$nulls":65},"10C/Rm1"]
[{"$nulls":65},"10C/So1"]
[{"$nulls":65},"10C/Ts1"]
[{"$nulls":65},"10cd/Pe1"]
[{"$nulls":65},"10cd/Pe2"]
[{"$nulls":65},"10cd/Pe3"]
[{"$nulls":65},"10cd/Pe4"]
[{"$nulls":65},"10cd/Pe5"]
[{"$nulls":65},"10D/Be1"]
[{"$nulls":65},"10d/En1"]
[{"$nulls":65},"10D/Gg1"]
[{"$nulls":65},"10D/It1"]
[{"$nulls":65},"10d/Sc1"]
[{"$nulls":65},"10D/So1"]
[{"$nulls":65},"10d/Vo1"]
[{"$nulls":65},"10E/Fc1"]
[{"$nulls":65},"10E/Pb1"]
[{"$nulls":65},"10E/Pb2"]
[{"$nulls":65},"10E/Pt1"]
[{"$nulls":65},"10E/Pt2"]
[{"$nulls":65},"10F/Ab1"]
[{"$nulls":65},"10F/It1"]
[{"$nulls":65},"10F/Rm1"]
[{"$nulls":65},"10F/Tt1"]
[{"$nulls":65},"11A/Cs1"]
[{"$nulls":65},"11A/Dr1"]
[{"$nulls":65},"11A/Ec1"]
[{"$nulls":65},"11a/En1"]
[{"$nulls":65},"11a/En2"]
[{"$nulls":65},"11a/En3"]
[{"$nulls":65},"11a/En4"]
[{"$nulls":65},"11a/En5"]
[{"$nulls":65},"11a/Ep1"]
[{"$nulls":65},"11a/Ep2"]
[{"$nulls":65},"11a/Ep3"]
[{"$nulls":65},"11a/Ep4"]
[{"$nulls":65},"11a/Ep5"]
[{"$nulls":65},"11A/Fr1"]
[{"$nulls":65},"11A/Gg1"]
[{"$nulls":65},"11A/Hi1"]
[{"$nulls":65},"11A/Hi2"]
[{"$nulls":65},"11a/Ma1"]
[{"$nulls":65},"11a/Ma2"]
[{"$nulls":65},"11a/Ma3"]
[{"$nulls":65},"11a/Ma4"]
[{"$nulls":65},"11a/Ma5"]
[{"$nulls":65},"11a/Pe1"]
[{"$nulls":65},"11a/Pe2"]
[{"$nulls":65},"11a/Pe3"]
[{"$nulls":65},"11a/Pe4"]
[{"$nulls":65},"11a/Pe5"]
[{"$nulls":65},"11a/Pe6"]
[{"$nulls":65},"11A/Pg1"]
[{"$nulls":65},"11A/Pg2"]
[{"$nulls":65},"11A/Pt1"]
[{"$nulls":65},"11A/Pt2"]
[{"$nulls":65},"11A/Rm1"]
[{"$nulls":65},"11a/Sc1"]
[{"$nulls":65},"11a/Sc2"]
[{"$nulls":65},"11a/Sc3"]
[{"$nulls":65},"11a/Sc4"]
[{"$nulls":65},"11a/Sc5"]
[{"$nulls":65},"11A/So1"]
[{"$nulls":65},"11B/Ar1"]
[{"$nulls":65},"11B/Bb1"]
[{"$nulls":65},"11B/Bu1"]
[{"$nulls":65},"11B/Cs1"]
[{"$nulls":65},"11B/Dr1"]
[{"$nulls":65},"11B/Gg1"]
[{"$nulls":65},"11B/Hg1"]
[{"$nulls":65},"11B/Hi1"]
[{"$nulls":65},"11b/Pe1"]
[{"$nulls":65},"11b/Pe2"]
[{"$nulls":65},"11b/Pe3"]
[{"$nulls":65},"11b/Pe4"]
[{"$nulls":65},"11B/Pg1"]
[{"$nulls":65},"11B/Pg2"]
[{"$nulls":65},"11B/So1"]
[{"$nulls":65},"11B/Sp1"]
[{"$nulls":65},"11bc/En1"]
[{"$nulls":65},"11bc/En2"]
[{"$nulls":65},"11bc/En3"]
[{"$nulls":65},"11bc/En4"]
[{"$nulls":65},"11bc/En5"]
[{"$nulls":65},"11bc/En6"]
[{"$nulls":65},"11bc/En7"]
[{"$nulls":65},"11bc/Ep1"]
[{"$nulls":65},"11bc/Ep2"]
[{"$nulls":65},"11bc/Ep3"]
[{"$nulls":65},"11bc/Ep4"]
[{"$nulls":65},"11bc/Ep5"]
[{"$nulls":65},"11bc/Ep6"]
[{"$nulls":65},"11bc/Ep7"]
[{"$nulls":65},"11bc/Sc1"]
[{"$nulls":65},"11bc/Sc2"]
[{"$nulls":65},"11bc/Sc3"]
[{"$nulls":65},"11bc/Sc4"]
[{"$nulls":65},"11bc/Sc5"]
[{"$nulls":65},"11bc/Sc6"]
[{"$nulls":65},"11bc/Sc7"]
[{"$nulls":65},"11bd/Ma1"]
[{"$nulls":65},"11bd/Ma2"]
[{"$nulls":65},"11bd/Ma3"]
[{"$nulls":65},"11bd/Ma4"]
[{"$nulls":65},"11bd/Ma5"]
[{"$nulls":65},"11bd/Ma6"]
[{"$nulls":65},"11bd/Ma7"]
[{"$nulls":65},"11bd/Ma8"]
[{"$nulls":65},"11C/Ab1"]
[{"$nulls":65},"11C/Bb1"]
[{"$nulls":65},"11C/Bu1"]
[{"$nulls":65},"11C/Cs1"]
[{"$nulls":65},"11C/Fr1"]
[{"$nulls":65},"11C/Gg1"]
[{"$nulls":65},"11C/Hi1"]
[{"$nulls":65},"11C/Ib1"]
[{"$nulls":65},"11C/It1"]
[{"$nulls":65},"11C/Mu1"]
[{"$nulls":65},"11C/So1"]
[{"$nulls":65},"11cd/Pe1"]
[{"$nulls":65},"11cd/Pe2"]
[{"$nulls":65},"11cd/Pe3"]
[{"$nulls":65},"11cd/Pe4"]
[{"$nulls":65},"11D/Ab1"]
[{"$nulls":65},"11D/Bb1"]
[{"$nulls":65},"11D/Dr1"]
[{"$nulls":65},"11d/En1"]
[{"$nulls":65},"11D/Fc1"]
[{"$nulls":65},"11d/Sc1"]
[{"$nulls":65},"11d/Vo1"]
[{"$nulls":65},"11E/Hi1"]
[{"$nulls":65},"11E/Ib1"]
[{"$nulls":65},"11E/Rm1"]
[{"$nulls":65},"11E/So1"]
[{"$nulls":65},"11F/Bb1"]
[{"$nulls":65},"11F/Fc1"]
[{"$nulls":65},"11F/Ib1"]
[{"$nulls":65},"11F/Pb1"]
[{"$nulls":65},"12A/Ac1"]
[{"$nulls":65},"12A/Ar1"]
[{"$nulls":65},"12A/En1"]
[{"$nulls":65},"12A/Fr1"]
[{"$nulls":65},"12A/Ma1"]
[{"$nulls":65},"12A/Pb1"]
[{"$nulls":65},"12A/Pv1"]
[{"$nulls":65},"12A/Py1"]
[{"$nulls":65},"12A/Sm1"]
[{"$nulls":65},"12A/So1"]
[{"$nulls":65},"12A/Ws1"]
[{"$nulls":65},"12B/Ch1"]
[{"$nulls":65},"12B/Ec1"]
[{"$nulls":65},"12B/It1"]
[{"$nulls":65},"12B/Ms1"]
[{"$nulls":65},"12B/Pb1"]
[{"$nulls":65},"12B/Pb2"]
[{"$nulls":65},"12B/Pi1"]
[{"$nulls":65},"12B/Pv1"]
[{"$nulls":65},"12B/Sm1"]
[{"$nulls":65},"12B/Tt1"]
[{"$nulls":65},"12C/Bb1"]
[{"$nulls":65},"12C/Bi1"]
[{"$nulls":65},"12C/Bu1"]
[{"$nulls":65},"12C/En1"]
[{"$nulls":65},"12C/Hi1"]
[{"$nulls":65},"12C/Pb1"]
[{"$nulls":65},"12C/Pf1"]
[{"$nulls":65},"12C/Pt1"]
[{"$nulls":65},"12C/Pv1"]
[{"$nulls":65},"12D/En1"]
[{"$nulls":65},"12D/It1"]
[{"$nulls":65},"12D/La1"]
[{"$nulls":65},"12D/Ma1"]
[{"$nulls":65},"12D/Pb1"]
[{"$nulls":65},"12D/Pb2"]
[{"$nulls":65},"12D/Pf1"]
[{"$nulls":65},"12D/Pv1"]
[{"$nulls":65},"12D1/Bb1"]
[{"$nulls":65},"12D1/Ma1"]
[{"$nulls":65},"12E/En1"]
[{"$nulls":65},"12E/En2"]
[{"$nulls":65},"12E/Fm1"]
[{"$nulls":65},"12E/Ma1"]
[{"$nulls":65},"12E/Ma2"]
[{"$nulls":65},"12E/Pe1"]
[{"$nulls":65},"12E/Pv1"]
[{"$nulls":65},"12f/En1"]
[{"$nulls":65},"12f/Fb1"]
[{"$nulls":65},"12f/Ma1"]
[{"$nulls":65},"12f/Pb1"]
[{"$nulls":65},"13A/Bb1"]
[{"$nulls":65},"13A/Bu1"]
[{"$nulls":65},"13A/Fs1"]
[{"$nulls":65},"13A/Hi1"]
[{"$nulls":65},"13A/Ma1"]
[{"$nulls":65},"13A/Pe1"]
[{"$nulls":65},"13A/Pf1"]
[{"$nulls":65},"13A/Pv1"]
[{"$nulls":65},"13B/Ac1"]
[{"$nulls":65},"13B/Ar1"]
[{"$nulls":65},"13B/La1"]
[{"$nulls":65},"13B/Pb1"]
[{"$nulls":65},"13B/Pf1"]
[{"$nulls":65},"13B/Pv1"]
[{"$nulls":65},"13B/So1"]
[{"$nulls":65},"13C/En1"]
[{"$nulls":65},"13C/It1"]
[{"$nulls":65},"13C/Pb1"]
[{"$nulls":65},"13C/Pe1"]
[{"$nulls":65},"13C/Pv1"]
[{"$nulls":65},"13C/Tt1"]
[{"$nulls":65},"13D/At1"]
[{"$nulls":65},"13D/Ms1"]
[{"$nulls":65},"13D/Pv1"]
[{"$nulls":65},"13D/Py1"]
[{"$nulls":65},"13E/Bi1"]
[{"$nulls":65},"13E/Ec1"]
[{"$nulls":65},"13E/En1"]
[{"$nulls":65},"13E/Ho1"]
[{"$nulls":65},"13E/Mu1"]
[{"$nulls":65},"13E/Or1"]
[{"$nulls":65},"13E/Pb1"]
[{"$nulls":65},"13E/Pv1"]
[{"$nulls":65},"7a/Ar1"]
[{"$nulls":65},"7a/Ar2"]
[{"$nulls":65},"7a/Ar3"]
[{"$nulls":65},"7a/Dr1"]
[{"$nulls":65},"7a/Dr2"]
[{"$nulls":65},"7a/Dr3"]
[{"$nulls":65},"7a/Dt1"]
[{"$nulls":65},"7a/Dt2"]
[{"$nulls":65},"7a/Dt3"]
[{"$nulls":65},"7a/Dt4"]
[{"$nulls":65},"7a/En1"]
[{"$nulls":65},"7a/En2"]
[{"$nulls":65},"7a/En3"]
[{"$nulls":65},"7a/Ep1"]
[{"$nulls":65},"7a/Ep2"]
[{"$nulls":65},"7a/Ep3"]
[{"$nulls":65},"7a/Fr1"]
[{"$nulls":65},"7a/Fr2"]
[{"$nulls":65},"7a/Gg1"]
[{"$nulls":65},"7a/Gg2"]

{"sheet":"Class4","index":9,"n_rows":345,"n_cols":229,"rows_kept":345,"hidden":true,"merged":[[0,8,1,11],[0,20,0,22],[1,13,1,16],[1,20,1,22],[2,8,2,11],[2,13,2,16],[2,20,2,22],[3,8,3,9],[3,10,3,11],[3,13,3,14],[3,15,3,16],[3,20,3,22],[4,8,4,9],[4,10,4,11],[4,13,4,14],[4,15,4,16],[4,20,4,22],[5,8,5,9],[5,10,5,11],[5,13,5,14],[5,15,5,16],[5,20,5,22],[6,8,6,9],[6,10,6,11],[6,13,6,14],[6,15,6,16],[6,20,6,22],[7,20,7,22],[8,20,8,22],[11,51,12,51],[13,51,14,51],[15,25,16,28],[15,29,16,32],[15,38,16,41],[15,42,16,45],[15,227,15,235],[16,227,16,235],[17,25,17,28],[17,29,17,32],[17,38,17,41],[17,42,17,45],[18,25,18,26],[18,27,18,28],[18,29,18,30],[18,31,18,32],[18,38,18,39],[18,40,18,41],[18,42,18,43],[18,44,18,45],[18,228,18,235],[19,25,19,26],[19,27,19,28],[19,29,19,30],[19,31,19,32],[19,38,19,39],[19,40,19,41],[19,42,19,43],[19,44,19,45],[19,51,21,51],[19,228,19,235],[20,25,20,26],[20,27,20,28],[20,29,20,30],[20,31,20,32],[20,38,20,39],[20,40,20,41],[20,42,20,43],[20,44,20,45],[20,228,20,235],[21,25,21,26],[21,27,21,28],[21,29,21,30],[21,31,21,32],[21,38,21,39],[21,40,21,41],[21,42,21,43],[21,44,21,45],[21,228,21,235],[22,25,23,28],[22,29,23,32],[22,38,23,41],[22,42,23,45],[22,51,23,51],[22,228,22,235],[23,228,23,235],[24,25,24,28],[24,29,24,32],[24,38,24,41],[24,42,24,45],[24,228,24,235],[25,25,25,26],[25,27,25,28],[25,29,25,30],[25,31,25,32],[25,38,25,39],[25,40,25,41],[25,42,25,43],[25,44,25,45],[25,228,25,235],[26,25,26,26],[26,27,26,28],[26,29,26,30],[26,31,26,32],[26,38,26,39],[26,40,26,41],[26,42,26,43],[26,44,26,45],[26,228,26,235],[27,25,27,26],[27,27,27,28],[27,29,27,30],[27,31,27,32],[27,38,27,39],[27,40,27,41],[27,42,27,43],[27,44,27,45],[27,228,27,235],[28,25,28,26],[28,27,28,28],[28,29,28,30],[28,31,28,32],[28,38,28,39],[28,40,28,41],[28,42,28,43],[28,44,28,45],[28,228,28,235],[29,228,29,235],[30,228,30,235],[31,228,31,235],[32,228,32,235],[33,12,34,15],[33,16,34,19],[33,25,34,28],[33,29,34,32],[33,38,34,41],[33,42,34,45],[33,228,33,235],[34,228,34,235],[35,12,35,15],[35,16,35,19],[35,25,35,28],[35,29,35,32],[35,38,35,41],[35,42,35,45],[35,228,35,235],[36,12,36,13],[36,14,36,15],[36,16,36,17],[36,18,36,19],[36,25,36,26],[36,27,36,28],[36,29,36,30],[36,31,36,32],[36,38,36,39],[36,40,36,41],[36,42,36,43],[36,44,36,45],[36,228,36,235],[37,12,37,13],[37,14,37,15],[37,16,37,17],[37,18,37,19],[37,25,37,26],[37,27,37,28],[37,29,37,30],[37,31,37,32],[37,38,37,39],[37,40,37,41],[37,42,37,43],[37,44,37,45],[37,228,37,235],[38,12,38,13],[38,14,38,15],[38,16,38,17],[38,18,38,19],[38,25,38,26],[38,27,38,28],[38,29,38,30],[38,31,38,32],[38,38,38,39],[38,40,38,41],[38,42,38,43],[38,44,38,45],[38,228,38,235],[39,12,39,13],[39,14,39,15],[39,16,39,17],[39,18,39,19],[39,25,39,26],[39,27,39,28],[39,29,39,30],[39,31,39,32],[39,38,39,39],[39,40,39,41],[39,42,39,43],[39,44,39,45],[39,228,39,235],[40,12,41,15],[40,16,41,19],[40,25,41,28],[40,29,41,32],[40,38,41,41],[40,42,41,45],[40,228,40,235],[41,228,41,235],[42,12,42,15],[42,16,42,19],[42,25,42,28],[42,29,42,32],[42,38,42,41],[42,42,42,45],[42,228,42,235],[43,12,43,13],[43,14,43,15],[43,16,43,17],[43,18,43,19],[43,25,43,26],[43,27,43,28],[43,29,43,30],[43,31,43,32],[43,38,43,39],[43,40,43,41],[43,42,43,43],[43,44,43,45],[43,228,43,235],[44,12,44,13],[44,14,44,15],[44,16,44,17],[44,18,44,19],[44,25,44,26],[44,27,44,28],[44,29,44,30],[44,31,44,32],[44,38,44,39],[44,40,44,41],[44,42,44,43],[44,44,44,45],[44,228,44,235],[45,12,45,13],[45,14,45,15],[45,16,45,17],[45,18,45,19],[45,25,45,26],[45,27,45,28],[45,29,45,30],[45,31,45,32],[45,38,45,39],[45,40,45,41],[45,42,45,43],[45,44,45,45],[45,228,45,235],[46,12,46,13],[46,14,46,15],[46,16,46,17],[46,18,46,19],[46,25,46,26],[46,27,46,28],[46,29,46,30],[46,31,46,32],[46,38,46,39],[46,40,46,41],[46,42,46,43],[46,44,46,45],[46,228,46,235],[47,12,48,15],[47,16,48,19],[47,25,48,28],[47,29,48,32],[47,38,48,41],[47,42,48,45],[47,228,47,235],[48,228,48,235],[49,12,49,15],[49,16,49,19],[49,25,49,28],[49,29,49,32],[49,38,49,41],[49,42,49,45],[49,228,49,235],[50,12,50,13],[50,14,50,15],[50,16,50,17],[50,18,50,19],[50,25,50,26],[50,27,50,28],[50,29,50,30],[50,31,50,32],[50,38,50,39],[50,40,50,41],[50,42,50,43],[50,44,50,45],[50,228,50,235],[51,12,51,13],[51,14,51,15],[51,16,51,17],[51,18,51,19],[51,25,51,26],[51,27,51,28],[51,29,51,30],[51,31,51,32],[51,38,51,39],[51,40,51,41],[51,42,51,43],[51,44,51,45],[51,228,51,235],[52,12,52,13],[52,14,52,15],[52,16,52,17],[52,18,52,19],[52,25,52,26],[52,27,52,28],[52,29,52,30],[52,31,52,32],[52,38,52,39],[52,40,52,41],[52,42,52,43],[52,44,52,45],[53,12,53,13],[53,14,53,15],[53,16,53,17],[53,18,53,19],[53,25,53,26],[53,27,53,28],[53,29,53,30],[53,31,53,32],[53,38,53,39],[53,40,53,41],[53,42,53,43],[53,44,53,45],[56,43,59,48],[74,18,76,25],[74,26,76,29],[154,18,156,25],[154,26,156,29],[253,18,255,25],[253,26,255,29],[339,18,341,25],[339,26,341,29],[444,18,446,25],[444,26,446,29],[551,18,553,25],[551,26,553,29],[662,18,664,25],[662,26,664,29],[728,18,730,25],[728,26,730,29],[815,19,817,26],[815,27,817,30],[914,19,916,26],[914,27,916,30],[1000,19,1002,26],[1000,27,1002,30],[1105,19,1107,26],[1105,27,1107,30],[1212,19,1214,26],[1212,27,1214,30],[1323,19,1325,26],[1323,27,1325,30]]}
[{"$f":"Main!H2","v":"SPR 1"},0,1,null,{"$f":"IFERROR(IF(SEARCH(\"7\",BA10)=1,7),\"\")","v":""},{"$f":"IFERROR(IF(SEARCH(\"8\",BA10)=1,8),\"\")","v":8},{"$f":"IFERROR(IF(SEARCH(\"9\",BA10)=1,9),\"\")","v":""},{"$f":"IFERROR(IF(SEARCH(\"10\",BA10)=1,10),\"\")","v":""},{"$f":"IFERROR(IF(SEARCH(\"11\",BA10)=1,11),\"\")","v":""},{"$nulls":3},64,{"$f":"IF(ISODD(M1),\"Disable Table Creation\",\"Enable Table Creation\")","v":"Enable Table Creation"},1,{"$nulls":5},"hide/show needs",null,null,"0to1",0,{"$nulls":29},"Aut 1",{"$nulls":13},"Classlist",{"$nulls":7},"Classlist",{"$nulls":11},"Classlist"]
[{"$nulls":20},"hide/show c/grade",null,null,"2to3",3,{"$nulls":29},"Aut 2",{"$nulls":13},"Classlist",{"$nulls":7},"Classlist",{"$nulls":11},"Classlist"]
[null,null,{"$f":"MATCH(I2&$AZ$14,name&Group2,0)","v":{"$error":"#N/A"}},{"$nulls":5},{"$f":"IFERROR(IF($Y$1=1,\"\",VLOOKUP(I1,needstable,8,FALSE)),\"\")","v":"    "},{"$nulls":4},"",{"$nulls":6},"hide/show KS2",null,null,"4to5",5,{"$nulls":29},"Spr 1",{"$nulls":13},"Classlist",{"$nulls":7},"Classlist",{"$nulls":11},"Classlist"]
[{"$nulls":8},"C/grade",null,{"$f":"Sheet2rng!$D$1","v":"KS2"},null,null,"C/grade",null,"KS2",{"$nulls":4},"hide/show target",null,null,"6to7",7,{"$nulls":29},"Spr 2",{"$nulls":13},"Classlist",{"$nulls":7},"Classlist",{"$nulls":11},"Classlist"]
[{"$nulls":8},{"$f":"IFERROR(IF($Y$2=2,\"\",IF($Y$2=3,INDEX(indexdatabase,MATCH(I1&$AZ$14,name&Group2,0),MATCH($AZ$23,Sheet2rng!$A$1:$AK$1,0)))),\"\")","v":""},null,{"$f":"IFERROR(IF($Y$3=4,\"\",IF($Y$3=5,INDEX(indexdatabase,MATCH(I1&$AZ$14,name&Group2,0),MATCH($P$4,Sheet2rng!$A$1:$AK$1,0)))),\"\")","v":""},null,null,"",null,"",{"$nulls":4},"hide/show AR",null,null,"8to9",9,{"$nulls":29},"Sum 1",{"$nulls":13},"Classlist",{"$nulls":7},"Classlist",{"$nulls":11},"Classlist"]
[{"$nulls":8},{"$f":"Sheet2rng!$C$1","v":"Target"},null,{"$f":"Sheet2rng!$E$1","v":"AR"},null,null,"Target",null,"AR",{"$nulls":38},"Sum 2",{"$nulls":13},"Classlist",{"$nulls":7},"Classlist",{"$nulls":11},"Classlist"]
[{"$nulls":8},{"$f":"IFERROR(IF($Y$4=6,\"\",IF($Y$4=7,INDEX(indexdatabase,MATCH(I1&$AZ$14,name&Group2,0),MATCH($N$6,Sheet2rng!$A$1:$AK$1,0)))),\"\")","v":""},null,{"$f":"IFERROR(IF($Y$5=8,\"\",IF($Y$5=9,INDEX(Sheet2rng,MATCH(I1&$AZ$14,name&Group2,0),MATCH($P$6,sheet2columns,0)))),\"\")","v":""},null,null,"",null,"",{"$nulls":52},"Classlist",{"$nulls":7},"Classlist",{"$nulls":11},"Classlist"]
[{"$nulls":68},"Classlist",{"$nulls":7},"Classlist",{"$nulls":11},"Classlist"]
[{"$nulls":11},{"$f":"AZ23","v":"SPR 1"},{"$nulls":56},"Classlist",{"$nulls":7},"Classlist",null,{"$f":"IFERROR(INDEX(indexdatabase,MATCH(I2&$AZ$14,name&Group2,0),MATCH($A$1,Sheet2rng!$F$1:$K$1,0)+27),\"\")","v":""},{"$f":"IF(OR(AZ27=\"Aut 1\",AZ27=\"Aut 2\",AZ27=\"Spr 1\"),1,2)","v":1},{"$f":"IF(AZ4018=\"Sum 2\",3,\"\")","v":""},{"$f":"IFERROR(INDEX(Sheet2rng!$A$1:$AK$2500,MATCH(I2&AZ14,Sheet2rng!$A$1:$A$2500&Sheet2rng!$B$1:$B$28,0),MATCH(\"Target\",Sheet2rng!$A$1:$AK$1,0)),\"\")","v":""},{"$nulls":6},"Classlist"]
[{"$nulls":52},{"$f":"AZ14","v":"8L-RE"},{"$nulls":15},"Classlist",{"$nulls":7},"Classlist",null,{"$f":"CONCATENATE(I2,AZ14)","v":"8L-RE"},{"$nulls":9},"Classlist"]
[{"$nulls":52},"Class","FSM","PPI",{"$nulls":13},"Classlist",null,"PPI",{"$nulls":5},"Classlist",{"$nulls":11},"Classlist"]
[{"$nulls":51},"Select class",{"$nulls":13},"11B/So1",null,null,{"$f":"IF($BA$10=\"\",\"\",IFERROR(INDEX(name,BT12,1),\"\"))","v":"Hazel"},"IFERROR(INDEX(Sheet2rng,MATCH(BA12,sheet2rows,0), MATCH($BB$11,sheet2columns,0)),\"\")",{"$f":"IFERROR(INDEX(indexdatabase,MATCH(BQ12&$AZ$14,name&Group2,0),MATCH(\"PPI\",Sheet2rng!$A$1:$AK$1,0)),\"\")","v":0},{"$f":"IFERROR(SMALL(IF(LEFT(Group2,LEN(Class4!$BA$10))=Class4!$BA$10,ROW(Group2)),ROW(A1)),\"\")","v":7},{"$nulls":4},"HILL Gretchen",{"$nulls":11},"Hazel"]
[{"$nulls":65},"11A/So1",null,null,"Eric","IFERROR(INDEX(Sheet2rng,MATCH(BA12,sheet2rows,0), MATCH($BB$11,sheet2columns,0)),\"\")",{"$f":"IFERROR(INDEX(indexdatabase,MATCH(BQ13&$AZ$14,name&Group2,0),MATCH(\"PPI\",Sheet2rng!$A$1:$AK$1,0)),\"\")","v":0},{"$f":"IFERROR(SMALL(IF(LEFT(Group2,LEN(Class4!$BA$10))=Class4!$BA$10,ROW(Group2)),ROW(A2)),\"\")","v":17},{"$nulls":4},"MCLAUGHLIN Dolores",{"$nulls":11},"Eric"]
[{"$nulls":51},"8L-RE",{"$nulls":13},"11P/So1",null,null,"Franklin","IFERROR(INDEX(Sheet2rng,MATCH(BA12,sheet2rows,0), MATCH($BB$11,sheet2columns,0)),\"\")",{"$f":"IFERROR(INDEX(indexdatabase,MATCH(BQ14&$AZ$14,name&Group2,0),MATCH(\"PPI\",Sheet2rng!$A$1:$AK$1,0)),\"\")","v":"Y"},{"$f":"IFERROR(SMALL(IF(LEFT(Group2,LEN(Class4!$BA$10))=Class4!$BA$10,ROW(Group2)),ROW(A3)),\"\")","v":19},{"$nulls":4},"STEELE Eric",{"$nulls":11},"Franklin"]
[{"$nulls":54},"SEND","MAT","EAL","SEND/","MAT/","EAL/",{"$nulls":5},"11Q/So1",null,null,"Claire","IFERROR(INDEX(Sheet2rng,MATCH(BA12,sheet2rows,0), MATCH($BB$11,sheet2columns,0)),\"\")",{"$f":"IFERROR(INDEX(indexdatabase,MATCH(BQ15&$AZ$14,name&Group2,0),MATCH(\"PPI\",Sheet2rng!$A$1:$AK$1,0)),\"\")","v":0},{"$f":"IFERROR(SMALL(IF(LEFT(Group2,LEN(Class4!$BA$10))=Class4!$BA$10,ROW(Group2)),ROW(A4)),\"\")","v":20},{"$nulls":4},"VICK Franklin",{"$nulls":11},"Claire"]
[{"$nulls":29},{"$f":"IFERROR(IF(SEARCH(\"11\",BV25)=1,11),\"\")","v":""},{"$nulls":8},{"$f":"IFERROR(IF(SEARCH(\"11\",CE25)=1,11),\"\")","v":""},{"$nulls":3},{"$f":"IFERROR(IF(SEARCH(\"11\",CI25)=1,11),\"\")","v":""},{"$nulls":9},{"$f":"IFERROR(INDEX(indexdatabase,MATCH(BQ12&$AZ$14,name&Group2,0),MATCH(\"AR\",Sheet2rng!$A$1:$AK$1,0)),\"\")","v":0},{"$f":"BQ12","v":"Hazel"},{"$f":"IFERROR(INDEX(indexdatabase,MATCH($BB16&$AZ$14,name&Group2,0),MATCH(\"SEND\",Sheet2rng!$A$1:$AO$1,0)),\"\")","v":"K"},{"$f":"IFERROR(INDEX(indexdatabase,MATCH($BB16&$AZ$14,name&Group2,0),MATCH(\"MAT\",Sheet2rng!$A$1:$AO$1,0)),\"\")","v":0},{"$f":"IFERROR(INDEX(indexdatabase,MATCH($BB16&$AZ$14,name&Group2,0),MATCH(\"EAL\",Sheet2rng!$A$1:$AO$1,0)),\"\")","v":"OTH"},{"$f":"IF($BC16=0,\"\",IF($BC16=\"\",\"\",IF($BC16=\"N\",\"\",$BF$15&$BC16)))","v":"SEND/K"},{"$f":"IF($BD16=0,\"\",IF($BD16=\"\",\"\",IF($BD16=\"N\",\"\",$BG$15&$BD16)))","v":""},{"$f":"IF($BE16=0,\"\",IF($BE16=\"\",\"\",IF($BE16=\"N\",\"\",$BH$15&$BE16)))","v":"EAL/OTH"},{"$f":"CONCATENATE(BF16,\"  \",BG16,\"  \",BH16)","v":"SEND/K    EAL/OTH"},{"$nulls":4},"11B/So2",null,null,"Katherine","IFERROR(INDEX(Sheet2rng,MATCH(BA12,sheet2rows,0), MATCH($BB$11,sheet2columns,0)),\"\")",{"$f":"IFERROR(INDEX(indexdatabase,MATCH(BQ16&$AZ$14,name&Group2,0),MATCH(\"PPI\",Sheet2rng!$A$1:$AK$1,0)),\"\")","v":0},{"$f":"IFERROR(SMALL(IF(LEFT(Group2,LEN(Class4!$BA$10))=Class4!$BA$10,ROW(Group2)),ROW(A5)),\"\")","v":33},{"$nulls":4},"GOLDSTEIN Gretchen",{"$nulls":11},"Katherine",{"$nulls":138},{"$f":"BA10","v":"8L-RE"}]
[{"$nulls":52},{"$f":"IFERROR(INDEX(indexdatabase,MATCH(BQ13&$AZ$14,name&Group2,0),MATCH(\"AR\",Sheet2rng!$A$1:$AK$1,0)),\"\")","v":0},{"$f":"BQ13","v":"Eric"},{"$f":"IFERROR(INDEX(indexdatabase,MATCH($BB17&$AZ$14,name&Group2,0),MATCH(\"SEND\",Sheet2rng!$A$1:$AO$1,0)),\"\")","v":0},{"$f":"IFERROR(INDEX(indexdatabase,MATCH($BB17&$AZ$14,name&Group2,0),MATCH(\"MAT\",Sheet2rng!$A$1:$AO$1,0)),\"\")","v":0},{"$f":"IFERROR(INDEX(indexdatabase,MATCH($BB17&$AZ$14,name&Group2,0),MATCH(\"EAL\",Sheet2rng!$A$1:$AO$1,0)),\"\")","v":"OTH"},{"$f":"IF($BC17=0,\"\",IF($BC17=\"\",\"\",IF($BC17=\"N\",\"\",$BF$15&$BC17)))","v":""},{"$f":"IF($BD17=0,\"\",IF($BD17=\"\",\"\",IF($BD17=\"N\",\"\",$BG$15&$BD17)))","v":""},{"$f":"IF($BE17=0,\"\",IF($BE17=\"\",\"\",IF($BE17=\"N\",\"\",$BH$15&$BE17)))","v":"EAL/OTH"},{"$f":"CONCATENATE(BF17,\"  \",BG17,\"  \",BH17)","v":"    EAL/OTH"},{"$nulls":7},"Christina","IFERROR(INDEX(Sheet2rng,MATCH(BA12,sheet2rows,0), MATCH($BB$11,sheet2columns,0)),\"\")",{"$f":"IFERROR(INDEX(indexdatabase,MATCH(BQ17&$AZ$14,name&Group2,0),MATCH(\"PPI\",Sheet2rng!$A$1:$AK$1,0)),\"\")","v":"Y"},{"$f":"IFERROR(SMALL(IF(LEFT(Group2,LEN(Class4!$BA$10))=Class4!$BA$10,ROW(Group2)),ROW(A6)),\"\")","v":36},{"$nulls":4},"MANGUM Patricia",{"$nulls":11},"Christina",{"$nulls":138},"Progress since AUT1"]
[{"$nulls":25},{"$f":"IFERROR(IF($Y$1=1,\"\",VLOOKUP(Z16,needstable,8,FALSE)),\"\")","v":""},{"$nulls":3},{"$f":"IFERROR(IF($Y$1=1,\"\",VLOOKUP(AD16,needstable,8,FALSE)),\"\")","v":"    "},{"$nulls":8},{"$f":"IFERROR(IF($Y$1=1,\"\",VLOOKUP(AM16,needstable,8,FALSE)),\"\")","v":"    "},{"$nulls":3},{"$f":"IFERROR(IF($Y$1=1,\"\",VLOOKUP(AQ16,needstable,8,FALSE)),\"\")","v":"    "},{"$nulls":9},{"$f":"IFERROR(INDEX(indexdatabase,MATCH(BQ14&$AZ$14,name&Group2,0),MATCH(\"AR\",Sheet2rng!$A$1:$AK$1,0)),\"\")","v":0},"Franklin",{"$f":"IFERROR(INDEX(indexdatabase,MATCH($BB18&$AZ$14,name&Group2,0),MATCH(\"SEND\",Sheet2rng!$A$1:$AO$1,0)),\"\")","v":0},{"$f":"IFERROR(INDEX(indexdatabase,MATCH($BB18&$AZ$14,name&Group2,0),MATCH(\"MAT\",Sheet2rng!$A$1:$AO$1,0)),\"\")","v":0},{"$f":"IFERROR(INDEX(indexdatabase,MATCH($BB18&$AZ$14,name&Group2,0),MATCH(\"EAL\",Sheet2rng!$A$1:$AO$1,0)),\"\")","v":"OTH"},"","","EAL/OTH","    EAL/OTH",{"$nulls":7},"William","IFERROR(INDEX(Sheet2rng,MATCH(BA12,sheet2rows,0), MATCH($BB$11,sheet2columns,0)),\"\")",{"$f":"IFERROR(INDEX(indexdatabase,MATCH(BQ18&$AZ$14,name&Group2,0),MATCH(\"PPI\",Sheet2rng!$A$1:$AK$1,0)),\"\")","v":"Y"},{"$f":"IFERROR(SMALL(IF(LEFT(Group2,LEN(Class4!$BA$10))=Class4!$BA$10,ROW(Group2)),ROW(A7)),\"\")","v":39},{"$nulls":4},"MERRITT Shirley",{"$nulls":11},"William"]
[{"$nulls":25},"C/grade",null,{"$f":"Sheet2rng!$D$1","v":"KS2"},null,"C/grade",null,{"$f":"Sheet2rng!$D$1","v":"KS2"},{"$nulls":6},"C/grade",null,{"$f":"Sheet2rng!$D$1","v":"KS2"},null,"C/grade",null,{"$f":"Sheet2rng!$D$1","v":"KS2"},{"$nulls":7},{"$f":"IFERROR(INDEX(indexdatabase,MATCH(BQ15&$AZ$14,name&Group2,0),MATCH(\"AR\",Sheet2rng!$A$1:$AK$1,0)),\"\")","v":0},"Claire",{"$f":"IFERROR(INDEX(indexdatabase,MATCH($BB19&$AZ$14,name&Group2,0),MATCH(\"SEND\",Sheet2rng!$A$1:$AO$1,0)),\"\")","v":0},{"$f":"IFERROR(INDEX(indexdatabase,MATCH($BB19&$AZ$14,name&Group2,0),MATCH(\"MAT\",Sheet2rng!$A$1:$AO$1,0)),\"\")","v":0},{"$f":"IFERROR(INDEX(indexdatabase,MATCH($BB19&$AZ$14,name&Group2,0),MATCH(\"EAL\",Sheet2rng!$A$1:$AO$1,0)),\"\")","v":"ENG"},"","","EAL/ENG","    EAL/ENG",{"$nulls":7},"Melinda","IFERROR(INDEX(Sheet2rng,MATCH(BA12,sheet2rows,0), MATCH($BB$11,sheet2columns,0)),\"\")",{"$f":"IFERROR(INDEX(indexdatabase,MATCH(BQ19&$AZ$14,name&Group2,0),MATCH(\"PPI\",Sheet2rng!$A$1:$AK$1,0)),\"\")","v":"Y"},{"$f":"IFERROR(SMALL(IF(LEFT(Group2,LEN(Class4!$BA$10))=Class4!$BA$10,ROW(Group2)),ROW(A8)),\"\")","v":47},{"$nulls":4},"MORGAN Glenda",{"$nulls":11},"Melinda",{"$nulls":138},{"$f":"DT338","v":0},0]
[{"$nulls":25},{"$f":"IFERROR(IF($Y$2=2,\"\",IF($Y$2=3,INDEX(indexdatabase,MATCH(Z16&$AZ$14,name&Group2,0),MATCH($AZ$23,Sheet2rng!$A$1:$AK$1,0)))),\"\")","v":""},null,{"$f":"IFERROR(IF($Y$3=4,\"\",IF($Y$3=5,INDEX(indexdatabase,MATCH(Z16&$AZ$14,name&Group2,0),MATCH($P$4,Sheet2rng!$A$1:$AK$1,0)))),\"\")","v":""},null,{"$f":"IFERROR(IF($Y$2=2,\"\",IF($Y$2=3,INDEX(indexdatabase,MATCH(AD16&$AZ$14,name&Group2,0),MATCH($AZ$23,Sheet2rng!$A$1:$AK$1,0)))),\"\")","v":""},null,{"$f":"IFERROR(IF($Y$3=4,\"\",IF($Y$3=5,INDEX(indexdatabase,MATCH(AD16&$AZ$14,name&Group2,0),MATCH($P$4,Sheet2rng!$A$1:$AK$1,0)))),\"\")","v":""},{"$nulls":6},{"$f":"IFERROR(IF($Y$2=2,\"\",IF($Y$2=3,INDEX(indexdatabase,MATCH(AM16&$AZ$14,name&Group2,0),MATCH($AZ$23,Sheet2rng!$A$1:$AK$1,0)))),\"\")","v":""},null,{"$f":"IFERROR(IF($Y$3=4,\"\",IF($Y$3=5,INDEX(indexdatabase,MATCH(AM16&$AZ$14,name&Group2,0),MATCH($P$4,Sheet2rng!$A$1:$AK$1,0)))),\"\")","v":""},null,{"$f":"IFERROR(IF($Y$2=2,\"\",IF($Y$2=3,INDEX(indexdatabase,MATCH(AQ16&$AZ$14,name&Group2,0),MATCH($AZ$23,Sheet2rng!$A$1:$AK$1,0)))),\"\")","v":""},null,{"$f":"IFERROR(IF($Y$3=4,\"\",IF($Y$3=5,INDEX(indexdatabase,MATCH(AQ16&$AZ$14,name&Group2,0),MATCH($P$4,Sheet2rng!$A$1:$AK$1,0)))),\"\")","v":""},{"$nulls":6},"Assessment period",{"$f":"IFERROR(INDEX(indexdatabase,MATCH(BQ16&$AZ$14,name&Group2,0),MATCH(\"AR\",Sheet2rng!$A$1:$AK$1,0)),\"\")","v":0},"Katherine",{"$f":"IFERROR(INDEX(indexdatabase,MATCH($BB20&$AZ$14,name&Group2,0),MATCH(\"SEND\",Sheet2rng!$A$1:$AO$1,0)),\"\")","v":0},{"$f":"IFERROR(INDEX(indexdatabase,MATCH($BB20&$AZ$14,name&Group2,0),MATCH(\"MAT\",Sheet2rng!$A$1:$AO$1,0)),\"\")","v":0},{"$f":"IFERROR(INDEX(indexdatabase,MATCH($BB20&$AZ$14,name&Group2,0),MATCH(\"EAL\",Sheet2rng!$A$1:$AO$1,0)),\"\")","v":"NOT/kn"},"","","EAL/NOT/kn","    EAL/NOT/kn",{"$nulls":7},"Luis","IFERROR(INDEX(Sheet2rng,MATCH(BA12,sheet2rows,0), MATCH($BB$11,sheet2columns,0)),\"\")",{"$f":"IFERROR(INDEX(indexdatabase,MATCH(BQ20&$AZ$14,name&Group2,0),MATCH(\"PPI\",Sheet2rng!$A$1:$AK$1,0)),\"\")","v":0},{"$f":"IFERROR(SMALL(IF(LEFT(Group2,LEN(Class4!$BA$10))=Class4!$BA$10,ROW(Group2)),ROW(A9)),\"\")","v":50},{"$nulls":4},"RICH Jessica",{"$nulls":11},"Luis",{"$nulls":44},{"$f":"IF(EE20=1,1,IF(EE20=2,2,IF(EE20=EE19,ED19,IF(EE20>EE19,ED19+1))))","v":0},"","ABU Aisha",{"$nulls":5},{"$f":"IF(EM20=1,1,IF(EM20=2,2,IF(EM20=EM19,EL19,IF(EM20>EM19,EL19+1))))","v":1},1,"CHATTEN Zoe",{"$nulls":5},{"$f":"IF(EU20=1,1,IF(EU20=2,2,IF(EU20=EU19,ET19,IF(EU20>EU19,ET19+1))))","v":0},"","ABU Aisha",{"$nulls":5},{"$f":"IF(FC20=1,1,IF(FC20=2,2,IF(FC20=FC19,FB19,IF(FC20>FC19,FB19+1))))","v":0},"","ABU Aisha",{"$nulls":5},{"$f":"IF(FK20=1,1,IF(FK20=2,2,IF(FK20=FK19,FJ19,IF(FK20>FK19,FJ19+1))))","v":0},"","ABU Aisha",{"$nulls":5},{"$f":"IF(FS20=1,1,IF(FS20=2,2,IF(FS20=FS19,FR19,IF(FS20>FS19,FR19+1))))","v":0},"","ABU Aisha",{"$nulls":51},0,0]
[{"$nulls":25},{"$f":"Sheet2rng!$C$1","v":"Target"},null,{"$f":"Sheet2rng!$E$1","v":"AR"},null,{"$f":"Sheet2rng!$C$1","v":"Target"},null,{"$f":"Sheet2rng!$E$1","v":"AR"},{"$nulls":6},{"$f":"Sheet2rng!$C$1","v":"Target"},null,{"$f":"Sheet2rng!$E$1","v":"AR"},null,{"$f":"Sheet2rng!$C$1","v":"Target"},null,{"$f":"Sheet2rng!$E$1","v":"AR"},{"$nulls":7},{"$f":"IFERROR(INDEX(indexdatabase,MATCH(BQ17&$AZ$14,name&Group2,0),MATCH(\"AR\",Sheet2rng!$A$1:$AK$1,0)),\"\")","v":0},"Christina",{"$f":"IFERROR(INDEX(indexdatabase,MATCH($BB21&$AZ$14,name&Group2,0),MATCH(\"SEND\",Sheet2rng!$A$1:$AO$1,0)),\"\")","v":"K"},{"$f":"IFERROR(INDEX(indexdatabase,MATCH($BB21&$AZ$14,name&Group2,0),MATCH(\"MAT\",Sheet2rng!$A$1:$AO$1,0)),\"\")","v":0},{"$f":"IFERROR(INDEX(indexdatabase,MATCH($BB21&$AZ$14,name&Group2,0),MATCH(\"EAL\",Sheet2rng!$A$1:$AO$1,0)),\"\")","v":"NOT/kn"},"SEND/K","","EAL/NOT/kn","SEND/K    EAL/NOT/kn",{"$nulls":7},"Caroline","IFERROR(INDEX(Sheet2rng,MATCH(BA12,sheet2rows,0), MATCH($BB$11,sheet2columns,0)),\"\")",{"$f":"IFERROR(INDEX(indexdatabase,MATCH(BQ21&$AZ$14,name&Group2,0),MATCH(\"PPI\",Sheet2rng!$A$1:$AK$1,0)),\"\")","v":0},{"$f":"IFERROR(SMALL(IF(LEFT(Group2,LEN(Class4!$BA$10))=Class4!$BA$10,ROW(Group2)),ROW(A10)),\"\")","v":54},{"$nulls":4},"HINTON Luis",{"$nulls":11},"Caroline",{"$nulls":44},{"$f":"IF(EE21=1,1,IF(EE21=2,2,IF(EE21=EE20,ED20,IF(EE21>EE20,ED20+1))))","v":0},"","ALFORD Harry",{"$nulls":5},{"$f":"IF(EM21=1,1,IF(EM21=2,2,IF(EM21=EM20,EL20,IF(EM21>EM20,EL20+1))))","v":2},2,"ALFORD Harry",{"$nulls":5},{"$f":"IF(EU21=1,1,IF(EU21=2,2,IF(EU21=EU20,ET20,IF(EU21>EU20,ET20+1))))","v":0},"","ALFORD Harry",{"$nulls":5},{"$f":"IF(FC21=1,1,IF(FC21=2,2,IF(FC21=FC20,FB20,IF(FC21>FC20,FB20+1))))","v":0},"","ALFORD Harry",{"$nulls":5},{"$f":"IF(FK21=1,1,IF(FK21=2,2,IF(FK21=FK20,FJ20,IF(FK21>FK20,FJ20+1))))","v":0},"","ALFORD Harry",{"$nulls":5},{"$f":"IF(FS21=1,1,IF(FS21=2,2,IF(FS21=FS20,FR20,IF(FS21>FS20,FR20+1))))","v":0},"","ALFORD Harry",{"$nulls":51},0,0]
[{"$nulls":25},{"$f":"IFERROR(IF($Y$4=6,\"\",IF($Y$4=7,INDEX(indexdatabase,MATCH(Z16&$AZ$14,name&Group2,0),MATCH($N$6,Sheet2rng!$A$1:$AK$1,0)))),\"\")","v":""},null,{"$f":"IFERROR(IF($Y$5=8,\"\",IF($Y$5=9,INDEX(Sheet2rng,MATCH(Z16&$AZ$14,name&Group2,0),MATCH($P$6,sheet2columns,0)))),\"\")","v":""},null,{"$f":"IFERROR(IF($Y$4=6,\"\",IF($Y$4=7,INDEX(indexdatabase,MATCH(AD16&$AZ$14,name&Group2,0),MATCH($N$6,Sheet2rng!$A$1:$AK$1,0)))),\"\")","v":""},null,{"$f":"IFERROR(IF($Y$5=8,\"\",IF($Y$5=9,INDEX(Sheet2rng,MATCH(AD16&$AZ$14,name&Group2,0),MATCH($P$6,sheet2columns,0)))),\"\")","v":""},{"$nulls":6},{"$f":"IFERROR(IF($Y$4=6,\"\",IF($Y$4=7,INDEX(indexdatabase,MATCH(AM16&$AZ$14,name&Group2,0),MATCH($N$6,Sheet2rng!$A$1:$AK$1,0)))),\"\")","v":""},null,{"$f":"IFERROR(IF($Y$5=8,\"\",IF($Y$5=9,INDEX(Sheet2rng,MATCH(AM16&$AZ$14,name&Group2,0),MATCH($P$6,sheet2columns,0)))),\"\")","v":""},null,{"$f":"IFERROR(IF($Y$4=6,\"\",IF($Y$4=7,INDEX(indexdatabase,MATCH(AQ16&$AZ$14,name&Group2,0),MATCH($N$6,Sheet2rng!$A$1:$AK$1,0)))),\"\")","v":""},null,{"$f":"IFERROR(IF($Y$5=8,\"\",IF($Y$5=9,INDEX(Sheet2rng,MATCH(AQ16&$AZ$14,name&Group2,0),MATCH($P$6,sheet2columns,0)))),\"\")","v":""},{"$nulls":7},{"$f":"IFERROR(INDEX(indexdatabase,MATCH(BQ18&$AZ$14,name&Group2,0),MATCH(\"AR\",Sheet2rng!$A$1:$AK$1,0)),\"\")","v":0},"William",{"$f":"IFERROR(INDEX(indexdatabase,MATCH($BB22&$AZ$14,name&Group2,0),MATCH(\"SEND\",Sheet2rng!$A$1:$AO$1,0)),\"\")","v":0},{"$f":"IFERROR(INDEX(indexdatabase,MATCH($BB22&$AZ$14,name&Group2,0),MATCH(\"MAT\",Sheet2rng!$A$1:$AO$1,0)),\"\")","v":0},{"$f":"IFERROR(INDEX(indexdatabase,MATCH($BB22&$AZ$14,name&Group2,0),MATCH(\"EAL\",Sheet2rng!$A$1:$AO$1,0)),\"\")","v":"OTH"},"","","EAL/OTH","    EAL/OTH",{"$nulls":7},"Ethel","IFERROR(INDEX(Sheet2rng,MATCH(BA12,sheet2rows,0), MATCH($BB$11,sheet2columns,0)),\"\")",{"$f":"IFERROR(INDEX(indexdatabase,MATCH(BQ22&$AZ$14,name&Group2,0),MATCH(\"PPI\",Sheet2rng!$A$1:$AK$1,0)),\"\")","v":"Y"},{"$f":"IFERROR(SMALL(IF(LEFT(Group2,LEN(Class4!$BA$10))=Class4!$BA$10,ROW(Group2)),ROW(A11)),\"\")","v":65},{"$nulls":4},"PARKS Gary",{"$nulls":11},"Ethel",{"$nulls":44},0,"","BAKER Lucy",{"$nulls":5},2,2,"DONNELLY Kirsten",{"$nulls":5},0,"","BAKER Lucy",{"$nulls":5},0,"","BAKER Lucy",{"$nulls":5},0,"","BAKER Lucy",{"$nulls":5},0,"","BAKER Lucy",{"$nulls":51},0,0]
[{"$nulls":29},{"$f":"IFERROR(IF(SEARCH(\"11\",BV32)=1,11),\"\")","v":""},{"$nulls":8},{"$f":"IFERROR(IF(SEARCH(\"11\",CE32)=1,11),\"\")","v":""},{"$nulls":3},{"$f":"IFERROR(IF(SEARCH(\"11\",CI32)=1,11),\"\")","v":""},{"$nulls":8},"SPR 1",{"$f":"IFERROR(INDEX(indexdatabase,MATCH(BQ19&$AZ$14,name&Group2,0),MATCH(\"AR\",Sheet2rng!$A$1:$AK$1,0)),\"\")","v":0},"Melinda",{"$f":"IFERROR(INDEX(indexdatabase,MATCH($BB23&$AZ$14,name&Group2,0),MATCH(\"SEND\",Sheet2rng!$A$1:$AO$1,0)),\"\")","v":"K"},{"$f":"IFERROR(INDEX(indexdatabase,MATCH($BB23&$AZ$14,name&Group2,0),MATCH(\"MAT\",Sheet2rng!$A$1:$AO$1,0)),\"\")","v":0},{"$f":"IFERROR(INDEX(indexdatabase,MATCH($BB23&$AZ$14,name&Group2,0),MATCH(\"EAL\",Sheet2rng!$A$1:$AO$1,0)),\"\")","v":"ENG"},"SEND/K","","EAL/ENG","SEND/K    EAL/ENG",{"$nulls":7},"Martha","IFERROR(INDEX(Sheet2rng,MATCH(BA12,sheet2rows,0), MATCH($BB$11,sheet2columns,0)),\"\")",{"$f":"IFERROR(INDEX(indexdatabase,MATCH(BQ23&$AZ$14,name&Group2,0),MATCH(\"PPI\",Sheet2rng!$A$1:$AK$1,0)),\"\")","v":0},{"$f":"IFERROR(SMALL(IF(LEFT(Group2,LEN(Class4!$BA$10))=Class4!$BA$10,ROW(Group2)),ROW(A12)),\"\")","v":87},{"$nulls":4},"ABRAMS Patricia",{"$nulls":11},"Martha",{"$nulls":44},0,"","BAVERSTOCK Adam",{"$nulls":5},2,2,"DOWN Keiran",{"$nulls":5},0,"","BAVERSTOCK Adam",{"$nulls":5},0,"","BAVERSTOCK Adam",{"$nulls":5},0,"","BAVERSTOCK Adam",{"$nulls":5},0,"","BAVERSTOCK Adam",{"$nulls":51},0,0]
[{"$nulls":52},{"$f":"IFERROR(INDEX(indexdatabase,MATCH(BQ20&$AZ$14,name&Group2,0),MATCH(\"AR\",Sheet2rng!$A$1:$AK$1,0)),\"\")","v":0},"Luis",{"$f":"IFERROR(INDEX(indexdatabase,MATCH($BB24&$AZ$14,name&Group2,0),MATCH(\"SEND\",Sheet2rng!$A$1:$AO$1,0)),\"\")","v":0},{"$f":"IFERROR(INDEX(indexdatabase,MATCH($BB24&$AZ$14,name&Group2,0),MATCH(\"MAT\",Sheet2rng!$A$1:$AO$1,0)),\"\")","v":0},{"$f":"IFERROR(INDEX(indexdatabase,MATCH($BB24&$AZ$14,name&Group2,0),MATCH(\"EAL\",Sheet2rng!$A$1:$AO$1,0)),\"\")","v":"OTH"},"","","EAL/OTH","    EAL/OTH",{"$nulls":7},"Patricia","IFERROR(INDEX(Sheet2rng,MATCH(BA12,sheet2rows,0), MATCH($BB$11,sheet2columns,0)),\"\")",{"$f":"IFERROR(INDEX(indexdatabase,MATCH(BQ24&$AZ$14,name&Group2,0),MATCH(\"PPI\",Sheet2rng!$A$1:$AK$1,0)),\"\")","v":0},{"$f":"IFERROR(SMALL(IF(LEFT(Group2,LEN(Class4!$BA$10))=Class4!$BA$10,ROW(Group2)),ROW(A13)),\"\")","v":91},{"$nulls":4},"TILLEY Jennifer",{"$nulls":11},"Patricia",{"$nulls":44},0,"","BLE Grace",{"$nulls":5},2,2,"HARRIS Christian",{"$nulls":5},0,"","BLE Grace",{"$nulls":5},0,"","BLE Grace",{"$nulls":5},0,"","BLE Grace",{"$nulls":5},0,"","BLE Grace",{"$nulls":51},0,0]
[{"$nulls":25},{"$f":"IFERROR(IF($Y$1=1,\"\",VLOOKUP(Z23,needstable,8,FALSE)),\"\")","v":""},{"$nulls":3},{"$f":"IFERROR(IF($Y$1=1,\"\",VLOOKUP(AD23,needstable,8,FALSE)),\"\")","v":"    "},{"$nulls":8},{"$f":"IFERROR(IF($Y$1=1,\"\",VLOOKUP(AM23,needstable,8,FALSE)),\"\")","v":"    "},{"$nulls":3},{"$f":"IFERROR(IF($Y$1=1,\"\",VLOOKUP(AQ23,needstable,8,FALSE)),\"\")","v":"    "},{"$nulls":9},{"$f":"IFERROR(INDEX(indexdatabase,MATCH(BQ21&$AZ$14,name&Group2,0),MATCH(\"AR\",Sheet2rng!$A$1:$AK$1,0)),\"\")","v":0},"Caroline",{"$f":"IFERROR(INDEX(indexdatabase,MATCH($BB25&$AZ$14,name&Group2,0),MATCH(\"SEND\",Sheet2rng!$A$1:$AO$1,0)),\"\")","v":0},{"$f":"IFERROR(INDEX(indexdatabase,MATCH($BB25&$AZ$14,name&Group2,0),MATCH(\"MAT\",Sheet2rng!$A$1:$AO$1,0)),\"\")","v":0},{"$f":"IFERROR(INDEX(indexdatabase,MATCH($BB25&$AZ$14,name&Group2,0),MATCH(\"EAL\",Sheet2rng!$A$1:$AO$1,0)),\"\")","v":"OTH"},"","","EAL/OTH","    EAL/OTH",{"$nulls":7},"Samantha","IFERROR(INDEX(Sheet2rng,MATCH(BA12,sheet2rows,0), MATCH($BB$11,sheet2columns,0)),\"\")",{"$f":"IFERROR(INDEX(indexdatabase,MATCH(BQ25&$AZ$14,name&Group2,0),MATCH(\"PPI\",Sheet2rng!$A$1:$AK$1,0)),\"\")","v":0},{"$f":"IFERROR(SMALL(IF(LEFT(Group2,LEN(Class4!$BA$10))=Class4!$BA$10,ROW(Group2)),ROW(A14)),\"\")","v":97},{"$nulls":4},"SUMNER Vincent",{"$nulls":11},"Samantha",{"$nulls":44},0,"","CHATTEN Zoe",{"$nulls":5},2,2,"MURPHY Shannon",{"$nulls":5},0,"","CHATTEN Zoe",{"$nulls":5},0,"","CHATTEN Zoe",{"$nulls":5},0,"","CHATTEN Zoe",{"$nulls":5},0,"","CHATTEN Zoe",{"$nulls":51},0,0]
[{"$nulls":25},"C/grade",null,{"$f":"Sheet2rng!$D$1","v":"KS2"},null,"C/grade",null,{"$f":"Sheet2rng!$D$1","v":"KS2"},{"$nulls":6},"C/grade",null,{"$f":"Sheet2rng!$D$1","v":"KS2"},null,"C/grade",null,{"$f":"Sheet2rng!$D$1","v":"KS2"},{"$nulls":7},{"$f":"IFERROR(INDEX(indexdatabase,MATCH(BQ22&$AZ$14,name&Group2,0),MATCH(\"AR\",Sheet2rng!$A$1:$AK$1,0)),\"\")","v":0},"Ethel",{"$f":"IFERROR(INDEX(indexdatabase,MATCH($BB26&$AZ$14,name&Group2,0),MATCH(\"SEND\",Sheet2rng!$A$1:$AO$1,0)),\"\")","v":0},{"$f":"IFERROR(INDEX(indexdatabase,MATCH($BB26&$AZ$14,name&Group2,0),MATCH(\"MAT\",Sheet2rng!$A$1:$AO$1,0)),\"\")","v":0},{"$f":"IFERROR(INDEX(indexdatabase,MATCH($BB26&$AZ$14,name&Group2,0),MATCH(\"EAL\",Sheet2rng!$A$1:$AO$1,0)),\"\")","v":"NOT/kn"},"","","EAL/NOT/kn","    EAL/NOT/kn",{"$nulls":7},"Jimmy","IFERROR(INDEX(Sheet2rng,MATCH(BA12,sheet2rows,0), MATCH($BB$11,sheet2columns,0)),\"\")",{"$f":"IFERROR(INDEX(indexdatabase,MATCH(BQ26&$AZ$14,name&Group2,0),MATCH(\"PPI\",Sheet2rng!$A$1:$AK$1,0)),\"\")","v":"Y"},{"$f":"IFERROR(SMALL(IF(LEFT(Group2,LEN(Class4!$BA$10))=Class4!$BA$10,ROW(Group2)),ROW(A15)),\"\")","v":98},{"$nulls":4},"BYRNE Danny",{"$nulls":11},"Jimmy",{"$nulls":44},0,"","CHEEMA Gurvinder",{"$nulls":5},2,2,"PIDDINGTON Ellie",{"$nulls":5},0,"","CHEEMA Gurvinder",{"$nulls":5},0,"","CHEEMA Gurvinder",{"$nulls":5},0,"","CHEEMA Gurvinder",{"$nulls":5},0,"","CHEEMA Gurvinder",{"$nulls":51},0,0]
[{"$nulls":25},{"$f":"IFERROR(IF($Y$2=2,\"\",IF($Y$2=3,INDEX(indexdatabase,MATCH(Z23&$AZ$14,name&Group2,0),MATCH($AZ$23,Sheet2rng!$A$1:$AK$1,0)))),\"\")","v":""},null,{"$f":"IFERROR(IF($Y$3=4,\"\",IF($Y$3=5,INDEX(indexdatabase,MATCH(Z23&$AZ$14,name&Group2,0),MATCH($P$4,Sheet2rng!$A$1:$AK$1,0)))),\"\")","v":""},null,{"$f":"IFERROR(IF($Y$2=2,\"\",IF($Y$2=3,INDEX(indexdatabase,MATCH(AD23&$AZ$14,name&Group2,0),MATCH($AZ$23,Sheet2rng!$A$1:$AK$1,0)))),\"\")","v":""},null,{"$f":"IFERROR(IF($Y$3=4,\"\",IF($Y$3=5,INDEX(indexdatabase,MATCH(AD23&$AZ$14,name&Group2,0),MATCH($P$4,Sheet2rng!$A$1:$AK$1,0)))),\"\")","v":""},{"$nulls":6},{"$f":"IFERROR(IF($Y$2=2,\"\",IF($Y$2=3,INDEX(indexdatabase,MATCH(AM23&$AZ$14,name&Group2,0),MATCH($AZ$23,Sheet2rng!$A$1:$AK$1,0)))),\"\")","v":""},null,{"$f":"IFERROR(IF($Y$3=4,\"\",IF($Y$3=5,INDEX(indexdatabase,MATCH(AM23&$AZ$14,name&Group2,0),MATCH($P$4,Sheet2rng!$A$1:$AK$1,0)))),\"\")","v":""},null,{"$f":"IFERROR(IF($Y$2=2,\"\",IF($Y$2=3,INDEX(indexdatabase,MATCH(AQ23&$AZ$14,name&Group2,0),MATCH($AZ$23,Sheet2rng!$A$1:$AK$1,0)))),\"\")","v":""},null,{"$f":"IFERROR(IF($Y$3=4,\"\",IF($Y$3=5,INDEX(indexdatabase,MATCH(AQ23&$AZ$14,name&Group2,0),MATCH($P$4,Sheet2rng!$A$1:$AK$1,0)))),\"\")","v":""},{"$nulls":6},{"$f":"AZ23","v":"SPR 1"},{"$f":"IFERROR(INDEX(indexdatabase,MATCH(BQ23&$AZ$14,name&Group2,0),MATCH(\"AR\",Sheet2rng!$A$1:$AK$1,0)),\"\")","v":0},"Martha",{"$f":"IFERROR(INDEX(indexdatabase,MATCH($BB27&$AZ$14,name&Group2,0),MATCH(\"SEND\",Sheet2rng!$A$1:$AO$1,0)),\"\")","v":0},{"$f":"IFERROR(INDEX(indexdatabase,MATCH($BB27&$AZ$14,name&Group2,0),MATCH(\"MAT\",Sheet2rng!$A$1:$AO$1,0)),\"\")","v":0},{"$f":"IFERROR(INDEX(indexdatabase,MATCH($BB27&$AZ$14,name&Group2,0),MATCH(\"EAL\",Sheet2rng!$A$1:$AO$1,0)),\"\")","v":"OTH"},"","","EAL/OTH","    EAL/OTH",{"$nulls":7},"Martin","IFERROR(INDEX(Sheet2rng,MATCH(BA12,sheet2rows,0), MATCH($BB$11,sheet2columns,0)),\"\")",{"$f":"IFERROR(INDEX(indexdatabase,MATCH(BQ27&$AZ$14,name&Group2,0),MATCH(\"PPI\",Sheet2rng!$A$1:$AK$1,0)),\"\")","v":"Y"},{"$f":"IFERROR(SMALL(IF(LEFT(Group2,LEN(Class4!$BA$10))=Class4!$BA$10,ROW(Group2)),ROW(A16)),\"\")","v":109},{"$nulls":4},"ROBERTSON Martha",{"$nulls":11},"Martin",{"$nulls":44},0,"","DONNELLY Kirsten",{"$nulls":5},2,2,"QUILALA Angela",{"$nulls":5},0,"","DONNELLY Kirsten",{"$nulls":5},0,"","DONNELLY Kirsten",{"$nulls":5},0,"","DONNELLY Kirsten",{"$nulls":5},0,"","DONNELLY Kirsten",{"$nulls":51},0,0]
[{"$nulls":25},{"$f":"Sheet2rng!$C$1","v":"Target"},null,{"$f":"Sheet2rng!$E$1","v":"AR"},null,{"$f":"Sheet2rng!$C$1","v":"Target"},null,{"$f":"Sheet2rng!$E$1","v":"AR"},{"$nulls":6},{"$f":"Sheet2rng!$C$1","v":"Target"},null,{"$f":"Sheet2rng!$E$1","v":"AR"},null,{"$f":"Sheet2rng!$C$1","v":"Target"},null,{"$f":"Sheet2rng!$E$1","v":"AR"},{"$nulls":7},{"$f":"IFERROR(INDEX(indexdatabase,MATCH(BQ24&$AZ$14,name&Group2,0),MATCH(\"AR\",Sheet2rng!$A$1:$AK$1,0)),\"\")","v":0},"Patricia",{"$f":"IFERROR(INDEX(indexdatabase,MATCH($BB28&$AZ$14,name&Group2,0),MATCH(\"SEND\",Sheet2rng!$A$1:$AO$1,0)),\"\")","v":"K"},{"$f":"IFERROR(INDEX(indexdatabase,MATCH($BB28&$AZ$14,name&Group2,0),MATCH(\"MAT\",Sheet2rng!$A$1:$AO$1,0)),\"\")","v":0},{"$f":"IFERROR(INDEX(indexdatabase,MATCH($BB28&$AZ$14,name&Group2,0),MATCH(\"EAL\",Sheet2rng!$A$1:$AO$1,0)),\"\")","v":"NOT/kn"},"SEND/K","","EAL/NOT/kn","SEND/K    EAL/NOT/kn",{"$nulls":7},"Glen","IFERROR(INDEX(Sheet2rng,MATCH(BA12,sheet2rows,0), MATCH($BB$11,sheet2columns,0)),\"\")",{"$f":"IFERROR(INDEX(indexdatabase,MATCH(BQ28&$AZ$14,name&Group2,0),MATCH(\"PPI\",Sheet2rng!$A$1:$AK$1,0)),\"\")","v":0},{"$f":"IFERROR(SMALL(IF(LEFT(Group2,LEN(Class4!$BA$10))=Class4!$BA$10,ROW(Group2)),ROW(A17)),\"\")","v":114},{"$nulls":4},"PALMER Jack",{"$nulls":11},"Glen",{"$nulls":44},0,"","DOWN Keiran",{"$nulls":5},2,2,"SMITH Jade",{"$nulls":5},0,"","DOWN Keiran",{"$nulls":5},0,"","DOWN Keiran",{"$nulls":5},0,"","DOWN Keiran",{"$nulls":5},0,"","DOWN Keiran",{"$nulls":51},0,0]
[{"$nulls":25},{"$f":"IFERROR(IF($Y$4=6,\"\",IF($Y$4=7,INDEX(indexdatabase,MATCH(Z23&$AZ$14,name&Group2,0),MATCH($N$6,Sheet2rng!$A$1:$AK$1,0)))),\"\")","v":""},null,{"$f":"IFERROR(IF($Y$5=8,\"\",IF($Y$5=9,INDEX(Sheet2rng,MATCH(Z23&$AZ$14,name&Group2,0),MATCH($P$6,sheet2columns,0)))),\"\")","v":""},null,{"$f":"IFERROR(IF($Y$4=6,\"\",IF($Y$4=7,INDEX(indexdatabase,MATCH(AD23&$AZ$14,name&Group2,0),MATCH($N$6,Sheet2rng!$A$1:$AK$1,0)))),\"\")","v":""},null,{"$f":"IFERROR(IF($Y$5=8,\"\",IF($Y$5=9,INDEX(Sheet2rng,MATCH(AD23&$AZ$14,name&Group2,0),MATCH($P$6,sheet2columns,0)))),\"\")","v":""},{"$nulls":6},{"$f":"IFERROR(IF($Y$4=6,\"\",IF($Y$4=7,INDEX(indexdatabase,MATCH(AM23&$AZ$14,name&Group2,0),MATCH($N$6,Sheet2rng!$A$1:$AK$1,0)))),\"\")","v":""},null,{"$f":"IFERROR(IF($Y$5=8,\"\",IF($Y$5=9,INDEX(Sheet2rng,MATCH(AM23&$AZ$14,name&Group2,0),MATCH($P$6,sheet2columns,0)))),\"\")","v":""},null,{"$f":"IFERROR(IF($Y$4=6,\"\",IF($Y$4=7,INDEX(indexdatabase,MATCH(AQ23&$AZ$14,name&Group2,0),MATCH($N$6,Sheet2rng!$A$1:$AK$1,0)))),\"\")","v":""},null,{"$f":"IFERROR(IF($Y$5=8,\"\",IF($Y$5=9,INDEX(Sheet2rng,MATCH(AQ23&$AZ$14,name&Group2,0),MATCH($P$6,sheet2columns,0)))),\"\")","v":""},{"$nulls":7},{"$f":"IFERROR(INDEX(indexdatabase,MATCH(BQ25&$AZ$14,name&Group2,0),MATCH(\"AR\",Sheet2rng!$A$1:$AK$1,0)),\"\")","v":0},"Samantha",{"$f":"IFERROR(INDEX(indexdatabase,MATCH($BB29&$AZ$14,name&Group2,0),MATCH(\"SEND\",Sheet2rng!$A$1:$AO$1,0)),\"\")","v":0},{"$f":"IFERROR(INDEX(indexdatabase,MATCH($BB29&$AZ$14,name&Group2,0),MATCH(\"MAT\",Sheet2rng!$A$1:$AO$1,0)),\"\")","v":0},{"$f":"IFERROR(INDEX(indexdatabase,MATCH($BB29&$AZ$14,name&Group2,0),MATCH(\"EAL\",Sheet2rng!$A$1:$AO$1,0)),\"\")","v":"NOT/kn"},"","","EAL/NOT/kn","    EAL/NOT/kn",{"$nulls":7},"Stephen","IFERROR(INDEX(Sheet2rng,MATCH(BA12,sheet2rows,0), MATCH($BB$11,sheet2columns,0)),\"\")",{"$f":"IFERROR(INDEX(indexdatabase,MATCH(BQ29&$AZ$14,name&Group2,0),MATCH(\"PPI\",Sheet2rng!$A$1:$AK$1,0)),\"\")","v":0},{"$f":"IFERROR(SMALL(IF(LEFT(Group2,LEN(Class4!$BA$10))=Class4!$BA$10,ROW(Group2)),ROW(A18)),\"\")","v":125},{"$nulls":4},"ROWE Benjamin",{"$nulls":11},"Stephen",{"$nulls":44},0,"","GIBSON James",{"$nulls":5},2,2,"TURNER Liberty",{"$nulls":5},0,"","GIBSON James",{"$nulls":5},0,"","GIBSON James",{"$nulls":5},0,"","GIBSON James",{"$nulls":5},0,"","GIBSON James",{"$nulls":51},0,0]
[{"$nulls":52},{"$f":"IFERROR(INDEX(indexdatabase,MATCH(BQ26&$AZ$14,name&Group2,0),MATCH(\"AR\",Sheet2rng!$A$1:$AK$1,0)),\"\")","v":0},"Jimmy",{"$f":"IFERROR(INDEX(indexdatabase,MATCH($BB30&$AZ$14,name&Group2,0),MATCH(\"SEND\",Sheet2rng!$A$1:$AO$1,0)),\"\")","v":0},{"$f":"IFERROR(INDEX(indexdatabase,MATCH($BB30&$AZ$14,name&Group2,0),MATCH(\"MAT\",Sheet2rng!$A$1:$AO$1,0)),\"\")","v":0},{"$f":"IFERROR(INDEX(indexdatabase,MATCH($BB30&$AZ$14,name&Group2,0),MATCH(\"EAL\",Sheet2rng!$A$1:$AO$1,0)),\"\")","v":"OTH"},"","","EAL/OTH","    EAL/OTH",{"$nulls":7},"Eric","IFERROR(INDEX(Sheet2rng,MATCH(BA12,sheet2rows,0), MATCH($BB$11,sheet2columns,0)),\"\")",{"$f":"IFERROR(INDEX(indexdatabase,MATCH(BQ30&$AZ$14,name&Group2,0),MATCH(\"PPI\",Sheet2rng!$A$1:$AK$1,0)),\"\")","v":0},{"$f":"IFERROR(SMALL(IF(LEFT(Group2,LEN(Class4!$BA$10))=Class4!$BA$10,ROW(Group2)),ROW(A19)),\"\")","v":142},{"$nulls":4},"HESTER Jessica",{"$nulls":11},"Eric",{"$nulls":44},0,"","HARRIS Christian",{"$nulls":5},3,11,"BAKER Lucy",{"$nulls":5},0,"","HARRIS Christian",{"$nulls":5},0,"","HARRIS Christian",{"$nulls":5},0,"","HARRIS Christian",{"$nulls":5},0,"","HARRIS Christian",{"$nulls":51},0,0]
[{"$nulls":52},{"$f":"IFERROR(INDEX(indexdatabase,MATCH(BQ27&$AZ$14,name&Group2,0),MATCH(\"AR\",Sheet2rng!$A$1:$AK$1,0)),\"\")","v":0},"Martin",{"$f":"IFERROR(INDEX(indexdatabase,MATCH($BB31&$AZ$14,name&Group2,0),MATCH(\"SEND\",Sheet2rng!$A$1:$AO$1,0)),\"\")","v":0},{"$f":"IFERROR(INDEX(indexdatabase,MATCH($BB31&$AZ$14,name&Group2,0),MATCH(\"MAT\",Sheet2rng!$A$1:$AO$1,0)),\"\")","v":0},{"$f":"IFERROR(INDEX(indexdatabase,MATCH($BB31&$AZ$14,name&Group2,0),MATCH(\"EAL\",Sheet2rng!$A$1:$AO$1,0)),\"\")","v":"NOT/kn"},"","","EAL/NOT/kn","    EAL/NOT/kn",{"$nulls":7},"Charlene","IFERROR(INDEX(Sheet2rng,MATCH(BA12,sheet2rows,0), MATCH($BB$11,sheet2columns,0)),\"\")",{"$f":"IFERROR(INDEX(indexdatabase,MATCH(BQ31&$AZ$14,name&Group2,0),MATCH(\"PPI\",Sheet2rng!$A$1:$AK$1,0)),\"\")","v":"Y"},{"$f":"IFERROR(SMALL(IF(LEFT(Group2,LEN(Class4!$BA$10))=Class4!$BA$10,ROW(Group2)),ROW(A20)),\"\")","v":152},{"$nulls":4},"GOLDMAN Vincent",{"$nulls":11},"Charlene",{"$nulls":44},0,"","HARVEY Megan",{"$nulls":5},3,11,"BAVERSTOCK Adam",{"$nulls":5},0,"","HARVEY Megan",{"$nulls":5},0,"","HARVEY Megan",{"$nulls":5},0,"","HARVEY Megan",{"$nulls":5},0,"","HARVEY Megan",{"$nulls":51},0,0]
[{"$nulls":52},{"$f":"IFERROR(INDEX(indexdatabase,MATCH(BQ28&$AZ$14,name&Group2,0),MATCH(\"AR\",Sheet2rng!$A$1:$AK$1,0)),\"\")","v":0},"Glen",{"$f":"IFERROR(INDEX(indexdatabase,MATCH($BB32&$AZ$14,name&Group2,0),MATCH(\"SEND\",Sheet2rng!$A$1:$AO$1,0)),\"\")","v":"K"},{"$f":"IFERROR(INDEX(indexdatabase,MATCH($BB32&$AZ$14,name&Group2,0),MATCH(\"MAT\",Sheet2rng!$A$1:$AO$1,0)),\"\")","v":0},{"$f":"IFERROR(INDEX(indexdatabase,MATCH($BB32&$AZ$14,name&Group2,0),MATCH(\"EAL\",Sheet2rng!$A$1:$AO$1,0)),\"\")","v":"NOT/kn"},"SEND/K","","EAL/NOT/kn","SEND/K    EAL/NOT/kn",{"$nulls":7},"Robert","IFERROR(INDEX(Sheet2rng,MATCH(BA12,sheet2rows,0), MATCH($BB$11,sheet2columns,0)),\"\")",{"$f":"IFERROR(INDEX(indexdatabase,MATCH(BQ32&$AZ$14,name&Group2,0),MATCH(\"PPI\",Sheet2rng!$A$1:$AK$1,0)),\"\")","v":0},{"$f":"IFERROR(SMALL(IF(LEFT(Group2,LEN(Class4!$BA$10))=Class4!$BA$10,ROW(Group2)),ROW(A21)),\"\")","v":174},{"$nulls":4},"MCKENNA Beth",{"$nulls":11},"Robert",{"$nulls":44},0,"","HEATH Emily-Jayne",{"$nulls":5},3,11,"CHEEMA Gurvinder",{"$nulls":5},0,"","HEATH Emily-Jayne",{"$nulls":5},0,"","HEATH Emily-Jayne",{"$nulls":5},0,"","HEATH Emily-Jayne",{"$nulls":5},0,"","HEATH Emily-Jayne",{"$nulls":51},0,0]
[{"$nulls":52},{"$f":"IFERROR(INDEX(indexdatabase,MATCH(BQ29&$AZ$14,name&Group2,0),MATCH(\"AR\",Sheet2rng!$A$1:$AK$1,0)),\"\")","v":0},"Stephen",{"$f":"IFERROR(INDEX(indexdatabase,MATCH($BB33&$AZ$14,name&Group2,0),MATCH(\"SEND\",Sheet2rng!$A$1:$AO$1,0)),\"\")","v":0},{"$f":"IFERROR(INDEX(indexdatabase,MATCH($BB33&$AZ$14,name&Group2,0),MATCH(\"MAT\",Sheet2rng!$A$1:$AO$1,0)),\"\")","v":0},{"$f":"IFERROR(INDEX(indexdatabase,MATCH($BB33&$AZ$14,name&Group2,0),MATCH(\"EAL\",Sheet2rng!$A$1:$AO$1,0)),\"\")","v":"OTH"},"","","EAL/OTH","    EAL/OTH",{"$nulls":7},"","IFERROR(INDEX(Sheet2rng,MATCH(BA12,sheet2rows,0), MATCH($BB$11,sheet2columns,0)),\"\")",{"$f":"IFERROR(INDEX(indexdatabase,MATCH(BQ33&$AZ$14,name&Group2,0),MATCH(\"PPI\",Sheet2rng!$A$1:$AK$1,0)),\"\")","v":""},{"$f":"IFERROR(SMALL(IF(LEFT(Group2,LEN(Class4!$BA$10))=Class4!$BA$10,ROW(Group2)),ROW(A22)),\"\")","v":""},{"$nulls":4},"FINCH Stephen",{"$nulls":56},0,"","HOWELL Megan",{"$nulls":5},3,11,"GIBSON James",{"$nulls":5},0,"","HOWELL Megan",{"$nulls":5},0,"","HOWELL Megan",{"$nulls":5},0,"","HOWELL Megan",{"$nulls":5},0,"","HOWELL Megan",{"$nulls":51},0,0]
[{"$nulls":12},{"$f":"IFERROR(IF(SEARCH(\"11\",BE43)=1,11),\"\")","v":""},{"$nulls":3},{"$f":"IFERROR(IF(SEARCH(\"11\",BI43)=1,11),\"\")","v":""},{"$nulls":12},{"$f":"IFERROR(IF(SEARCH(\"11\",BV43)=1,11),\"\")","v":""},{"$nulls":8},{"$f":"IFERROR(IF(SEARCH(\"11\",CE43)=1,11),\"\")","v":""},{"$nulls":3},{"$f":"IFERROR(IF(SEARCH(\"11\",CI43)=1,11),\"\")","v":""},{"$nulls":9},{"$f":"IFERROR(INDEX(indexdatabase,MATCH(BQ30&$AZ$14,name&Group2,0),MATCH(\"AR\",Sheet2rng!$A$1:$AK$1,0)),\"\")","v":0},"Eric",{"$f":"IFERROR(INDEX(indexdatabase,MATCH($BB34&$AZ$14,name&Group2,0),MATCH(\"SEND\",Sheet2rng!$A$1:$AO$1,0)),\"\")","v":0},{"$f":"IFERROR(INDEX(indexdatabase,MATCH($BB34&$AZ$14,name&Group2,0),MATCH(\"MAT\",Sheet2rng!$A$1:$AO$1,0)),\"\")","v":0},{"$f":"IFERROR(INDEX(indexdatabase,MATCH($BB34&$AZ$14,name&Group2,0),MATCH(\"EAL\",Sheet2rng!$A$1:$AO$1,0)),\"\")","v":"OTH"},"","","EAL/OTH","    EAL/OTH",{"$nulls":7},"","IFERROR(INDEX(Sheet2rng,MATCH(BA12,sheet2rows,0), MATCH($BB$11,sheet2columns,0)),\"\")",{"$f":"IFERROR(INDEX(indexdatabase,MATCH(BQ34&$AZ$14,name&Group2,0),MATCH(\"PPI\",Sheet2rng!$A$1:$AK$1,0)),\"\")","v":""},{"$f":"IFERROR(SMALL(IF(LEFT(Group2,LEN(Class4!$BA$10))=Class4!$BA$10,ROW(Group2)),ROW(A23)),\"\")","v":""},{"$nulls":4},"CONNER Ryan",{"$nulls":56},0,"","JAMESON Amy",{"$nulls":5},3,11,"HARVEY Megan",{"$nulls":5},0,"","JAMESON Amy",{"$nulls":5},0,"","JAMESON Amy",{"$nulls":5},0,"","JAMESON Amy",{"$nulls":5},0,"","JAMESON Amy",{"$nulls":51},0,0]
[{"$nulls":52},{"$f":"IFERROR(INDEX(indexdatabase,MATCH(BQ31&$AZ$14,name&Group2,0),MATCH(\"AR\",Sheet2rng!$A$1:$AK$1,0)),\"\")","v":0},"Charlene",{"$f":"IFERROR(INDEX(indexdatabase,MATCH($BB35&$AZ$14,name&Group2,0),MATCH(\"SEND\",Sheet2rng!$A$1:$AO$1,0)),\"\")","v":0},{"$f":"IFERROR(INDEX(indexdatabase,MATCH($BB35&$AZ$14,name&Group2,0),MATCH(\"MAT\",Sheet2rng!$A$1:$AO$1,0)),\"\")","v":0},{"$f":"IFERROR(INDEX(indexdatabase,MATCH($BB35&$AZ$14,name&Group2,0),MATCH(\"EAL\",Sheet2rng!$A$1:$AO$1,0)),\"\")","v":"OTH"},"","","EAL/OTH","    EAL/OTH",{"$nulls":7},"","IFERROR(INDEX(Sheet2rng,MATCH(BA12,sheet2rows,0), MATCH($BB$11,sheet2columns,0)),\"\")",{"$f":"IFERROR(INDEX(indexdatabase,MATCH(BQ35&$AZ$14,name&Group2,0),MATCH(\"PPI\",Sheet2rng!$A$1:$AK$1,0)),\"\")","v":""},{"$f":"IFERROR(SMALL(IF(LEFT(Group2,LEN(Class4!$BA$10))=Class4!$BA$10,ROW(Group2)),ROW(A24)),\"\")","v":""},{"$nulls":4},"",{"$nulls":56},0,"","KERWICK Georgie",{"$nulls":5},3,11,"HEATH Emily-Jayne",{"$nulls":5},0,"","KERWICK Georgie",{"$nulls":5},0,"","KERWICK Georgie",{"$nulls":5},0,"","KERWICK Georgie",{"$nulls":5},0,"","KERWICK Georgie",{"$nulls":51},0,0]
[{"$nulls":12},{"$f":"IFERROR(IF($Y$1=1,\"\",VLOOKUP(M34,needstable,8,FALSE)),\"\")","v":"    "},{"$nulls":3},{"$f":"IFERROR(IF($Y$1=1,\"\",VLOOKUP(Q34,needstable,8,FALSE)),\"\")","v":"    "},{"$nulls":8},{"$f":"IFERROR(IF($Y$1=1,\"\",VLOOKUP(Z34,needstable,8,FALSE)),\"\")","v":""},{"$nulls":3},{"$f":"IFERROR(IF($Y$1=1,\"\",VLOOKUP(AD34,needstable,8,FALSE)),\"\")","v":"    "},{"$nulls":8},{"$f":"IFERROR(IF($Y$1=1,\"\",VLOOKUP(AM34,needstable,8,FALSE)),\"\")","v":"    "},{"$nulls":3},{"$f":"IFERROR(IF($Y$1=1,\"\",VLOOKUP(AQ34,needstable,8,FALSE)),\"\")","v":"    "},{"$nulls":9},{"$f":"IFERROR(INDEX(indexdatabase,MATCH(BQ32&$AZ$14,name&Group2,0),MATCH(\"AR\",Sheet2rng!$A$1:$AK$1,0)),\"\")","v":0},"Robert",{"$f":"IFERROR(INDEX(indexdatabase,MATCH($BB36&$AZ$14,name&Group2,0),MATCH(\"SEND\",Sheet2rng!$A$1:$AO$1,0)),\"\")","v":"K"},{"$f":"IFERROR(INDEX(indexdatabase,MATCH($BB36&$AZ$14,name&Group2,0),MATCH(\"MAT\",Sheet2rng!$A$1:$AO$1,0)),\"\")","v":0},{"$f":"IFERROR(INDEX(indexdatabase,MATCH($BB36&$AZ$14,name&Group2,0),MATCH(\"EAL\",Sheet2rng!$A$1:$AO$1,0)),\"\")","v":"NOT/kn"},"SEND/K","","EAL/NOT/kn","SEND/K    EAL/NOT/kn",{"$nulls":7},"","IFERROR(INDEX(Sheet2rng,MATCH(BA12,sheet2rows,0), MATCH($BB$11,sheet2columns,0)),\"\")",{"$f":"IFERROR(INDEX(indexdatabase,MATCH(BQ36&$AZ$14,name&Group2,0),MATCH(\"PPI\",Sheet2rng!$A$1:$AK$1,0)),\"\")","v":""},{"$f":"IFERROR(SMALL(IF(LEFT(Group2,LEN(Class4!$BA$10))=Class4!$BA$10,ROW(Group2)),ROW(A25)),\"\")","v":""},{"$nulls":4},"",{"$nulls":56},0,"","MURPHY Shannon",{"$nulls":5},3,11,"HOWELL Megan",{"$nulls":5},0,"","MURPHY Shannon",{"$nulls":5},0,"","MURPHY Shannon",{"$nulls":5},0,"","MURPHY Shannon",{"$nulls":5},0,"","MURPHY Shannon",{"$nulls":51},0,0]
[{"$nulls":12},"C/grade",null,{"$f":"Sheet2rng!$D$1","v":"KS2"},null,"C/grade",null,{"$f":"Sheet2rng!$D$1","v":"KS2"},{"$nulls":6},"C/grade",null,{"$f":"Sheet2rng!$D$1","v":"KS2"},null,"C/grade",null,{"$f":"Sheet2rng!$D$1","v":"KS2"},{"$nulls":6},"C/grade",null,{"$f":"Sheet2rng!$D$1","v":"KS2"},null,"C/grade",null,{"$f":"Sheet2rng!$D$1","v":"KS2"},{"$nulls":7},{"$f":"IFERROR(INDEX(indexdatabase,MATCH(BQ33&$AZ$14,name&Group2,0),MATCH(\"AR\",Sheet2rng!$A$1:$AK$1,0)),\"\")","v":""},"",{"$f":"IFERROR(INDEX(indexdatabase,MATCH($BB37&$AZ$14,name&Group2,0),MATCH(\"SEND\",Sheet2rng!$A$1:$AO$1,0)),\"\")","v":""},{"$f":"IFERROR(INDEX(indexdatabase,MATCH($BB37&$AZ$14,name&Group2,0),MATCH(\"MAT\",Sheet2rng!$A$1:$AO$1,0)),\"\")","v":""},{"$f":"IFERROR(INDEX(indexdatabase,MATCH($BB37&$AZ$14,name&Group2,0),MATCH(\"EAL\",Sheet2rng!$A$1:$AO$1,0)),\"\")","v":""},"","","","    ",{"$nulls":7},"","IFERROR(INDEX(Sheet2rng,MATCH(BA12,sheet2rows,0), MATCH($BB$11,sheet2columns,0)),\"\")",{"$f":"IFERROR(INDEX(indexdatabase,MATCH(BQ37&$AZ$14,name&Group2,0),MATCH(\"PPI\",Sheet2rng!$A$1:$AK$1,0)),\"\")","v":""},{"$f":"IFERROR(SMALL(IF(LEFT(Group2,LEN(Class4!$BA$10))=Class4!$BA$10,ROW(Group2)),ROW(A26)),\"\")","v":""},{"$nulls":4},"",{"$nulls":56},0,"","PIDDINGTON Ellie",{"$nulls":5},3,11,"SAHOTA Callum",{"$nulls":5},0,"","PIDDINGTON Ellie",{"$nulls":5},0,"","PIDDINGTON Ellie",{"$nulls":5},0,"","PIDDINGTON Ellie",{"$nulls":5},0,"","PIDDINGTON Ellie",{"$nulls":51},0,0]
[{"$nulls":12},{"$f":"IFERROR(IF($Y$2=2,\"\",IF($Y$2=3,INDEX(indexdatabase,MATCH(M34&$AZ$14,name&Group2,0),MATCH($AZ$23,Sheet2rng!$A$1:$AK$1,0)))),\"\")","v":""},null,{"$f":"IFERROR(IF($Y$3=4,\"\",IF($Y$3=5,INDEX(indexdatabase,MATCH(M34&$AZ$14,name&Group2,0),MATCH($P$4,Sheet2rng!$A$1:$AK$1,0)))),\"\")","v":""},null,{"$f":"IFERROR(IF($Y$2=2,\"\",IF($Y$2=3,INDEX(indexdatabase,MATCH(Q34&$AZ$14,name&Group2,0),MATCH($AZ$23,Sheet2rng!$A$1:$AK$1,0)))),\"\")","v":""},null,{"$f":"IFERROR(IF($Y$3=4,\"\",IF($Y$3=5,INDEX(indexdatabase,MATCH(Q34&$AZ$14,name&Group2,0),MATCH($P$4,Sheet2rng!$A$1:$AK$1,0)))),\"\")","v":""},{"$nulls":6},{"$f":"IFERROR(IF($Y$2=2,\"\",IF($Y$2=3,INDEX(indexdatabase,MATCH(Z34&$AZ$14,name&Group2,0),MATCH($AZ$23,Sheet2rng!$A$1:$AK$1,0)))),\"\")","v":""},null,{"$f":"IFERROR(IF($Y$3=4,\"\",IF($Y$3=5,INDEX(indexdatabase,MATCH(Z34&$AZ$14,name&Group2,0),MATCH($P$4,Sheet2rng!$A$1:$AK$1,0)))),\"\")","v":""},null,{"$f":"IFERROR(IF($Y$2=2,\"\",IF($Y$2=3,INDEX(indexdatabase,MATCH(AD34&$AZ$14,name&Group2,0),MATCH($AZ$23,Sheet2rng!$A$1:$AK$1,0)))),\"\")","v":""},null,{"$f":"IFERROR(IF($Y$3=4,\"\",IF($Y$3=5,INDEX(indexdatabase,MATCH(AD34&$AZ$14,name&Group2,0),MATCH($P$4,Sheet2rng!$A$1:$AK$1,0)))),\"\")","v":""},{"$nulls":6},{"$f":"IFERROR(IF($Y$2=2,\"\",IF($Y$2=3,INDEX(indexdatabase,MATCH(AM34&$AZ$14,name&Group2,0),MATCH($AZ$23,Sheet2rng!$A$1:$AK$1,0)))),\"\")","v":""},null,{"$f":"IFERROR(IF($Y$3=4,\"\",IF($Y$3=5,INDEX(indexdatabase,MATCH(AM34&$AZ$14,name&Group2,0),MATCH($P$4,Sheet2rng!$A$1:$AK$1,0)))),\"\")","v":""},null,{"$f":"IFERROR(IF($Y$2=2,\"\",IF($Y$2=3,INDEX(indexdatabase,MATCH(AQ34&$AZ$14,name&Group2,0),MATCH($AZ$23,Sheet2rng!$A$1:$AK$1,0)))),\"\")","v":""},null,{"$f":"IFERROR(IF($Y$3=4,\"\",IF($Y$3=5,INDEX(indexdatabase,MATCH(AQ34&$AZ$14,name&Group2,0),MATCH($P$4,Sheet2rng!$A$1:$AK$1,0)))),\"\")","v":""},{"$nulls":7},{"$f":"IFERROR(INDEX(indexdatabase,MATCH(BQ34&$AZ$14,name&Group2,0),MATCH(\"AR\",Sheet2rng!$A$1:$AK$1,0)),\"\")","v":""},"",{"$f":"IFERROR(INDEX(indexdatabase,MATCH($BB38&$AZ$14,name&Group2,0),MATCH(\"SEND\",Sheet2rng!$A$1:$AO$1,0)),\"\")","v":""},{"$f":"IFERROR(INDEX(indexdatabase,MATCH($BB38&$AZ$14,name&Group2,0),MATCH(\"MAT\",Sheet2rng!$A$1:$AO$1,0)),\"\")","v":""},{"$f":"IFERROR(INDEX(indexdatabase,MATCH($BB38&$AZ$14,name&Group2,0),MATCH(\"EAL\",Sheet2rng!$A$1:$AO$1,0)),\"\")","v":""},"","","","    ",{"$nulls":7},"","IFERROR(INDEX(Sheet2rng,MATCH(BA12,sheet2rows,0), MATCH($BB$11,sheet2columns,0)),\"\")",{"$f":"IFERROR(INDEX(indexdatabase,MATCH(BQ38&$AZ$14,name&Group2,0),MATCH(\"PPI\",Sheet2rng!$A$1:$AK$1,0)),\"\")","v":""},{"$f":"IFERROR(SMALL(IF(LEFT(Group2,LEN(Class4!$BA$10))=Class4!$BA$10,ROW(Group2)),ROW(A27)),\"\")","v":""},{"$nulls":4},"",{"$nulls":56},0,"","QUILALA Angela",{"$nulls":5},3,11,"WRIGHT Caitlin",{"$nulls":5},0,"","QUILALA Angela",{"$nulls":5},0,"","QUILALA Angela",{"$nulls":5},0,"","QUILALA Angela",{"$nulls":5},0,"","QUILALA Angela",{"$nulls":51},0,0]
[{"$nulls":12},{"$f":"Sheet2rng!$C$1","v":"Target"},null,{"$f":"Sheet2rng!$E$1","v":"AR"},null,{"$f":"Sheet2rng!$C$1","v":"Target"},null,{"$f":"Sheet2rng!$E$1","v":"AR"},{"$nulls":6},{"$f":"Sheet2rng!$C$1","v":"Target"},null,{"$f":"Sheet2rng!$E$1","v":"AR"},null,{"$f":"Sheet2rng!$C$1","v":"Target"},null,{"$f":"Sheet2rng!$E$1","v":"AR"},{"$nulls":6},{"$f":"Sheet2rng!$C$1","v":"Target"},null,{"$f":"Sheet2rng!$E$1","v":"AR"},null,{"$f":"Sheet2rng!$C$1","v":"Target"},null,{"$f":"Sheet2rng!$E$1","v":"AR"},{"$nulls":7},{"$f":"IFERROR(INDEX(indexdatabase,MATCH(BQ35&$AZ$14,name&Group2,0),MATCH(\"AR\",Sheet2rng!$A$1:$AK$1,0)),\"\")","v":""},"",{"$f":"IFERROR(INDEX(indexdatabase,MATCH($BB39&$AZ$14,name&Group2,0),MATCH(\"SEND\",Sheet2rng!$A$1:$AO$1,0)),\"\")","v":""},{"$f":"IFERROR(INDEX(indexdatabase,MATCH($BB39&$AZ$14,name&Group2,0),MATCH(\"MAT\",Sheet2rng!$A$1:$AO$1,0)),\"\")","v":""},{"$f":"IFERROR(INDEX(indexdatabase,MATCH($BB39&$AZ$14,name&Group2,0),MATCH(\"EAL\",Sheet2rng!$A$1:$AO$1,0)),\"\")","v":""},"","","","    ",{"$nulls":7},"","IFERROR(INDEX(Sheet2rng,MATCH(BA12,sheet2rows,0), MATCH($BB$11,sheet2columns,0)),\"\")",{"$f":"IFERROR(INDEX(indexdatabase,MATCH(BQ39&$AZ$14,name&Group2,0),MATCH(\"PPI\",Sheet2rng!$A$1:$AK$1,0)),\"\")","v":""},{"$f":"IFERROR(SMALL(IF(LEFT(Group2,LEN(Class4!$BA$10))=Class4!$BA$10,ROW(Group2)),ROW(A28)),\"\")","v":""},{"$nulls":4},"",{"$nulls":56},0,"","RIORDAN Robbie",{"$nulls":5},4,20,"ABU Aisha",{"$nulls":5},0,"","RIORDAN Robbie",{"$nulls":5},0,"","RIORDAN Robbie",{"$nulls":5},0,"","RIORDAN Robbie",{"$nulls":5},0,"","RIORDAN Robbie",{"$nulls":51},0,0]
[{"$nulls":12},{"$f":"IFERROR(IF($Y$4=6,\"\",IF($Y$4=7,INDEX(indexdatabase,MATCH(M34&$AZ$14,name&Group2,0),MATCH($N$6,Sheet2rng!$A$1:$AK$1,0)))),\"\")","v":""},null,{"$f":"IFERROR(IF($Y$5=8,\"\",IF($Y$5=9,INDEX(Sheet2rng,MATCH(M34&$AZ$14,name&Group2,0),MATCH($P$6,sheet2columns,0)))),\"\")","v":""},null,{"$f":"IFERROR(IF($Y$4=6,\"\",IF($Y$4=7,INDEX(indexdatabase,MATCH(Q34&$AZ$14,name&Group2,0),MATCH($N$6,Sheet2rng!$A$1:$AK$1,0)))),\"\")","v":""},null,{"$f":"IFERROR(IF($Y$5=8,\"\",IF($Y$5=9,INDEX(Sheet2rng,MATCH(Q34&$AZ$14,name&Group2,0),MATCH($P$6,sheet2columns,0)))),\"\")","v":""},{"$nulls":6},{"$f":"IFERROR(IF($Y$4=6,\"\",IF($Y$4=7,INDEX(indexdatabase,MATCH(Z34&$AZ$14,name&Group2,0),MATCH($N$6,Sheet2rng!$A$1:$AK$1,0)))),\"\")","v":""},null,{"$f":"IFERROR(IF($Y$5=8,\"\",IF($Y$5=9,INDEX(Sheet2rng,MATCH(Z34&$AZ$14,name&Group2,0),MATCH($P$6,sheet2columns,0)))),\"\")","v":""},null,{"$f":"IFERROR(IF($Y$4=6,\"\",IF($Y$4=7,INDEX(indexdatabase,MATCH(AD34&$AZ$14,name&Group2,0),MATCH($N$6,Sheet2rng!$A$1:$AK$1,0)))),\"\")","v":""},null,{"$f":"IFERROR(IF($Y$5=8,\"\",IF($Y$5=9,INDEX(Sheet2rng,MATCH(AD34&$AZ$14,name&Group2,0),MATCH($P$6,sheet2columns,0)))),\"\")","v":""},{"$nulls":6},{"$f":"IFERROR(IF($Y$4=6,\"\",IF($Y$4=7,INDEX(indexdatabase,MATCH(AM34&$AZ$14,name&Group2,0),MATCH($N$6,Sheet2rng!$A$1:$AK$1,0)))),\"\")","v":""},null,{"$f":"IFERROR(IF($Y$5=8,\"\",IF($Y$5=9,INDEX(Sheet2rng,MATCH(AM34&$AZ$14,name&Group2,0),MATCH($P$6,sheet2columns,0)))),\"\")","v":""},null,{"$f":"IFERROR(IF($Y$4=6,\"\",IF($Y$4=7,INDEX(indexdatabase,MATCH(AQ34&$AZ$14,name&Group2,0),MATCH($N$6,Sheet2rng!$A$1:$AK$1,0)))),\"\")","v":""},null,{"$f":"IFERROR(IF($Y$5=8,\"\",IF($Y$5=9,INDEX(Sheet2rng,MATCH(AQ34&$AZ$14,name&Group2,0),MATCH($P$6,sheet2columns,0)))),\"\")","v":""},{"$nulls":7},{"$f":"IFERROR(INDEX(indexdatabase,MATCH(BQ36&$AZ$14,name&Group2,0),MATCH(\"AR\",Sheet2rng!$A$1:$AK$1,0)),\"\")","v":""},"",{"$f":"IFERROR(INDEX(indexdatabase,MATCH($BB40&$AZ$14,name&Group2,0),MATCH(\"SEND\",Sheet2rng!$A$1:$AO$1,0)),\"\")","v":""},{"$f":"IFERROR(INDEX(indexdatabase,MATCH($BB40&$AZ$14,name&Group2,0),MATCH(\"MAT\",Sheet2rng!$A$1:$AO$1,0)),\"\")","v":""},{"$f":"IFERROR(INDEX(indexdatabase,MATCH($BB40&$AZ$14,name&Group2,0),MATCH(\"EAL\",Sheet2rng!$A$1:$AO$1,0)),\"\")","v":""},"","","","    ",{"$nulls":7},"","IFERROR(INDEX(Sheet2rng,MATCH(BA12,sheet2rows,0), MATCH($BB$11,sheet2columns,0)),\"\")",{"$f":"IFERROR(INDEX(indexdatabase,MATCH(BQ40&$AZ$14,name&Group2,0),MATCH(\"PPI\",Sheet2rng!$A$1:$AK$1,0)),\"\")","v":""},{"$f":"IFERROR(SMALL(IF(LEFT(Group2,LEN(Class4!$BA$10))=Class4!$BA$10,ROW(Group2)),ROW(A29)),\"\")","v":""},{"$nulls":4},"",{"$nulls":56},0,"","SAHOTA Callum",{"$nulls":5},4,20,"BLE Grace",{"$nulls":5},0,"","SAHOTA Callum",{"$nulls":5},0,"","SAHOTA Callum",{"$nulls":5},0,"","SAHOTA Callum",{"$nulls":5},0,"","SAHOTA Callum",{"$nulls":51},0,0]
[{"$nulls":12},{"$f":"IFERROR(IF(SEARCH(\"11\",BE50)=1,11),\"\")","v":""},{"$nulls":3},{"$f":"IFERROR(IF(SEARCH(\"11\",BI50)=1,11),\"\")","v":""},{"$nulls":12},{"$f":"IFERROR(IF(SEARCH(\"11\",BV50)=1,11),\"\")","v":""},{"$nulls":8},{"$f":"IFERROR(IF(SEARCH(\"11\",CE50)=1,11),\"\")","v":""},{"$nulls":3},{"$f":"IFERROR(IF(SEARCH(\"11\",CI50)=1,11),\"\")","v":""},{"$nulls":9},{"$f":"IFERROR(INDEX(indexdatabase,MATCH(BQ37&$AZ$14,name&Group2,0),MATCH(\"AR\",Sheet2rng!$A$1:$AK$1,0)),\"\")","v":""},"",{"$f":"IFERROR(INDEX(indexdatabase,MATCH($BB41&$AZ$14,name&Group2,0),MATCH(\"SEND\",Sheet2rng!$A$1:$AO$1,0)),\"\")","v":""},{"$f":"IFERROR(INDEX(indexdatabase,MATCH($BB41&$AZ$14,name&Group2,0),MATCH(\"MAT\",Sheet2rng!$A$1:$AO$1,0)),\"\")","v":""},{"$f":"IFERROR(INDEX(indexdatabase,MATCH($BB41&$AZ$14,name&Group2,0),MATCH(\"EAL\",Sheet2rng!$A$1:$AO$1,0)),\"\")","v":""},"","","","    ",{"$nulls":7},"","IFERROR(INDEX(Sheet2rng,MATCH(BA12,sheet2rows,0), MATCH($BB$11,sheet2columns,0)),\"\")",{"$f":"IFERROR(INDEX(indexdatabase,MATCH(BQ41&$AZ$14,name&Group2,0),MATCH(\"PPI\",Sheet2rng!$A$1:$AK$1,0)),\"\")","v":""},{"$f":"IFERROR(SMALL(IF(LEFT(Group2,LEN(Class4!$BA$10))=Class4!$BA$10,ROW(Group2)),ROW(A30)),\"\")","v":""},{"$nulls":4},"",{"$nulls":56},0,"","SAWYER Cicarna-Lee",{"$nulls":5},4,20,"JAMESON Amy",{"$nulls":5},0,"","SAWYER Cicarna-Lee",{"$nulls":5},0,"","SAWYER Cicarna-Lee",{"$nulls":5},0,"","SAWYER Cicarna-Lee",{"$nulls":5},0,"","SAWYER Cicarna-Lee",{"$nulls":51},0,0]
[{"$nulls":52},{"$f":"IFERROR(INDEX(indexdatabase,MATCH(BQ38&$AZ$14,name&Group2,0),MATCH(\"AR\",Sheet2rng!$A$1:$AK$1,0)),\"\")","v":""},"",{"$f":"IFERROR(INDEX(indexdatabase,MATCH($BB42&$AZ$14,name&Group2,0),MATCH(\"SEND\",Sheet2rng!$A$1:$AO$1,0)),\"\")","v":""},{"$f":"IFERROR(INDEX(indexdatabase,MATCH($BB42&$AZ$14,name&Group2,0),MATCH(\"MAT\",Sheet2rng!$A$1:$AO$1,0)),\"\")","v":""},{"$f":"IFERROR(INDEX(indexdatabase,MATCH($BB42&$AZ$14,name&Group2,0),MATCH(\"EAL\",Sheet2rng!$A$1:$AO$1,0)),\"\")","v":""},"","","","    ",{"$nulls":4},"10a/Pe6",null,null,"","IFERROR(INDEX(Sheet2rng,MATCH(BA12,sheet2rows,0), MATCH($BB$11,sheet2columns,0)),\"\")",{"$f":"IFERROR(INDEX(indexdatabase,MATCH(BQ42&$AZ$14,name&Group2,0),MATCH(\"PPI\",Sheet2rng!$A$1:$AK$1,0)),\"\")","v":""},{"$f":"IFERROR(SMALL(IF(LEFT(Group2,LEN(Class4!$BA$10))=Class4!$BA$10,ROW(Group2)),ROW(A31)),\"\")","v":""},{"$nulls":4},"",{"$nulls":56},0,"","SEHMI Natalie",{"$nulls":5},4,20,"KERWICK Georgie",{"$nulls":5},0,"","SEHMI Natalie",{"$nulls":5},0,"","SEHMI Natalie",{"$nulls":5},0,"","SEHMI Natalie",{"$nulls":5},0,"","SEHMI Natalie",{"$nulls":51},0,0]
[{"$nulls":12},{"$f":"IFERROR(IF($Y$1=1,\"\",VLOOKUP(M41,needstable,8,FALSE)),\"\")","v":"    "},{"$nulls":3},{"$f":"IFERROR(IF($Y$1=1,\"\",VLOOKUP(Q41,needstable,8,FALSE)),\"\")","v":"    "},{"$nulls":8},{"$f":"IFERROR(IF($Y$1=1,\"\",VLOOKUP(Z41,needstable,8,FALSE)),\"\")","v":""},{"$nulls":3},{"$f":"IFERROR(IF($Y$1=1,\"\",VLOOKUP(AD41,needstable,8,FALSE)),\"\")","v":"    "},{"$nulls":8},{"$f":"IFERROR(IF($Y$1=1,\"\",VLOOKUP(AM41,needstable,8,FALSE)),\"\")","v":"    "},{"$nulls":3},{"$f":"IFERROR(IF($Y$1=1,\"\",VLOOKUP(AQ41,needstable,8,FALSE)),\"\")","v":"    "},{"$nulls":9},{"$f":"IFERROR(INDEX(indexdatabase,MATCH(BQ39&$AZ$14,name&Group2,0),MATCH(\"AR\",Sheet2rng!$A$1:$AK$1,0)),\"\")","v":""},"",{"$f":"IFERROR(INDEX(indexdatabase,MATCH($BB43&$AZ$14,name&Group2,0),MATCH(\"SEND\",Sheet2rng!$A$1:$AO$1,0)),\"\")","v":""},{"$f":"IFERROR(INDEX(indexdatabase,MATCH($BB43&$AZ$14,name&Group2,0),MATCH(\"MAT\",Sheet2rng!$A$1:$AO$1,0)),\"\")","v":""},{"$f":"IFERROR(INDEX(indexdatabase,MATCH($BB43&$AZ$14,name&Group2,0),MATCH(\"EAL\",Sheet2rng!$A$1:$AO$1,0)),\"\")","v":""},"","","","    ",{"$nulls":4},"10A/Pg1",null,null,"","IFERROR(INDEX(Sheet2rng,MATCH(BA12,sheet2rows,0), MATCH($BB$11,sheet2columns,0)),\"\")",{"$f":"IFERROR(INDEX(indexdatabase,MATCH(BQ43&$AZ$14,name&Group2,0),MATCH(\"PPI\",Sheet2rng!$A$1:$AK$1,0)),\"\")","v":""},{"$f":"IFERROR(SMALL(IF(LEFT(Group2,LEN(Class4!$BA$10))=Class4!$BA$10,ROW(Group2)),ROW(A32)),\"\")","v":""},{"$nulls":4},"",{"$nulls":56},0,"","SMITH Jade",{"$nulls":5},4,20,"SAWYER Cicarna-Lee",{"$nulls":5},0,"","SMITH Jade",{"$nulls":5},0,"","SMITH Jade",{"$nulls":5},0,"","SMITH Jade",{"$nulls":5},0,"","SMITH Jade",{"$nulls":51},0,0]
[{"$nulls":12},"C/grade",null,{"$f":"Sheet2rng!$D$1","v":"KS2"},null,"C/grade",null,{"$f":"Sheet2rng!$D$1","v":"KS2"},{"$nulls":6},"C/grade",null,{"$f":"Sheet2rng!$D$1","v":"KS2"},null,"C/grade",null,{"$f":"Sheet2rng!$D$1","v":"KS2"},{"$nulls":6},"C/grade",null,{"$f":"Sheet2rng!$D$1","v":"KS2"},null,"C/grade",null,{"$f":"Sheet2rng!$D$1","v":"KS2"},{"$nulls":7},{"$f":"IFERROR(INDEX(indexdatabase,MATCH(BQ40&$AZ$14,name&Group2,0),MATCH(\"AR\",Sheet2rng!$A$1:$AK$1,0)),\"\")","v":""},"",{"$f":"IFERROR(INDEX(indexdatabase,MATCH($BB44&$AZ$14,name&Group2,0),MATCH(\"SEND\",Sheet2rng!$A$1:$AO$1,0)),\"\")","v":""},{"$f":"IFERROR(INDEX(indexdatabase,MATCH($BB44&$AZ$14,name&Group2,0),MATCH(\"MAT\",Sheet2rng!$A$1:$AO$1,0)),\"\")","v":""},{"$f":"IFERROR(INDEX(indexdatabase,MATCH($BB44&$AZ$14,name&Group2,0),MATCH(\"EAL\",Sheet2rng!$A$1:$AO$1,0)),\"\")","v":""},"","","","    ",{"$nulls":4},"10a/Sc1",null,null,"","IFERROR(INDEX(Sheet2rng,MATCH(BA12,sheet2rows,0), MATCH($BB$11,sheet2columns,0)),\"\")",{"$f":"IFERROR(INDEX(indexdatabase,MATCH(BQ44&$AZ$14,name&Group2,0),MATCH(\"PPI\",Sheet2rng!$A$1:$AK$1,0)),\"\")","v":""},{"$f":"IFERROR(SMALL(IF(LEFT(Group2,LEN(Class4!$BA$10))=Class4!$BA$10,ROW(Group2)),ROW(A33)),\"\")","v":""},{"$nulls":61},0,"","SWAN Callum",{"$nulls":5},4,20,"SEHMI Natalie",{"$nulls":5},0,"","SWAN Callum",{"$nulls":5},0,"","SWAN Callum",{"$nulls":5},0,"","SWAN Callum",{"$nulls":5},0,"","SWAN Callum",{"$nulls":51},0,0]
[{"$nulls":12},{"$f":"IFERROR(IF($Y$2=2,\"\",IF($Y$2=3,INDEX(indexdatabase,MATCH(M41&$AZ$14,name&Group2,0),MATCH($AZ$23,Sheet2rng!$A$1:$AK$1,0)))),\"\")","v":""},null,{"$f":"IFERROR(IF($Y$3=4,\"\",IF($Y$3=5,INDEX(indexdatabase,MATCH(M41&$AZ$14,name&Group2,0),MATCH($P$4,Sheet2rng!$A$1:$AK$1,0)))),\"\")","v":""},null,{"$f":"IFERROR(IF($Y$2=2,\"\",IF($Y$2=3,INDEX(indexdatabase,MATCH(Q41&$AZ$14,name&Group2,0),MATCH($AZ$23,Sheet2rng!$A$1:$AK$1,0)))),\"\")","v":""},null,{"$f":"IFERROR(IF($Y$3=4,\"\",IF($Y$3=5,INDEX(indexdatabase,MATCH(Q41&$AZ$14,name&Group2,0),MATCH($P$4,Sheet2rng!$A$1:$AK$1,0)))),\"\")","v":""},{"$nulls":6},{"$f":"IFERROR(IF($Y$2=2,\"\",IF($Y$2=3,INDEX(indexdatabase,MATCH(Z41&$AZ$14,name&Group2,0),MATCH($AZ$23,Sheet2rng!$A$1:$AK$1,0)))),\"\")","v":""},null,{"$f":"IFERROR(IF($Y$3=4,\"\",IF($Y$3=5,INDEX(indexdatabase,MATCH(Z41&$AZ$14,name&Group2,0),MATCH($P$4,Sheet2rng!$A$1:$AK$1,0)))),\"\")","v":""},null,{"$f":"IFERROR(IF($Y$2=2,\"\",IF($Y$2=3,INDEX(indexdatabase,MATCH(AD41&$AZ$14,name&Group2,0),MATCH($AZ$23,Sheet2rng!$A$1:$AK$1,0)))),\"\")","v":""},null,{"$f":"IFERROR(IF($Y$3=4,\"\",IF($Y$3=5,INDEX(indexdatabase,MATCH(AD41&$AZ$14,name&Group2,0),MATCH($P$4,Sheet2rng!$A$1:$AK$1,0)))),\"\")","v":""},{"$nulls":6},{"$f":"IFERROR(IF($Y$2=2,\"\",IF($Y$2=3,INDEX(indexdatabase,MATCH(AM41&$AZ$14,name&Group2,0),MATCH($AZ$23,Sheet2rng!$A$1:$AK$1,0)))),\"\")","v":""},null,{"$f":"IFERROR(IF($Y$3=4,\"\",IF($Y$3=5,INDEX(indexdatabase,MATCH(AM41&$AZ$14,name&Group2,0),MATCH($P$4,Sheet2rng!$A$1:$AK$1,0)))),\"\")","v":""},null,{"$f":"IFERROR(IF($Y$2=2,\"\",IF($Y$2=3,INDEX(indexdatabase,MATCH(AQ41&$AZ$14,name&Group2,0),MATCH($AZ$23,Sheet2rng!$A$1:$AK$1,0)))),\"\")","v":""},null,{"$f":"IFERROR(IF($Y$3=4,\"\",IF($Y$3=5,INDEX(indexdatabase,MATCH(AQ41&$AZ$14,name&Group2,0),MATCH($P$4,Sheet2rng!$A$1:$AK$1,0)))),\"\")","v":""},{"$nulls":7},{"$f":"IFERROR(INDEX(indexdatabase,MATCH(BQ41&$AZ$14,name&Group2,0),MATCH(\"AR\",Sheet2rng!$A$1:$AK$1,0)),\"\")","v":""},"",{"$f":"IFERROR(INDEX(indexdatabase,MATCH($BB45&$AZ$14,name&Group2,0),MATCH(\"SEND\",Sheet2rng!$A$1:$AO$1,0)),\"\")","v":""},{"$f":"IFERROR(INDEX(indexdatabase,MATCH($BB45&$AZ$14,name&Group2,0),MATCH(\"MAT\",Sheet2rng!$A$1:$AO$1,0)),\"\")","v":""},{"$f":"IFERROR(INDEX(indexdatabase,MATCH($BB45&$AZ$14,name&Group2,0),MATCH(\"EAL\",Sheet2rng!$A$1:$AO$1,0)),\"\")","v":""},"","","","    ",{"$nulls":4},"10a/Sc2",null,null,"","IFERROR(INDEX(Sheet2rng,MATCH(BA12,sheet2rows,0), MATCH($BB$11,sheet2columns,0)),\"\")",{"$f":"IFERROR(INDEX(indexdatabase,MATCH(BQ45&$AZ$14,name&Group2,0),MATCH(\"PPI\",Sheet2rng!$A$1:$AK$1,0)),\"\")","v":""},{"$f":"IFERROR(SMALL(IF(LEFT(Group2,LEN(Class4!$BA$10))=Class4!$BA$10,ROW(Group2)),ROW(A34)),\"\")","v":""},{"$nulls":62},"","TURNER Liberty",{"$nulls":6},20,"SWAN Callum",{"$nulls":6},"","TURNER Liberty",{"$nulls":6},"","TURNER Liberty",{"$nulls":6},"","TURNER Liberty",{"$nulls":6},"","TURNER Liberty",{"$nulls":51},0,0]
[{"$nulls":12},{"$f":"Sheet2rng!$C$1","v":"Target"},null,{"$f":"Sheet2rng!$E$1","v":"AR"},null,{"$f":"Sheet2rng!$C$1","v":"Target"},null,{"$f":"Sheet2rng!$E$1","v":"AR"},{"$nulls":6},{"$f":"Sheet2rng!$C$1","v":"Target"},null,{"$f":"Sheet2rng!$E$1","v":"AR"},null,{"$f":"Sheet2rng!$C$1","v":"Target"},null,{"$f":"Sheet2rng!$E$1","v":"AR"},{"$nulls":6},{"$f":"Sheet2rng!$C$1","v":"Target"},null,{"$f":"Sheet2rng!$E$1","v":"AR"},null,{"$f":"Sheet2rng!$C$1","v":"Target"},null,{"$f":"Sheet2rng!$E$1","v":"AR"},{"$nulls":7},{"$f":"IFERROR(INDEX(indexdatabase,MATCH(BQ42&$AZ$14,name&Group2,0),MATCH(\"AR\",Sheet2rng!$A$1:$AK$1,0)),\"\")","v":""},"",{"$f":"IFERROR(INDEX(indexdatabase,MATCH($BB46&$AZ$14,name&Group2,0),MATCH(\"SEND\",Sheet2rng!$A$1:$AO$1,0)),\"\")","v":""},{"$f":"IFERROR(INDEX(indexdatabase,MATCH($BB46&$AZ$14,name&Group2,0),MATCH(\"MAT\",Sheet2rng!$A$1:$AO$1,0)),\"\")","v":""},{"$f":"IFERROR(INDEX(indexdatabase,MATCH($BB46&$AZ$14,name&Group2,0),MATCH(\"EAL\",Sheet2rng!$A$1:$AO$1,0)),\"\")","v":""},"","","","    ",{"$nulls":4},"10a/Sc3",null,null,"","IFERROR(INDEX(Sheet2rng,MATCH(BA12,sheet2rows,0), MATCH($BB$11,sheet2columns,0)),\"\")",{"$f":"IFERROR(INDEX(indexdatabase,MATCH(BQ46&$AZ$14,name&Group2,0),MATCH(\"PPI\",Sheet2rng!$A$1:$AK$1,0)),\"\")","v":""},{"$f":"IFERROR(SMALL(IF(LEFT(Group2,LEN(Class4!$BA$10))=Class4!$BA$10,ROW(Group2)),ROW(A35)),\"\")","v":""},{"$nulls":62},"","WILLIS Demi",{"$nulls":6},20,"WILLIS Demi",{"$nulls":6},"","WILLIS Demi",{"$nulls":6},"","WILLIS Demi",{"$nulls":6},"","WILLIS Demi",{"$nulls":6},"","WILLIS Demi",{"$nulls":51},0,0]
[{"$nulls":12},{"$f":"IFERROR(IF($Y$4=6,\"\",IF($Y$4=7,INDEX(indexdatabase,MATCH(M41&$AZ$14,name&Group2,0),MATCH($N$6,Sheet2rng!$A$1:$AK$1,0)))),\"\")","v":""},null,{"$f":"IFERROR(IF($Y$5=8,\"\",IF($Y$5=9,INDEX(Sheet2rng,MATCH(M41&$AZ$14,name&Group2,0),MATCH($P$6,sheet2columns,0)))),\"\")","v":""},null,{"$f":"IFERROR(IF($Y$4=6,\"\",IF($Y$4=7,INDEX(indexdatabase,MATCH(Q41&$AZ$14,name&Group2,0),MATCH($N$6,Sheet2rng!$A$1:$AK$1,0)))),\"\")","v":""},null,{"$f":"IFERROR(IF($Y$5=8,\"\",IF($Y$5=9,INDEX(Sheet2rng,MATCH(Q41&$AZ$14,name&Group2,0),MATCH($P$6,sheet2columns,0)))),\"\")","v":""},{"$nulls":6},{"$f":"IFERROR(IF($Y$4=6,\"\",IF($Y$4=7,INDEX(indexdatabase,MATCH(Z41&$AZ$14,name&Group2,0),MATCH($N$6,Sheet2rng!$A$1:$AK$1,0)))),\"\")","v":""},null,{"$f":"IFERROR(IF($Y$5=8,\"\",IF($Y$5=9,INDEX(Sheet2rng,MATCH(Z41&$AZ$14,name&Group2,0),MATCH($P$6,sheet2columns,0)))),\"\")","v":""},null,{"$f":"IFERROR(IF($Y$4=6,\"\",IF($Y$4=7,INDEX(indexdatabase,MATCH(AD41&$AZ$14,name&Group2,0),MATCH($N$6,Sheet2rng!$A$1:$AK$1,0)))),\"\")","v":""},null,{"$f":"IFERROR(IF($Y$5=8,\"\",IF($Y$5=9,INDEX(Sheet2rng,MATCH(AD41&$AZ$14,name&Group2,0),MATCH($P$6,sheet2columns,0)))),\"\")","v":""},{"$nulls":6},{"$f":"IFERROR(IF($Y$4=6,\"\",IF($Y$4=7,INDEX(indexdatabase,MATCH(AM41&$AZ$14,name&Group2,0),MATCH($N$6,Sheet2rng!$A$1:$AK$1,0)))),\"\")","v":""},null,{"$f":"IFERROR(IF($Y$5=8,\"\",IF($Y$5=9,INDEX(Sheet2rng,MATCH(AM41&$AZ$14,name&Group2,0),MATCH($P$6,sheet2columns,0)))),\"\")","v":""},null,{"$f":"IFERROR(IF($Y$4=6,\"\",IF($Y$4=7,INDEX(indexdatabase,MATCH(AQ41&$AZ$14,name&Group2,0),MATCH($N$6,Sheet2rng!$A$1:$AK$1,0)))),\"\")","v":""},null,{"$f":"IFERROR(IF($Y$5=8,\"\",IF($Y$5=9,INDEX(Sheet2rng,MATCH(AQ41&$AZ$14,name&Group2,0),MATCH($P$6,sheet2columns,0)))),\"\")","v":""},{"$nulls":7},{"$f":"IFERROR(INDEX(indexdatabase,MATCH(BQ43&$AZ$14,name&Group2,0),MATCH(\"AR\",Sheet2rng!$A$1:$AK$1,0)),\"\")","v":""},null,{"$f":"IFERROR(INDEX(indexdatabase,MATCH($BB47&$AZ$14,name&Group2,0),MATCH(\"SEND\",Sheet2rng!$A$1:$AO$1,0)),\"\")","v":""},{"$f":"IFERROR(INDEX(indexdatabase,MATCH($BB47&$AZ$14,name&Group2,0),MATCH(\"MAT\",Sheet2rng!$A$1:$AO$1,0)),\"\")","v":""},{"$f":"IFERROR(INDEX(indexdatabase,MATCH($BB47&$AZ$14,name&Group2,0),MATCH(\"EAL\",Sheet2rng!$A$1:$AO$1,0)),\"\")","v":""},"","","","    ",{"$nulls":4},"10a/Sc4",null,null,"","IFERROR(INDEX(Sheet2rng,MATCH(BA12,sheet2rows,0), MATCH($BB$11,sheet2columns,0)),\"\")",{"$f":"IFERROR(INDEX(indexdatabase,MATCH(BQ47&$AZ$14,name&Group2,0),MATCH(\"PPI\",Sheet2rng!$A$1:$AK$1,0)),\"\")","v":""},{"$f":"IFERROR(SMALL(IF(LEFT(Group2,LEN(Class4!$BA$10))=Class4!$BA$10,ROW(Group2)),ROW(A36)),\"\")","v":""},{"$nulls":62},"","WRIGHT Caitlin",{"$nulls":6},"","RIORDAN Robbie",{"$nulls":6},"","WRIGHT Caitlin",{"$nulls":6},"","WRIGHT Caitlin",{"$nulls":6},"","WRIGHT Caitlin",{"$nulls":6},"","WRIGHT Caitlin",{"$nulls":51},0,0]
[{"$nulls":12},{"$f":"IFERROR(IF(SEARCH(\"11\",BE57)=1,11),\"\")","v":""},{"$nulls":3},{"$f":"IFERROR(IF(SEARCH(\"11\",BI57)=1,11),\"\")","v":""},{"$nulls":12},{"$f":"IFERROR(IF(SEARCH(\"11\",BV57)=1,11),\"\")","v":""},{"$nulls":8},{"$f":"IFERROR(IF(SEARCH(\"11\",CE57)=1,11),\"\")","v":""},{"$nulls":3},{"$f":"IFERROR(IF(SEARCH(\"11\",CI57)=1,11),\"\")","v":""},{"$nulls":9},{"$f":"IFERROR(INDEX(indexdatabase,MATCH(BQ44&$AZ$14,name&Group2,0),MATCH(\"AR\",Sheet2rng!$A$1:$AK$1,0)),\"\")","v":""},null,{"$f":"IFERROR(INDEX(indexdatabase,MATCH($BB48&$AZ$14,name&Group2,0),MATCH(\"SEND\",Sheet2rng!$A$1:$AO$1,0)),\"\")","v":""},{"$f":"IFERROR(INDEX(indexdatabase,MATCH($BB48&$AZ$14,name&Group2,0),MATCH(\"MAT\",Sheet2rng!$A$1:$AO$1,0)),\"\")","v":""},{"$f":"IFERROR(INDEX(indexdatabase,MATCH($BB48&$AZ$14,name&Group2,0),MATCH(\"EAL\",Sheet2rng!$A$1:$AO$1,0)),\"\")","v":""},"","","",{"$f":"CONCATENATE(BF48,\"  \",BG48,\"  \",BH48)","v":"    "},{"$nulls":4},"10a/Sc5",null,null,"","IFERROR(INDEX(Sheet2rng,MATCH(BA12,sheet2rows,0), MATCH($BB$11,sheet2columns,0)),\"\")",{"$f":"IFERROR(INDEX(indexdatabase,MATCH(BQ48&$AZ$14,name&Group2,0),MATCH(\"PPI\",Sheet2rng!$A$1:$AK$1,0)),\"\")","v":""},{"$f":"IFERROR(SMALL(IF(LEFT(Group2,LEN(Class4!$BA$10))=Class4!$BA$10,ROW(Group2)),ROW(A37)),\"\")","v":""},{"$nulls":62},"","",{"$nulls":6},"","",{"$nulls":6},"","",{"$nulls":6},"","",{"$nulls":6},"","",{"$nulls":6},"","",{"$nulls":51},0,0]
[{"$nulls":65},"10a/Sc6",null,null,"","IFERROR(INDEX(Sheet2rng,MATCH(BA12,sheet2rows,0), MATCH($BB$11,sheet2columns,0)),\"\")",{"$f":"IFERROR(INDEX(indexdatabase,MATCH(BQ49&$AZ$14,name&Group2,0),MATCH(\"PPI\",Sheet2rng!$A$1:$AK$1,0)),\"\")","v":""},{"$f":"IFERROR(SMALL(IF(LEFT(Group2,LEN(Class4!$BA$10))=Class4!$BA$10,ROW(Group2)),ROW(A38)),\"\")","v":""},{"$nulls":155},0,0]
[{"$nulls":12},{"$f":"IFERROR(IF($Y$1=1,\"\",VLOOKUP(M48,needstable,8,FALSE)),\"\")","v":"    "},{"$nulls":3},{"$f":"IFERROR(IF($Y$1=1,\"\",VLOOKUP(Q48,needstable,8,FALSE)),\"\")","v":"    "},{"$nulls":8},{"$f":"IFERROR(IF($Y$1=1,\"\",VLOOKUP(Z48,needstable,8,FALSE)),\"\")","v":""},{"$nulls":3},{"$f":"IFERROR(IF($Y$1=1,\"\",VLOOKUP(AD48,needstable,8,FALSE)),\"\")","v":"    "},{"$nulls":8},{"$f":"IFERROR(IF($Y$1=1,\"\",VLOOKUP(AM48,needstable,8,FALSE)),\"\")","v":"    "},{"$nulls":3},{"$f":"IFERROR(IF($Y$1=1,\"\",VLOOKUP(AQ48,needstable,8,FALSE)),\"\")","v":"    "},{"$nulls":22},"10A/So1",null,null,"","IFERROR(INDEX(Sheet2rng,MATCH(BA12,sheet2rows,0), MATCH($BB$11,sheet2columns,0)),\"\")",{"$f":"IFERROR(INDEX(indexdatabase,MATCH(BQ50&$AZ$14,name&Group2,0),MATCH(\"PPI\",Sheet2rng!$A$1:$AK$1,0)),\"\")","v":""},{"$f":"IFERROR(SMALL(IF(LEFT(Group2,LEN(Class4!$BA$10))=Class4!$BA$10,ROW(Group2)),ROW(A39)),\"\")","v":""},{"$nulls":62},"","",{"$nulls":6},"","",{"$nulls":6},"","",{"$nulls":5},{"$f":"IF(FC50=1,1,IF(FC50=2,2,IF(FC50=FC49,FB49,IF(FC50>FC49,FB49+1))))","v":0},"","",{"$nulls":5},{"$f":"IF(FK50=1,1,IF(FK50=2,2,IF(FK50=FK49,FJ49,IF(FK50>FK49,FJ49+1))))","v":0},"","",{"$nulls":5},{"$f":"IF(FS50=1,1,IF(FS50=2,2,IF(FS50=FS49,FR49,IF(FS50>FS49,FR49+1))))","v":0},"","",{"$nulls":51},0,0]
[{"$nulls":12},"C/grade",null,{"$f":"Sheet2rng!$D$1","v":"KS2"},null,"C/grade",null,{"$f":"Sheet2rng!$D$1","v":"KS2"},{"$nulls":6},"C/grade",null,{"$f":"Sheet2rng!$D$1","v":"KS2"},null,"C/grade",null,{"$f":"Sheet2rng!$D$1","v":"KS2"},{"$nulls":6},"C/grade",null,{"$f":"Sheet2rng!$D$1","v":"KS2"},null,"C/grade",null,{"$f":"Sheet2rng!$D$1","v":"KS2"},{"$nulls":20},"10A/So2",null,null,"","IFERROR(INDEX(Sheet2rng,MATCH(BA12,sheet2rows,0), MATCH($BB$11,sheet2columns,0)),\"\")",{"$f":"IFERROR(INDEX(indexdatabase,MATCH(BQ51&$AZ$14,name&Group2,0),MATCH(\"PPI\",Sheet2rng!$A$1:$AK$1,0)),\"\")","v":""},{"$f":"IFERROR(SMALL(IF(LEFT(Group2,LEN(Class4!$BA$10))=Class4!$BA$10,ROW(Group2)),ROW(A40)),\"\")","v":""},{"$nulls":62},"","",{"$nulls":6},"","",{"$nulls":6},"","",{"$nulls":6},"","",{"$nulls":6},"","",{"$nulls":6},"","",{"$nulls":52},{"$f":"DU370","v":0}]
[{"$nulls":12},{"$f":"IFERROR(IF($Y$2=2,\"\",IF($Y$2=3,INDEX(indexdatabase,MATCH(M48&$AZ$14,name&Group2,0),MATCH($AZ$23,Sheet2rng!$A$1:$AK$1,0)))),\"\")","v":""},null,{"$f":"IFERROR(IF($Y$3=4,\"\",IF($Y$3=5,INDEX(indexdatabase,MATCH(M48&$AZ$14,name&Group2,0),MATCH($P$4,Sheet2rng!$A$1:$AK$1,0)))),\"\")","v":""},null,{"$f":"IFERROR(IF($Y$2=2,\"\",IF($Y$2=3,INDEX(indexdatabase,MATCH(Q48&$AZ$14,name&Group2,0),MATCH($AZ$23,Sheet2rng!$A$1:$AK$1,0)))),\"\")","v":""},null,{"$f":"IFERROR(IF($Y$3=4,\"\",IF($Y$3=5,INDEX(indexdatabase,MATCH(Q48&$AZ$14,name&Group2,0),MATCH($P$4,Sheet2rng!$A$1:$AK$1,0)))),\"\")","v":""},{"$nulls":6},{"$f":"IFERROR(IF($Y$2=2,\"\",IF($Y$2=3,INDEX(indexdatabase,MATCH(Z48&$AZ$14,name&Group2,0),MATCH($AZ$23,Sheet2rng!$A$1:$AK$1,0)))),\"\")","v":""},null,{"$f":"IFERROR(IF($Y$3=4,\"\",IF($Y$3=5,INDEX(indexdatabase,MATCH(Z48&$AZ$14,name&Group2,0),MATCH($P$4,Sheet2rng!$A$1:$AK$1,0)))),\"\")","v":""},null,{"$f":"IFERROR(IF($Y$2=2,\"\",IF($Y$2=3,INDEX(indexdatabase,MATCH(AD48&$AZ$14,name&Group2,0),MATCH($AZ$23,Sheet2rng!$A$1:$AK$1,0)))),\"\")","v":""},null,{"$f":"IFERROR(IF($Y$3=4,\"\",IF($Y$3=5,INDEX(indexdatabase,MATCH(AD48&$AZ$14,name&Group2,0),MATCH($P$4,Sheet2rng!$A$1:$AK$1,0)))),\"\")","v":""},{"$nulls":6},{"$f":"IFERROR(IF($Y$2=2,\"\",IF($Y$2=3,INDEX(indexdatabase,MATCH(AM48&$AZ$14,name&Group2,0),MATCH($AZ$23,Sheet2rng!$A$1:$AK$1,0)))),\"\")","v":""},null,{"$f":"IFERROR(IF($Y$3=4,\"\",IF($Y$3=5,INDEX(indexdatabase,MATCH(AM48&$AZ$14,name&Group2,0),MATCH($P$4,Sheet2rng!$A$1:$AK$1,0)))),\"\")","v":""},null,{"$f":"IFERROR(IF($Y$2=2,\"\",IF($Y$2=3,INDEX(indexdatabase,MATCH(AQ48&$AZ$14,name&Group2,0),MATCH($AZ$23,Sheet2rng!$A$1:$AK$1,0)))),\"\")","v":""},null,{"$f":"IFERROR(IF($Y$3=4,\"\",IF($Y$3=5,INDEX(indexdatabase,MATCH(AQ48&$AZ$14,name&Group2,0),MATCH($P$4,Sheet2rng!$A$1:$AK$1,0)))),\"\")","v":""},{"$nulls":20},"10A/Sp1",null,null,"","IFERROR(INDEX(Sheet2rng,MATCH(BA12,sheet2rows,0), MATCH($BB$11,sheet2columns,0)),\"\")",{"$f":"IFERROR(INDEX(indexdatabase,MATCH(BQ52&$AZ$14,name&Group2,0),MATCH(\"PPI\",Sheet2rng!$A$1:$AK$1,0)),\"\")","v":""},{"$f":"IFERROR(SMALL(IF(LEFT(Group2,LEN(Class4!$BA$10))=Class4!$BA$10,ROW(Group2)),ROW(A41)),\"\")","v":""},{"$nulls":62},"","",{"$nulls":6},"","",{"$nulls":6},"","",{"$nulls":6},"","",{"$nulls":6},"","",{"$nulls":6},"",""]
[{"$nulls":12},{"$f":"Sheet2rng!$C$1","v":"Target"},null,{"$f":"Sheet2rng!$E$1","v":"AR"},null,{"$f":"Sheet2rng!$C$1","v":"Target"},null,{"$f":"Sheet2rng!$E$1","v":"AR"},{"$nulls":6},{"$f":"Sheet2rng!$C$1","v":"Target"},null,{"$f":"Sheet2rng!$E$1","v":"AR"},null,{"$f":"Sheet2rng!$C$1","v":"Target"},null,{"$f":"Sheet2rng!$E$1","v":"AR"},{"$nulls":6},{"$f":"Sheet2rng!$C$1","v":"Target"},null,{"$f":"Sheet2rng!$E$1","v":"AR"},null,{"$f":"Sheet2rng!$C$1","v":"Target"},null,{"$f":"Sheet2rng!$E$1","v":"AR"},{"$nulls":20},"10B/Ab1",null,null,"","IFERROR(INDEX(Sheet2rng,MATCH(BA12,sheet2rows,0), MATCH($BB$11,sheet2columns,0)),\"\")",{"$f":"IFERROR(INDEX(indexdatabase,MATCH(BQ53&$AZ$14,name&Group2,0),MATCH(\"PPI\",Sheet2rng!$A$1:$AK$1,0)),\"\")","v":""},{"$f":"IFERROR(SMALL(IF(LEFT(Group2,LEN(Class4!$BA$10))=Class4!$BA$10,ROW(Group2)),ROW(A42)),\"\")","v":""},{"$nulls":62},"","",{"$nulls":6},"","",{"$nulls":6},"","",{"$nulls":6},"","",{"$nulls":6},"","",{"$nulls":6},"",""]
[{"$nulls":12},{"$f":"IFERROR(IF($Y$4=6,\"\",IF($Y$4=7,INDEX(indexdatabase,MATCH(M48&$AZ$14,name&Group2,0),MATCH($N$6,Sheet2rng!$A$1:$AK$1,0)))),\"\")","v":""},null,{"$f":"IFERROR(IF($Y$5=8,\"\",IF($Y$5=9,INDEX(Sheet2rng,MATCH(M48&$AZ$14,name&Group2,0),MATCH($P$6,sheet2columns,0)))),\"\")","v":""},null,{"$f":"IFERROR(IF($Y$4=6,\"\",IF($Y$4=7,INDEX(indexdatabase,MATCH(Q48&$AZ$14,name&Group2,0),MATCH($N$6,Sheet2rng!$A$1:$AK$1,0)))),\"\")","v":""},null,{"$f":"IFERROR(IF($Y$5=8,\"\",IF($Y$5=9,INDEX(Sheet2rng,MATCH(Q48&$AZ$14,name&Group2,0),MATCH($P$6,sheet2columns,0)))),\"\")","v":""},{"$nulls":6},{"$f":"IFERROR(IF($Y$4=6,\"\",IF($Y$4=7,INDEX(indexdatabase,MATCH(Z48&$AZ$14,name&Group2,0),MATCH($N$6,Sheet2rng!$A$1:$AK$1,0)))),\"\")","v":""},null,{"$f":"IFERROR(IF($Y$5=8,\"\",IF($Y$5=9,INDEX(Sheet2rng,MATCH(Z48&$AZ$14,name&Group2,0),MATCH($P$6,sheet2columns,0)))),\"\")","v":""},null,{"$f":"IFERROR(IF($Y$4=6,\"\",IF($Y$4=7,INDEX(indexdatabase,MATCH(AD48&$AZ$14,name&Group2,0),MATCH($N$6,Sheet2rng!$A$1:$AK$1,0)))),\"\")","v":""},null,{"$f":"IFERROR(IF($Y$5=8,\"\",IF($Y$5=9,INDEX(Sheet2rng,MATCH(AD48&$AZ$14,name&Group2,0),MATCH($P$6,sheet2columns,0)))),\"\")","v":""},{"$nulls":6},{"$f":"IFERROR(IF($Y$4=6,\"\",IF($Y$4=7,INDEX(indexdatabase,MATCH(AM48&$AZ$14,name&Group2,0),MATCH($N$6,Sheet2rng!$A$1:$AK$1,0)))),\"\")","v":""},null,{"$f":"IFERROR(IF($Y$5=8,\"\",IF($Y$5=9,INDEX(Sheet2rng,MATCH(AM48&$AZ$14,name&Group2,0),MATCH($P$6,sheet2columns,0)))),\"\")","v":""},null,{"$f":"IFERROR(IF($Y$4=6,\"\",IF($Y$4=7,INDEX(indexdatabase,MATCH(AQ48&$AZ$14,name&Group2,0),MATCH($N$6,Sheet2rng!$A$1:$AK$1,0)))),\"\")","v":""},null,{"$f":"IFERROR(IF($Y$5=8,\"\",IF($Y$5=9,INDEX(Sheet2rng,MATCH(AQ48&$AZ$14,name&Group2,0),MATCH($P$6,sheet2columns,0)))),\"\")","v":""},{"$nulls":20},"10B/Ad1",null,null,"","IFERROR(INDEX(Sheet2rng,MATCH(BA12,sheet2rows,0), MATCH($BB$11,sheet2columns,0)),\"\")",{"$f":"IFERROR(INDEX(indexdatabase,MATCH(BQ54&$AZ$14,name&Group2,0),MATCH(\"PPI\",Sheet2rng!$A$1:$AK$1,0)),\"\")","v":""},{"$f":"IFERROR(SMALL(IF(LEFT(Group2,LEN(Class4!$BA$10))=Class4!$BA$10,ROW(Group2)),ROW(A43)),\"\")","v":""},{"$nulls":62},"","",{"$nulls":6},"","",{"$nulls":6},"","",{"$nulls":6},"","",{"$nulls":6},"","",{"$nulls":6},"",""]
[{"$nulls":65},"10B/Bu1",null,null,"","IFERROR(INDEX(Sheet2rng,MATCH(BA12,sheet2rows,0), MATCH($BB$11,sheet2columns,0)),\"\")",{"$f":"IFERROR(INDEX(indexdatabase,MATCH(BQ55&$AZ$14,name&Group2,0),MATCH(\"PPI\",Sheet2rng!$A$1:$AK$1,0)),\"\")","v":""},{"$f":"IFERROR(SMALL(IF(LEFT(Group2,LEN(Class4!$BA$10))=Class4!$BA$10,ROW(Group2)),ROW(A44)),\"\")","v":""}]
[{"$nulls":65},"10B/Cs1",null,null,"","IFERROR(INDEX(Sheet2rng,MATCH(BA12,sheet2rows,0), MATCH($BB$11,sheet2columns,0)),\"\")",{"$f":"IFERROR(INDEX(indexdatabase,MATCH(BQ56&$AZ$14,name&Group2,0),MATCH(\"PPI\",Sheet2rng!$A$1:$AK$1,0)),\"\")","v":""},{"$f":"IFERROR(SMALL(IF(LEFT(Group2,LEN(Class4!$BA$10))=Class4!$BA$10,ROW(Group2)),ROW(A45)),\"\")","v":""}]
[{"$nulls":43},"Teacher's table",{"$nulls":21},"10B/Gg1",null,null,"","IFERROR(INDEX(Sheet2rng,MATCH(BA12,sheet2rows,0), MATCH($BB$11,sheet2columns,0)),\"\")",{"$f":"IFERROR(INDEX(indexdatabase,MATCH(BQ57&$AZ$14,name&Group2,0),MATCH(\"PPI\",Sheet2rng!$A$1:$AK$1,0)),\"\")","v":""},{"$f":"IFERROR(SMALL(IF(LEFT(Group2,LEN(Class4!$BA$10))=Class4!$BA$10,ROW(Group2)),ROW(A46)),\"\")","v":""}]
[{"$nulls":65},"10B/Hi1",null,null,"","IFERROR(INDEX(Sheet2rng,MATCH(BA12,sheet2rows,0), MATCH($BB$11,sheet2columns,0)),\"\")",{"$f":"IFERROR(INDEX(indexdatabase,MATCH(BQ58&$AZ$14,name&Group2,0),MATCH(\"PPI\",Sheet2rng!$A$1:$AK$1,0)),\"\")","v":""},{"$f":"IFERROR(SMALL(IF(LEFT(Group2,LEN(Class4!$BA$10))=Class4!$BA$10,ROW(Group2)),ROW(A47)),\"\")","v":""}]
[{"$nulls":65},"10B/Hi2",null,null,"","IFERROR(INDEX(Sheet2rng,MATCH(BA12,sheet2rows,0), MATCH($BB$11,sheet2columns,0)),\"\")",{"$f":"IFERROR(INDEX(indexdatabase,MATCH(BQ59&$AZ$14,name&Group2,0),MATCH(\"PPI\",Sheet2rng!$A$1:$AK$1,0)),\"\")","v":""},{"$f":"IFERROR(SMALL(IF(LEFT(Group2,LEN(Class4!$BA$10))=Class4!$BA$10,ROW(Group2)),ROW(A48)),\"\")","v":""}]
[{"$nulls":65},"10B/It1",null,null,"","IFERROR(INDEX(Sheet2rng,MATCH(BA12,sheet2rows,0), MATCH($BB$11,sheet2columns,0)),\"\")",{"$f":"IFERROR(INDEX(indexdatabase,MATCH(BQ60&$AZ$14,name&Group2,0),MATCH(\"PPI\",Sheet2rng!$A$1:$AK$1,0)),\"\")","v":""},{"$f":"IFERROR(SMALL(IF(LEFT(Group2,LEN(Class4!$BA$10))=Class4!$BA$10,ROW(Group2)),ROW(A49)),\"\")","v":""}]
[{"$nulls":65},"10b/Pe1",null,null,"","IFERROR(INDEX(Sheet2rng,MATCH(BA12,sheet2rows,0), MATCH($BB$11,sheet2columns,0)),\"\")",{"$f":"IFERROR(INDEX(indexdatabase,MATCH(BQ61&$AZ$14,name&Group2,0),MATCH(\"PPI\",Sheet2rng!$A$1:$AK$1,0)),\"\")","v":""},{"$f":"IFERROR(SMALL(IF(LEFT(Group2,LEN(Class4!$BA$10))=Class4!$BA$10,ROW(Group2)),ROW(A50)),\"\")","v":""}]
[{"$nulls":65},"10b/Pe2"]
[{"$nulls":65},"10b/Pe3"]
[{"$nulls":65},"10b/Pe4",{"$nulls":67},{"$f":"IF(EE64=1,1,IF(EE64=2,2,IF(EE64=EE63,ED63,IF(EE64>EE63,ED63+1))))","v":1},1,"ABU Aisha",{"$f":"ED64","v":1},{"$nulls":4},{"$f":"IF(EM64=1,1,IF(EM64=2,2,IF(EM64=EM63,EL63,IF(EM64>EM63,EL63+1))))","v":1},1,"GIBSON James",{"$f":"EL64","v":1},{"$nulls":4},{"$f":"IF(EU64=1,1,IF(EU64=2,2,IF(EU64=EU63,ET63,IF(EU64>EU63,ET63+1))))","v":0},"","ABU Aisha",{"$f":"ET64","v":0},{"$nulls":4},{"$f":"IF(FC64=1,1,IF(FC64=2,2,IF(FC64=FC63,FB63,IF(FC64>FC63,FB63+1))))","v":0},"","ABU Aisha",{"$f":"FB64","v":0},{"$nulls":4},{"$f":"IF(FK64=1,1,IF(FK64=2,2,IF(FK64=FK63,FJ63,IF(FK64>FK63,FJ63+1))))","v":0},"","ABU Aisha",{"$f":"FJ64","v":0},{"$nulls":4},{"$f":"IF(FS64=1,1,IF(FS64=2,2,IF(FS64=FS63,FR63,IF(FS64>FS63,FR63+1))))","v":0},"","ABU Aisha",{"$f":"FR64","v":0}]
[{"$nulls":65},"10B/Pt1"]
[{"$nulls":65},"10B/Pt2"]
[{"$nulls":65},"10B/Ts1"]
[{"$nulls":65},"10bc/En1"]
[{"$nulls":65},"10bc/En2"]
[{"$nulls":65},"10bc/En3"]
[{"$nulls":65},"10bc/En4"]
[{"$nulls":65},"10bc/En5"]
[{"$nulls":65},"10bc/En6"]
[{"$nulls":65},"10bc/En7"]
[{"$nulls":65},"10bc/Ep1"]
[{"$nulls":65},"10bc/Ep2"]
[{"$nulls":65},"10bc/Ep3"]
[{"$nulls":65},"10bc/Ep4"]
[{"$nulls":65},"10bc/Ep5"]
[{"$nulls":65},"10bc/Ep6"]
[{"$nulls":65},"10bc/Ep7"]
[{"$nulls":65},"10bc/Sc1"]
[{"$nulls":65},"10bc/Sc2"]
[{"$nulls":65},"10bc/Sc3"]
[{"$nulls":65},"10bc/Sc4"]
[{"$nulls":65},"10bc/Sc5"]
[{"$nulls":65},"10bc/Sc6"]
[{"$nulls":65},"10bc/Sc7"]
[{"$nulls":65},"10bd/Ma1"]
[{"$nulls":65},"10bd/Ma2"]
[{"$nulls":65},"10bd/Ma3"]
[{"$nulls":65},"10bd/Ma4"]
[{"$nulls":65},"10bd/Ma5"]
[{"$nulls":65},"10bd/Ma6"]
[{"$nulls":65},"10bd/Ma7"]
[{"$nulls":65},"10bd/Ma8"]
[{"$nulls":65},"10C/Be1"]
[{"$nulls":65},"10C/Dr1"]
[{"$nulls":65},"10C/Fr1"]
[{"$nulls":65},"10C/Gg1"]
[{"$nulls":65},"10C/Hi1"]
[{"$nulls":65},"10C/It1"]
[{"$nulls":65},"10C/Pg1"]
[{"$nulls":65},"10C/Rm1"]
[{"$nulls":65},"10C/So1"]
[{"$nulls":65},"10C/Ts1"]
[{"$nulls":65},"10cd/Pe1"]
[{"$nulls":65},"10cd/Pe2"]
[{"$nulls":65},"10cd/Pe3"]
[{"$nulls":65},"10cd/Pe4"]
[{"$nulls":65},"10cd/Pe5"]
[{"$nulls":65},"10D/Be1"]
[{"$nulls":65},"10d/En1"]
[{"$nulls":65},"10D/Gg1"]
[{"$nulls":65},"10D/It1"]
[{"$nulls":65},"10d/Sc1"]
[{"$nulls":65},"10D/So1"]
[{"$nulls":65},"10d/Vo1"]
[{"$nulls":65},"10E/Fc1"]
[{"$nulls":65},"10E/Pb1"]
[{"$nulls":65},"10E/Pb2"]
[{"$nulls":65},"10E/Pt1"]
[{"$nulls":65},"10E/Pt2"]
[{"$nulls":65},"10F/Ab1"]
[{"$nulls":65},"10F/It1"]
[{"$nulls":65},"10F/Rm1"]
[{"$nulls":65},"10F/Tt1"]
[{"$nulls":65},"11A/Cs1"]
[{"$nulls":65},"11A/Dr1"]
[{"$nulls":65},"11A/Ec1"]
[{"$nulls":65},"11a/En1"]
[{"$nulls":65},"11a/En2"]
[{"$nulls":65},"11a/En3"]
[{"$nulls":65},"11a/En4"]
[{"$nulls":65},"11a/En5"]
[{"$nulls":65},"11a/Ep1"]
[{"$nulls":65},"11a/Ep2"]
[{"$nulls":65},"11a/Ep3"]
[{"$nulls":65},"11a/Ep4"]
[{"$nulls":65},"11a/Ep5"]
[{"$nulls":65},"11A/Fr1"]
[{"$nulls":65},"11A/Gg1"]
[{"$nulls":65},"11A/Hi1"]
[{"$nulls":65},"11A/Hi2"]
[{"$nulls":65},"11a/Ma1"]
[{"$nulls":65},"11a/Ma2"]
[{"$nulls":65},"11a/Ma3"]
[{"$nulls":65},"11a/Ma4"]
[{"$nulls":65},"11a/Ma5"]
[{"$nulls":65},"11a/Pe1"]
[{"$nulls":65},"11a/Pe2"]
[{"$nulls":65},"11a/Pe3"]
[{"$nulls":65},"11a/Pe4"]
[{"$nulls":65},"11a/Pe5"]
[{"$nulls":65},"11a/Pe6"]
[{"$nulls":65},"11A/Pg1"]
[{"$nulls":65},"11A/Pg2"]
[{"$nulls":65},"11A/Pt1"]
[{"$nulls":65},"11A/Pt2"]
[{"$nulls":65},"11A/Rm1"]
[{"$nulls":65},"11a/Sc1"]
[{"$nulls":65},"11a/Sc2"]
[{"$nulls":65},"11a/Sc3"]
[{"$nulls":65},"11a/Sc4"]
[{"$nulls":65},"11a/Sc5"]
[{"$nulls":65},"11A/So1"]
[{"$nulls":65},"11B/Ar1"]
[{"$nulls":65},"11B/Bb1"]
[{"$nulls":65},"11B/Bu1"]
[{"$nulls":65},"11B/Cs1"]
[{"$nulls":65},"11B/Dr1"]
[{"$nulls":65},"11B/Gg1"]
[{"$nulls":65},"11B/Hg1"]
[{"$nulls":65},"11B/Hi1"]
[{"$nulls":65},"11b/Pe1"]
[{"$nulls":65},"11b/Pe2"]
[{"$nulls":65},"11b/Pe3"]
[{"$nulls":65},"11b/Pe4"]
[{"$nulls":65},"11B/Pg1"]
[{"$nulls":65},"11B/Pg2"]
[{"$nulls":65},"11B/So1"]
[{"$nulls":65},"11B/Sp1"]
[{"$nulls":65},"11bc/En1"]
[{"$nulls":65},"11bc/En2"]
[{"$nulls":65},"11bc/En3"]
[{"$nulls":65},"11bc/En4"]
[{"$nulls":65},"11bc/En5"]
[{"$nulls":65},"11bc/En6"]
[{"$nulls":65},"11bc/En7"]
[{"$nulls":65},"11bc/Ep1"]
[{"$nulls":65},"11bc/Ep2"]
[{"$nulls":65},"11bc/Ep3"]
[{"$nulls":65},"11bc/Ep4"]
[{"$nulls":65},"11bc/Ep5"]
[{"$nulls":65},"11bc/Ep6"]
[{"$nulls":65},"11bc/Ep7"]
[{"$nulls":65},"11bc/Sc1"]
[{"$nulls":65},"11bc/Sc2"]
[{"$nulls":65},"11bc/Sc3"]
[{"$nulls":65},"11bc/Sc4"]
[{"$nulls":65},"11bc/Sc5"]
[{"$nulls":65},"11bc/Sc6"]
[{"$nulls":65},"11bc/Sc7"]
[{"$nulls":65},"11bd/Ma1"]
[{"$nulls":65},"11bd/Ma2"]
[{"$nulls":65},"11bd/Ma3"]
[{"$nulls":65},"11bd/Ma4"]
[{"$nulls":65},"11bd/Ma5"]
[{"$nulls":65},"11bd/Ma6"]
[{"$nulls":65},"11bd/Ma7"]
[{"$nulls":65},"11bd/Ma8"]
[{"$nulls":65},"11C/Ab1"]
[{"$nulls":65},"11C/Bb1"]
[{"$nulls":65},"11C/Bu1"]
[{"$nulls":65},"11C/Cs1"]
[{"$nulls":65},"11C/Fr1"]
[{"$nulls":65},"11C/Gg1"]
[{"$nulls":65},"11C/Hi1"]
[{"$nulls":65},"11C/Ib1"]
[{"$nulls":65},"11C/It1"]
[{"$nulls":65},"11C/Mu1"]
[{"$nulls":65},"11C/So1"]
[{"$nulls":65},"11cd/Pe1"]
[{"$nulls":65},"11cd/Pe2"]
[{"$nulls":65},"11cd/Pe3"]
[{"$nulls":65},"11cd/Pe4"]
[{"$nulls":65},"11D/Ab1"]
[{"$nulls":65},"11D/Bb1"]
[{"$nulls":65},"11D/Dr1"]
[{"$nulls":65},"11d/En1"]
[{"$nulls":65},"11D/Fc1"]
[{"$nulls":65},"11d/Sc1"]
[{"$nulls":65},"11d/Vo1"]
[{"$nulls":65},"11E/Hi1"]
[{"$nulls":65},"11E/Ib1"]
[{"$nulls":65},"11E/Rm1"]
[{"$nulls":65},"11E/So1"]
[{"$nulls":65},"11F/Bb1"]
[{"$nulls":65},"11F/Fc1"]
[{"$nulls":65},"11F/Ib1"]
[{"$nulls":65},"11F/Pb1"]
[{"$nulls":65},"12A/Ac1"]
[{"$nulls":65},"12A/Ar1"]
[{"$nulls":65},"12A/En1"]
[{"$nulls":65},"12A/Fr1"]
[{"$nulls":65},"12A/Ma1"]
[{"$nulls":65},"12A/Pb1"]
[{"$nulls":65},"12A/Pv1"]
[{"$nulls":65},"12A/Py1"]
[{"$nulls":65},"12A/Sm1"]
[{"$nulls":65},"12A/So1"]
[{"$nulls":65},"12A/Ws1"]
[{"$nulls":65},"12B/Ch1"]
[{"$nulls":65},"12B/Ec1"]
[{"$nulls":65},"12B/It1"]
[{"$nulls":65},"12B/Ms1"]
[{"$nulls":65},"12B/Pb1"]
[{"$nulls":65},"12B/Pb2"]
[{"$nulls":65},"12B/Pi1"]
[{"$nulls":65},"12B/Pv1"]
[{"$nulls":65},"12B/Sm1"]
[{"$nulls":65},"12B/Tt1"]
[{"$nulls":65},"12C/Bb1"]
[{"$nulls":65},"12C/Bi1"]
[{"$nulls":65},"12C/Bu1"]
[{"$nulls":65},"12C/En1"]
[{"$nulls":65},"12C/Hi1"]
[{"$nulls":65},"12C/Pb1"]
[{"$nulls":65},"12C/Pf1"]
[{"$nulls":65},"12C/Pt1"]
[{"$nulls":65},"12C/Pv1"]
[{"$nulls":65},"12D/En1"]
[{"$nulls":65},"12D/It1"]
[{"$nulls":65},"12D/La1"]
[{"$nulls":65},"12D/Ma1"]
[{"$nulls":65},"12D/Pb1"]
[{"$nulls":65},"12D/Pb2"]
[{"$nulls":65},"12D/Pf1"]
[{"$nulls":65},"12D/Pv1"]
[{"$nulls":65},"12D1/Bb1"]
[{"$nulls":65},"12D1/Ma1"]
[{"$nulls":65},"12E/En1"]
[{"$nulls":65},"12E/En2"]
[{"$nulls":65},"12E/Fm1"]
[{"$nulls":65},"12E/Ma1"]
[{"$nulls":65},"12E/Ma2"]
[{"$nulls":65},"12E/Pe1"]
[{"$nulls":65},"12E/Pv1"]
[{"$nulls":65},"12f/En1"]
[{"$nulls":65},"12f/Fb1"]
[{"$nulls":65},"12f/Ma1"]
[{"$nulls":65},"12f/Pb1"]
[{"$nulls":65},"13A/Bb1"]
[{"$nulls":65},"13A/Bu1"]
[{"$nulls":65},"13A/Fs1"]
[{"$nulls":65},"13A/Hi1"]
[{"$nulls":65},"13A/Ma1"]
[{"$nulls":65},"13A/Pe1"]
[{"$nulls":65},"13A/Pf1"]
[{"$nulls":65},"13A/Pv1"]
[{"$nulls":65},"13B/Ac1"]
[{"$nulls":65},"13B/Ar1"]
[{"$nulls":65},"13B/La1"]
[{"$nulls":65},"13B/Pb1"]
[{"$nulls":65},"13B/Pf1"]
[{"$nulls":65},"13B/Pv1"]
[{"$nulls":65},"13B/So1"]
[{"$nulls":65},"13C/En1"]
[{"$nulls":65},"13C/It1"]
[{"$nulls":65},"13C/Pb1"]
[{"$nulls":65},"13C/Pe1"]
[{"$nulls":65},"13C/Pv1"]
[{"$nulls":65},"13C/Tt1"]
[{"$nulls":65},"13D/At1"]
[{"$nulls":65},"13D/Ms1"]
[{"$nulls":65},"13D/Pv1"]
[{"$nulls":65},"13D/Py1"]
[{"$nulls":65},"13E/Bi1"]
[{"$nulls":65},"13E/Ec1"]
[{"$nulls":65},"13E/En1"]
[{"$nulls":65},"13E/Ho1"]
[{"$nulls":65},"13E/Mu1"]
[{"$nulls":65},"13E/Or1"]
[{"$nulls":65},"13E/Pb1"]
[{"$nulls":65},"13E/Pv1"]
[{"$nulls":65},"7a/Ar1"]
[{"$nulls":65},"7a/Ar2"]
[{"$nulls":65},"7a/Ar3"]
[{"$nulls":65},"7a/Dr1"]
[{"$nulls":65},"7a/Dr2"]
[{"$nulls":65},"7a/Dr3"]
[{"$nulls":65},"7a/Dt1"]
[{"$nulls":65},"7a/Dt2"]
[{"$nulls":65},"7a/Dt3"]
[{"$nulls":65},"7a/Dt4"]
[{"$nulls":65},"7a/En1"]
[{"$nulls":65},"7a/En2"]
[{"$nulls":65},"7a/En3"]
[{"$nulls":65},"7a/Ep1"]
[{"$nulls":65},"7a/Ep2"]
[{"$nulls":65},"7a/Ep3"]
[{"$nulls":65},"7a/Fr1"]
[{"$nulls":65},"7a/Fr2"]
[{"$nulls":65},"7a/Gg1"]
[{"$nulls":65},"7a/Gg2"]

{"sheet":"Class5","index":10,"n_rows":345,"n_cols":229,"rows_kept":345,"hidden":true,"merged":[[0,8,1,11],[0,20,0,22],[1,13,1,16],[1,20,1,22],[2,8,2,11],[2,13,2,16],[2,20,2,22],[3,8,3,9],[3,10,3,11],[3,13,3,14],[3,15,3,16],[3,20,3,22],[4,8,4,9],[4,10,4,11],[4,13,4,14],[4,15,4,16],[4,20,4,22],[5,8,5,9],[5,10,5,11],[5,13,5,14],[5,15,5,16],[5,20,5,22],[6,8,6,9],[6,10,6,11],[6,13,6,14],[6,15,6,16],[6,20,6,22],[7,20,7,22],[8,20,8,22],[11,51,12,51],[13,51,14,51],[15,25,16,28],[15,29,16,32],[15,38,16,41],[15,42,16,45],[15,227,15,235],[16,227,16,235],[17,25,17,28],[17,29,17,32],[17,38,17,41],[17,42,17,45],[18,25,18,26],[18,27,18,28],[18,29,18,30],[18,31,18,32],[18,38,18,39],[18,40,18,41],[18,42,18,43],[18,44,18,45],[18,228,18,235],[19,25,19,26],[19,27,19,28],[19,29,19,30],[19,31,19,32],[19,38,19,39],[19,40,19,41],[19,42,19,43],[19,44,19,45],[19,51,21,51],[19,228,19,235],[20,25,20,26],[20,27,20,28],[20,29,20,30],[20,31,20,32],[20,38,20,39],[20,40,20,41],[20,42,20,43],[20,44,20,45],[20,228,20,235],[21,25,21,26],[21,27,21,28],[21,29,21,30],[21,31,21,32],[21,38,21,39],[21,40,21,41],[21,42,21,43],[21,44,21,45],[21,228,21,235],[22,25,23,28],[22,29,23,32],[22,38,23,41],[22,42,23,45],[22,51,23,51],[22,228,22,235],[23,228,23,235],[24,25,24,28],[24,29,24,32],[24,38,24,41],[24,42,24,45],[24,228,24,235],[25,25,25,26],[25,27,25,28],[25,29,25,30],[25,31,25,32],[25,38,25,39],[25,40,25,41],[25,42,25,43],[25,44,25,45],[25,228,25,235],[26,25,26,26],[26,27,26,28],[26,29,26,30],[26,31,26,32],[26,38,26,39],[26,40,26,41],[26,42,26,43],[26,44,26,45],[26,228,26,235],[27,25,27,26],[27,27,27,28],[27,29,27,30],[27,31,27,32],[27,38,27,39],[27,40,27,41],[27,42,27,43],[27,44,27,45],[27,228,27,235],[28,25,28,26],[28,27,28,28],[28,29,28,30],[28,31,28,32],[28,38,28,39],[28,40,28,41],[28,42,28,43],[28,44,28,45],[28,228,28,235],[29,228,29,235],[30,228,30,235],[31,228,31,235],[32,228,32,235],[33,12,34,15],[33,16,34,19],[33,25,34,28],[33,29,34,32],[33,38,34,41],[33,42,34,45],[33,228,33,235],[34,228,34,235],[35,12,35,15],[35,16,35,19],[35,25,35,28],[35,29,35,32],[35,38,35,41],[35,42,35,45],[35,228,35,235],[36,12,36,13],[36,14,36,15],[36,16,36,17],[36,18,36,19],[36,25,36,26],[36,27,36,28],[36,29,36,30],[36,31,36,32],[36,38,36,39],[36,40,36,41],[36,42,36,43],[36,44,36,45],[36,228,36,235],[37,12,37,13],[37,14,37,15],[37,16,37,17],[37,18,37,19],[37,25,37,26],[37,27,37,28],[37,29,37,30],[37,31,37,32],[37,38,37,39],[37,40,37,41],[37,42,37,43],[37,44,37,45],[37,228,37,235],[38,12,38,13],[38,14,38,15],[38,16,38,17],[38,18,38,19],[38,25,38,26],[38,27,38,28],[38,29,38,30],[38,31,38,32],[38,38,38,39],[38,40,38,41],[38,42,38,43],[38,44,38,45],[38,228,38,235],[39,12,39,13],[39,14,39,15],[39,16,39,17],[39,18,39,19],[39,25,39,26],[39,27,39,28],[39,29,39,30],[39,31,39,32],[39,38,39,39],[39,40,39,41],[39,42,39,43],[39,44,39,45],[39,228,39,235],[40,12,41,15],[40,16,41,19],[40,25,41,28],[40,29,41,32],[40,38,41,41],[40,42,41,45],[40,228,40,235],[41,228,41,235],[42,12,42,15],[42,16,42,19],[42,25,42,28],[42,29,42,32],[42,38,42,41],[42,42,42,45],[42,228,42,235],[43,12,43,13],[43,14,43,15],[43,16,43,17],[43,18,43,19],[43,25,43,26],[43,27,43,28],[43,29,43,30],[43,31,43,32],[43,38,43,39],[43,40,43,41],[43,42,43,43],[43,44,43,45],[43,228,43,235],[44,12,44,13],[44,14,44,15],[44,16,44,17],[44,18,44,19],[44,25,44,26],[44,27,44,28],[44,29,44,30],[44,31,44,32],[44,38,44,39],[44,40,44,41],[44,42,44,43],[44,44,44,45],[44,228,44,235],[45,12,45,13],[45,14,45,15],[45,16,45,17],[45,18,45,19],[45,25,45,26],[45,27,45,28],[45,29,45,30],[45,31,45,32],[45,38,45,39],[45,40,45,41],[45,42,45,43],[45,44,45,45],[45,228,45,235],[46,12,46,13],[46,14,46,15],[46,16,46,17],[46,18,46,19],[46,25,46,26],[46,27,46,28],[46,29,46,30],[46,31,46,32],[46,38,46,39],[46,40,46,41],[46,42,46,43],[46,44,46,45],[46,228,46,235],[47,12,48,15],[47,16,48,19],[47,25,48,28],[47,29,48,32],[47,38,48,41],[47,42,48,45],[47,228,47,235],[48,228,48,235],[49,12,49,15],[49,16,49,19],[49,25,49,28],[49,29,49,32],[49,38,49,41],[49,42,49,45],[49,228,49,235],[50,12,50,13],[50,14,50,15],[50,16,50,17],[50,18,50,19],[50,25,50,26],[50,27,50,28],[50,29,50,30],[50,31,50,32],[50,38,50,39],[50,40,50,41],[50,42,50,43],[50,44,50,45],[50,228,50,235],[51,12,51,13],[51,14,51,15],[51,16,51,17],[51,18,51,19],[51,25,51,26],[51,27,51,28],[51,29,51,30],[51,31,51,32],[51,38,51,39],[51,40,51,41],[51,42,51,43],[51,44,51,45],[51,228,51,235],[52,12,52,13],[52,14,52,15],[52,16,52,17],[52,18,52,19],[52,25,52,26],[52,27,52,28],[52,29,52,30],[52,31,52,32],[52,38,52,39],[52,40,52,41],[52,42,52,43],[52,44,52,45],[53,12,53,13],[53,14,53,15],[53,16,53,17],[53,18,53,19],[53,25,53,26],[53,27,53,28],[53,29,53,30],[53,31,53,32],[53,38,53,39],[53,40,53,41],[53,42,53,43],[53,44,53,45],[56,43,59,48],[74,18,76,25],[74,26,76,29],[154,18,156,25],[154,26,156,29],[253,18,255,25],[253,26,255,29],[339,18,341,25],[339,26,341,29],[444,18,446,25],[444,26,446,29],[551,18,553,25],[551,26,553,29],[662,18,664,25],[662,26,664,29],[728,18,730,25],[728,26,730,29],[815,19,817,26],[815,27,817,30],[914,19,916,26],[914,27,916,30],[1000,19,1002,26],[1000,27,1002,30],[1105,19,1107,26],[1105,27,1107,30],[1212,19,1214,26],[1212,27,1214,30],[1323,19,1325,26],[1323,27,1325,30]]}
[{"$f":"Main!H2","v":"SPR 1"},0,1,null,{"$f":"IFERROR(IF(SEARCH(\"7\",BA10)=1,7),\"\")","v":""},{"$f":"IFERROR(IF(SEARCH(\"8\",BA10)=1,8),\"\")","v":8},{"$f":"IFERROR(IF(SEARCH(\"9\",BA10)=1,9),\"\")","v":""},{"$f":"IFERROR(IF(SEARCH(\"10\",BA10)=1,10),\"\")","v":""},{"$f":"IFERROR(IF(SEARCH(\"11\",BA10)=1,11),\"\")","v":""},{"$nulls":3},64,{"$f":"IF(ISODD(M1),\"Disable Table Creation\",\"Enable Table Creation\")","v":"Enable Table Creation"},1,{"$nulls":5},"hide/show needs",null,null,"0to1",0,{"$nulls":29},"Aut 1",{"$nulls":13},"Classlist",{"$nulls":7},"Classlist",{"$nulls":11},"Classlist"]
[{"$nulls":20},"hide/show c/grade",null,null,"2to3",3,{"$nulls":29},"Aut 2",{"$nulls":13},"Classlist",{"$nulls":7},"Classlist",{"$nulls":11},"Classlist"]
[null,null,{"$f":"MATCH(I2&$AZ$14,name&Group2,0)","v":{"$error":"#N/A"}},{"$nulls":5},{"$f":"IFERROR(IF($Y$1=1,\"\",VLOOKUP(I1,needstable,8,FALSE)),\"\")","v":"    "},{"$nulls":4},"",{"$nulls":6},"hide/show KS2",null,null,"4to5",5,{"$nulls":29},"Spr 1",{"$nulls":13},"Classlist",{"$nulls":7},"Classlist",{"$nulls":11},"Classlist"]
[{"$nulls":8},"C/grade",null,{"$f":"Sheet2rng!$D$1","v":"KS2"},null,null,"C/grade",null,"KS2",{"$nulls":4},"hide/show target",null,null,"6to7",7,{"$nulls":29},"Spr 2",{"$nulls":13},"Classlist",{"$nulls":7},"Classlist",{"$nulls":11},"Classlist"]
[{"$nulls":8},{"$f":"IFERROR(IF($Y$2=2,\"\",IF($Y$2=3,INDEX(indexdatabase,MATCH(I1&$AZ$14,name&Group2,0),MATCH($AZ$23,Sheet2rng!$A$1:$AK$1,0)))),\"\")","v":""},null,{"$f":"IFERROR(IF($Y$3=4,\"\",IF($Y$3=5,INDEX(indexdatabase,MATCH(I1&$AZ$14,name&Group2,0),MATCH($P$4,Sheet2rng!$A$1:$AK$1,0)))),\"\")","v":""},null,null,"",null,"",{"$nulls":4},"hide/show AR",null,null,"8to9",9,{"$nulls":29},"Sum 1",{"$nulls":13},"Classlist",{"$nulls":7},"Classlist",{"$nulls":11},"Classlist"]
[{"$nulls":8},{"$f":"Sheet2rng!$C$1","v":"Target"},null,{"$f":"Sheet2rng!$E$1","v":"AR"},null,null,"Target",null,"AR",{"$nulls":38},"Sum 2",{"$nulls":13},"Classlist",{"$nulls":7},"Classlist",{"$nulls":11},"Classlist"]
[{"$nulls":8},{"$f":"IFERROR(IF($Y$4=6,\"\",IF($Y$4=7,INDEX(indexdatabase,MATCH(I1&$AZ$14,name&Group2,0),MATCH($N$6,Sheet2rng!$A$1:$AK$1,0)))),\"\")","v":""},null,{"$f":"IFERROR(IF($Y$5=8,\"\",IF($Y$5=9,INDEX(Sheet2rng,MATCH(I1&$AZ$14,name&Group2,0),MATCH($P$6,sheet2columns,0)))),\"\")","v":""},null,null,"",null,"",{"$nulls":52},"Classlist",{"$nulls":7},"Classlist",{"$nulls":11},"Classlist"]
[{"$nulls":68},"Classlist",{"$nulls":7},"Classlist",{"$nulls":11},"Classlist"]
[{"$nulls":11},{"$f":"AZ23","v":"SPR 1"},{"$nulls":56},"Classlist",{"$nulls":7},"Classlist",null,{"$f":"IFERROR(INDEX(indexdatabase,MATCH(I2&$AZ$14,name&Group2,0),MATCH($A$1,Sheet2rng!$F$1:$K$1,0)+27),\"\")","v":""},{"$f":"IF(OR(AZ27=\"Aut 1\",AZ27=\"Aut 2\",AZ27=\"Spr 1\"),1,2)","v":1},{"$f":"IF(AZ4018=\"Sum 2\",3,\"\")","v":""},{"$f":"IFERROR(INDEX(Sheet2rng!$A$1:$AK$2500,MATCH(I2&AZ14,Sheet2rng!$A$1:$A$2500&Sheet2rng!$B$1:$B$28,0),MATCH(\"Target\",Sheet2rng!$A$1:$AK$1,0)),\"\")","v":""},{"$nulls":6},"Classlist"]
[{"$nulls":52},{"$f":"AZ14","v":"8-RE"},{"$nulls":15},"Classlist",{"$nulls":7},"Classlist",null,{"$f":"CONCATENATE(I2,AZ14)","v":"8-RE"},{"$nulls":9},"Classlist"]
[{"$nulls":52},"Class","FSM","PPI",{"$nulls":13},"Classlist",null,"PPI",{"$nulls":5},"Classlist",{"$nulls":11},"Classlist"]
[{"$nulls":51},"Select class",{"$nulls":13},"11B/So1",null,null,{"$f":"IF($BA$10=\"\",\"\",IFERROR(INDEX(name,BT12,1),\"\"))","v":"Beth"},"IFERROR(INDEX(Sheet2rng,MATCH(BA12,sheet2rows,0), MATCH($BB$11,sheet2columns,0)),\"\")",{"$f":"IFERROR(INDEX(indexdatabase,MATCH(BQ12&$AZ$14,name&Group2,0),MATCH(\"PPI\",Sheet2rng!$A$1:$AK$1,0)),\"\")","v":0},{"$f":"IFERROR(SMALL(IF(LEFT(Group2,LEN(Class5!$BA$10))=Class5!$BA$10,ROW(Group2)),ROW(A1)),\"\")","v":10},{"$nulls":4},"HILL Gretchen",{"$nulls":11},"Beth"]
[{"$nulls":65},"11A/So1",null,null,"Jerome","IFERROR(INDEX(Sheet2rng,MATCH(BA12,sheet2rows,0), MATCH($BB$11,sheet2columns,0)),\"\")",{"$f":"IFERROR(INDEX(indexdatabase,MATCH(BQ13&$AZ$14,name&Group2,0),MATCH(\"PPI\",Sheet2rng!$A$1:$AK$1,0)),\"\")","v":0},{"$f":"IFERROR(SMALL(IF(LEFT(Group2,LEN(Class5!$BA$10))=Class5!$BA$10,ROW(Group2)),ROW(A2)),\"\")","v":12},{"$nulls":4},"MCLAUGHLIN Dolores",{"$nulls":11},"Jerome"]
[{"$nulls":51},"8-RE",{"$nulls":13},"11P/So1",null,null,"Dwight","IFERROR(INDEX(Sheet2rng,MATCH(BA12,sheet2rows,0), MATCH($BB$11,sheet2columns,0)),\"\")",{"$f":"IFERROR(INDEX(indexdatabase,MATCH(BQ14&$AZ$14,name&Group2,0),MATCH(\"PPI\",Sheet2rng!$A$1:$AK$1,0)),\"\")","v":0},{"$f":"IFERROR(SMALL(IF(LEFT(Group2,LEN(Class5!$BA$10))=Class5!$BA$10,ROW(Group2)),ROW(A3)),\"\")","v":22},{"$nulls":4},"STEELE Eric",{"$nulls":11},"Dwight"]
[{"$nulls":54},"SEND","MAT","EAL","SEND/","MAT/","EAL/",{"$nulls":5},"11Q/So1",null,null,"Stephanie","IFERROR(INDEX(Sheet2rng,MATCH(BA12,sheet2rows,0), MATCH($BB$11,sheet2columns,0)),\"\")",{"$f":"IFERROR(INDEX(indexdatabase,MATCH(BQ15&$AZ$14,name&Group2,0),MATCH(\"PPI\",Sheet2rng!$A$1:$AK$1,0)),\"\")","v":"Y"},{"$f":"IFERROR(SMALL(IF(LEFT(Group2,LEN(Class5!$BA$10))=Class5!$BA$10,ROW(Group2)),ROW(A4)),\"\")","v":23},{"$nulls":4},"VICK Franklin",{"$nulls":11},"Stephanie"]
[{"$nulls":29},{"$f":"IFERROR(IF(SEARCH(\"11\",BV25)=1,11),\"\")","v":""},{"$nulls":8},{"$f":"IFERROR(IF(SEARCH(\"11\",CE25)=1,11),\"\")","v":""},{"$nulls":3},"Dwight",{"$nulls":9},{"$f":"IFERROR(INDEX(indexdatabase,MATCH(BQ12&$AZ$14,name&Group2,0),MATCH(\"AR\",Sheet2rng!$A$1:$AK$1,0)),\"\")","v":0},{"$f":"BQ12","v":"Beth"},{"$f":"IFERROR(INDEX(indexdatabase,MATCH($BB16&$AZ$14,name&Group2,0),MATCH(\"SEND\",Sheet2rng!$A$1:$AO$1,0)),\"\")","v":0},{"$f":"IFERROR(INDEX(indexdatabase,MATCH($BB16&$AZ$14,name&Group2,0),MATCH(\"MAT\",Sheet2rng!$A$1:$AO$1,0)),\"\")","v":0},{"$f":"IFERROR(INDEX(indexdatabase,MATCH($BB16&$AZ$14,name&Group2,0),MATCH(\"EAL\",Sheet2rng!$A$1:$AO$1,0)),\"\")","v":"NOT/kn"},{"$f":"IF($BC16=0,\"\",IF($BC16=\"\",\"\",IF($BC16=\"N\",\"\",$BF$15&$BC16)))","v":""},{"$f":"IF($BD16=0,\"\",IF($BD16=\"\",\"\",IF($BD16=\"N\",\"\",$BG$15&$BD16)))","v":""},{"$f":"IF($BE16=0,\"\",IF($BE16=\"\",\"\",IF($BE16=\"N\",\"\",$BH$15&$BE16)))","v":"EAL/NOT/kn"},{"$f":"CONCATENATE(BF16,\"  \",BG16,\"  \",BH16)","v":"    EAL/NOT/kn"},{"$nulls":4},"11B/So2",null,null,"Jerome","IFERROR(INDEX(Sheet2rng,MATCH(BA12,sheet2rows,0), MATCH($BB$11,sheet2columns,0)),\"\")",{"$f":"IFERROR(INDEX(indexdatabase,MATCH(BQ16&$AZ$14,name&Group2,0),MATCH(\"PPI\",Sheet2rng!$A$1:$AK$1,0)),\"\")","v":0},{"$f":"IFERROR(SMALL(IF(LEFT(Group2,LEN(Class5!$BA$10))=Class5!$BA$10,ROW(Group2)),ROW(A5)),\"\")","v":26},{"$nulls":4},"GOLDSTEIN Gretchen",{"$nulls":11},"Jerome",{"$nulls":138},{"$f":"BA10","v":"8-RE"}]
[{"$nulls":52},{"$f":"IFERROR(INDEX(indexdatabase,MATCH(BQ13&$AZ$14,name&Group2,0),MATCH(\"AR\",Sheet2rng!$A$1:$AK$1,0)),\"\")","v":0},{"$f":"BQ13","v":"Jerome"},{"$f":"IFERROR(INDEX(indexdatabase,MATCH($BB17&$AZ$14,name&Group2,0),MATCH(\"SEND\",Sheet2rng!$A$1:$AO$1,0)),\"\")","v":0},{"$f":"IFERROR(INDEX(indexdatabase,MATCH($BB17&$AZ$14,name&Group2,0),MATCH(\"MAT\",Sheet2rng!$A$1:$AO$1,0)),\"\")","v":0},{"$f":"IFERROR(INDEX(indexdatabase,MATCH($BB17&$AZ$14,name&Group2,0),MATCH(\"EAL\",Sheet2rng!$A$1:$AO$1,0)),\"\")","v":"OTH"},{"$f":"IF($BC17=0,\"\",IF($BC17=\"\",\"\",IF($BC17=\"N\",\"\",$BF$15&$BC17)))","v":""},{"$f":"IF($BD17=0,\"\",IF($BD17=\"\",\"\",IF($BD17=\"N\",\"\",$BG$15&$BD17)))","v":""},{"$f":"IF($BE17=0,\"\",IF($BE17=\"\",\"\",IF($BE17=\"N\",\"\",$BH$15&$BE17)))","v":"EAL/OTH"},{"$f":"CONCATENATE(BF17,\"  \",BG17,\"  \",BH17)","v":"    EAL/OTH"},{"$nulls":7},"Shirley","IFERROR(INDEX(Sheet2rng,MATCH(BA12,sheet2rows,0), MATCH($BB$11,sheet2columns,0)),\"\")",{"$f":"IFERROR(INDEX(indexdatabase,MATCH(BQ17&$AZ$14,name&Group2,0),MATCH(\"PPI\",Sheet2rng!$A$1:$AK$1,0)),\"\")","v":"Y"},{"$f":"IFERROR(SMALL(IF(LEFT(Group2,LEN(Class5!$BA$10))=Class5!$BA$10,ROW(Group2)),ROW(A6)),\"\")","v":41},{"$nulls":4},"MANGUM Patricia",{"$nulls":11},"Shirley",{"$nulls":138},"Progress since AUT1"]
[{"$nulls":25},{"$f":"IFERROR(IF($Y$1=1,\"\",VLOOKUP(Z16,needstable,8,FALSE)),\"\")","v":""},{"$nulls":3},{"$f":"IFERROR(IF($Y$1=1,\"\",VLOOKUP(AD16,needstable,8,FALSE)),\"\")","v":"    "},{"$nulls":8},{"$f":"IFERROR(IF($Y$1=1,\"\",VLOOKUP(AM16,needstable,8,FALSE)),\"\")","v":"    "},{"$nulls":3},{"$f":"IFERROR(IF($Y$1=1,\"\",VLOOKUP(AQ16,needstable,8,FALSE)),\"\")","v":"    EAL/NOT/kn"},{"$nulls":9},{"$f":"IFERROR(INDEX(indexdatabase,MATCH(BQ14&$AZ$14,name&Group2,0),MATCH(\"AR\",Sheet2rng!$A$1:$AK$1,0)),\"\")","v":0},"Dwight",{"$f":"IFERROR(INDEX(indexdatabase,MATCH($BB18&$AZ$14,name&Group2,0),MATCH(\"SEND\",Sheet2rng!$A$1:$AO$1,0)),\"\")","v":0},{"$f":"IFERROR(INDEX(indexdatabase,MATCH($BB18&$AZ$14,name&Group2,0),MATCH(\"MAT\",Sheet2rng!$A$1:$AO$1,0)),\"\")","v":0},{"$f":"IFERROR(INDEX(indexdatabase,MATCH($BB18&$AZ$14,name&Group2,0),MATCH(\"EAL\",Sheet2rng!$A$1:$AO$1,0)),\"\")","v":"NOT/kn"},"","","EAL/NOT/kn","    EAL/NOT/kn",{"$nulls":7},"Arlene","IFERROR(INDEX(Sheet2rng,MATCH(BA12,sheet2rows,0), MATCH($BB$11,sheet2columns,0)),\"\")",{"$f":"IFERROR(INDEX(indexdatabase,MATCH(BQ18&$AZ$14,name&Group2,0),MATCH(\"PPI\",Sheet2rng!$A$1:$AK$1,0)),\"\")","v":"Y"},{"$f":"IFERROR(SMALL(IF(LEFT(Group2,LEN(Class5!$BA$10))=Class5!$BA$10,ROW(Group2)),ROW(A7)),\"\")","v":55},{"$nulls":4},"MERRITT Shirley",{"$nulls":11},"Arlene"]
[{"$nulls":25},"C/grade",null,{"$f":"Sheet2rng!$D$1","v":"KS2"},null,"C/grade",null,{"$f":"Sheet2rng!$D$1","v":"KS2"},{"$nulls":6},"C/grade",null,{"$f":"Sheet2rng!$D$1","v":"KS2"},null,"C/grade",null,{"$f":"Sheet2rng!$D$1","v":"KS2"},{"$nulls":7},{"$f":"IFERROR(INDEX(indexdatabase,MATCH(BQ15&$AZ$14,name&Group2,0),MATCH(\"AR\",Sheet2rng!$A$1:$AK$1,0)),\"\")","v":0},"Stephanie",{"$f":"IFERROR(INDEX(indexdatabase,MATCH($BB19&$AZ$14,name&Group2,0),MATCH(\"SEND\",Sheet2rng!$A$1:$AO$1,0)),\"\")","v":"K"},{"$f":"IFERROR(INDEX(indexdatabase,MATCH($BB19&$AZ$14,name&Group2,0),MATCH(\"MAT\",Sheet2rng!$A$1:$AO$1,0)),\"\")","v":0},{"$f":"IFERROR(INDEX(indexdatabase,MATCH($BB19&$AZ$14,name&Group2,0),MATCH(\"EAL\",Sheet2rng!$A$1:$AO$1,0)),\"\")","v":"ENG"},"SEND/K","","EAL/ENG","SEND/K    EAL/ENG",{"$nulls":7},"Lynne","IFERROR(INDEX(Sheet2rng,MATCH(BA12,sheet2rows,0), MATCH($BB$11,sheet2columns,0)),\"\")",{"$f":"IFERROR(INDEX(indexdatabase,MATCH(BQ19&$AZ$14,name&Group2,0),MATCH(\"PPI\",Sheet2rng!$A$1:$AK$1,0)),\"\")","v":"Y"},{"$f":"IFERROR(SMALL(IF(LEFT(Group2,LEN(Class5!$BA$10))=Class5!$BA$10,ROW(Group2)),ROW(A8)),\"\")","v":62},{"$nulls":4},"MORGAN Glenda",{"$nulls":11},"Lynne",{"$nulls":138},{"$f":"DT338","v":0},0]
[{"$nulls":25},{"$f":"IFERROR(IF($Y$2=2,\"\",IF($Y$2=3,INDEX(indexdatabase,MATCH(Z16&$AZ$14,name&Group2,0),MATCH($AZ$23,Sheet2rng!$A$1:$AK$1,0)))),\"\")","v":""},null,{"$f":"IFERROR(IF($Y$3=4,\"\",IF($Y$3=5,INDEX(indexdatabase,MATCH(Z16&$AZ$14,name&Group2,0),MATCH($P$4,Sheet2rng!$A$1:$AK$1,0)))),\"\")","v":""},null,{"$f":"IFERROR(IF($Y$2=2,\"\",IF($Y$2=3,INDEX(indexdatabase,MATCH(AD16&$AZ$14,name&Group2,0),MATCH($AZ$23,Sheet2rng!$A$1:$AK$1,0)))),\"\")","v":""},null,{"$f":"IFERROR(IF($Y$3=4,\"\",IF($Y$3=5,INDEX(indexdatabase,MATCH(AD16&$AZ$14,name&Group2,0),MATCH($P$4,Sheet2rng!$A$1:$AK$1,0)))),\"\")","v":""},{"$nulls":6},{"$f":"IFERROR(IF($Y$2=2,\"\",IF($Y$2=3,INDEX(indexdatabase,MATCH(AM16&$AZ$14,name&Group2,0),MATCH($AZ$23,Sheet2rng!$A$1:$AK$1,0)))),\"\")","v":""},null,{"$f":"IFERROR(IF($Y$3=4,\"\",IF($Y$3=5,INDEX(indexdatabase,MATCH(AM16&$AZ$14,name&Group2,0),MATCH($P$4,Sheet2rng!$A$1:$AK$1,0)))),\"\")","v":""},null,{"$f":"IFERROR(IF($Y$2=2,\"\",IF($Y$2=3,INDEX(indexdatabase,MATCH(AQ16&$AZ$14,name&Group2,0),MATCH($AZ$23,Sheet2rng!$A$1:$AK$1,0)))),\"\")","v":"3+"},null,{"$f":"IFERROR(IF($Y$3=4,\"\",IF($Y$3=5,INDEX(indexdatabase,MATCH(AQ16&$AZ$14,name&Group2,0),MATCH($P$4,Sheet2rng!$A$1:$AK$1,0)))),\"\")","v":0},{"$nulls":6},"Assessment period",{"$f":"IFERROR(INDEX(indexdatabase,MATCH(BQ16&$AZ$14,name&Group2,0),MATCH(\"AR\",Sheet2rng!$A$1:$AK$1,0)),\"\")","v":0},"Jerome",{"$f":"IFERROR(INDEX(indexdatabase,MATCH($BB20&$AZ$14,name&Group2,0),MATCH(\"SEND\",Sheet2rng!$A$1:$AO$1,0)),\"\")","v":0},{"$f":"IFERROR(INDEX(indexdatabase,MATCH($BB20&$AZ$14,name&Group2,0),MATCH(\"MAT\",Sheet2rng!$A$1:$AO$1,0)),\"\")","v":0},{"$f":"IFERROR(INDEX(indexdatabase,MATCH($BB20&$AZ$14,name&Group2,0),MATCH(\"EAL\",Sheet2rng!$A$1:$AO$1,0)),\"\")","v":"OTH"},"","","EAL/OTH","    EAL/OTH",{"$nulls":7},"Steve","IFERROR(INDEX(Sheet2rng,MATCH(BA12,sheet2rows,0), MATCH($BB$11,sheet2columns,0)),\"\")",{"$f":"IFERROR(INDEX(indexdatabase,MATCH(BQ20&$AZ$14,name&Group2,0),MATCH(\"PPI\",Sheet2rng!$A$1:$AK$1,0)),\"\")","v":"Y"},{"$f":"IFERROR(SMALL(IF(LEFT(Group2,LEN(Class5!$BA$10))=Class5!$BA$10,ROW(Group2)),ROW(A9)),\"\")","v":66},{"$nulls":4},"RICH Jessica",{"$nulls":11},"Steve",{"$nulls":44},{"$f":"IF(EE20=1,1,IF(EE20=2,2,IF(EE20=EE19,ED19,IF(EE20>EE19,ED19+1))))","v":0},"","ABU Aisha",{"$nulls":5},{"$f":"IF(EM20=1,1,IF(EM20=2,2,IF(EM20=EM19,EL19,IF(EM20>EM19,EL19+1))))","v":1},1,"CHATTEN Zoe",{"$nulls":5},{"$f":"IF(EU20=1,1,IF(EU20=2,2,IF(EU20=EU19,ET19,IF(EU20>EU19,ET19+1))))","v":0},"","ABU Aisha",{"$nulls":5},{"$f":"IF(FC20=1,1,IF(FC20=2,2,IF(FC20=FC19,FB19,IF(FC20>FC19,FB19+1))))","v":0},"","ABU Aisha",{"$nulls":5},{"$f":"IF(FK20=1,1,IF(FK20=2,2,IF(FK20=FK19,FJ19,IF(FK20>FK19,FJ19+1))))","v":0},"","ABU Aisha",{"$nulls":5},{"$f":"IF(FS20=1,1,IF(FS20=2,2,IF(FS20=FS19,FR19,IF(FS20>FS19,FR19+1))))","v":0},"","ABU Aisha",{"$nulls":51},0,0]
[{"$nulls":25},{"$f":"Sheet2rng!$C$1","v":"Target"},null,{"$f":"Sheet2rng!$E$1","v":"AR"},null,{"$f":"Sheet2rng!$C$1","v":"Target"},null,{"$f":"Sheet2rng!$E$1","v":"AR"},{"$nulls":6},{"$f":"Sheet2rng!$C$1","v":"Target"},null,{"$f":"Sheet2rng!$E$1","v":"AR"},null,{"$f":"Sheet2rng!$C$1","v":"Target"},null,{"$f":"Sheet2rng!$E$1","v":"AR"},{"$nulls":7},{"$f":"IFERROR(INDEX(indexdatabase,MATCH(BQ17&$AZ$14,name&Group2,0),MATCH(\"AR\",Sheet2rng!$A$1:$AK$1,0)),\"\")","v":0},"Shirley",{"$f":"IFERROR(INDEX(indexdatabase,MATCH($BB21&$AZ$14,name&Group2,0),MATCH(\"SEND\",Sheet2rng!$A$1:$AO$1,0)),\"\")","v":0},{"$f":"IFERROR(INDEX(indexdatabase,MATCH($BB21&$AZ$14,name&Group2,0),MATCH(\"MAT\",Sheet2rng!$A$1:$AO$1,0)),\"\")","v":0},{"$f":"IFERROR(INDEX(indexdatabase,MATCH($BB21&$AZ$14,name&Group2,0),MATCH(\"EAL\",Sheet2rng!$A$1:$AO$1,0)),\"\")","v":"NOT/kn"},"","","EAL/NOT/kn","    EAL/NOT/kn",{"$nulls":7},"Kelly","IFERROR(INDEX(Sheet2rng,MATCH(BA12,sheet2rows,0), MATCH($BB$11,sheet2columns,0)),\"\")",{"$f":"IFERROR(INDEX(indexdatabase,MATCH(BQ21&$AZ$14,name&Group2,0),MATCH(\"PPI\",Sheet2rng!$A$1:$AK$1,0)),\"\")","v":0},{"$f":"IFERROR(SMALL(IF(LEFT(Group2,LEN(Class5!$BA$10))=Class5!$BA$10,ROW(Group2)),ROW(A10)),\"\")","v":68},{"$nulls":4},"HINTON Luis",{"$nulls":11},"Kelly",{"$nulls":44},{"$f":"IF(EE21=1,1,IF(EE21=2,2,IF(EE21=EE20,ED20,IF(EE21>EE20,ED20+1))))","v":0},"","ALFORD Harry",{"$nulls":5},{"$f":"IF(EM21=1,1,IF(EM21=2,2,IF(EM21=EM20,EL20,IF(EM21>EM20,EL20+1))))","v":2},2,"ALFORD Harry",{"$nulls":5},{"$f":"IF(EU21=1,1,IF(EU21=2,2,IF(EU21=EU20,ET20,IF(EU21>EU20,ET20+1))))","v":0},"","ALFORD Harry",{"$nulls":5},{"$f":"IF(FC21=1,1,IF(FC21=2,2,IF(FC21=FC20,FB20,IF(FC21>FC20,FB20+1))))","v":0},"","ALFORD Harry",{"$nulls":5},{"$f":"IF(FK21=1,1,IF(FK21=2,2,IF(FK21=FK20,FJ20,IF(FK21>FK20,FJ20+1))))","v":0},"","ALFORD Harry",{"$nulls":5},{"$f":"IF(FS21=1,1,IF(FS21=2,2,IF(FS21=FS20,FR20,IF(FS21>FS20,FR20+1))))","v":0},"","ALFORD Harry",{"$nulls":51},0,0]
[{"$nulls":25},{"$f":"IFERROR(IF($Y$4=6,\"\",IF($Y$4=7,INDEX(indexdatabase,MATCH(Z16&$AZ$14,name&Group2,0),MATCH($N$6,Sheet2rng!$A$1:$AK$1,0)))),\"\")","v":""},null,{"$f":"IFERROR(IF($Y$5=8,\"\",IF($Y$5=9,INDEX(Sheet2rng,MATCH(Z16&$AZ$14,name&Group2,0),MATCH($P$6,sheet2columns,0)))),\"\")","v":""},null,{"$f":"IFERROR(IF($Y$4=6,\"\",IF($Y$4=7,INDEX(indexdatabase,MATCH(AD16&$AZ$14,name&Group2,0),MATCH($N$6,Sheet2rng!$A$1:$AK$1,0)))),\"\")","v":""},null,{"$f":"IFERROR(IF($Y$5=8,\"\",IF($Y$5=9,INDEX(Sheet2rng,MATCH(AD16&$AZ$14,name&Group2,0),MATCH($P$6,sheet2columns,0)))),\"\")","v":""},{"$nulls":6},{"$f":"IFERROR(IF($Y$4=6,\"\",IF($Y$4=7,INDEX(indexdatabase,MATCH(AM16&$AZ$14,name&Group2,0),MATCH($N$6,Sheet2rng!$A$1:$AK$1,0)))),\"\")","v":""},null,{"$f":"IFERROR(IF($Y$5=8,\"\",IF($Y$5=9,INDEX(Sheet2rng,MATCH(AM16&$AZ$14,name&Group2,0),MATCH($P$6,sheet2columns,0)))),\"\")","v":""},null,{"$f":"IFERROR(IF($Y$4=6,\"\",IF($Y$4=7,INDEX(indexdatabase,MATCH(AQ16&$AZ$14,name&Group2,0),MATCH($N$6,Sheet2rng!$A$1:$AK$1,0)))),\"\")","v":"3+"},null,{"$f":"IFERROR(IF($Y$5=8,\"\",IF($Y$5=9,INDEX(Sheet2rng,MATCH(AQ16&$AZ$14,name&Group2,0),MATCH($P$6,sheet2columns,0)))),\"\")","v":0},{"$nulls":7},{"$f":"IFERROR(INDEX(indexdatabase,MATCH(BQ18&$AZ$14,name&Group2,0),MATCH(\"AR\",Sheet2rng!$A$1:$AK$1,0)),\"\")","v":0},"Arlene",{"$f":"IFERROR(INDEX(indexdatabase,MATCH($BB22&$AZ$14,name&Group2,0),MATCH(\"SEND\",Sheet2rng!$A$1:$AO$1,0)),\"\")","v":0},{"$f":"IFERROR(INDEX(indexdatabase,MATCH($BB22&$AZ$14,name&Group2,0),MATCH(\"MAT\",Sheet2rng!$A$1:$AO$1,0)),\"\")","v":0},{"$f":"IFERROR(INDEX(indexdatabase,MATCH($BB22&$AZ$14,name&Group2,0),MATCH(\"EAL\",Sheet2rng!$A$1:$AO$1,0)),\"\")","v":"OTH"},"","","EAL/OTH","    EAL/OTH",{"$nulls":7},"Roberta","IFERROR(INDEX(Sheet2rng,MATCH(BA12,sheet2rows,0), MATCH($BB$11,sheet2columns,0)),\"\")",{"$f":"IFERROR(INDEX(indexdatabase,MATCH(BQ22&$AZ$14,name&Group2,0),MATCH(\"PPI\",Sheet2rng!$A$1:$AK$1,0)),\"\")","v":0},{"$f":"IFERROR(SMALL(IF(LEFT(Group2,LEN(Class5!$BA$10))=Class5!$BA$10,ROW(Group2)),ROW(A11)),\"\")","v":90},{"$nulls":4},"PARKS Gary",{"$nulls":11},"Roberta",{"$nulls":44},0,"","BAKER Lucy",{"$nulls":5},2,2,"DONNELLY Kirsten",{"$nulls":5},0,"","BAKER Lucy",{"$nulls":5},0,"","BAKER Lucy",{"$nulls":5},0,"","BAKER Lucy",{"$nulls":5},0,"","BAKER Lucy",{"$nulls":51},0,0]
[{"$nulls":29},{"$f":"IFERROR(IF(SEARCH(\"11\",BV32)=1,11),\"\")","v":""},{"$nulls":8},{"$f":"IFERROR(IF(SEARCH(\"11\",CE32)=1,11),\"\")","v":""},{"$nulls":3},{"$f":"IFERROR(IF(SEARCH(\"11\",CI32)=1,11),\"\")","v":""},{"$nulls":8},"SPR 1",{"$f":"IFERROR(INDEX(indexdatabase,MATCH(BQ19&$AZ$14,name&Group2,0),MATCH(\"AR\",Sheet2rng!$A$1:$AK$1,0)),\"\")","v":0},"Lynne",{"$f":"IFERROR(INDEX(indexdatabase,MATCH($BB23&$AZ$14,name&Group2,0),MATCH(\"SEND\",Sheet2rng!$A$1:$AO$1,0)),\"\")","v":"K"},{"$f":"IFERROR(INDEX(indexdatabase,MATCH($BB23&$AZ$14,name&Group2,0),MATCH(\"MAT\",Sheet2rng!$A$1:$AO$1,0)),\"\")","v":0},{"$f":"IFERROR(INDEX(indexdatabase,MATCH($BB23&$AZ$14,name&Group2,0),MATCH(\"EAL\",Sheet2rng!$A$1:$AO$1,0)),\"\")","v":"OTH"},"SEND/K","","EAL/OTH","SEND/K    EAL/OTH",{"$nulls":7},"Beth","IFERROR(INDEX(Sheet2rng,MATCH(BA12,sheet2rows,0), MATCH($BB$11,sheet2columns,0)),\"\")",{"$f":"IFERROR(INDEX(indexdatabase,MATCH(BQ23&$AZ$14,name&Group2,0),MATCH(\"PPI\",Sheet2rng!$A$1:$AK$1,0)),\"\")","v":0},{"$f":"IFERROR(SMALL(IF(LEFT(Group2,LEN(Class5!$BA$10))=Class5!$BA$10,ROW(Group2)),ROW(A12)),\"\")","v":95},{"$nulls":4},"ABRAMS Patricia",{"$nulls":11},"Beth",{"$nulls":44},0,"","BAVERSTOCK Adam",{"$nulls":5},2,2,"DOWN Keiran",{"$nulls":5},0,"","BAVERSTOCK Adam",{"$nulls":5},0,"","BAVERSTOCK Adam",{"$nulls":5},0,"","BAVERSTOCK Adam",{"$nulls":5},0,"","BAVERSTOCK Adam",{"$nulls":51},0,0]
[{"$nulls":52},{"$f":"IFERROR(INDEX(indexdatabase,MATCH(BQ20&$AZ$14,name&Group2,0),MATCH(\"AR\",Sheet2rng!$A$1:$AK$1,0)),\"\")","v":0},"Steve",{"$f":"IFERROR(INDEX(indexdatabase,MATCH($BB24&$AZ$14,name&Group2,0),MATCH(\"SEND\",Sheet2rng!$A$1:$AO$1,0)),\"\")","v":0},{"$f":"IFERROR(INDEX(indexdatabase,MATCH($BB24&$AZ$14,name&Group2,0),MATCH(\"MAT\",Sheet2rng!$A$1:$AO$1,0)),\"\")","v":0},{"$f":"IFERROR(INDEX(indexdatabase,MATCH($BB24&$AZ$14,name&Group2,0),MATCH(\"EAL\",Sheet2rng!$A$1:$AO$1,0)),\"\")","v":"ENG"},"","","EAL/ENG","    EAL/ENG",{"$nulls":7},"Dianne","IFERROR(INDEX(Sheet2rng,MATCH(BA12,sheet2rows,0), MATCH($BB$11,sheet2columns,0)),\"\")",{"$f":"IFERROR(INDEX(indexdatabase,MATCH(BQ24&$AZ$14,name&Group2,0),MATCH(\"PPI\",Sheet2rng!$A$1:$AK$1,0)),\"\")","v":0},{"$f":"IFERROR(SMALL(IF(LEFT(Group2,LEN(Class5!$BA$10))=Class5!$BA$10,ROW(Group2)),ROW(A13)),\"\")","v":100},{"$nulls":4},"TILLEY Jennifer",{"$nulls":11},"Dianne",{"$nulls":44},0,"","BLE Grace",{"$nulls":5},2,2,"HARRIS Christian",{"$nulls":5},0,"","BLE Grace",{"$nulls":5},0,"","BLE Grace",{"$nulls":5},0,"","BLE Grace",{"$nulls":5},0,"","BLE Grace",{"$nulls":51},0,0]
[{"$nulls":25},{"$f":"IFERROR(IF($Y$1=1,\"\",VLOOKUP(Z23,needstable,8,FALSE)),\"\")","v":""},{"$nulls":3},{"$f":"IFERROR(IF($Y$1=1,\"\",VLOOKUP(AD23,needstable,8,FALSE)),\"\")","v":"    "},{"$nulls":8},{"$f":"IFERROR(IF($Y$1=1,\"\",VLOOKUP(AM23,needstable,8,FALSE)),\"\")","v":"    "},{"$nulls":3},{"$f":"IFERROR(IF($Y$1=1,\"\",VLOOKUP(AQ23,needstable,8,FALSE)),\"\")","v":"    "},{"$nulls":9},{"$f":"IFERROR(INDEX(indexdatabase,MATCH(BQ21&$AZ$14,name&Group2,0),MATCH(\"AR\",Sheet2rng!$A$1:$AK$1,0)),\"\")","v":0},"Kelly",{"$f":"IFERROR(INDEX(indexdatabase,MATCH($BB25&$AZ$14,name&Group2,0),MATCH(\"SEND\",Sheet2rng!$A$1:$AO$1,0)),\"\")","v":0},{"$f":"IFERROR(INDEX(indexdatabase,MATCH($BB25&$AZ$14,name&Group2,0),MATCH(\"MAT\",Sheet2rng!$A$1:$AO$1,0)),\"\")","v":0},{"$f":"IFERROR(INDEX(indexdatabase,MATCH($BB25&$AZ$14,name&Group2,0),MATCH(\"EAL\",Sheet2rng!$A$1:$AO$1,0)),\"\")","v":"OTH"},"","","EAL/OTH","    EAL/OTH",{"$nulls":7},"Jeff","IFERROR(INDEX(Sheet2rng,MATCH(BA12,sheet2rows,0), MATCH($BB$11,sheet2columns,0)),\"\")",{"$f":"IFERROR(INDEX(indexdatabase,MATCH(BQ25&$AZ$14,name&Group2,0),MATCH(\"PPI\",Sheet2rng!$A$1:$AK$1,0)),\"\")","v":"Y"},{"$f":"IFERROR(SMALL(IF(LEFT(Group2,LEN(Class5!$BA$10))=Class5!$BA$10,ROW(Group2)),ROW(A14)),\"\")","v":102},{"$nulls":4},"SUMNER Vincent",{"$nulls":11},"Jeff",{"$nulls":44},0,"","CHATTEN Zoe",{"$nulls":5},2,2,"MURPHY Shannon",{"$nulls":5},0,"","CHATTEN Zoe",{"$nulls":5},0,"","CHATTEN Zoe",{"$nulls":5},0,"","CHATTEN Zoe",{"$nulls":5},0,"","CHATTEN Zoe",{"$nulls":51},0,0]
[{"$nulls":25},"C/grade",null,{"$f":"Sheet2rng!$D$1","v":"KS2"},null,"C/grade",null,{"$f":"Sheet2rng!$D$1","v":"KS2"},{"$nulls":6},"C/grade",null,{"$f":"Sheet2rng!$D$1","v":"KS2"},null,"C/grade",null,{"$f":"Sheet2rng!$D$1","v":"KS2"},{"$nulls":7},{"$f":"IFERROR(INDEX(indexdatabase,MATCH(BQ22&$AZ$14,name&Group2,0),MATCH(\"AR\",Sheet2rng!$A$1:$AK$1,0)),\"\")","v":0},"Roberta",{"$f":"IFERROR(INDEX(indexdatabase,MATCH($BB26&$AZ$14,name&Group2,0),MATCH(\"SEND\",Sheet2rng!$A$1:$AO$1,0)),\"\")","v":0},{"$f":"IFERROR(INDEX(indexdatabase,MATCH($BB26&$AZ$14,name&Group2,0),MATCH(\"MAT\",Sheet2rng!$A$1:$AO$1,0)),\"\")","v":0},{"$f":"IFERROR(INDEX(indexdatabase,MATCH($BB26&$AZ$14,name&Group2,0),MATCH(\"EAL\",Sheet2rng!$A$1:$AO$1,0)),\"\")","v":"OTH"},"","","EAL/OTH","    EAL/OTH",{"$nulls":7},"Beth","IFERROR(INDEX(Sheet2rng,MATCH(BA12,sheet2rows,0), MATCH($BB$11,sheet2columns,0)),\"\")",{"$f":"IFERROR(INDEX(indexdatabase,MATCH(BQ26&$AZ$14,name&Group2,0),MATCH(\"PPI\",Sheet2rng!$A$1:$AK$1,0)),\"\")","v":0},{"$f":"IFERROR(SMALL(IF(LEFT(Group2,LEN(Class5!$BA$10))=Class5!$BA$10,ROW(Group2)),ROW(A15)),\"\")","v":112},{"$nulls":4},"BYRNE Danny",{"$nulls":11},"Beth",{"$nulls":44},0,"","CHEEMA Gurvinder",{"$nulls":5},2,2,"PIDDINGTON Ellie",{"$nulls":5},0,"","CHEEMA Gurvinder",{"$nulls":5},0,"","CHEEMA Gurvinder",{"$nulls":5},0,"","CHEEMA Gurvinder",{"$nulls":5},0,"","CHEEMA Gurvinder",{"$nulls":51},0,0]
[{"$nulls":25},{"$f":"IFERROR(IF($Y$2=2,\"\",IF($Y$2=3,INDEX(indexdatabase,MATCH(Z23&$AZ$14,name&Group2,0),MATCH($AZ$23,Sheet2rng!$A$1:$AK$1,0)))),\"\")","v":""},null,{"$f":"IFERROR(IF($Y$3=4,\"\",IF($Y$3=5,INDEX(indexdatabase,MATCH(Z23&$AZ$14,name&Group2,0),MATCH($P$4,Sheet2rng!$A$1:$AK$1,0)))),\"\")","v":""},null,{"$f":"IFERROR(IF($Y$2=2,\"\",IF($Y$2=3,INDEX(indexdatabase,MATCH(AD23&$AZ$14,name&Group2,0),MATCH($AZ$23,Sheet2rng!$A$1:$AK$1,0)))),\"\")","v":""},null,{"$f":"IFERROR(IF($Y$3=4,\"\",IF($Y$3=5,INDEX(indexdatabase,MATCH(AD23&$AZ$14,name&Group2,0),MATCH($P$4,Sheet2rng!$A$1:$AK$1,0)))),\"\")","v":""},{"$nulls":6},{"$f":"IFERROR(IF($Y$2=2,\"\",IF($Y$2=3,INDEX(indexdatabase,MATCH(AM23&$AZ$14,name&Group2,0),MATCH($AZ$23,Sheet2rng!$A$1:$AK$1,0)))),\"\")","v":""},null,{"$f":"IFERROR(IF($Y$3=4,\"\",IF($Y$3=5,INDEX(indexdatabase,MATCH(AM23&$AZ$14,name&Group2,0),MATCH($P$4,Sheet2rng!$A$1:$AK$1,0)))),\"\")","v":""},null,{"$f":"IFERROR(IF($Y$2=2,\"\",IF($Y$2=3,INDEX(indexdatabase,MATCH(AQ23&$AZ$14,name&Group2,0),MATCH($AZ$23,Sheet2rng!$A$1:$AK$1,0)))),\"\")","v":""},null,{"$f":"IFERROR(IF($Y$3=4,\"\",IF($Y$3=5,INDEX(indexdatabase,MATCH(AQ23&$AZ$14,name&Group2,0),MATCH($P$4,Sheet2rng!$A$1:$AK$1,0)))),\"\")","v":""},{"$nulls":6},{"$f":"AZ23","v":"SPR 1"},{"$f":"IFERROR(INDEX(indexdatabase,MATCH(BQ23&$AZ$14,name&Group2,0),MATCH(\"AR\",Sheet2rng!$A$1:$AK$1,0)),\"\")","v":0},"Beth",{"$f":"IFERROR(INDEX(indexdatabase,MATCH($BB27&$AZ$14,name&Group2,0),MATCH(\"SEND\",Sheet2rng!$A$1:$AO$1,0)),\"\")","v":0},{"$f":"IFERROR(INDEX(indexdatabase,MATCH($BB27&$AZ$14,name&Group2,0),MATCH(\"MAT\",Sheet2rng!$A$1:$AO$1,0)),\"\")","v":0},{"$f":"IFERROR(INDEX(indexdatabase,MATCH($BB27&$AZ$14,name&Group2,0),MATCH(\"EAL\",Sheet2rng!$A$1:$AO$1,0)),\"\")","v":"NOT/kn"},"","","EAL/NOT/kn","    EAL/NOT/kn",{"$nulls":7},"Hazel","IFERROR(INDEX(Sheet2rng,MATCH(BA12,sheet2rows,0), MATCH($BB$11,sheet2columns,0)),\"\")",{"$f":"IFERROR(INDEX(indexdatabase,MATCH(BQ27&$AZ$14,name&Group2,0),MATCH(\"PPI\",Sheet2rng!$A$1:$AK$1,0)),\"\")","v":"Y"},{"$f":"IFERROR(SMALL(IF(LEFT(Group2,LEN(Class5!$BA$10))=Class5!$BA$10,ROW(Group2)),ROW(A16)),\"\")","v":137},{"$nulls":4},"ROBERTSON Martha",{"$nulls":11},"Hazel",{"$nulls":44},0,"","DONNELLY Kirsten",{"$nulls":5},2,2,"QUILALA Angela",{"$nulls":5},0,"","DONNELLY Kirsten",{"$nulls":5},0,"","DONNELLY Kirsten",{"$nulls":5},0,"","DONNELLY Kirsten",{"$nulls":5},0,"","DONNELLY Kirsten",{"$nulls":51},0,0]
[{"$nulls":25},{"$f":"Sheet2rng!$C$1","v":"Target"},null,{"$f":"Sheet2rng!$E$1","v":"AR"},null,{"$f":"Sheet2rng!$C$1","v":"Target"},null,{"$f":"Sheet2rng!$E$1","v":"AR"},{"$nulls":6},{"$f":"Sheet2rng!$C$1","v":"Target"},null,{"$f":"Sheet2rng!$E$1","v":"AR"},null,{"$f":"Sheet2rng!$C$1","v":"Target"},null,{"$f":"Sheet2rng!$E$1","v":"AR"},{"$nulls":7},{"$f":"IFERROR(INDEX(indexdatabase,MATCH(BQ24&$AZ$14,name&Group2,0),MATCH(\"AR\",Sheet2rng!$A$1:$AK$1,0)),\"\")","v":0},"Dianne",{"$f":"IFERROR(INDEX(indexdatabase,MATCH($BB28&$AZ$14,name&Group2,0),MATCH(\"SEND\",Sheet2rng!$A$1:$AO$1,0)),\"\")","v":0},{"$f":"IFERROR(INDEX(indexdatabase,MATCH($BB28&$AZ$14,name&Group2,0),MATCH(\"MAT\",Sheet2rng!$A$1:$AO$1,0)),\"\")","v":0},{"$f":"IFERROR(INDEX(indexdatabase,MATCH($BB28&$AZ$14,name&Group2,0),MATCH(\"EAL\",Sheet2rng!$A$1:$AO$1,0)),\"\")","v":"OTH"},"","","EAL/OTH","    EAL/OTH",{"$nulls":7},"Vincent","IFERROR(INDEX(Sheet2rng,MATCH(BA12,sheet2rows,0), MATCH($BB$11,sheet2columns,0)),\"\")",{"$f":"IFERROR(INDEX(indexdatabase,MATCH(BQ28&$AZ$14,name&Group2,0),MATCH(\"PPI\",Sheet2rng!$A$1:$AK$1,0)),\"\")","v":0},{"$f":"IFERROR(SMALL(IF(LEFT(Group2,LEN(Class5!$BA$10))=Class5!$BA$10,ROW(Group2)),ROW(A17)),\"\")","v":139},{"$nulls":4},"PALMER Jack",{"$nulls":11},"Vincent",{"$nulls":44},0,"","DOWN Keiran",{"$nulls":5},2,2,"SMITH Jade",{"$nulls":5},0,"","DOWN Keiran",{"$nulls":5},0,"","DOWN Keiran",{"$nulls":5},0,"","DOWN Keiran",{"$nulls":5},0,"","DOWN Keiran",{"$nulls":51},0,0]
[{"$nulls":25},{"$f":"IFERROR(IF($Y$4=6,\"\",IF($Y$4=7,INDEX(indexdatabase,MATCH(Z23&$AZ$14,name&Group2,0),MATCH($N$6,Sheet2rng!$A$1:$AK$1,0)))),\"\")","v":""},null,{"$f":"IFERROR(IF($Y$5=8,\"\",IF($Y$5=9,INDEX(Sheet2rng,MATCH(Z23&$AZ$14,name&Group2,0),MATCH($P$6,sheet2columns,0)))),\"\")","v":""},null,{"$f":"IFERROR(IF($Y$4=6,\"\",IF($Y$4=7,INDEX(indexdatabase,MATCH(AD23&$AZ$14,name&Group2,0),MATCH($N$6,Sheet2rng!$A$1:$AK$1,0)))),\"\")","v":""},null,{"$f":"IFERROR(IF($Y$5=8,\"\",IF($Y$5=9,INDEX(Sheet2rng,MATCH(AD23&$AZ$14,name&Group2,0),MATCH($P$6,sheet2columns,0)))),\"\")","v":""},{"$nulls":6},{"$f":"IFERROR(IF($Y$4=6,\"\",IF($Y$4=7,INDEX(indexdatabase,MATCH(AM23&$AZ$14,name&Group2,0),MATCH($N$6,Sheet2rng!$A$1:$AK$1,0)))),\"\")","v":""},null,{"$f":"IFERROR(IF($Y$5=8,\"\",IF($Y$5=9,INDEX(Sheet2rng,MATCH(AM23&$AZ$14,name&Group2,0),MATCH($P$6,sheet2columns,0)))),\"\")","v":""},null,{"$f":"IFERROR(IF($Y$4=6,\"\",IF($Y$4=7,INDEX(indexdatabase,MATCH(AQ23&$AZ$14,name&Group2,0),MATCH($N$6,Sheet2rng!$A$1:$AK$1,0)))),\"\")","v":""},null,{"$f":"IFERROR(IF($Y$5=8,\"\",IF($Y$5=9,INDEX(Sheet2rng,MATCH(AQ23&$AZ$14,name&Group2,0),MATCH($P$6,sheet2columns,0)))),\"\")","v":""},{"$nulls":7},{"$f":"IFERROR(INDEX(indexdatabase,MATCH(BQ25&$AZ$14,name&Group2,0),MATCH(\"AR\",Sheet2rng!$A$1:$AK$1,0)),\"\")","v":0},"Jeff",{"$f":"IFERROR(INDEX(indexdatabase,MATCH($BB29&$AZ$14,name&Group2,0),MATCH(\"SEND\",Sheet2rng!$A$1:$AO$1,0)),\"\")","v":0},{"$f":"IFERROR(INDEX(indexdatabase,MATCH($BB29&$AZ$14,name&Group2,0),MATCH(\"MAT\",Sheet2rng!$A$1:$AO$1,0)),\"\")","v":0},{"$f":"IFERROR(INDEX(indexdatabase,MATCH($BB29&$AZ$14,name&Group2,0),MATCH(\"EAL\",Sheet2rng!$A$1:$AO$1,0)),\"\")","v":"ENG"},"","","EAL/ENG","    EAL/ENG",{"$nulls":7},"Claire","IFERROR(INDEX(Sheet2rng,MATCH(BA12,sheet2rows,0), MATCH($BB$11,sheet2columns,0)),\"\")",{"$f":"IFERROR(INDEX(indexdatabase,MATCH(BQ29&$AZ$14,name&Group2,0),MATCH(\"PPI\",Sheet2rng!$A$1:$AK$1,0)),\"\")","v":0},{"$f":"IFERROR(SMALL(IF(LEFT(Group2,LEN(Class5!$BA$10))=Class5!$BA$10,ROW(Group2)),ROW(A18)),\"\")","v":143},{"$nulls":4},"ROWE Benjamin",{"$nulls":11},"Claire",{"$nulls":44},0,"","GIBSON James",{"$nulls":5},2,2,"TURNER Liberty",{"$nulls":5},0,"","GIBSON James",{"$nulls":5},0,"","GIBSON James",{"$nulls":5},0,"","GIBSON James",{"$nulls":5},0,"","GIBSON James",{"$nulls":51},0,0]
[{"$nulls":52},{"$f":"IFERROR(INDEX(indexdatabase,MATCH(BQ26&$AZ$14,name&Group2,0),MATCH(\"AR\",Sheet2rng!$A$1:$AK$1,0)),\"\")","v":0},"Beth",{"$f":"IFERROR(INDEX(indexdatabase,MATCH($BB30&$AZ$14,name&Group2,0),MATCH(\"SEND\",Sheet2rng!$A$1:$AO$1,0)),\"\")","v":0},{"$f":"IFERROR(INDEX(indexdatabase,MATCH($BB30&$AZ$14,name&Group2,0),MATCH(\"MAT\",Sheet2rng!$A$1:$AO$1,0)),\"\")","v":0},{"$f":"IFERROR(INDEX(indexdatabase,MATCH($BB30&$AZ$14,name&Group2,0),MATCH(\"EAL\",Sheet2rng!$A$1:$AO$1,0)),\"\")","v":"NOT/kn"},"","","EAL/NOT/kn","    EAL/NOT/kn",{"$nulls":7},"Judy","IFERROR(INDEX(Sheet2rng,MATCH(BA12,sheet2rows,0), MATCH($BB$11,sheet2columns,0)),\"\")",{"$f":"IFERROR(INDEX(indexdatabase,MATCH(BQ30&$AZ$14,name&Group2,0),MATCH(\"PPI\",Sheet2rng!$A$1:$AK$1,0)),\"\")","v":"Y"},{"$f":"IFERROR(SMALL(IF(LEFT(Group2,LEN(Class5!$BA$10))=Class5!$BA$10,ROW(Group2)),ROW(A19)),\"\")","v":144},{"$nulls":4},"HESTER Jessica",{"$nulls":11},"Judy",{"$nulls":44},0,"","HARRIS Christian",{"$nulls":5},3,11,"BAKER Lucy",{"$nulls":5},0,"","HARRIS Christian",{"$nulls":5},0,"","HARRIS Christian",{"$nulls":5},0,"","HARRIS Christian",{"$nulls":5},0,"","HARRIS Christian",{"$nulls":51},0,0]
[{"$nulls":52},{"$f":"IFERROR(INDEX(indexdatabase,MATCH(BQ27&$AZ$14,name&Group2,0),MATCH(\"AR\",Sheet2rng!$A$1:$AK$1,0)),\"\")","v":0},"Hazel",{"$f":"IFERROR(INDEX(indexdatabase,MATCH($BB31&$AZ$14,name&Group2,0),MATCH(\"SEND\",Sheet2rng!$A$1:$AO$1,0)),\"\")","v":"K"},{"$f":"IFERROR(INDEX(indexdatabase,MATCH($BB31&$AZ$14,name&Group2,0),MATCH(\"MAT\",Sheet2rng!$A$1:$AO$1,0)),\"\")","v":0},{"$f":"IFERROR(INDEX(indexdatabase,MATCH($BB31&$AZ$14,name&Group2,0),MATCH(\"EAL\",Sheet2rng!$A$1:$AO$1,0)),\"\")","v":"ENG"},"SEND/K","","EAL/ENG","SEND/K    EAL/ENG",{"$nulls":7},"Glenda","IFERROR(INDEX(Sheet2rng,MATCH(BA12,sheet2rows,0), MATCH($BB$11,sheet2columns,0)),\"\")",{"$f":"IFERROR(INDEX(indexdatabase,MATCH(BQ31&$AZ$14,name&Group2,0),MATCH(\"PPI\",Sheet2rng!$A$1:$AK$1,0)),\"\")","v":"Y"},{"$f":"IFERROR(SMALL(IF(LEFT(Group2,LEN(Class5!$BA$10))=Class5!$BA$10,ROW(Group2)),ROW(A20)),\"\")","v":158},{"$nulls":4},"GOLDMAN Vincent",{"$nulls":11},"Glenda",{"$nulls":44},0,"","HARVEY Megan",{"$nulls":5},3,11,"BAVERSTOCK Adam",{"$nulls":5},0,"","HARVEY Megan",{"$nulls":5},0,"","HARVEY Megan",{"$nulls":5},0,"","HARVEY Megan",{"$nulls":5},0,"","HARVEY Megan",{"$nulls":51},0,0]
[{"$nulls":52},{"$f":"IFERROR(INDEX(indexdatabase,MATCH(BQ28&$AZ$14,name&Group2,0),MATCH(\"AR\",Sheet2rng!$A$1:$AK$1,0)),\"\")","v":0},"Vincent",{"$f":"IFERROR(INDEX(indexdatabase,MATCH($BB32&$AZ$14,name&Group2,0),MATCH(\"SEND\",Sheet2rng!$A$1:$AO$1,0)),\"\")","v":0},{"$f":"IFERROR(INDEX(indexdatabase,MATCH($BB32&$AZ$14,name&Group2,0),MATCH(\"MAT\",Sheet2rng!$A$1:$AO$1,0)),\"\")","v":0},{"$f":"IFERROR(INDEX(indexdatabase,MATCH($BB32&$AZ$14,name&Group2,0),MATCH(\"EAL\",Sheet2rng!$A$1:$AO$1,0)),\"\")","v":"OTH"},"","","EAL/OTH","    EAL/OTH",{"$nulls":7},"Don","IFERROR(INDEX(Sheet2rng,MATCH(BA12,sheet2rows,0), MATCH($BB$11,sheet2columns,0)),\"\")",{"$f":"IFERROR(INDEX(indexdatabase,MATCH(BQ32&$AZ$14,name&Group2,0),MATCH(\"PPI\",Sheet2rng!$A$1:$AK$1,0)),\"\")","v":"Y"},{"$f":"IFERROR(SMALL(IF(LEFT(Group2,LEN(Class5!$BA$10))=Class5!$BA$10,ROW(Group2)),ROW(A21)),\"\")","v":159},{"$nulls":4},"MCKENNA Beth",{"$nulls":11},"Don",{"$nulls":44},0,"","HEATH Emily-Jayne",{"$nulls":5},3,11,"CHEEMA Gurvinder",{"$nulls":5},0,"","HEATH Emily-Jayne",{"$nulls":5},0,"","HEATH Emily-Jayne",{"$nulls":5},0,"","HEATH Emily-Jayne",{"$nulls":5},0,"","HEATH Emily-Jayne",{"$nulls":51},0,0]
[{"$nulls":52},{"$f":"IFERROR(INDEX(indexdatabase,MATCH(BQ29&$AZ$14,name&Group2,0),MATCH(\"AR\",Sheet2rng!$A$1:$AK$1,0)),\"\")","v":0},"Claire",{"$f":"IFERROR(INDEX(indexdatabase,MATCH($BB33&$AZ$14,name&Group2,0),MATCH(\"SEND\",Sheet2rng!$A$1:$AO$1,0)),\"\")","v":0},{"$f":"IFERROR(INDEX(indexdatabase,MATCH($BB33&$AZ$14,name&Group2,0),MATCH(\"MAT\",Sheet2rng!$A$1:$AO$1,0)),\"\")","v":0},{"$f":"IFERROR(INDEX(indexdatabase,MATCH($BB33&$AZ$14,name&Group2,0),MATCH(\"EAL\",Sheet2rng!$A$1:$AO$1,0)),\"\")","v":"ENG"},"","","EAL/ENG","    EAL/ENG",{"$nulls":7},"Edna","IFERROR(INDEX(Sheet2rng,MATCH(BA12,sheet2rows,0), MATCH($BB$11,sheet2columns,0)),\"\")",{"$f":"IFERROR(INDEX(indexdatabase,MATCH(BQ33&$AZ$14,name&Group2,0),MATCH(\"PPI\",Sheet2rng!$A$1:$AK$1,0)),\"\")","v":"Y"},{"$f":"IFERROR(SMALL(IF(LEFT(Group2,LEN(Class5!$BA$10))=Class5!$BA$10,ROW(Group2)),ROW(A22)),\"\")","v":163},{"$nulls":4},"FINCH Stephen",{"$nulls":11},"Edna",{"$nulls":44},0,"","HOWELL Megan",{"$nulls":5},3,11,"GIBSON James",{"$nulls":5},0,"","HOWELL Megan",{"$nulls":5},0,"","HOWELL Megan",{"$nulls":5},0,"","HOWELL Megan",{"$nulls":5},0,"","HOWELL Megan",{"$nulls":51},0,0]
[{"$nulls":12},{"$f":"IFERROR(IF(SEARCH(\"11\",BE43)=1,11),\"\")","v":""},{"$nulls":3},{"$f":"IFERROR(IF(SEARCH(\"11\",BI43)=1,11),\"\")","v":""},{"$nulls":12},{"$f":"IFERROR(IF(SEARCH(\"11\",BV43)=1,11),\"\")","v":""},{"$nulls":8},{"$f":"IFERROR(IF(SEARCH(\"11\",CE43)=1,11),\"\")","v":""},{"$nulls":3},{"$f":"IFERROR(IF(SEARCH(\"11\",CI43)=1,11),\"\")","v":""},{"$nulls":9},{"$f":"IFERROR(INDEX(indexdatabase,MATCH(BQ30&$AZ$14,name&Group2,0),MATCH(\"AR\",Sheet2rng!$A$1:$AK$1,0)),\"\")","v":0},"Judy",{"$f":"IFERROR(INDEX(indexdatabase,MATCH($BB34&$AZ$14,name&Group2,0),MATCH(\"SEND\",Sheet2rng!$A$1:$AO$1,0)),\"\")","v":0},{"$f":"IFERROR(INDEX(indexdatabase,MATCH($BB34&$AZ$14,name&Group2,0),MATCH(\"MAT\",Sheet2rng!$A$1:$AO$1,0)),\"\")","v":0},{"$f":"IFERROR(INDEX(indexdatabase,MATCH($BB34&$AZ$14,name&Group2,0),MATCH(\"EAL\",Sheet2rng!$A$1:$AO$1,0)),\"\")","v":"ENG"},"","","EAL/ENG","    EAL/ENG",{"$nulls":7},"Laura","IFERROR(INDEX(Sheet2rng,MATCH(BA12,sheet2rows,0), MATCH($BB$11,sheet2columns,0)),\"\")",{"$f":"IFERROR(INDEX(indexdatabase,MATCH(BQ34&$AZ$14,name&Group2,0),MATCH(\"PPI\",Sheet2rng!$A$1:$AK$1,0)),\"\")","v":0},{"$f":"IFERROR(SMALL(IF(LEFT(Group2,LEN(Class5!$BA$10))=Class5!$BA$10,ROW(Group2)),ROW(A23)),\"\")","v":171},{"$nulls":4},"CONNER Ryan",{"$nulls":11},"Laura",{"$nulls":44},0,"","JAMESON Amy",{"$nulls":5},3,11,"HARVEY Megan",{"$nulls":5},0,"","JAMESON Amy",{"$nulls":5},0,"","JAMESON Amy",{"$nulls":5},0,"","JAMESON Amy",{"$nulls":5},0,"","JAMESON Amy",{"$nulls":51},0,0]
[{"$nulls":52},{"$f":"IFERROR(INDEX(indexdatabase,MATCH(BQ31&$AZ$14,name&Group2,0),MATCH(\"AR\",Sheet2rng!$A$1:$AK$1,0)),\"\")","v":0},"Glenda",{"$f":"IFERROR(INDEX(indexdatabase,MATCH($BB35&$AZ$14,name&Group2,0),MATCH(\"SEND\",Sheet2rng!$A$1:$AO$1,0)),\"\")","v":"K"},{"$f":"IFERROR(INDEX(indexdatabase,MATCH($BB35&$AZ$14,name&Group2,0),MATCH(\"MAT\",Sheet2rng!$A$1:$AO$1,0)),\"\")","v":0},{"$f":"IFERROR(INDEX(indexdatabase,MATCH($BB35&$AZ$14,name&Group2,0),MATCH(\"EAL\",Sheet2rng!$A$1:$AO$1,0)),\"\")","v":"ENG"},"SEND/K","","EAL/ENG","SEND/K    EAL/ENG",{"$nulls":7},"","IFERROR(INDEX(Sheet2rng,MATCH(BA12,sheet2rows,0), MATCH($BB$11,sheet2columns,0)),\"\")",{"$f":"IFERROR(INDEX(indexdatabase,MATCH(BQ35&$AZ$14,name&Group2,0),MATCH(\"PPI\",Sheet2rng!$A$1:$AK$1,0)),\"\")","v":""},{"$f":"IFERROR(SMALL(IF(LEFT(Group2,LEN(Class5!$BA$10))=Class5!$BA$10,ROW(Group2)),ROW(A24)),\"\")","v":""},{"$nulls":4},"",{"$nulls":56},0,"","KERWICK Georgie",{"$nulls":5},3,11,"HEATH Emily-Jayne",{"$nulls":5},0,"","KERWICK Georgie",{"$nulls":5},0,"","KERWICK Georgie",{"$nulls":5},0,"","KERWICK Georgie",{"$nulls":5},0,"","KERWICK Georgie",{"$nulls":51},0,0]
[{"$nulls":12},{"$f":"IFERROR(IF($Y$1=1,\"\",VLOOKUP(M34,needstable,8,FALSE)),\"\")","v":"    "},{"$nulls":3},{"$f":"IFERROR(IF($Y$1=1,\"\",VLOOKUP(Q34,needstable,8,FALSE)),\"\")","v":"    "},{"$nulls":8},{"$f":"IFERROR(IF($Y$1=1,\"\",VLOOKUP(Z34,needstable,8,FALSE)),\"\")","v":""},{"$nulls":3},{"$f":"IFERROR(IF($Y$1=1,\"\",VLOOKUP(AD34,needstable,8,FALSE)),\"\")","v":"    "},{"$nulls":8},{"$f":"IFERROR(IF($Y$1=1,\"\",VLOOKUP(AM34,needstable,8,FALSE)),\"\")","v":"    "},{"$nulls":3},{"$f":"IFERROR(IF($Y$1=1,\"\",VLOOKUP(AQ34,needstable,8,FALSE)),\"\")","v":"    "},{"$nulls":9},{"$f":"IFERROR(INDEX(indexdatabase,MATCH(BQ32&$AZ$14,name&Group2,0),MATCH(\"AR\",Sheet2rng!$A$1:$AK$1,0)),\"\")","v":0},"Don",{"$f":"IFERROR(INDEX(indexdatabase,MATCH($BB36&$AZ$14,name&Group2,0),MATCH(\"SEND\",Sheet2rng!$A$1:$AO$1,0)),\"\")","v":0},{"$f":"IFERROR(INDEX(indexdatabase,MATCH($BB36&$AZ$14,name&Group2,0),MATCH(\"MAT\",Sheet2rng!$A$1:$AO$1,0)),\"\")","v":0},{"$f":"IFERROR(INDEX(indexdatabase,MATCH($BB36&$AZ$14,name&Group2,0),MATCH(\"EAL\",Sheet2rng!$A$1:$AO$1,0)),\"\")","v":"NOT/kn"},"","","EAL/NOT/kn","    EAL/NOT/kn",{"$nulls":7},"","IFERROR(INDEX(Sheet2rng,MATCH(BA12,sheet2rows,0), MATCH($BB$11,sheet2columns,0)),\"\")",{"$f":"IFERROR(INDEX(indexdatabase,MATCH(BQ36&$AZ$14,name&Group2,0),MATCH(\"PPI\",Sheet2rng!$A$1:$AK$1,0)),\"\")","v":""},{"$f":"IFERROR(SMALL(IF(LEFT(Group2,LEN(Class5!$BA$10))=Class5!$BA$10,ROW(Group2)),ROW(A25)),\"\")","v":""},{"$nulls":4},"",{"$nulls":56},0,"","MURPHY Shannon",{"$nulls":5},3,11,"HOWELL Megan",{"$nulls":5},0,"","MURPHY Shannon",{"$nulls":5},0,"","MURPHY Shannon",{"$nulls":5},0,"","MURPHY Shannon",{"$nulls":5},0,"","MURPHY Shannon",{"$nulls":51},0,0]
[{"$nulls":12},"C/grade",null,{"$f":"Sheet2rng!$D$1","v":"KS2"},null,"C/grade",null,{"$f":"Sheet2rng!$D$1","v":"KS2"},{"$nulls":6},"C/grade",null,{"$f":"Sheet2rng!$D$1","v":"KS2"},null,"C/grade",null,{"$f":"Sheet2rng!$D$1","v":"KS2"},{"$nulls":6},"C/grade",null,{"$f":"Sheet2rng!$D$1","v":"KS2"},null,"C/grade",null,{"$f":"Sheet2rng!$D$1","v":"KS2"},{"$nulls":7},{"$f":"IFERROR(INDEX(indexdatabase,MATCH(BQ33&$AZ$14,name&Group2,0),MATCH(\"AR\",Sheet2rng!$A$1:$AK$1,0)),\"\")","v":0},"Edna",{"$f":"IFERROR(INDEX(indexdatabase,MATCH($BB37&$AZ$14,name&Group2,0),MATCH(\"SEND\",Sheet2rng!$A$1:$AO$1,0)),\"\")","v":0},{"$f":"IFERROR(INDEX(indexdatabase,MATCH($BB37&$AZ$14,name&Group2,0),MATCH(\"MAT\",Sheet2rng!$A$1:$AO$1,0)),\"\")","v":0},{"$f":"IFERROR(INDEX(indexdatabase,MATCH($BB37&$AZ$14,name&Group2,0),MATCH(\"EAL\",Sheet2rng!$A$1:$AO$1,0)),\"\")","v":"OTH"},"","","EAL/OTH","    EAL/OTH",{"$nulls":7},"","IFERROR(INDEX(Sheet2rng,MATCH(BA12,sheet2rows,0), MATCH($BB$11,sheet2columns,0)),\"\")",{"$f":"IFERROR(INDEX(indexdatabase,MATCH(BQ37&$AZ$14,name&Group2,0),MATCH(\"PPI\",Sheet2rng!$A$1:$AK$1,0)),\"\")","v":""},{"$f":"IFERROR(SMALL(IF(LEFT(Group2,LEN(Class5!$BA$10))=Class5!$BA$10,ROW(Group2)),ROW(A26)),\"\")","v":""},{"$nulls":4},"",{"$nulls":56},0,"","PIDDINGTON Ellie",{"$nulls":5},3,11,"SAHOTA Callum",{"$nulls":5},0,"","PIDDINGTON Ellie",{"$nulls":5},0,"","PIDDINGTON Ellie",{"$nulls":5},0,"","PIDDINGTON Ellie",{"$nulls":5},0,"","PIDDINGTON Ellie",{"$nulls":51},0,0]
[{"$nulls":12},{"$f":"IFERROR(IF($Y$2=2,\"\",IF($Y$2=3,INDEX(indexdatabase,MATCH(M34&$AZ$14,name&Group2,0),MATCH($AZ$23,Sheet2rng!$A$1:$AK$1,0)))),\"\")","v":""},null,{"$f":"IFERROR(IF($Y$3=4,\"\",IF($Y$3=5,INDEX(indexdatabase,MATCH(M34&$AZ$14,name&Group2,0),MATCH($P$4,Sheet2rng!$A$1:$AK$1,0)))),\"\")","v":""},null,{"$f":"IFERROR(IF($Y$2=2,\"\",IF($Y$2=3,INDEX(indexdatabase,MATCH(Q34&$AZ$14,name&Group2,0),MATCH($AZ$23,Sheet2rng!$A$1:$AK$1,0)))),\"\")","v":""},null,{"$f":"IFERROR(IF($Y$3=4,\"\",IF($Y$3=5,INDEX(indexdatabase,MATCH(Q34&$AZ$14,name&Group2,0),MATCH($P$4,Sheet2rng!$A$1:$AK$1,0)))),\"\")","v":""},{"$nulls":6},{"$f":"IFERROR(IF($Y$2=2,\"\",IF($Y$2=3,INDEX(indexdatabase,MATCH(Z34&$AZ$14,name&Group2,0),MATCH($AZ$23,Sheet2rng!$A$1:$AK$1,0)))),\"\")","v":""},null,{"$f":"IFERROR(IF($Y$3=4,\"\",IF($Y$3=5,INDEX(indexdatabase,MATCH(Z34&$AZ$14,name&Group2,0),MATCH($P$4,Sheet2rng!$A$1:$AK$1,0)))),\"\")","v":""},null,{"$f":"IFERROR(IF($Y$2=2,\"\",IF($Y$2=3,INDEX(indexdatabase,MATCH(AD34&$AZ$14,name&Group2,0),MATCH($AZ$23,Sheet2rng!$A$1:$AK$1,0)))),\"\")","v":""},null,{"$f":"IFERROR(IF($Y$3=4,\"\",IF($Y$3=5,INDEX(indexdatabase,MATCH(AD34&$AZ$14,name&Group2,0),MATCH($P$4,Sheet2rng!$A$1:$AK$1,0)))),\"\")","v":""},{"$nulls":6},{"$f":"IFERROR(IF($Y$2=2,\"\",IF($Y$2=3,INDEX(indexdatabase,MATCH(AM34&$AZ$14,name&Group2,0),MATCH($AZ$23,Sheet2rng!$A$1:$AK$1,0)))),\"\")","v":""},null,{"$f":"IFERROR(IF($Y$3=4,\"\",IF($Y$3=5,INDEX(indexdatabase,MATCH(AM34&$AZ$14,name&Group2,0),MATCH($P$4,Sheet2rng!$A$1:$AK$1,0)))),\"\")","v":""},null,{"$f":"IFERROR(IF($Y$2=2,\"\",IF($Y$2=3,INDEX(indexdatabase,MATCH(AQ34&$AZ$14,name&Group2,0),MATCH($AZ$23,Sheet2rng!$A$1:$AK$1,0)))),\"\")","v":""},null,{"$f":"IFERROR(IF($Y$3=4,\"\",IF($Y$3=5,INDEX(indexdatabase,MATCH(AQ34&$AZ$14,name&Group2,0),MATCH($P$4,Sheet2rng!$A$1:$AK$1,0)))),\"\")","v":""},{"$nulls":7},{"$f":"IFERROR(INDEX(indexdatabase,MATCH(BQ34&$AZ$14,name&Group2,0),MATCH(\"AR\",Sheet2rng!$A$1:$AK$1,0)),\"\")","v":0},"Laura",{"$f":"IFERROR(INDEX(indexdatabase,MATCH($BB38&$AZ$14,name&Group2,0),MATCH(\"SEND\",Sheet2rng!$A$1:$AO$1,0)),\"\")","v":0},{"$f":"IFERROR(INDEX(indexdatabase,MATCH($BB38&$AZ$14,name&Group2,0),MATCH(\"MAT\",Sheet2rng!$A$1:$AO$1,0)),\"\")","v":0},{"$f":"IFERROR(INDEX(indexdatabase,MATCH($BB38&$AZ$14,name&Group2,0),MATCH(\"EAL\",Sheet2rng!$A$1:$AO$1,0)),\"\")","v":"NOT/kn"},"","","EAL/NOT/kn","    EAL/NOT/kn",{"$nulls":7},"","IFERROR(INDEX(Sheet2rng,MATCH(BA12,sheet2rows,0), MATCH($BB$11,sheet2columns,0)),\"\")",{"$f":"IFERROR(INDEX(indexdatabase,MATCH(BQ38&$AZ$14,name&Group2,0),MATCH(\"PPI\",Sheet2rng!$A$1:$AK$1,0)),\"\")","v":""},{"$f":"IFERROR(SMALL(IF(LEFT(Group2,LEN(Class5!$BA$10))=Class5!$BA$10,ROW(Group2)),ROW(A27)),\"\")","v":""},{"$nulls":4},"",{"$nulls":56},0,"","QUILALA Angela",{"$nulls":5},3,11,"WRIGHT Caitlin",{"$nulls":5},0,"","QUILALA Angela",{"$nulls":5},0,"","QUILALA Angela",{"$nulls":5},0,"","QUILALA Angela",{"$nulls":5},0,"","QUILALA Angela",{"$nulls":51},0,0]
[{"$nulls":12},{"$f":"Sheet2rng!$C$1","v":"Target"},null,{"$f":"Sheet2rng!$E$1","v":"AR"},null,{"$f":"Sheet2rng!$C$1","v":"Target"},null,{"$f":"Sheet2rng!$E$1","v":"AR"},{"$nulls":6},{"$f":"Sheet2rng!$C$1","v":"Target"},null,{"$f":"Sheet2rng!$E$1","v":"AR"},null,{"$f":"Sheet2rng!$C$1","v":"Target"},null,{"$f":"Sheet2rng!$E$1","v":"AR"},{"$nulls":6},{"$f":"Sheet2rng!$C$1","v":"Target"},null,{"$f":"Sheet2rng!$E$1","v":"AR"},null,{"$f":"Sheet2rng!$C$1","v":"Target"},null,{"$f":"Sheet2rng!$E$1","v":"AR"},{"$nulls":7},{"$f":"IFERROR(INDEX(indexdatabase,MATCH(BQ35&$AZ$14,name&Group2,0),MATCH(\"AR\",Sheet2rng!$A$1:$AK$1,0)),\"\")","v":""},"",{"$f":"IFERROR(INDEX(indexdatabase,MATCH($BB39&$AZ$14,name&Group2,0),MATCH(\"SEND\",Sheet2rng!$A$1:$AO$1,0)),\"\")","v":""},{"$f":"IFERROR(INDEX(indexdatabase,MATCH($BB39&$AZ$14,name&Group2,0),MATCH(\"MAT\",Sheet2rng!$A$1:$AO$1,0)),\"\")","v":""},{"$f":"IFERROR(INDEX(indexdatabase,MATCH($BB39&$AZ$14,name&Group2,0),MATCH(\"EAL\",Sheet2rng!$A$1:$AO$1,0)),\"\")","v":""},"","","","    ",{"$nulls":7},"","IFERROR(INDEX(Sheet2rng,MATCH(BA12,sheet2rows,0), MATCH($BB$11,sheet2columns,0)),\"\")",{"$f":"IFERROR(INDEX(indexdatabase,MATCH(BQ39&$AZ$14,name&Group2,0),MATCH(\"PPI\",Sheet2rng!$A$1:$AK$1,0)),\"\")","v":""},{"$f":"IFERROR(SMALL(IF(LEFT(Group2,LEN(Class5!$BA$10))=Class5!$BA$10,ROW(Group2)),ROW(A28)),\"\")","v":""},{"$nulls":4},"",{"$nulls":56},0,"","RIORDAN Robbie",{"$nulls":5},4,20,"ABU Aisha",{"$nulls":5},0,"","RIORDAN Robbie",{"$nulls":5},0,"","RIORDAN Robbie",{"$nulls":5},0,"","RIORDAN Robbie",{"$nulls":5},0,"","RIORDAN Robbie",{"$nulls":51},0,0]
[{"$nulls":12},{"$f":"IFERROR(IF($Y$4=6,\"\",IF($Y$4=7,INDEX(indexdatabase,MATCH(M34&$AZ$14,name&Group2,0),MATCH($N$6,Sheet2rng!$A$1:$AK$1,0)))),\"\")","v":""},null,{"$f":"IFERROR(IF($Y$5=8,\"\",IF($Y$5=9,INDEX(Sheet2rng,MATCH(M34&$AZ$14,name&Group2,0),MATCH($P$6,sheet2columns,0)))),\"\")","v":""},null,{"$f":"IFERROR(IF($Y$4=6,\"\",IF($Y$4=7,INDEX(indexdatabase,MATCH(Q34&$AZ$14,name&Group2,0),MATCH($N$6,Sheet2rng!$A$1:$AK$1,0)))),\"\")","v":""},null,{"$f":"IFERROR(IF($Y$5=8,\"\",IF($Y$5=9,INDEX(Sheet2rng,MATCH(Q34&$AZ$14,name&Group2,0),MATCH($P$6,sheet2columns,0)))),\"\")","v":""},{"$nulls":6},{"$f":"IFERROR(IF($Y$4=6,\"\",IF($Y$4=7,INDEX(indexdatabase,MATCH(Z34&$AZ$14,name&Group2,0),MATCH($N$6,Sheet2rng!$A$1:$AK$1,0)))),\"\")","v":""},null,{"$f":"IFERROR(IF($Y$5=8,\"\",IF($Y$5=9,INDEX(Sheet2rng,MATCH(Z34&$AZ$14,name&Group2,0),MATCH($P$6,sheet2columns,0)))),\"\")","v":""},null,{"$f":"IFERROR(IF($Y$4=6,\"\",IF($Y$4=7,INDEX(indexdatabase,MATCH(AD34&$AZ$14,name&Group2,0),MATCH($N$6,Sheet2rng!$A$1:$AK$1,0)))),\"\")","v":""},null,{"$f":"IFERROR(IF($Y$5=8,\"\",IF($Y$5=9,INDEX(Sheet2rng,MATCH(AD34&$AZ$14,name&Group2,0),MATCH($P$6,sheet2columns,0)))),\"\")","v":""},{"$nulls":6},{"$f":"IFERROR(IF($Y$4=6,\"\",IF($Y$4=7,INDEX(indexdatabase,MATCH(AM34&$AZ$14,name&Group2,0),MATCH($N$6,Sheet2rng!$A$1:$AK$1,0)))),\"\")","v":""},null,{"$f":"IFERROR(IF($Y$5=8,\"\",IF($Y$5=9,INDEX(Sheet2rng,MATCH(AM34&$AZ$14,name&Group2,0),MATCH($P$6,sheet2columns,0)))),\"\")","v":""},null,{"$f":"IFERROR(IF($Y$4=6,\"\",IF($Y$4=7,INDEX(indexdatabase,MATCH(AQ34&$AZ$14,name&Group2,0),MATCH($N$6,Sheet2rng!$A$1:$AK$1,0)))),\"\")","v":""},null,{"$f":"IFERROR(IF($Y$5=8,\"\",IF($Y$5=9,INDEX(Sheet2rng,MATCH(AQ34&$AZ$14,name&Group2,0),MATCH($P$6,sheet2columns,0)))),\"\")","v":""},{"$nulls":7},{"$f":"IFERROR(INDEX(indexdatabase,MATCH(BQ36&$AZ$14,name&Group2,0),MATCH(\"AR\",Sheet2rng!$A$1:$AK$1,0)),\"\")","v":""},"",{"$f":"IFERROR(INDEX(indexdatabase,MATCH($BB40&$AZ$14,name&Group2,0),MATCH(\"SEND\",Sheet2rng!$A$1:$AO$1,0)),\"\")","v":""},{"$f":"IFERROR(INDEX(indexdatabase,MATCH($BB40&$AZ$14,name&Group2,0),MATCH(\"MAT\",Sheet2rng!$A$1:$AO$1,0)),\"\")","v":""},{"$f":"IFERROR(INDEX(indexdatabase,MATCH($BB40&$AZ$14,name&Group2,0),MATCH(\"EAL\",Sheet2rng!$A$1:$AO$1,0)),\"\")","v":""},"","","","    ",{"$nulls":7},"","IFERROR(INDEX(Sheet2rng,MATCH(BA12,sheet2rows,0), MATCH($BB$11,sheet2columns,0)),\"\")",{"$f":"IFERROR(INDEX(indexdatabase,MATCH(BQ40&$AZ$14,name&Group2,0),MATCH(\"PPI\",Sheet2rng!$A$1:$AK$1,0)),\"\")","v":""},{"$f":"IFERROR(SMALL(IF(LEFT(Group2,LEN(Class5!$BA$10))=Class5!$BA$10,ROW(Group2)),ROW(A29)),\"\")","v":""},{"$nulls":4},"",{"$nulls":56},0,"","SAHOTA Callum",{"$nulls":5},4,20,"BLE Grace",{"$nulls":5},0,"","SAHOTA Callum",{"$nulls":5},0,"","SAHOTA Callum",{"$nulls":5},0,"","SAHOTA Callum",{"$nulls":5},0,"","SAHOTA Callum",{"$nulls":51},0,0]
[{"$nulls":12},{"$f":"IFERROR(IF(SEARCH(\"11\",BE50)=1,11),\"\")","v":""},{"$nulls":3},{"$f":"IFERROR(IF(SEARCH(\"11\",BI50)=1,11),\"\")","v":""},{"$nulls":12},{"$f":"IFERROR(IF(SEARCH(\"11\",BV50)=1,11),\"\")","v":""},{"$nulls":8},{"$f":"IFERROR(IF(SEARCH(\"11\",CE50)=1,11),\"\")","v":""},{"$nulls":3},{"$f":"IFERROR(IF(SEARCH(\"11\",CI50)=1,11),\"\")","v":""},{"$nulls":9},{"$f":"IFERROR(INDEX(indexdatabase,MATCH(BQ37&$AZ$14,name&Group2,0),MATCH(\"AR\",Sheet2rng!$A$1:$AK$1,0)),\"\")","v":""},"",{"$f":"IFERROR(INDEX(indexdatabase,MATCH($BB41&$AZ$14,name&Group2,0),MATCH(\"SEND\",Sheet2rng!$A$1:$AO$1,0)),\"\")","v":""},{"$f":"IFERROR(INDEX(indexdatabase,MATCH($BB41&$AZ$14,name&Group2,0),MATCH(\"MAT\",Sheet2rng!$A$1:$AO$1,0)),\"\")","v":""},{"$f":"IFERROR(INDEX(indexdatabase,MATCH($BB41&$AZ$14,name&Group2,0),MATCH(\"EAL\",Sheet2rng!$A$1:$AO$1,0)),\"\")","v":""},"","","","    ",{"$nulls":7},"","IFERROR(INDEX(Sheet2rng,MATCH(BA12,sheet2rows,0), MATCH($BB$11,sheet2columns,0)),\"\")",{"$f":"IFERROR(INDEX(indexdatabase,MATCH(BQ41&$AZ$14,name&Group2,0),MATCH(\"PPI\",Sheet2rng!$A$1:$AK$1,0)),\"\")","v":""},{"$f":"IFERROR(SMALL(IF(LEFT(Group2,LEN(Class5!$BA$10))=Class5!$BA$10,ROW(Group2)),ROW(A30)),\"\")","v":""},{"$nulls":4},"",{"$nulls":56},0,"","SAWYER Cicarna-Lee",{"$nulls":5},4,20,"JAMESON Amy",{"$nulls":5},0,"","SAWYER Cicarna-Lee",{"$nulls":5},0,"","SAWYER Cicarna-Lee",{"$nulls":5},0,"","SAWYER Cicarna-Lee",{"$nulls":5},0,"","SAWYER Cicarna-Lee",{"$nulls":51},0,0]
[{"$nulls":52},{"$f":"IFERROR(INDEX(indexdatabase,MATCH(BQ38&$AZ$14,name&Group2,0),MATCH(\"AR\",Sheet2rng!$A$1:$AK$1,0)),\"\")","v":""},"",{"$f":"IFERROR(INDEX(indexdatabase,MATCH($BB42&$AZ$14,name&Group2,0),MATCH(\"SEND\",Sheet2rng!$A$1:$AO$1,0)),\"\")","v":""},{"$f":"IFERROR(INDEX(indexdatabase,MATCH($BB42&$AZ$14,name&Group2,0),MATCH(\"MAT\",Sheet2rng!$A$1:$AO$1,0)),\"\")","v":""},{"$f":"IFERROR(INDEX(indexdatabase,MATCH($BB42&$AZ$14,name&Group2,0),MATCH(\"EAL\",Sheet2rng!$A$1:$AO$1,0)),\"\")","v":""},"","","","    ",{"$nulls":4},"10a/Pe6",null,null,"","IFERROR(INDEX(Sheet2rng,MATCH(BA12,sheet2rows,0), MATCH($BB$11,sheet2columns,0)),\"\")",{"$f":"IFERROR(INDEX(indexdatabase,MATCH(BQ42&$AZ$14,name&Group2,0),MATCH(\"PPI\",Sheet2rng!$A$1:$AK$1,0)),\"\")","v":""},{"$f":"IFERROR(SMALL(IF(LEFT(Group2,LEN(Class5!$BA$10))=Class5!$BA$10,ROW(Group2)),ROW(A31)),\"\")","v":""},{"$nulls":4},"",{"$nulls":56},0,"","SEHMI Natalie",{"$nulls":5},4,20,"KERWICK Georgie",{"$nulls":5},0,"","SEHMI Natalie",{"$nulls":5},0,"","SEHMI Natalie",{"$nulls":5},0,"","SEHMI Natalie",{"$nulls":5},0,"","SEHMI Natalie",{"$nulls":51},0,0]
[{"$nulls":12},{"$f":"IFERROR(IF($Y$1=1,\"\",VLOOKUP(M41,needstable,8,FALSE)),\"\")","v":"    "},{"$nulls":3},{"$f":"IFERROR(IF($Y$1=1,\"\",VLOOKUP(Q41,needstable,8,FALSE)),\"\")","v":"    "},{"$nulls":8},{"$f":"IFERROR(IF($Y$1=1,\"\",VLOOKUP(Z41,needstable,8,FALSE)),\"\")","v":""},{"$nulls":3},{"$f":"IFERROR(IF($Y$1=1,\"\",VLOOKUP(AD41,needstable,8,FALSE)),\"\")","v":"    "},{"$nulls":8},{"$f":"IFERROR(IF($Y$1=1,\"\",VLOOKUP(AM41,needstable,8,FALSE)),\"\")","v":"    "},{"$nulls":3},{"$f":"IFERROR(IF($Y$1=1,\"\",VLOOKUP(AQ41,needstable,8,FALSE)),\"\")","v":"    "},{"$nulls":9},{"$f":"IFERROR(INDEX(indexdatabase,MATCH(BQ39&$AZ$14,name&Group2,0),MATCH(\"AR\",Sheet2rng!$A$1:$AK$1,0)),\"\")","v":""},"",{"$f":"IFERROR(INDEX(indexdatabase,MATCH($BB43&$AZ$14,name&Group2,0),MATCH(\"SEND\",Sheet2rng!$A$1:$AO$1,0)),\"\")","v":""},{"$f":"IFERROR(INDEX(indexdatabase,MATCH($BB43&$AZ$14,name&Group2,0),MATCH(\"MAT\",Sheet2rng!$A$1:$AO$1,0)),\"\")","v":""},{"$f":"IFERROR(INDEX(indexdatabase,MATCH($BB43&$AZ$14,name&Group2,0),MATCH(\"EAL\",Sheet2rng!$A$1:$AO$1,0)),\"\")","v":""},"","","","    ",{"$nulls":4},"10A/Pg1",null,null,"","IFERROR(INDEX(Sheet2rng,MATCH(BA12,sheet2rows,0), MATCH($BB$11,sheet2columns,0)),\"\")",{"$f":"IFERROR(INDEX(indexdatabase,MATCH(BQ43&$AZ$14,name&Group2,0),MATCH(\"PPI\",Sheet2rng!$A$1:$AK$1,0)),\"\")","v":""},{"$f":"IFERROR(SMALL(IF(LEFT(Group2,LEN(Class5!$BA$10))=Class5!$BA$10,ROW(Group2)),ROW(A32)),\"\")","v":""},{"$nulls":4},"",{"$nulls":56},0,"","SMITH Jade",{"$nulls":5},4,20,"SAWYER Cicarna-Lee",{"$nulls":5},0,"","SMITH Jade",{"$nulls":5},0,"","SMITH Jade",{"$nulls":5},0,"","SMITH Jade",{"$nulls":5},0,"","SMITH Jade",{"$nulls":51},0,0]
[{"$nulls":12},"C/grade",null,{"$f":"Sheet2rng!$D$1","v":"KS2"},null,"C/grade",null,{"$f":"Sheet2rng!$D$1","v":"KS2"},{"$nulls":6},"C/grade",null,{"$f":"Sheet2rng!$D$1","v":"KS2"},null,"C/grade",null,{"$f":"Sheet2rng!$D$1","v":"KS2"},{"$nulls":6},"C/grade",null,{"$f":"Sheet2rng!$D$1","v":"KS2"},null,"C/grade",null,{"$f":"Sheet2rng!$D$1","v":"KS2"},{"$nulls":7},{"$f":"IFERROR(INDEX(indexdatabase,MATCH(BQ40&$AZ$14,name&Group2,0),MATCH(\"AR\",Sheet2rng!$A$1:$AK$1,0)),\"\")","v":""},"",{"$f":"IFERROR(INDEX(indexdatabase,MATCH($BB44&$AZ$14,name&Group2,0),MATCH(\"SEND\",Sheet2rng!$A$1:$AO$1,0)),\"\")","v":""},{"$f":"IFERROR(INDEX(indexdatabase,MATCH($BB44&$AZ$14,name&Group2,0),MATCH(\"MAT\",Sheet2rng!$A$1:$AO$1,0)),\"\")","v":""},{"$f":"IFERROR(INDEX(indexdatabase,MATCH($BB44&$AZ$14,name&Group2,0),MATCH(\"EAL\",Sheet2rng!$A$1:$AO$1,0)),\"\")","v":""},"","","","    ",{"$nulls":4},"10a/Sc1",null,null,"","IFERROR(INDEX(Sheet2rng,MATCH(BA12,sheet2rows,0), MATCH($BB$11,sheet2columns,0)),\"\")",{"$f":"IFERROR(INDEX(indexdatabase,MATCH(BQ44&$AZ$14,name&Group2,0),MATCH(\"PPI\",Sheet2rng!$A$1:$AK$1,0)),\"\")","v":""},{"$f":"IFERROR(SMALL(IF(LEFT(Group2,LEN(Class5!$BA$10))=Class5!$BA$10,ROW(Group2)),ROW(A33)),\"\")","v":""},{"$nulls":61},0,"","SWAN Callum",{"$nulls":5},4,20,"SEHMI Natalie",{"$nulls":5},0,"","SWAN Callum",{"$nulls":5},0,"","SWAN Callum",{"$nulls":5},0,"","SWAN Callum",{"$nulls":5},0,"","SWAN Callum",{"$nulls":51},0,0]
[{"$nulls":12},{"$f":"IFERROR(IF($Y$2=2,\"\",IF($Y$2=3,INDEX(indexdatabase,MATCH(M41&$AZ$14,name&Group2,0),MATCH($AZ$23,Sheet2rng!$A$1:$AK$1,0)))),\"\")","v":""},null,{"$f":"IFERROR(IF($Y$3=4,\"\",IF($Y$3=5,INDEX(indexdatabase,MATCH(M41&$AZ$14,name&Group2,0),MATCH($P$4,Sheet2rng!$A$1:$AK$1,0)))),\"\")","v":""},null,{"$f":"IFERROR(IF($Y$2=2,\"\",IF($Y$2=3,INDEX(indexdatabase,MATCH(Q41&$AZ$14,name&Group2,0),MATCH($AZ$23,Sheet2rng!$A$1:$AK$1,0)))),\"\")","v":""},null,{"$f":"IFERROR(IF($Y$3=4,\"\",IF($Y$3=5,INDEX(indexdatabase,MATCH(Q41&$AZ$14,name&Group2,0),MATCH($P$4,Sheet2rng!$A$1:$AK$1,0)))),\"\")","v":""},{"$nulls":6},{"$f":"IFERROR(IF($Y$2=2,\"\",IF($Y$2=3,INDEX(indexdatabase,MATCH(Z41&$AZ$14,name&Group2,0),MATCH($AZ$23,Sheet2rng!$A$1:$AK$1,0)))),\"\")","v":""},null,{"$f":"IFERROR(IF($Y$3=4,\"\",IF($Y$3=5,INDEX(indexdatabase,MATCH(Z41&$AZ$14,name&Group2,0),MATCH($P$4,Sheet2rng!$A$1:$AK$1,0)))),\"\")","v":""},null,{"$f":"IFERROR(IF($Y$2=2,\"\",IF($Y$2=3,INDEX(indexdatabase,MATCH(AD41&$AZ$14,name&Group2,0),MATCH($AZ$23,Sheet2rng!$A$1:$AK$1,0)))),\"\")","v":""},null,{"$f":"IFERROR(IF($Y$3=4,\"\",IF($Y$3=5,INDEX(indexdatabase,MATCH(AD41&$AZ$14,name&Group2,0),MATCH($P$4,Sheet2rng!$A$1:$AK$1,0)))),\"\")","v":""},{"$nulls":6},{"$f":"IFERROR(IF($Y$2=2,\"\",IF($Y$2=3,INDEX(indexdatabase,MATCH(AM41&$AZ$14,name&Group2,0),MATCH($AZ$23,Sheet2rng!$A$1:$AK$1,0)))),\"\")","v":""},null,{"$f":"IFERROR(IF($Y$3=4,\"\",IF($Y$3=5,INDEX(indexdatabase,MATCH(AM41&$AZ$14,name&Group2,0),MATCH($P$4,Sheet2rng!$A$1:$AK$1,0)))),\"\")","v":""},null,{"$f":"IFERROR(IF($Y$2=2,\"\",IF($Y$2=3,INDEX(indexdatabase,MATCH(AQ41&$AZ$14,name&Group2,0),MATCH($AZ$23,Sheet2rng!$A$1:$AK$1,0)))),\"\")","v":""},null,{"$f":"IFERROR(IF($Y$3=4,\"\",IF($Y$3=5,INDEX(indexdatabase,MATCH(AQ41&$AZ$14,name&Group2,0),MATCH($P$4,Sheet2rng!$A$1:$AK$1,0)))),\"\")","v":""},{"$nulls":7},{"$f":"IFERROR(INDEX(indexdatabase,MATCH(BQ41&$AZ$14,name&Group2,0),MATCH(\"AR\",Sheet2rng!$A$1:$AK$1,0)),\"\")","v":""},"",{"$f":"IFERROR(INDEX(indexdatabase,MATCH($BB45&$AZ$14,name&Group2,0),MATCH(\"SEND\",Sheet2rng!$A$1:$AO$1,0)),\"\")","v":""},{"$f":"IFERROR(INDEX(indexdatabase,MATCH($BB45&$AZ$14,name&Group2,0),MATCH(\"MAT\",Sheet2rng!$A$1:$AO$1,0)),\"\")","v":""},{"$f":"IFERROR(INDEX(indexdatabase,MATCH($BB45&$AZ$14,name&Group2,0),MATCH(\"EAL\",Sheet2rng!$A$1:$AO$1,0)),\"\")","v":""},"","","","    ",{"$nulls":4},"10a/Sc2",null,null,"","IFERROR(INDEX(Sheet2rng,MATCH(BA12,sheet2rows,0), MATCH($BB$11,sheet2columns,0)),\"\")",{"$f":"IFERROR(INDEX(indexdatabase,MATCH(BQ45&$AZ$14,name&Group2,0),MATCH(\"PPI\",Sheet2rng!$A$1:$AK$1,0)),\"\")","v":""},{"$f":"IFERROR(SMALL(IF(LEFT(Group2,LEN(Class5!$BA$10))=Class5!$BA$10,ROW(Group2)),ROW(A34)),\"\")","v":""},{"$nulls":62},"","TURNER Liberty",{"$nulls":6},20,"SWAN Callum",{"$nulls":6},"","TURNER Liberty",{"$nulls":6},"","TURNER Liberty",{"$nulls":6},"","TURNER Liberty",{"$nulls":6},"","TURNER Liberty",{"$nulls":51},0,0]
[{"$nulls":12},{"$f":"Sheet2rng!$C$1","v":"Target"},null,{"$f":"Sheet2rng!$E$1","v":"AR"},null,{"$f":"Sheet2rng!$C$1","v":"Target"},null,{"$f":"Sheet2rng!$E$1","v":"AR"},{"$nulls":6},{"$f":"Sheet2rng!$C$1","v":"Target"},null,{"$f":"Sheet2rng!$E$1","v":"AR"},null,{"$f":"Sheet2rng!$C$1","v":"Target"},null,{"$f":"Sheet2rng!$E$1","v":"AR"},{"$nulls":6},{"$f":"Sheet2rng!$C$1","v":"Target"},null,{"$f":"Sheet2rng!$E$1","v":"AR"},null,{"$f":"Sheet2rng!$C$1","v":"Target"},null,{"$f":"Sheet2rng!$E$1","v":"AR"},{"$nulls":7},{"$f":"IFERROR(INDEX(indexdatabase,MATCH(BQ42&$AZ$14,name&Group2,0),MATCH(\"AR\",Sheet2rng!$A$1:$AK$1,0)),\"\")","v":""},"",{"$f":"IFERROR(INDEX(indexdatabase,MATCH($BB46&$AZ$14,name&Group2,0),MATCH(\"SEND\",Sheet2rng!$A$1:$AO$1,0)),\"\")","v":""},{"$f":"IFERROR(INDEX(indexdatabase,MATCH($BB46&$AZ$14,name&Group2,0),MATCH(\"MAT\",Sheet2rng!$A$1:$AO$1,0)),\"\")","v":""},{"$f":"IFERROR(INDEX(indexdatabase,MATCH($BB46&$AZ$14,name&Group2,0),MATCH(\"EAL\",Sheet2rng!$A$1:$AO$1,0)),\"\")","v":""},"","","","    ",{"$nulls":4},"10a/Sc3",null,null,"","IFERROR(INDEX(Sheet2rng,MATCH(BA12,sheet2rows,0), MATCH($BB$11,sheet2columns,0)),\"\")",{"$f":"IFERROR(INDEX(indexdatabase,MATCH(BQ46&$AZ$14,name&Group2,0),MATCH(\"PPI\",Sheet2rng!$A$1:$AK$1,0)),\"\")","v":""},{"$f":"IFERROR(SMALL(IF(LEFT(Group2,LEN(Class5!$BA$10))=Class5!$BA$10,ROW(Group2)),ROW(A35)),\"\")","v":""},{"$nulls":62},"","WILLIS Demi",{"$nulls":6},20,"WILLIS Demi",{"$nulls":6},"","WILLIS Demi",{"$nulls":6},"","WILLIS Demi",{"$nulls":6},"","WILLIS Demi",{"$nulls":6},"","WILLIS Demi",{"$nulls":51},0,0]
[{"$nulls":12},{"$f":"IFERROR(IF($Y$4=6,\"\",IF($Y$4=7,INDEX(indexdatabase,MATCH(M41&$AZ$14,name&Group2,0),MATCH($N$6,Sheet2rng!$A$1:$AK$1,0)))),\"\")","v":""},null,{"$f":"IFERROR(IF($Y$5=8,\"\",IF($Y$5=9,INDEX(Sheet2rng,MATCH(M41&$AZ$14,name&Group2,0),MATCH($P$6,sheet2columns,0)))),\"\")","v":""},null,{"$f":"IFERROR(IF($Y$4=6,\"\",IF($Y$4=7,INDEX(indexdatabase,MATCH(Q41&$AZ$14,name&Group2,0),MATCH($N$6,Sheet2rng!$A$1:$AK$1,0)))),\"\")","v":""},null,{"$f":"IFERROR(IF($Y$5=8,\"\",IF($Y$5=9,INDEX(Sheet2rng,MATCH(Q41&$AZ$14,name&Group2,0),MATCH($P$6,sheet2columns,0)))),\"\")","v":""},{"$nulls":6},{"$f":"IFERROR(IF($Y$4=6,\"\",IF($Y$4=7,INDEX(indexdatabase,MATCH(Z41&$AZ$14,name&Group2,0),MATCH($N$6,Sheet2rng!$A$1:$AK$1,0)))),\"\")","v":""},null,{"$f":"IFERROR(IF($Y$5=8,\"\",IF($Y$5=9,INDEX(Sheet2rng,MATCH(Z41&$AZ$14,name&Group2,0),MATCH($P$6,sheet2columns,0)))),\"\")","v":""},null,{"$f":"IFERROR(IF($Y$4=6,\"\",IF($Y$4=7,INDEX(indexdatabase,MATCH(AD41&$AZ$14,name&Group2,0),MATCH($N$6,Sheet2rng!$A$1:$AK$1,0)))),\"\")","v":""},null,{"$f":"IFERROR(IF($Y$5=8,\"\",IF($Y$5=9,INDEX(Sheet2rng,MATCH(AD41&$AZ$14,name&Group2,0),MATCH($P$6,sheet2columns,0)))),\"\")","v":""},{"$nulls":6},{"$f":"IFERROR(IF($Y$4=6,\"\",IF($Y$4=7,INDEX(indexdatabase,MATCH(AM41&$AZ$14,name&Group2,0),MATCH($N$6,Sheet2rng!$A$1:$AK$1,0)))),\"\")","v":""},null,{"$f":"IFERROR(IF($Y$5=8,\"\",IF($Y$5=9,INDEX(Sheet2rng,MATCH(AM41&$AZ$14,name&Group2,0),MATCH($P$6,sheet2columns,0)))),\"\")","v":""},null,{"$f":"IFERROR(IF($Y$4=6,\"\",IF($Y$4=7,INDEX(indexdatabase,MATCH(AQ41&$AZ$14,name&Group2,0),MATCH($N$6,Sheet2rng!$A$1:$AK$1,0)))),\"\")","v":""},null,{"$f":"IFERROR(IF($Y$5=8,\"\",IF($Y$5=9,INDEX(Sheet2rng,MATCH(AQ41&$AZ$14,name&Group2,0),MATCH($P$6,sheet2columns,0)))),\"\")","v":""},{"$nulls":7},{"$f":"IFERROR(INDEX(indexdatabase,MATCH(BQ43&$AZ$14,name&Group2,0),MATCH(\"AR\",Sheet2rng!$A$1:$AK$1,0)),\"\")","v":""},null,{"$f":"IFERROR(INDEX(indexdatabase,MATCH($BB47&$AZ$14,name&Group2,0),MATCH(\"SEND\",Sheet2rng!$A$1:$AO$1,0)),\"\")","v":""},{"$f":"IFERROR(INDEX(indexdatabase,MATCH($BB47&$AZ$14,name&Group2,0),MATCH(\"MAT\",Sheet2rng!$A$1:$AO$1,0)),\"\")","v":""},{"$f":"IFERROR(INDEX(indexdatabase,MATCH($BB47&$AZ$14,name&Group2,0),MATCH(\"EAL\",Sheet2rng!$A$1:$AO$1,0)),\"\")","v":""},"","","","    ",{"$nulls":4},"10a/Sc4",null,null,"","IFERROR(INDEX(Sheet2rng,MATCH(BA12,sheet2rows,0), MATCH($BB$11,sheet2columns,0)),\"\")",{"$f":"IFERROR(INDEX(indexdatabase,MATCH(BQ47&$AZ$14,name&Group2,0),MATCH(\"PPI\",Sheet2rng!$A$1:$AK$1,0)),\"\")","v":""},{"$f":"IFERROR(SMALL(IF(LEFT(Group2,LEN(Class5!$BA$10))=Class5!$BA$10,ROW(Group2)),ROW(A36)),\"\")","v":""},{"$nulls":62},"","WRIGHT Caitlin",{"$nulls":6},"","RIORDAN Robbie",{"$nulls":6},"","WRIGHT Caitlin",{"$nulls":6},"","WRIGHT Caitlin",{"$nulls":6},"","WRIGHT Caitlin",{"$nulls":6},"","WRIGHT Caitlin",{"$nulls":51},0,0]
[{"$nulls":12},{"$f":"IFERROR(IF(SEARCH(\"11\",BE57)=1,11),\"\")","v":""},{"$nulls":3},{"$f":"IFERROR(IF(SEARCH(\"11\",BI57)=1,11),\"\")","v":""},{"$nulls":12},{"$f":"IFERROR(IF(SEARCH(\"11\",BV57)=1,11),\"\")","v":""},{"$nulls":8},{"$f":"IFERROR(IF(SEARCH(\"11\",CE57)=1,11),\"\")","v":""},{"$nulls":3},{"$f":"IFERROR(IF(SEARCH(\"11\",CI57)=1,11),\"\")","v":""},{"$nulls":9},{"$f":"IFERROR(INDEX(indexdatabase,MATCH(BQ44&$AZ$14,name&Group2,0),MATCH(\"AR\",Sheet2rng!$A$1:$AK$1,0)),\"\")","v":""},null,{"$f":"IFERROR(INDEX(indexdatabase,MATCH($BB48&$AZ$14,name&Group2,0),MATCH(\"SEND\",Sheet2rng!$A$1:$AO$1,0)),\"\")","v":""},{"$f":"IFERROR(INDEX(indexdatabase,MATCH($BB48&$AZ$14,name&Group2,0),MATCH(\"MAT\",Sheet2rng!$A$1:$AO$1,0)),\"\")","v":""},{"$f":"IFERROR(INDEX(indexdatabase,MATCH($BB48&$AZ$14,name&Group2,0),MATCH(\"EAL\",Sheet2rng!$A$1:$AO$1,0)),\"\")","v":""},"","","",{"$f":"CONCATENATE(BF48,\"  \",BG48,\"  \",BH48)","v":"    "},{"$nulls":4},"10a/Sc5",null,null,"","IFERROR(INDEX(Sheet2rng,MATCH(BA12,sheet2rows,0), MATCH($BB$11,sheet2columns,0)),\"\")",{"$f":"IFERROR(INDEX(indexdatabase,MATCH(BQ48&$AZ$14,name&Group2,0),MATCH(\"PPI\",Sheet2rng!$A$1:$AK$1,0)),\"\")","v":""},{"$f":"IFERROR(SMALL(IF(LEFT(Group2,LEN(Class5!$BA$10))=Class5!$BA$10,ROW(Group2)),ROW(A37)),\"\")","v":""},{"$nulls":62},"","",{"$nulls":6},"","",{"$nulls":6},"","",{"$nulls":6},"","",{"$nulls":6},"","",{"$nulls":6},"","",{"$nulls":51},0,0]
[{"$nulls":65},"10a/Sc6",null,null,"","IFERROR(INDEX(Sheet2rng,MATCH(BA12,sheet2rows,0), MATCH($BB$11,sheet2columns,0)),\"\")",{"$f":"IFERROR(INDEX(indexdatabase,MATCH(BQ49&$AZ$14,name&Group2,0),MATCH(\"PPI\",Sheet2rng!$A$1:$AK$1,0)),\"\")","v":""},{"$f":"IFERROR(SMALL(IF(LEFT(Group2,LEN(Class5!$BA$10))=Class5!$BA$10,ROW(Group2)),ROW(A38)),\"\")","v":""},{"$nulls":155},0,0]
[{"$nulls":12},{"$f":"IFERROR(IF($Y$1=1,\"\",VLOOKUP(M48,needstable,8,FALSE)),\"\")","v":"    "},{"$nulls":3},{"$f":"IFERROR(IF($Y$1=1,\"\",VLOOKUP(Q48,needstable,8,FALSE)),\"\")","v":"    "},{"$nulls":8},{"$f":"IFERROR(IF($Y$1=1,\"\",VLOOKUP(Z48,needstable,8,FALSE)),\"\")","v":""},{"$nulls":3},{"$f":"IFERROR(IF($Y$1=1,\"\",VLOOKUP(AD48,needstable,8,FALSE)),\"\")","v":"    "},{"$nulls":8},{"$f":"IFERROR(IF($Y$1=1,\"\",VLOOKUP(AM48,needstable,8,FALSE)),\"\")","v":"    "},{"$nulls":3},{"$f":"IFERROR(IF($Y$1=1,\"\",VLOOKUP(AQ48,needstable,8,FALSE)),\"\")","v":"    "},{"$nulls":22},"10A/So1",null,null,"","IFERROR(INDEX(Sheet2rng,MATCH(BA12,sheet2rows,0), MATCH($BB$11,sheet2columns,0)),\"\")",{"$f":"IFERROR(INDEX(indexdatabase,MATCH(BQ50&$AZ$14,name&Group2,0),MATCH(\"PPI\",Sheet2rng!$A$1:$AK$1,0)),\"\")","v":""},{"$f":"IFERROR(SMALL(IF(LEFT(Group2,LEN(Class5!$BA$10))=Class5!$BA$10,ROW(Group2)),ROW(A39)),\"\")","v":""},{"$nulls":62},"","",{"$nulls":6},"","",{"$nulls":6},"","",{"$nulls":5},{"$f":"IF(FC50=1,1,IF(FC50=2,2,IF(FC50=FC49,FB49,IF(FC50>FC49,FB49+1))))","v":0},"","",{"$nulls":5},{"$f":"IF(FK50=1,1,IF(FK50=2,2,IF(FK50=FK49,FJ49,IF(FK50>FK49,FJ49+1))))","v":0},"","",{"$nulls":5},{"$f":"IF(FS50=1,1,IF(FS50=2,2,IF(FS50=FS49,FR49,IF(FS50>FS49,FR49+1))))","v":0},"","",{"$nulls":51},0,0]
[{"$nulls":12},"C/grade",null,{"$f":"Sheet2rng!$D$1","v":"KS2"},null,"C/grade",null,{"$f":"Sheet2rng!$D$1","v":"KS2"},{"$nulls":6},"C/grade",null,{"$f":"Sheet2rng!$D$1","v":"KS2"},null,"C/grade",null,{"$f":"Sheet2rng!$D$1","v":"KS2"},{"$nulls":6},"C/grade",null,{"$f":"Sheet2rng!$D$1","v":"KS2"},null,"C/grade",null,{"$f":"Sheet2rng!$D$1","v":"KS2"},{"$nulls":20},"10A/So2",null,null,"","IFERROR(INDEX(Sheet2rng,MATCH(BA12,sheet2rows,0), MATCH($BB$11,sheet2columns,0)),\"\")",{"$f":"IFERROR(INDEX(indexdatabase,MATCH(BQ51&$AZ$14,name&Group2,0),MATCH(\"PPI\",Sheet2rng!$A$1:$AK$1,0)),\"\")","v":""},{"$f":"IFERROR(SMALL(IF(LEFT(Group2,LEN(Class5!$BA$10))=Class5!$BA$10,ROW(Group2)),ROW(A40)),\"\")","v":""},{"$nulls":62},"","",{"$nulls":6},"","",{"$nulls":6},"","",{"$nulls":6},"","",{"$nulls":6},"","",{"$nulls":6},"","",{"$nulls":52},{"$f":"DU370","v":0}]
[{"$nulls":12},{"$f":"IFERROR(IF($Y$2=2,\"\",IF($Y$2=3,INDEX(indexdatabase,MATCH(M48&$AZ$14,name&Group2,0),MATCH($AZ$23,Sheet2rng!$A$1:$AK$1,0)))),\"\")","v":""},null,{"$f":"IFERROR(IF($Y$3=4,\"\",IF($Y$3=5,INDEX(indexdatabase,MATCH(M48&$AZ$14,name&Group2,0),MATCH($P$4,Sheet2rng!$A$1:$AK$1,0)))),\"\")","v":""},null,{"$f":"IFERROR(IF($Y$2=2,\"\",IF($Y$2=3,INDEX(indexdatabase,MATCH(Q48&$AZ$14,name&Group2,0),MATCH($AZ$23,Sheet2rng!$A$1:$AK$1,0)))),\"\")","v":""},null,{"$f":"IFERROR(IF($Y$3=4,\"\",IF($Y$3=5,INDEX(indexdatabase,MATCH(Q48&$AZ$14,name&Group2,0),MATCH($P$4,Sheet2rng!$A$1:$AK$1,0)))),\"\")","v":""},{"$nulls":6},{"$f":"IFERROR(IF($Y$2=2,\"\",IF($Y$2=3,INDEX(indexdatabase,MATCH(Z48&$AZ$14,name&Group2,0),MATCH($AZ$23,Sheet2rng!$A$1:$AK$1,0)))),\"\")","v":""},null,{"$f":"IFERROR(IF($Y$3=4,\"\",IF($Y$3=5,INDEX(indexdatabase,MATCH(Z48&$AZ$14,name&Group2,0),MATCH($P$4,Sheet2rng!$A$1:$AK$1,0)))),\"\")","v":""},null,{"$f":"IFERROR(IF($Y$2=2,\"\",IF($Y$2=3,INDEX(indexdatabase,MATCH(AD48&$AZ$14,name&Group2,0),MATCH($AZ$23,Sheet2rng!$A$1:$AK$1,0)))),\"\")","v":""},null,{"$f":"IFERROR(IF($Y$3=4,\"\",IF($Y$3=5,INDEX(indexdatabase,MATCH(AD48&$AZ$14,name&Group2,0),MATCH($P$4,Sheet2rng!$A$1:$AK$1,0)))),\"\")","v":""},{"$nulls":6},{"$f":"IFERROR(IF($Y$2=2,\"\",IF($Y$2=3,INDEX(indexdatabase,MATCH(AM48&$AZ$14,name&Group2,0),MATCH($AZ$23,Sheet2rng!$A$1:$AK$1,0)))),\"\")","v":""},null,{"$f":"IFERROR(IF($Y$3=4,\"\",IF($Y$3=5,INDEX(indexdatabase,MATCH(AM48&$AZ$14,name&Group2,0),MATCH($P$4,Sheet2rng!$A$1:$AK$1,0)))),\"\")","v":""},null,{"$f":"IFERROR(IF($Y$2=2,\"\",IF($Y$2=3,INDEX(indexdatabase,MATCH(AQ48&$AZ$14,name&Group2,0),MATCH($AZ$23,Sheet2rng!$A$1:$AK$1,0)))),\"\")","v":""},null,{"$f":"IFERROR(IF($Y$3=4,\"\",IF($Y$3=5,INDEX(indexdatabase,MATCH(AQ48&$AZ$14,name&Group2,0),MATCH($P$4,Sheet2rng!$A$1:$AK$1,0)))),\"\")","v":""},{"$nulls":20},"10A/Sp1",null,null,"","IFERROR(INDEX(Sheet2rng,MATCH(BA12,sheet2rows,0), MATCH($BB$11,sheet2columns,0)),\"\")",{"$f":"IFERROR(INDEX(indexdatabase,MATCH(BQ52&$AZ$14,name&Group2,0),MATCH(\"PPI\",Sheet2rng!$A$1:$AK$1,0)),\"\")","v":""},{"$f":"IFERROR(SMALL(IF(LEFT(Group2,LEN(Class5!$BA$10))=Class5!$BA$10,ROW(Group2)),ROW(A41)),\"\")","v":""},{"$nulls":62},"","",{"$nulls":6},"","",{"$nulls":6},"","",{"$nulls":6},"","",{"$nulls":6},"","",{"$nulls":6},"",""]
[{"$nulls":12},{"$f":"Sheet2rng!$C$1","v":"Target"},null,{"$f":"Sheet2rng!$E$1","v":"AR"},null,{"$f":"Sheet2rng!$C$1","v":"Target"},null,{"$f":"Sheet2rng!$E$1","v":"AR"},{"$nulls":6},{"$f":"Sheet2rng!$C$1","v":"Target"},null,{"$f":"Sheet2rng!$E$1","v":"AR"},null,{"$f":"Sheet2rng!$C$1","v":"Target"},null,{"$f":"Sheet2rng!$E$1","v":"AR"},{"$nulls":6},{"$f":"Sheet2rng!$C$1","v":"Target"},null,{"$f":"Sheet2rng!$E$1","v":"AR"},null,{"$f":"Sheet2rng!$C$1","v":"Target"},null,{"$f":"Sheet2rng!$E$1","v":"AR"},{"$nulls":20},"10B/Ab1",null,null,"","IFERROR(INDEX(Sheet2rng,MATCH(BA12,sheet2rows,0), MATCH($BB$11,sheet2columns,0)),\"\")",{"$f":"IFERROR(INDEX(indexdatabase,MATCH(BQ53&$AZ$14,name&Group2,0),MATCH(\"PPI\",Sheet2rng!$A$1:$AK$1,0)),\"\")","v":""},{"$f":"IFERROR(SMALL(IF(LEFT(Group2,LEN(Class5!$BA$10))=Class5!$BA$10,ROW(Group2)),ROW(A42)),\"\")","v":""},{"$nulls":62},"","",{"$nulls":6},"","",{"$nulls":6},"","",{"$nulls":6},"","",{"$nulls":6},"","",{"$nulls":6},"",""]
[{"$nulls":12},{"$f":"IFERROR(IF($Y$4=6,\"\",IF($Y$4=7,INDEX(indexdatabase,MATCH(M48&$AZ$14,name&Group2,0),MATCH($N$6,Sheet2rng!$A$1:$AK$1,0)))),\"\")","v":""},null,{"$f":"IFERROR(IF($Y$5=8,\"\",IF($Y$5=9,INDEX(Sheet2rng,MATCH(M48&$AZ$14,name&Group2,0),MATCH($P$6,sheet2columns,0)))),\"\")","v":""},null,{"$f":"IFERROR(IF($Y$4=6,\"\",IF($Y$4=7,INDEX(indexdatabase,MATCH(Q48&$AZ$14,name&Group2,0),MATCH($N$6,Sheet2rng!$A$1:$AK$1,0)))),\"\")","v":""},null,{"$f":"IFERROR(IF($Y$5=8,\"\",IF($Y$5=9,INDEX(Sheet2rng,MATCH(Q48&$AZ$14,name&Group2,0),MATCH($P$6,sheet2columns,0)))),\"\")","v":""},{"$nulls":6},{"$f":"IFERROR(IF($Y$4=6,\"\",IF($Y$4=7,INDEX(indexdatabase,MATCH(Z48&$AZ$14,name&Group2,0),MATCH($N$6,Sheet2rng!$A$1:$AK$1,0)))),\"\")","v":""},null,{"$f":"IFERROR(IF($Y$5=8,\"\",IF($Y$5=9,INDEX(Sheet2rng,MATCH(Z48&$AZ$14,name&Group2,0),MATCH($P$6,sheet2columns,0)))),\"\")","v":""},null,{"$f":"IFERROR(IF($Y$4=6,\"\",IF($Y$4=7,INDEX(indexdatabase,MATCH(AD48&$AZ$14,name&Group2,0),MATCH($N$6,Sheet2rng!$A$1:$AK$1,0)))),\"\")","v":""},null,{"$f":"IFERROR(IF($Y$5=8,\"\",IF($Y$5=9,INDEX(Sheet2rng,MATCH(AD48&$AZ$14,name&Group2,0),MATCH($P$6,sheet2columns,0)))),\"\")","v":""},{"$nulls":6},{"$f":"IFERROR(IF($Y$4=6,\"\",IF($Y$4=7,INDEX(indexdatabase,MATCH(AM48&$AZ$14,name&Group2,0),MATCH($N$6,Sheet2rng!$A$1:$AK$1,0)))),\"\")","v":""},null,{"$f":"IFERROR(IF($Y$5=8,\"\",IF($Y$5=9,INDEX(Sheet2rng,MATCH(AM48&$AZ$14,name&Group2,0),MATCH($P$6,sheet2columns,0)))),\"\")","v":""},null,{"$f":"IFERROR(IF($Y$4=6,\"\",IF($Y$4=7,INDEX(indexdatabase,MATCH(AQ48&$AZ$14,name&Group2,0),MATCH($N$6,Sheet2rng!$A$1:$AK$1,0)))),\"\")","v":""},null,{"$f":"IFERROR(IF($Y$5=8,\"\",IF($Y$5=9,INDEX(Sheet2rng,MATCH(AQ48&$AZ$14,name&Group2,0),MATCH($P$6,sheet2columns,0)))),\"\")","v":""},{"$nulls":20},"10B/Ad1",null,null,"","IFERROR(INDEX(Sheet2rng,MATCH(BA12,sheet2rows,0), MATCH($BB$11,sheet2columns,0)),\"\")",{"$f":"IFERROR(INDEX(indexdatabase,MATCH(BQ54&$AZ$14,name&Group2,0),MATCH(\"PPI\",Sheet2rng!$A$1:$AK$1,0)),\"\")","v":""},{"$f":"IFERROR(SMALL(IF(LEFT(Group2,LEN(Class5!$BA$10))=Class5!$BA$10,ROW(Group2)),ROW(A43)),\"\")","v":""},{"$nulls":62},"","",{"$nulls":6},"","",{"$nulls":6},"","",{"$nulls":6},"","",{"$nulls":6},"","",{"$nulls":6},"",""]
[{"$nulls":65},"10B/Bu1",null,null,"","IFERROR(INDEX(Sheet2rng,MATCH(BA12,sheet2rows,0), MATCH($BB$11,sheet2columns,0)),\"\")",{"$f":"IFERROR(INDEX(indexdatabase,MATCH(BQ55&$AZ$14,name&Group2,0),MATCH(\"PPI\",Sheet2rng!$A$1:$AK$1,0)),\"\")","v":""},{"$f":"IFERROR(SMALL(IF(LEFT(Group2,LEN(Class5!$BA$10))=Class5!$BA$10,ROW(Group2)),ROW(A44)),\"\")","v":""}]
[{"$nulls":65},"10B/Cs1",null,null,"","IFERROR(INDEX(Sheet2rng,MATCH(BA12,sheet2rows,0), MATCH($BB$11,sheet2columns,0)),\"\")",{"$f":"IFERROR(INDEX(indexdatabase,MATCH(BQ56&$AZ$14,name&Group2,0),MATCH(\"PPI\",Sheet2rng!$A$1:$AK$1,0)),\"\")","v":""},{"$f":"IFERROR(SMALL(IF(LEFT(Group2,LEN(Class5!$BA$10))=Class5!$BA$10,ROW(Group2)),ROW(A45)),\"\")","v":""}]
[{"$nulls":43},"Teacher's table",{"$nulls":21},"10B/Gg1",null,null,"","IFERROR(INDEX(Sheet2rng,MATCH(BA12,sheet2rows,0), MATCH($BB$11,sheet2columns,0)),\"\")",{"$f":"IFERROR(INDEX(indexdatabase,MATCH(BQ57&$AZ$14,name&Group2,0),MATCH(\"PPI\",Sheet2rng!$A$1:$AK$1,0)),\"\")","v":""},{"$f":"IFERROR(SMALL(IF(LEFT(Group2,LEN(Class5!$BA$10))=Class5!$BA$10,ROW(Group2)),ROW(A46)),\"\")","v":""}]
[{"$nulls":65},"10B/Hi1",null,null,"","IFERROR(INDEX(Sheet2rng,MATCH(BA12,sheet2rows,0), MATCH($BB$11,sheet2columns,0)),\"\")",{"$f":"IFERROR(INDEX(indexdatabase,MATCH(BQ58&$AZ$14,name&Group2,0),MATCH(\"PPI\",Sheet2rng!$A$1:$AK$1,0)),\"\")","v":""},{"$f":"IFERROR(SMALL(IF(LEFT(Group2,LEN(Class5!$BA$10))=Class5!$BA$10,ROW(Group2)),ROW(A47)),\"\")","v":""}]
[{"$nulls":65},"10B/Hi2",null,null,"","IFERROR(INDEX(Sheet2rng,MATCH(BA12,sheet2rows,0), MATCH($BB$11,sheet2columns,0)),\"\")",{"$f":"IFERROR(INDEX(indexdatabase,MATCH(BQ59&$AZ$14,name&Group2,0),MATCH(\"PPI\",Sheet2rng!$A$1:$AK$1,0)),\"\")","v":""},{"$f":"IFERROR(SMALL(IF(LEFT(Group2,LEN(Class5!$BA$10))=Class5!$BA$10,ROW(Group2)),ROW(A48)),\"\")","v":""}]
[{"$nulls":65},"10B/It1",null,null,"","IFERROR(INDEX(Sheet2rng,MATCH(BA12,sheet2rows,0), MATCH($BB$11,sheet2columns,0)),\"\")",{"$f":"IFERROR(INDEX(indexdatabase,MATCH(BQ60&$AZ$14,name&Group2,0),MATCH(\"PPI\",Sheet2rng!$A$1:$AK$1,0)),\"\")","v":""},{"$f":"IFERROR(SMALL(IF(LEFT(Group2,LEN(Class5!$BA$10))=Class5!$BA$10,ROW(Group2)),ROW(A49)),\"\")","v":""}]
[{"$nulls":65},"10b/Pe1",null,null,"","IFERROR(INDEX(Sheet2rng,MATCH(BA12,sheet2rows,0), MATCH($BB$11,sheet2columns,0)),\"\")",{"$f":"IFERROR(INDEX(indexdatabase,MATCH(BQ61&$AZ$14,name&Group2,0),MATCH(\"PPI\",Sheet2rng!$A$1:$AK$1,0)),\"\")","v":""},{"$f":"IFERROR(SMALL(IF(LEFT(Group2,LEN(Class5!$BA$10))=Class5!$BA$10,ROW(Group2)),ROW(A50)),\"\")","v":""}]
[{"$nulls":65},"10b/Pe2"]
[{"$nulls":65},"10b/Pe3"]
[{"$nulls":65},"10b/Pe4",{"$nulls":67},{"$f":"IF(EE64=1,1,IF(EE64=2,2,IF(EE64=EE63,ED63,IF(EE64>EE63,ED63+1))))","v":1},1,"ABU Aisha",{"$f":"ED64","v":1},{"$nulls":4},{"$f":"IF(EM64=1,1,IF(EM64=2,2,IF(EM64=EM63,EL63,IF(EM64>EM63,EL63+1))))","v":1},1,"GIBSON James",{"$f":"EL64","v":1},{"$nulls":4},{"$f":"IF(EU64=1,1,IF(EU64=2,2,IF(EU64=EU63,ET63,IF(EU64>EU63,ET63+1))))","v":0},"","ABU Aisha",{"$f":"ET64","v":0},{"$nulls":4},{"$f":"IF(FC64=1,1,IF(FC64=2,2,IF(FC64=FC63,FB63,IF(FC64>FC63,FB63+1))))","v":0},"","ABU Aisha",{"$f":"FB64","v":0},{"$nulls":4},{"$f":"IF(FK64=1,1,IF(FK64=2,2,IF(FK64=FK63,FJ63,IF(FK64>FK63,FJ63+1))))","v":0},"","ABU Aisha",{"$f":"FJ64","v":0},{"$nulls":4},{"$f":"IF(FS64=1,1,IF(FS64=2,2,IF(FS64=FS63,FR63,IF(FS64>FS63,FR63+1))))","v":0},"","ABU Aisha",{"$f":"FR64","v":0}]
[{"$nulls":65},"10B/Pt1"]
[{"$nulls":65},"10B/Pt2"]
[{"$nulls":65},"10B/Ts1"]
[{"$nulls":65},"10bc/En1"]
[{"$nulls":65},"10bc/En2"]
[{"$nulls":65},"10bc/En3"]
[{"$nulls":65},"10bc/En4"]
[{"$nulls":65},"10bc/En5"]
[{"$nulls":65},"10bc/En6"]
[{"$nulls":65},"10bc/En7"]
[{"$nulls":65},"10bc/Ep1"]
[{"$nulls":65},"10bc/Ep2"]
[{"$nulls":65},"10bc/Ep3"]
[{"$nulls":65},"10bc/Ep4"]
[{"$nulls":65},"10bc/Ep5"]
[{"$nulls":65},"10bc/Ep6"]
[{"$nulls":65},"10bc/Ep7"]
[{"$nulls":65},"10bc/Sc1"]
[{"$nulls":65},"10bc/Sc2"]
[{"$nulls":65},"10bc/Sc3"]
[{"$nulls":65},"10bc/Sc4"]
[{"$nulls":65},"10bc/Sc5"]
[{"$nulls":65},"10bc/Sc6"]
[{"$nulls":65},"10bc/Sc7"]
[{"$nulls":65},"10bd/Ma1"]
[{"$nulls":65},"10bd/Ma2"]
[{"$nulls":65},"10bd/Ma3"]
[{"$nulls":65},"10bd/Ma4"]
[{"$nulls":65},"10bd/Ma5"]
[{"$nulls":65},"10bd/Ma6"]
[{"$nulls":65},"10bd/Ma7"]
[{"$nulls":65},"10bd/Ma8"]
[{"$nulls":65},"10C/Be1"]
[{"$nulls":65},"10C/Dr1"]
[{"$nulls":65},"10C/Fr1"]
[{"$nulls":65},"10C/Gg1"]
[{"$nulls":65},"10C/Hi1"]
[{"$nulls":65},"10C/It1"]
[{"$nulls":65},"10C/Pg1"]
[{"$nulls":65},"10C/Rm1"]
[{"$nulls":65},"10C/So1"]
[{"$nulls":65},"10C/Ts1"]
[{"$nulls":65},"10cd/Pe1"]
[{"$nulls":65},"10cd/Pe2"]
[{"$nulls":65},"10cd/Pe3"]
[{"$nulls":65},"10cd/Pe4"]
[{"$nulls":65},"10cd/Pe5"]
[{"$nulls":65},"10D/Be1"]
[{"$nulls":65},"10d/En1"]
[{"$nulls":65},"10D/Gg1"]
[{"$nulls":65},"10D/It1"]
[{"$nulls":65},"10d/Sc1"]
[{"$nulls":65},"10D/So1"]
[{"$nulls":65},"10d/Vo1"]
[{"$nulls":65},"10E/Fc1"]
[{"$nulls":65},"10E/Pb1"]
[{"$nulls":65},"10E/Pb2"]
[{"$nulls":65},"10E/Pt1"]
[{"$nulls":65},"10E/Pt2"]
[{"$nulls":65},"10F/Ab1"]
[{"$nulls":65},"10F/It1"]
[{"$nulls":65},"10F/Rm1"]
[{"$nulls":65},"10F/Tt1"]
[{"$nulls":65},"11A/Cs1"]
[{"$nulls":65},"11A/Dr1"]
[{"$nulls":65},"11A/Ec1"]
[{"$nulls":65},"11a/En1"]
[{"$nulls":65},"11a/En2"]
[{"$nulls":65},"11a/En3"]
[{"$nulls":65},"11a/En4"]
[{"$nulls":65},"11a/En5"]
[{"$nulls":65},"11a/Ep1"]
[{"$nulls":65},"11a/Ep2"]
[{"$nulls":65},"11a/Ep3"]
[{"$nulls":65},"11a/Ep4"]
[{"$nulls":65},"11a/Ep5"]
[{"$nulls":65},"11A/Fr1"]
[{"$nulls":65},"11A/Gg1"]
[{"$nulls":65},"11A/Hi1"]
[{"$nulls":65},"11A/Hi2"]
[{"$nulls":65},"11a/Ma1"]
[{"$nulls":65},"11a/Ma2"]
[{"$nulls":65},"11a/Ma3"]
[{"$nulls":65},"11a/Ma4"]
[{"$nulls":65},"11a/Ma5"]
[{"$nulls":65},"11a/Pe1"]
[{"$nulls":65},"11a/Pe2"]
[{"$nulls":65},"11a/Pe3"]
[{"$nulls":65},"11a/Pe4"]
[{"$nulls":65},"11a/Pe5"]
[{"$nulls":65},"11a/Pe6"]
[{"$nulls":65},"11A/Pg1"]
[{"$nulls":65},"11A/Pg2"]
[{"$nulls":65},"11A/Pt1"]
[{"$nulls":65},"11A/Pt2"]
[{"$nulls":65},"11A/Rm1"]
[{"$nulls":65},"11a/Sc1"]
[{"$nulls":65},"11a/Sc2"]
[{"$nulls":65},"11a/Sc3"]
[{"$nulls":65},"11a/Sc4"]
[{"$nulls":65},"11a/Sc5"]
[{"$nulls":65},"11A/So1"]
[{"$nulls":65},"11B/Ar1"]
[{"$nulls":65},"11B/Bb1"]
[{"$nulls":65},"11B/Bu1"]
[{"$nulls":65},"11B/Cs1"]
[{"$nulls":65},"11B/Dr1"]
[{"$nulls":65},"11B/Gg1"]
[{"$nulls":65},"11B/Hg1"]
[{"$nulls":65},"11B/Hi1"]
[{"$nulls":65},"11b/Pe1"]
[{"$nulls":65},"11b/Pe2"]
[{"$nulls":65},"11b/Pe3"]
[{"$nulls":65},"11b/Pe4"]
[{"$nulls":65},"11B/Pg1"]
[{"$nulls":65},"11B/Pg2"]
[{"$nulls":65},"11B/So1"]
[{"$nulls":65},"11B/Sp1"]
[{"$nulls":65},"11bc/En1"]
[{"$nulls":65},"11bc/En2"]
[{"$nulls":65},"11bc/En3"]
[{"$nulls":65},"11bc/En4"]
[{"$nulls":65},"11bc/En5"]
[{"$nulls":65},"11bc/En6"]
[{"$nulls":65},"11bc/En7"]
[{"$nulls":65},"11bc/Ep1"]
[{"$nulls":65},"11bc/Ep2"]
[{"$nulls":65},"11bc/Ep3"]
[{"$nulls":65},"11bc/Ep4"]
[{"$nulls":65},"11bc/Ep5"]
[{"$nulls":65},"11bc/Ep6"]
[{"$nulls":65},"11bc/Ep7"]
[{"$nulls":65},"11bc/Sc1"]
[{"$nulls":65},"11bc/Sc2"]
[{"$nulls":65},"11bc/Sc3"]
[{"$nulls":65},"11bc/Sc4"]
[{"$nulls":65},"11bc/Sc5"]
[{"$nulls":65},"11bc/Sc6"]
[{"$nulls":65},"11bc/Sc7"]
[{"$nulls":65},"11bd/Ma1"]
[{"$nulls":65},"11bd/Ma2"]
[{"$nulls":65},"11bd/Ma3"]
[{"$nulls":65},"11bd/Ma4"]
[{"$nulls":65},"11bd/Ma5"]
[{"$nulls":65},"11bd/Ma6"]
[{"$nulls":65},"11bd/Ma7"]
[{"$nulls":65},"11bd/Ma8"]
[{"$nulls":65},"11C/Ab1"]
[{"$nulls":65},"11C/Bb1"]
[{"$nulls":65},"11C/Bu1"]
[{"$nulls":65},"11C/Cs1"]
[{"$nulls":65},"11C/Fr1"]
[{"$nulls":65},"11C/Gg1"]
[{"$nulls":65},"11C/Hi1"]
[{"$nulls":65},"11C/Ib1"]
[{"$nulls":65},"11C/It1"]
[{"$nulls":65},"11C/Mu1"]
[{"$nulls":65},"11C/So1"]
[{"$nulls":65},"11cd/Pe1"]
[{"$nulls":65},"11cd/Pe2"]
[{"$nulls":65},"11cd/Pe3"]
[{"$nulls":65},"11cd/Pe4"]
[{"$nulls":65},"11D/Ab1"]
[{"$nulls":65},"11D/Bb1"]
[{"$nulls":65},"11D/Dr1"]
[{"$nulls":65},"11d/En1"]
[{"$nulls":65},"11D/Fc1"]
[{"$nulls":65},"11d/Sc1"]
[{"$nulls":65},"11d/Vo1"]
[{"$nulls":65},"11E/Hi1"]
[{"$nulls":65},"11E/Ib1"]
[{"$nulls":65},"11E/Rm1"]
[{"$nulls":65},"11E/So1"]
[{"$nulls":65},"11F/Bb1"]
[{"$nulls":65},"11F/Fc1"]
[{"$nulls":65},"11F/Ib1"]
[{"$nulls":65},"11F/Pb1"]
[{"$nulls":65},"12A/Ac1"]
[{"$nulls":65},"12A/Ar1"]
[{"$nulls":65},"12A/En1"]
[{"$nulls":65},"12A/Fr1"]
[{"$nulls":65},"12A/Ma1"]
[{"$nulls":65},"12A/Pb1"]
[{"$nulls":65},"12A/Pv1"]
[{"$nulls":65},"12A/Py1"]
[{"$nulls":65},"12A/Sm1"]
[{"$nulls":65},"12A/So1"]
[{"$nulls":65},"12A/Ws1"]
[{"$nulls":65},"12B/Ch1"]
[{"$nulls":65},"12B/Ec1"]
[{"$nulls":65},"12B/It1"]
[{"$nulls":65},"12B/Ms1"]
[{"$nulls":65},"12B/Pb1"]
[{"$nulls":65},"12B/Pb2"]
[{"$nulls":65},"12B/Pi1"]
[{"$nulls":65},"12B/Pv1"]
[{"$nulls":65},"12B/Sm1"]
[{"$nulls":65},"12B/Tt1"]
[{"$nulls":65},"12C/Bb1"]
[{"$nulls":65},"12C/Bi1"]
[{"$nulls":65},"12C/Bu1"]
[{"$nulls":65},"12C/En1"]
[{"$nulls":65},"12C/Hi1"]
[{"$nulls":65},"12C/Pb1"]
[{"$nulls":65},"12C/Pf1"]
[{"$nulls":65},"12C/Pt1"]
[{"$nulls":65},"12C/Pv1"]
[{"$nulls":65},"12D/En1"]
[{"$nulls":65},"12D/It1"]
[{"$nulls":65},"12D/La1"]
[{"$nulls":65},"12D/Ma1"]
[{"$nulls":65},"12D/Pb1"]
[{"$nulls":65},"12D/Pb2"]
[{"$nulls":65},"12D/Pf1"]
[{"$nulls":65},"12D/Pv1"]
[{"$nulls":65},"12D1/Bb1"]
[{"$nulls":65},"12D1/Ma1"]
[{"$nulls":65},"12E/En1"]
[{"$nulls":65},"12E/En2"]
[{"$nulls":65},"12E/Fm1"]
[{"$nulls":65},"12E/Ma1"]
[{"$nulls":65},"12E/Ma2"]
[{"$nulls":65},"12E/Pe1"]
[{"$nulls":65},"12E/Pv1"]
[{"$nulls":65},"12f/En1"]
[{"$nulls":65},"12f/Fb1"]
[{"$nulls":65},"12f/Ma1"]
[{"$nulls":65},"12f/Pb1"]
[{"$nulls":65},"13A/Bb1"]
[{"$nulls":65},"13A/Bu1"]
[{"$nulls":65},"13A/Fs1"]
[{"$nulls":65},"13A/Hi1"]
[{"$nulls":65},"13A/Ma1"]
[{"$nulls":65},"13A/Pe1"]
[{"$nulls":65},"13A/Pf1"]
[{"$nulls":65},"13A/Pv1"]
[{"$nulls":65},"13B/Ac1"]
[{"$nulls":65},"13B/Ar1"]
[{"$nulls":65},"13B/La1"]
[{"$nulls":65},"13B/Pb1"]
[{"$nulls":65},"13B/Pf1"]
[{"$nulls":65},"13B/Pv1"]
[{"$nulls":65},"13B/So1"]
[{"$nulls":65},"13C/En1"]
[{"$nulls":65},"13C/It1"]
[{"$nulls":65},"13C/Pb1"]
[{"$nulls":65},"13C/Pe1"]
[{"$nulls":65},"13C/Pv1"]
[{"$nulls":65},"13C/Tt1"]
[{"$nulls":65},"13D/At1"]
[{"$nulls":65},"13D/Ms1"]
[{"$nulls":65},"13D/Pv1"]
[{"$nulls":65},"13D/Py1"]
[{"$nulls":65},"13E/Bi1"]
[{"$nulls":65},"13E/Ec1"]
[{"$nulls":65},"13E/En1"]
[{"$nulls":65},"13E/Ho1"]
[{"$nulls":65},"13E/Mu1"]
[{"$nulls":65},"13E/Or1"]
[{"$nulls":65},"13E/Pb1"]
[{"$nulls":65},"13E/Pv1"]
[{"$nulls":65},"7a/Ar1"]
[{"$nulls":65},"7a/Ar2"]
[{"$nulls":65},"7a/Ar3"]
[{"$nulls":65},"7a/Dr1"]
[{"$nulls":65},"7a/Dr2"]
[{"$nulls":65},"7a/Dr3"]
[{"$nulls":65},"7a/Dt1"]
[{"$nulls":65},"7a/Dt2"]
[{"$nulls":65},"7a/Dt3"]
[{"$nulls":65},"7a/Dt4"]
[{"$nulls":65},"7a/En1"]
[{"$nulls":65},"7a/En2"]
[{"$nulls":65},"7a/En3"]
[{"$nulls":65},"7a/Ep1"]
[{"$nulls":65},"7a/Ep2"]
[{"$nulls":65},"7a/Ep3"]
[{"$nulls":65},"7a/Fr1"]
[{"$nulls":65},"7a/Fr2"]
[{"$nulls":65},"7a/Gg1"]
[{"$nulls":65},"7a/Gg2"]

{"sheet":"Class6","index":11,"n_rows":345,"n_cols":229,"rows_kept":345,"hidden":true,"merged":[[0,8,1,11],[0,20,0,22],[1,13,1,16],[1,20,1,22],[2,8,2,11],[2,13,2,16],[2,20,2,22],[3,8,3,9],[3,10,3,11],[3,13,3,14],[3,15,3,16],[3,20,3,22],[4,8,4,9],[4,10,4,11],[4,13,4,14],[4,15,4,16],[4,20,4,22],[5,8,5,9],[5,10,5,11],[5,13,5,14],[5,15,5,16],[5,20,5,22],[6,8,6,9],[6,10,6,11],[6,13,6,14],[6,15,6,16],[6,20,6,22],[7,20,7,22],[8,20,8,22],[11,51,12,51],[13,51,14,51],[15,25,16,28],[15,29,16,32],[15,38,16,41],[15,42,16,45],[15,227,15,235],[16,227,16,235],[17,25,17,28],[17,29,17,32],[17,38,17,41],[17,42,17,45],[18,25,18,26],[18,27,18,28],[18,29,18,30],[18,31,18,32],[18,38,18,39],[18,40,18,41],[18,42,18,43],[18,44,18,45],[18,228,18,235],[19,25,19,26],[19,27,19,28],[19,29,19,30],[19,31,19,32],[19,38,19,39],[19,40,19,41],[19,42,19,43],[19,44,19,45],[19,51,21,51],[19,228,19,235],[20,25,20,26],[20,27,20,28],[20,29,20,30],[20,31,20,32],[20,38,20,39],[20,40,20,41],[20,42,20,43],[20,44,20,45],[20,228,20,235],[21,25,21,26],[21,27,21,28],[21,29,21,30],[21,31,21,32],[21,38,21,39],[21,40,21,41],[21,42,21,43],[21,44,21,45],[21,228,21,235],[22,25,23,28],[22,29,23,32],[22,38,23,41],[22,42,23,45],[22,51,23,51],[22,228,22,235],[23,228,23,235],[24,25,24,28],[24,29,24,32],[24,38,24,41],[24,42,24,45],[24,228,24,235],[25,25,25,26],[25,27,25,28],[25,29,25,30],[25,31,25,32],[25,38,25,39],[25,40,25,41],[25,42,25,43],[25,44,25,45],[25,228,25,235],[26,25,26,26],[26,27,26,28],[26,29,26,30],[26,31,26,32],[26,38,26,39],[26,40,26,41],[26,42,26,43],[26,44,26,45],[26,228,26,235],[27,25,27,26],[27,27,27,28],[27,29,27,30],[27,31,27,32],[27,38,27,39],[27,40,27,41],[27,42,27,43],[27,44,27,45],[27,228,27,235],[28,25,28,26],[28,27,28,28],[28,29,28,30],[28,31,28,32],[28,38,28,39],[28,40,28,41],[28,42,28,43],[28,44,28,45],[28,228,28,235],[29,228,29,235],[30,228,30,235],[31,228,31,235],[32,228,32,235],[33,12,34,15],[33,16,34,19],[33,25,34,28],[33,29,34,32],[33,38,34,41],[33,42,34,45],[33,228,33,235],[34,228,34,235],[35,12,35,15],[35,16,35,19],[35,25,35,28],[35,29,35,32],[35,38,35,41],[35,42,35,45],[35,228,35,235],[36,12,36,13],[36,14,36,15],[36,16,36,17],[36,18,36,19],[36,25,36,26],[36,27,36,28],[36,29,36,30],[36,31,36,32],[36,38,36,39],[36,40,36,41],[36,42,36,43],[36,44,36,45],[36,228,36,235],[37,12,37,13],[37,14,37,15],[37,16,37,17],[37,18,37,19],[37,25,37,26],[37,27,37,28],[37,29,37,30],[37,31,37,32],[37,38,37,39],[37,40,37,41],[37,42,37,43],[37,44,37,45],[37,228,37,235],[38,12,38,13],[38,14,38,15],[38,16,38,17],[38,18,38,19],[38,25,38,26],[38,27,38,28],[38,29,38,30],[38,31,38,32],[38,38,38,39],[38,40,38,41],[38,42,38,43],[38,44,38,45],[38,228,38,235],[39,12,39,13],[39,14,39,15],[39,16,39,17],[39,18,39,19],[39,25,39,26],[39,27,39,28],[39,29,39,30],[39,31,39,32],[39,38,39,39],[39,40,39,41],[39,42,39,43],[39,44,39,45],[39,228,39,235],[40,12,41,15],[40,16,41,19],[40,25,41,28],[40,29,41,32],[40,38,41,41],[40,42,41,45],[40,228,40,235],[41,228,41,235],[42,12,42,15],[42,16,42,19],[42,25,42,28],[42,29,42,32],[42,38,42,41],[42,42,42,45],[42,228,42,235],[43,12,43,13],[43,14,43,15],[43,16,43,17],[43,18,43,19],[43,25,43,26],[43,27,43,28],[43,29,43,30],[43,31,43,32],[43,38,43,39],[43,40,43,41],[43,42,43,43],[43,44,43,45],[43,228,43,235],[44,12,44,13],[44,14,44,15],[44,16,44,17],[44,18,44,19],[44,25,44,26],[44,27,44,28],[44,29,44,30],[44,31,44,32],[44,38,44,39],[44,40,44,41],[44,42,44,43],[44,44,44,45],[44,228,44,235],[45,12,45,13],[45,14,45,15],[45,16,45,17],[45,18,45,19],[45,25,45,26],[45,27,45,28],[45,29,45,30],[45,31,45,32],[45,38,45,39],[45,40,45,41],[45,42,45,43],[45,44,45,45],[45,228,45,235],[46,12,46,13],[46,14,46,15],[46,16,46,17],[46,18,46,19],[46,25,46,26],[46,27,46,28],[46,29,46,30],[46,31,46,32],[46,38,46,39],[46,40,46,41],[46,42,46,43],[46,44,46,45],[46,228,46,235],[47,12,48,15],[47,16,48,19],[47,25,48,28],[47,29,48,32],[47,38,48,41],[47,42,48,45],[47,228,47,235],[48,228,48,235],[49,12,49,15],[49,16,49,19],[49,25,49,28],[49,29,49,32],[49,38,49,41],[49,42,49,45],[49,228,49,235],[50,12,50,13],[50,14,50,15],[50,16,50,17],[50,18,50,19],[50,25,50,26],[50,27,50,28],[50,29,50,30],[50,31,50,32],[50,38,50,39],[50,40,50,41],[50,42,50,43],[50,44,50,45],[50,228,50,235],[51,12,51,13],[51,14,51,15],[51,16,51,17],[51,18,51,19],[51,25,51,26],[51,27,51,28],[51,29,51,30],[51,31,51,32],[51,38,51,39],[51,40,51,41],[51,42,51,43],[51,44,51,45],[51,228,51,235],[52,12,52,13],[52,14,52,15],[52,16,52,17],[52,18,52,19],[52,25,52,26],[52,27,52,28],[52,29,52,30],[52,31,52,32],[52,38,52,39],[52,40,52,41],[52,42,52,43],[52,44,52,45],[53,12,53,13],[53,14,53,15],[53,16,53,17],[53,18,53,19],[53,25,53,26],[53,27,53,28],[53,29,53,30],[53,31,53,32],[53,38,53,39],[53,40,53,41],[53,42,53,43],[53,44,53,45],[56,43,59,48],[74,18,76,25],[74,26,76,29],[154,18,156,25],[154,26,156,29],[253,18,255,25],[253,26,255,29],[339,18,341,25],[339,26,341,29],[444,18,446,25],[444,26,446,29],[551,18,553,25],[551,26,553,29],[662,18,664,25],[662,26,664,29],[728,18,730,25],[728,26,730,29],[815,19,817,26],[815,27,817,30],[914,19,916,26],[914,27,916,30],[1000,19,1002,26],[1000,27,1002,30],[1105,19,1107,26],[1105,27,1107,30],[1212,19,1214,26],[1212,27,1214,30],[1323,19,1325,26],[1323,27,1325,30]]}
[{"$f":"Main!H2","v":"SPR 1"},0,1,null,{"$f":"IFERROR(IF(SEARCH(\"7\",BA10)=1,7),\"\")","v":""},{"$f":"IFERROR(IF(SEARCH(\"8\",BA10)=1,8),\"\")","v":8},{"$f":"IFERROR(IF(SEARCH(\"9\",BA10)=1,9),\"\")","v":""},{"$f":"IFERROR(IF(SEARCH(\"10\",BA10)=1,10),\"\")","v":""},{"$f":"IFERROR(IF(SEARCH(\"11\",BA10)=1,11),\"\")","v":""},{"$nulls":3},64,{"$f":"IF(ISODD(M1),\"Disable Table Creation\",\"Enable Table Creation\")","v":"Enable Table Creation"},1,{"$nulls":5},"hide/show needs",null,null,"0to1",0,{"$nulls":29},"Aut 1",{"$nulls":13},"Classlist",{"$nulls":7},"Classlist",{"$nulls":11},"Classlist"]
[{"$nulls":20},"hide/show c/grade",null,null,"2to3",3,{"$nulls":29},"Aut 2",{"$nulls":13},"Classlist",{"$nulls":7},"Classlist",{"$nulls":11},"Classlist"]
[null,null,{"$f":"MATCH(I2&$AZ$14,name&Group2,0)","v":{"$error":"#N/A"}},{"$nulls":5},{"$f":"IFERROR(IF($Y$1=1,\"\",VLOOKUP(I1,needstable,8,FALSE)),\"\")","v":"    "},{"$nulls":4},"",{"$nulls":6},"hide/show KS2",null,null,"4to5",5,{"$nulls":29},"Spr 1",{"$nulls":13},"Classlist",{"$nulls":7},"Classlist",{"$nulls":11},"Classlist"]
[{"$nulls":8},"C/grade",null,{"$f":"Sheet2rng!$D$1","v":"KS2"},null,null,"C/grade",null,"KS2",{"$nulls":4},"hide/show target",null,null,"6to7",7,{"$nulls":29},"Spr 2",{"$nulls":13},"Classlist",{"$nulls":7},"Classlist",{"$nulls":11},"Classlist"]
[{"$nulls":8},{"$f":"IFERROR(IF($Y$2=2,\"\",IF($Y$2=3,INDEX(indexdatabase,MATCH(I1&$AZ$14,name&Group2,0),MATCH($AZ$23,Sheet2rng!$A$1:$AK$1,0)))),\"\")","v":""},null,{"$f":"IFERROR(IF($Y$3=4,\"\",IF($Y$3=5,INDEX(indexdatabase,MATCH(I1&$AZ$14,name&Group2,0),MATCH($P$4,Sheet2rng!$A$1:$AK$1,0)))),\"\")","v":""},null,null,"",null,"",{"$nulls":4},"hide/show AR",null,null,"8to9",9,{"$nulls":29},"Sum 1",{"$nulls":13},"Classlist",{"$nulls":7},"Classlist",{"$nulls":11},"Classlist"]
[{"$nulls":8},{"$f":"Sheet2rng!$C$1","v":"Target"},null,{"$f":"Sheet2rng!$E$1","v":"AR"},null,null,"Target",null,"AR",{"$nulls":38},"Sum 2",{"$nulls":13},"Classlist",{"$nulls":7},"Classlist",{"$nulls":11},"Classlist"]
[{"$nulls":8},{"$f":"IFERROR(IF($Y$4=6,\"\",IF($Y$4=7,INDEX(indexdatabase,MATCH(I1&$AZ$14,name&Group2,0),MATCH($N$6,Sheet2rng!$A$1:$AK$1,0)))),\"\")","v":""},null,{"$f":"IFERROR(IF($Y$5=8,\"\",IF($Y$5=9,INDEX(Sheet2rng,MATCH(I1&$AZ$14,name&Group2,0),MATCH($P$6,sheet2columns,0)))),\"\")","v":""},null,null,"",null,"",{"$nulls":52},"Classlist",{"$nulls":7},"Classlist",{"$nulls":11},"Classlist"]
[{"$nulls":68},"Classlist",{"$nulls":7},"Classlist",{"$nulls":11},"Classlist"]
[{"$nulls":11},{"$f":"AZ23","v":"SPR 1"},{"$nulls":56},"Classlist",{"$nulls":7},"Classlist",null,{"$f":"IFERROR(INDEX(indexdatabase,MATCH(I2&$AZ$14,name&Group2,0),MATCH($A$1,Sheet2rng!$F$1:$K$1,0)+27),\"\")","v":""},{"$f":"IF(OR(AZ27=\"Aut 1\",AZ27=\"Aut 2\",AZ27=\"Spr 1\"),1,2)","v":1},{"$f":"IF(AZ4018=\"Sum 2\",3,\"\")","v":""},{"$f":"IFERROR(INDEX(Sheet2rng!$A$1:$AK$2500,MATCH(I2&AZ14,Sheet2rng!$A$1:$A$2500&Sheet2rng!$B$1:$B$28,0),MATCH(\"Target\",Sheet2rng!$A$1:$AK$1,0)),\"\")","v":""},{"$nulls":6},"Classlist"]
[{"$nulls":52},{"$f":"AZ14","v":"8L-RE"},{"$nulls":15},"Classlist",{"$nulls":7},"Classlist",null,{"$f":"CONCATENATE(I2,AZ14)","v":"8L-RE"},{"$nulls":9},"Classlist"]
[{"$nulls":52},"Class","FSM","PPI",{"$nulls":13},"Classlist",null,"PPI",{"$nulls":5},"Classlist",{"$nulls":11},"Classlist"]
[{"$nulls":51},"Select class",{"$nulls":13},"11B/So1",null,null,{"$f":"IF($BA$10=\"\",\"\",IFERROR(INDEX(name,BT12,1),\"\"))","v":"Hazel"},"IFERROR(INDEX(Sheet2rng,MATCH(BA12,sheet2rows,0), MATCH($BB$11,sheet2columns,0)),\"\")",{"$f":"IFERROR(INDEX(indexdatabase,MATCH(BQ12&$AZ$14,name&Group2,0),MATCH(\"PPI\",Sheet2rng!$A$1:$AK$1,0)),\"\")","v":0},{"$f":"IFERROR(SMALL(IF(LEFT(Group2,LEN(Class6!$BA$10))=Class6!$BA$10,ROW(Group2)),ROW(A1)),\"\")","v":7},{"$nulls":4},"HILL Gretchen",{"$nulls":11},"Hazel"]
[{"$nulls":65},"11A/So1",null,null,"Eric","IFERROR(INDEX(Sheet2rng,MATCH(BA12,sheet2rows,0), MATCH($BB$11,sheet2columns,0)),\"\")",{"$f":"IFERROR(INDEX(indexdatabase,MATCH(BQ13&$AZ$14,name&Group2,0),MATCH(\"PPI\",Sheet2rng!$A$1:$AK$1,0)),\"\")","v":0},{"$f":"IFERROR(SMALL(IF(LEFT(Group2,LEN(Class6!$BA$10))=Class6!$BA$10,ROW(Group2)),ROW(A2)),\"\")","v":17},{"$nulls":4},"MCLAUGHLIN Dolores",{"$nulls":11},"Eric"]
[{"$nulls":51},"8L-RE",{"$nulls":13},"11P/So1",null,null,"Franklin","IFERROR(INDEX(Sheet2rng,MATCH(BA12,sheet2rows,0), MATCH($BB$11,sheet2columns,0)),\"\")",{"$f":"IFERROR(INDEX(indexdatabase,MATCH(BQ14&$AZ$14,name&Group2,0),MATCH(\"PPI\",Sheet2rng!$A$1:$AK$1,0)),\"\")","v":"Y"},{"$f":"IFERROR(SMALL(IF(LEFT(Group2,LEN(Class6!$BA$10))=Class6!$BA$10,ROW(Group2)),ROW(A3)),\"\")","v":19},{"$nulls":4},"STEELE Eric",{"$nulls":11},"Franklin"]
[{"$nulls":54},"SEND","MAT","EAL","SEND/","MAT/","EAL/",{"$nulls":5},"11Q/So1",null,null,"Claire","IFERROR(INDEX(Sheet2rng,MATCH(BA12,sheet2rows,0), MATCH($BB$11,sheet2columns,0)),\"\")",{"$f":"IFERROR(INDEX(indexdatabase,MATCH(BQ15&$AZ$14,name&Group2,0),MATCH(\"PPI\",Sheet2rng!$A$1:$AK$1,0)),\"\")","v":0},{"$f":"IFERROR(SMALL(IF(LEFT(Group2,LEN(Class6!$BA$10))=Class6!$BA$10,ROW(Group2)),ROW(A4)),\"\")","v":20},{"$nulls":4},"VICK Franklin",{"$nulls":11},"Claire"]
[{"$nulls":29},"Franklin",{"$nulls":8},{"$f":"IFERROR(IF(SEARCH(\"11\",CE25)=1,11),\"\")","v":""},{"$nulls":3},{"$f":"IFERROR(IF(SEARCH(\"11\",CI25)=1,11),\"\")","v":""},{"$nulls":9},{"$f":"IFERROR(INDEX(indexdatabase,MATCH(BQ12&$AZ$14,name&Group2,0),MATCH(\"AR\",Sheet2rng!$A$1:$AK$1,0)),\"\")","v":0},{"$f":"BQ12","v":"Hazel"},{"$f":"IFERROR(INDEX(indexdatabase,MATCH($BB16&$AZ$14,name&Group2,0),MATCH(\"SEND\",Sheet2rng!$A$1:$AO$1,0)),\"\")","v":"K"},{"$f":"IFERROR(INDEX(indexdatabase,MATCH($BB16&$AZ$14,name&Group2,0),MATCH(\"MAT\",Sheet2rng!$A$1:$AO$1,0)),\"\")","v":0},{"$f":"IFERROR(INDEX(indexdatabase,MATCH($BB16&$AZ$14,name&Group2,0),MATCH(\"EAL\",Sheet2rng!$A$1:$AO$1,0)),\"\")","v":"OTH"},{"$f":"IF($BC16=0,\"\",IF($BC16=\"\",\"\",IF($BC16=\"N\",\"\",$BF$15&$BC16)))","v":"SEND/K"},{"$f":"IF($BD16=0,\"\",IF($BD16=\"\",\"\",IF($BD16=\"N\",\"\",$BG$15&$BD16)))","v":""},{"$f":"IF($BE16=0,\"\",IF($BE16=\"\",\"\",IF($BE16=\"N\",\"\",$BH$15&$BE16)))","v":"EAL/OTH"},{"$f":"CONCATENATE(BF16,\"  \",BG16,\"  \",BH16)","v":"SEND/K    EAL/OTH"},{"$nulls":4},"11B/So2",null,null,"Katherine","IFERROR(INDEX(Sheet2rng,MATCH(BA12,sheet2rows,0), MATCH($BB$11,sheet2columns,0)),\"\")",{"$f":"IFERROR(INDEX(indexdatabase,MATCH(BQ16&$AZ$14,name&Group2,0),MATCH(\"PPI\",Sheet2rng!$A$1:$AK$1,0)),\"\")","v":0},{"$f":"IFERROR(SMALL(IF(LEFT(Group2,LEN(Class6!$BA$10))=Class6!$BA$10,ROW(Group2)),ROW(A5)),\"\")","v":33},{"$nulls":4},"GOLDSTEIN Gretchen",{"$nulls":11},"Katherine",{"$nulls":138},{"$f":"BA10","v":"8L-RE"}]
[{"$nulls":52},{"$f":"IFERROR(INDEX(indexdatabase,MATCH(BQ13&$AZ$14,name&Group2,0),MATCH(\"AR\",Sheet2rng!$A$1:$AK$1,0)),\"\")","v":0},{"$f":"BQ13","v":"Eric"},{"$f":"IFERROR(INDEX(indexdatabase,MATCH($BB17&$AZ$14,name&Group2,0),MATCH(\"SEND\",Sheet2rng!$A$1:$AO$1,0)),\"\")","v":0},{"$f":"IFERROR(INDEX(indexdatabase,MATCH($BB17&$AZ$14,name&Group2,0),MATCH(\"MAT\",Sheet2rng!$A$1:$AO$1,0)),\"\")","v":0},{"$f":"IFERROR(INDEX(indexdatabase,MATCH($BB17&$AZ$14,name&Group2,0),MATCH(\"EAL\",Sheet2rng!$A$1:$AO$1,0)),\"\")","v":"OTH"},{"$f":"IF($BC17=0,\"\",IF($BC17=\"\",\"\",IF($BC17=\"N\",\"\",$BF$15&$BC17)))","v":""},{"$f":"IF($BD17=0,\"\",IF($BD17=\"\",\"\",IF($BD17=\"N\",\"\",$BG$15&$BD17)))","v":""},{"$f":"IF($BE17=0,\"\",IF($BE17=\"\",\"\",IF($BE17=\"N\",\"\",$BH$15&$BE17)))","v":"EAL/OTH"},{"$f":"CONCATENATE(BF17,\"  \",BG17,\"  \",BH17)","v":"    EAL/OTH"},{"$nulls":7},"Christina","IFERROR(INDEX(Sheet2rng,MATCH(BA12,sheet2rows,0), MATCH($BB$11,sheet2columns,0)),\"\")",{"$f":"IFERROR(INDEX(indexdatabase,MATCH(BQ17&$AZ$14,name&Group2,0),MATCH(\"PPI\",Sheet2rng!$A$1:$AK$1,0)),\"\")","v":"Y"},{"$f":"IFERROR(SMALL(IF(LEFT(Group2,LEN(Class6!$BA$10))=Class6!$BA$10,ROW(Group2)),ROW(A6)),\"\")","v":36},{"$nulls":4},"MANGUM Patricia",{"$nulls":11},"Christina",{"$nulls":138},"Progress since AUT1"]
[{"$nulls":25},{"$f":"IFERROR(IF($Y$1=1,\"\",VLOOKUP(Z16,needstable,8,FALSE)),\"\")","v":""},{"$nulls":3},{"$f":"IFERROR(IF($Y$1=1,\"\",VLOOKUP(AD16,needstable,8,FALSE)),\"\")","v":"    EAL/OTH"},{"$nulls":8},{"$f":"IFERROR(IF($Y$1=1,\"\",VLOOKUP(AM16,needstable,8,FALSE)),\"\")","v":"    "},{"$nulls":3},{"$f":"IFERROR(IF($Y$1=1,\"\",VLOOKUP(AQ16,needstable,8,FALSE)),\"\")","v":"    "},{"$nulls":9},{"$f":"IFERROR(INDEX(indexdatabase,MATCH(BQ14&$AZ$14,name&Group2,0),MATCH(\"AR\",Sheet2rng!$A$1:$AK$1,0)),\"\")","v":0},"Franklin",{"$f":"IFERROR(INDEX(indexdatabase,MATCH($BB18&$AZ$14,name&Group2,0),MATCH(\"SEND\",Sheet2rng!$A$1:$AO$1,0)),\"\")","v":0},{"$f":"IFERROR(INDEX(indexdatabase,MATCH($BB18&$AZ$14,name&Group2,0),MATCH(\"MAT\",Sheet2rng!$A$1:$AO$1,0)),\"\")","v":0},{"$f":"IFERROR(INDEX(indexdatabase,MATCH($BB18&$AZ$14,name&Group2,0),MATCH(\"EAL\",Sheet2rng!$A$1:$AO$1,0)),\"\")","v":"OTH"},"","","EAL/OTH","    EAL/OTH",{"$nulls":7},"William","IFERROR(INDEX(Sheet2rng,MATCH(BA12,sheet2rows,0), MATCH($BB$11,sheet2columns,0)),\"\")",{"$f":"IFERROR(INDEX(indexdatabase,MATCH(BQ18&$AZ$14,name&Group2,0),MATCH(\"PPI\",Sheet2rng!$A$1:$AK$1,0)),\"\")","v":"Y"},{"$f":"IFERROR(SMALL(IF(LEFT(Group2,LEN(Class6!$BA$10))=Class6!$BA$10,ROW(Group2)),ROW(A7)),\"\")","v":39},{"$nulls":4},"MERRITT Shirley",{"$nulls":11},"William"]
[{"$nulls":25},"C/grade",null,{"$f":"Sheet2rng!$D$1","v":"KS2"},null,"C/grade",null,{"$f":"Sheet2rng!$D$1","v":"KS2"},{"$nulls":6},"C/grade",null,{"$f":"Sheet2rng!$D$1","v":"KS2"},null,"C/grade",null,{"$f":"Sheet2rng!$D$1","v":"KS2"},{"$nulls":7},{"$f":"IFERROR(INDEX(indexdatabase,MATCH(BQ15&$AZ$14,name&Group2,0),MATCH(\"AR\",Sheet2rng!$A$1:$AK$1,0)),\"\")","v":0},"Claire",{"$f":"IFERROR(INDEX(indexdatabase,MATCH($BB19&$AZ$14,name&Group2,0),MATCH(\"SEND\",Sheet2rng!$A$1:$AO$1,0)),\"\")","v":0},{"$f":"IFERROR(INDEX(indexdatabase,MATCH($BB19&$AZ$14,name&Group2,0),MATCH(\"MAT\",Sheet2rng!$A$1:$AO$1,0)),\"\")","v":0},{"$f":"IFERROR(INDEX(indexdatabase,MATCH($BB19&$AZ$14,name&Group2,0),MATCH(\"EAL\",Sheet2rng!$A$1:$AO$1,0)),\"\")","v":"ENG"},"","","EAL/ENG","    EAL/ENG",{"$nulls":7},"Melinda","IFERROR(INDEX(Sheet2rng,MATCH(BA12,sheet2rows,0), MATCH($BB$11,sheet2columns,0)),\"\")",{"$f":"IFERROR(INDEX(indexdatabase,MATCH(BQ19&$AZ$14,name&Group2,0),MATCH(\"PPI\",Sheet2rng!$A$1:$AK$1,0)),\"\")","v":"Y"},{"$f":"IFERROR(SMALL(IF(LEFT(Group2,LEN(Class6!$BA$10))=Class6!$BA$10,ROW(Group2)),ROW(A8)),\"\")","v":47},{"$nulls":4},"MORGAN Glenda",{"$nulls":11},"Melinda",{"$nulls":138},{"$f":"DT338","v":0},0]
[{"$nulls":25},{"$f":"IFERROR(IF($Y$2=2,\"\",IF($Y$2=3,INDEX(indexdatabase,MATCH(Z16&$AZ$14,name&Group2,0),MATCH($AZ$23,Sheet2rng!$A$1:$AK$1,0)))),\"\")","v":""},null,{"$f":"IFERROR(IF($Y$3=4,\"\",IF($Y$3=5,INDEX(indexdatabase,MATCH(Z16&$AZ$14,name&Group2,0),MATCH($P$4,Sheet2rng!$A$1:$AK$1,0)))),\"\")","v":""},null,{"$f":"IFERROR(IF($Y$2=2,\"\",IF($Y$2=3,INDEX(indexdatabase,MATCH(AD16&$AZ$14,name&Group2,0),MATCH($AZ$23,Sheet2rng!$A$1:$AK$1,0)))),\"\")","v":4},null,{"$f":"IFERROR(IF($Y$3=4,\"\",IF($Y$3=5,INDEX(indexdatabase,MATCH(AD16&$AZ$14,name&Group2,0),MATCH($P$4,Sheet2rng!$A$1:$AK$1,0)))),\"\")","v":0},{"$nulls":6},{"$f":"IFERROR(IF($Y$2=2,\"\",IF($Y$2=3,INDEX(indexdatabase,MATCH(AM16&$AZ$14,name&Group2,0),MATCH($AZ$23,Sheet2rng!$A$1:$AK$1,0)))),\"\")","v":""},null,{"$f":"IFERROR(IF($Y$3=4,\"\",IF($Y$3=5,INDEX(indexdatabase,MATCH(AM16&$AZ$14,name&Group2,0),MATCH($P$4,Sheet2rng!$A$1:$AK$1,0)))),\"\")","v":""},null,{"$f":"IFERROR(IF($Y$2=2,\"\",IF($Y$2=3,INDEX(indexdatabase,MATCH(AQ16&$AZ$14,name&Group2,0),MATCH($AZ$23,Sheet2rng!$A$1:$AK$1,0)))),\"\")","v":""},null,{"$f":"IFERROR(IF($Y$3=4,\"\",IF($Y$3=5,INDEX(indexdatabase,MATCH(AQ16&$AZ$14,name&Group2,0),MATCH($P$4,Sheet2rng!$A$1:$AK$1,0)))),\"\")","v":""},{"$nulls":6},"Assessment period",{"$f":"IFERROR(INDEX(indexdatabase,MATCH(BQ16&$AZ$14,name&Group2,0),MATCH(\"AR\",Sheet2rng!$A$1:$AK$1,0)),\"\")","v":0},"Katherine",{"$f":"IFERROR(INDEX(indexdatabase,MATCH($BB20&$AZ$14,name&Group2,0),MATCH(\"SEND\",Sheet2rng!$A$1:$AO$1,0)),\"\")","v":0},{"$f":"IFERROR(INDEX(indexdatabase,MATCH($BB20&$AZ$14,name&Group2,0),MATCH(\"MAT\",Sheet2rng!$A$1:$AO$1,0)),\"\")","v":0},{"$f":"IFERROR(INDEX(indexdatabase,MATCH($BB20&$AZ$14,name&Group2,0),MATCH(\"EAL\",Sheet2rng!$A$1:$AO$1,0)),\"\")","v":"NOT/kn"},"","","EAL/NOT/kn","    EAL/NOT/kn",{"$nulls":7},"Luis","IFERROR(INDEX(Sheet2rng,MATCH(BA12,sheet2rows,0), MATCH($BB$11,sheet2columns,0)),\"\")",{"$f":"IFERROR(INDEX(indexdatabase,MATCH(BQ20&$AZ$14,name&Group2,0),MATCH(\"PPI\",Sheet2rng!$A$1:$AK$1,0)),\"\")","v":0},{"$f":"IFERROR(SMALL(IF(LEFT(Group2,LEN(Class6!$BA$10))=Class6!$BA$10,ROW(Group2)),ROW(A9)),\"\")","v":50},{"$nulls":4},"RICH Jessica",{"$nulls":11},"Luis",{"$nulls":44},{"$f":"IF(EE20=1,1,IF(EE20=2,2,IF(EE20=EE19,ED19,IF(EE20>EE19,ED19+1))))","v":0},"","ABU Aisha",{"$nulls":5},{"$f":"IF(EM20=1,1,IF(EM20=2,2,IF(EM20=EM19,EL19,IF(EM20>EM19,EL19+1))))","v":1},1,"CHATTEN Zoe",{"$nulls":5},{"$f":"IF(EU20=1,1,IF(EU20=2,2,IF(EU20=EU19,ET19,IF(EU20>EU19,ET19+1))))","v":0},"","ABU Aisha",{"$nulls":5},{"$f":"IF(FC20=1,1,IF(FC20=2,2,IF(FC20=FC19,FB19,IF(FC20>FC19,FB19+1))))","v":0},"","ABU Aisha",{"$nulls":5},{"$f":"IF(FK20=1,1,IF(FK20=2,2,IF(FK20=FK19,FJ19,IF(FK20>FK19,FJ19+1))))","v":0},"","ABU Aisha",{"$nulls":5},{"$f":"IF(FS20=1,1,IF(FS20=2,2,IF(FS20=FS19,FR19,IF(FS20>FS19,FR19+1))))","v":0},"","ABU Aisha",{"$nulls":51},0,0]
[{"$nulls":25},{"$f":"Sheet2rng!$C$1","v":"Target"},null,{"$f":"Sheet2rng!$E$1","v":"AR"},null,{"$f":"Sheet2rng!$C$1","v":"Target"},null,{"$f":"Sheet2rng!$E$1","v":"AR"},{"$nulls":6},{"$f":"Sheet2rng!$C$1","v":"Target"},null,{"$f":"Sheet2rng!$E$1","v":"AR"},null,{"$f":"Sheet2rng!$C$1","v":"Target"},null,{"$f":"Sheet2rng!$E$1","v":"AR"},{"$nulls":7},{"$f":"IFERROR(INDEX(indexdatabase,MATCH(BQ17&$AZ$14,name&Group2,0),MATCH(\"AR\",Sheet2rng!$A$1:$AK$1,0)),\"\")","v":0},"Christina",{"$f":"IFERROR(INDEX(indexdatabase,MATCH($BB21&$AZ$14,name&Group2,0),MATCH(\"SEND\",Sheet2rng!$A$1:$AO$1,0)),\"\")","v":"K"},{"$f":"IFERROR(INDEX(indexdatabase,MATCH($BB21&$AZ$14,name&Group2,0),MATCH(\"MAT\",Sheet2rng!$A$1:$AO$1,0)),\"\")","v":0},{"$f":"IFERROR(INDEX(indexdatabase,MATCH($BB21&$AZ$14,name&Group2,0),MATCH(\"EAL\",Sheet2rng!$A$1:$AO$1,0)),\"\")","v":"NOT/kn"},"SEND/K","","EAL/NOT/kn","SEND/K    EAL/NOT/kn",{"$nulls":7},"Caroline","IFERROR(INDEX(Sheet2rng,MATCH(BA12,sheet2rows,0), MATCH($BB$11,sheet2columns,0)),\"\")",{"$f":"IFERROR(INDEX(indexdatabase,MATCH(BQ21&$AZ$14,name&Group2,0),MATCH(\"PPI\",Sheet2rng!$A$1:$AK$1,0)),\"\")","v":0},{"$f":"IFERROR(SMALL(IF(LEFT(Group2,LEN(Class6!$BA$10))=Class6!$BA$10,ROW(Group2)),ROW(A10)),\"\")","v":54},{"$nulls":4},"HINTON Luis",{"$nulls":11},"Caroline",{"$nulls":44},{"$f":"IF(EE21=1,1,IF(EE21=2,2,IF(EE21=EE20,ED20,IF(EE21>EE20,ED20+1))))","v":0},"","ALFORD Harry",{"$nulls":5},{"$f":"IF(EM21=1,1,IF(EM21=2,2,IF(EM21=EM20,EL20,IF(EM21>EM20,EL20+1))))","v":2},2,"ALFORD Harry",{"$nulls":5},{"$f":"IF(EU21=1,1,IF(EU21=2,2,IF(EU21=EU20,ET20,IF(EU21>EU20,ET20+1))))","v":0},"","ALFORD Harry",{"$nulls":5},{"$f":"IF(FC21=1,1,IF(FC21=2,2,IF(FC21=FC20,FB20,IF(FC21>FC20,FB20+1))))","v":0},"","ALFORD Harry",{"$nulls":5},{"$f":"IF(FK21=1,1,IF(FK21=2,2,IF(FK21=FK20,FJ20,IF(FK21>FK20,FJ20+1))))","v":0},"","ALFORD Harry",{"$nulls":5},{"$f":"IF(FS21=1,1,IF(FS21=2,2,IF(FS21=FS20,FR20,IF(FS21>FS20,FR20+1))))","v":0},"","ALFORD Harry",{"$nulls":51},0,0]
[{"$nulls":25},{"$f":"IFERROR(IF($Y$4=6,\"\",IF($Y$4=7,INDEX(indexdatabase,MATCH(Z16&$AZ$14,name&Group2,0),MATCH($N$6,Sheet2rng!$A$1:$AK$1,0)))),\"\")","v":""},null,{"$f":"IFERROR(IF($Y$5=8,\"\",IF($Y$5=9,INDEX(Sheet2rng,MATCH(Z16&$AZ$14,name&Group2,0),MATCH($P$6,sheet2columns,0)))),\"\")","v":""},null,{"$f":"IFERROR(IF($Y$4=6,\"\",IF($Y$4=7,INDEX(indexdatabase,MATCH(AD16&$AZ$14,name&Group2,0),MATCH($N$6,Sheet2rng!$A$1:$AK$1,0)))),\"\")","v":4},null,{"$f":"IFERROR(IF($Y$5=8,\"\",IF($Y$5=9,INDEX(Sheet2rng,MATCH(AD16&$AZ$14,name&Group2,0),MATCH($P$6,sheet2columns,0)))),\"\")","v":0},{"$nulls":6},{"$f":"IFERROR(IF($Y$4=6,\"\",IF($Y$4=7,INDEX(indexdatabase,MATCH(AM16&$AZ$14,name&Group2,0),MATCH($N$6,Sheet2rng!$A$1:$AK$1,0)))),\"\")","v":""},null,{"$f":"IFERROR(IF($Y$5=8,\"\",IF($Y$5=9,INDEX(Sheet2rng,MATCH(AM16&$AZ$14,name&Group2,0),MATCH($P$6,sheet2columns,0)))),\"\")","v":""},null,{"$f":"IFERROR(IF($Y$4=6,\"\",IF($Y$4=7,INDEX(indexdatabase,MATCH(AQ16&$AZ$14,name&Group2,0),MATCH($N$6,Sheet2rng!$A$1:$AK$1,0)))),\"\")","v":""},null,{"$f":"IFERROR(IF($Y$5=8,\"\",IF($Y$5=9,INDEX(Sheet2rng,MATCH(AQ16&$AZ$14,name&Group2,0),MATCH($P$6,sheet2columns,0)))),\"\")","v":""},{"$nulls":7},{"$f":"IFERROR(INDEX(indexdatabase,MATCH(BQ18&$AZ$14,name&Group2,0),MATCH(\"AR\",Sheet2rng!$A$1:$AK$1,0)),\"\")","v":0},"William",{"$f":"IFERROR(INDEX(indexdatabase,MATCH($BB22&$AZ$14,name&Group2,0),MATCH(\"SEND\",Sheet2rng!$A$1:$AO$1,0)),\"\")","v":0},{"$f":"IFERROR(INDEX(indexdatabase,MATCH($BB22&$AZ$14,name&Group2,0),MATCH(\"MAT\",Sheet2rng!$A$1:$AO$1,0)),\"\")","v":0},{"$f":"IFERROR(INDEX(indexdatabase,MATCH($BB22&$AZ$14,name&Group2,0),MATCH(\"EAL\",Sheet2rng!$A$1:$AO$1,0)),\"\")","v":"OTH"},"","","EAL/OTH","    EAL/OTH",{"$nulls":7},"Ethel","IFERROR(INDEX(Sheet2rng,MATCH(BA12,sheet2rows,0), MATCH($BB$11,sheet2columns,0)),\"\")",{"$f":"IFERROR(INDEX(indexdatabase,MATCH(BQ22&$AZ$14,name&Group2,0),MATCH(\"PPI\",Sheet2rng!$A$1:$AK$1,0)),\"\")","v":"Y"},{"$f":"IFERROR(SMALL(IF(LEFT(Group2,LEN(Class6!$BA$10))=Class6!$BA$10,ROW(Group2)),ROW(A11)),\"\")","v":65},{"$nulls":4},"PARKS Gary",{"$nulls":11},"Ethel",{"$nulls":44},0,"","BAKER Lucy",{"$nulls":5},2,2,"DONNELLY Kirsten",{"$nulls":5},0,"","BAKER Lucy",{"$nulls":5},0,"","BAKER Lucy",{"$nulls":5},0,"","BAKER Lucy",{"$nulls":5},0,"","BAKER Lucy",{"$nulls":51},0,0]
[{"$nulls":29},{"$f":"IFERROR(IF(SEARCH(\"11\",BV32)=1,11),\"\")","v":""},{"$nulls":8},{"$f":"IFERROR(IF(SEARCH(\"11\",CE32)=1,11),\"\")","v":""},{"$nulls":3},{"$f":"IFERROR(IF(SEARCH(\"11\",CI32)=1,11),\"\")","v":""},{"$nulls":8},"SPR 1",{"$f":"IFERROR(INDEX(indexdatabase,MATCH(BQ19&$AZ$14,name&Group2,0),MATCH(\"AR\",Sheet2rng!$A$1:$AK$1,0)),\"\")","v":0},"Melinda",{"$f":"IFERROR(INDEX(indexdatabase,MATCH($BB23&$AZ$14,name&Group2,0),MATCH(\"SEND\",Sheet2rng!$A$1:$AO$1,0)),\"\")","v":"K"},{"$f":"IFERROR(INDEX(indexdatabase,MATCH($BB23&$AZ$14,name&Group2,0),MATCH(\"MAT\",Sheet2rng!$A$1:$AO$1,0)),\"\")","v":0},{"$f":"IFERROR(INDEX(indexdatabase,MATCH($BB23&$AZ$14,name&Group2,0),MATCH(\"EAL\",Sheet2rng!$A$1:$AO$1,0)),\"\")","v":"ENG"},"SEND/K","","EAL/ENG","SEND/K    EAL/ENG",{"$nulls":7},"Martha","IFERROR(INDEX(Sheet2rng,MATCH(BA12,sheet2rows,0), MATCH($BB$11,sheet2columns,0)),\"\")",{"$f":"IFERROR(INDEX(indexdatabase,MATCH(BQ23&$AZ$14,name&Group2,0),MATCH(\"PPI\",Sheet2rng!$A$1:$AK$1,0)),\"\")","v":0},{"$f":"IFERROR(SMALL(IF(LEFT(Group2,LEN(Class6!$BA$10))=Class6!$BA$10,ROW(Group2)),ROW(A12)),\"\")","v":87},{"$nulls":4},"ABRAMS Patricia",{"$nulls":11},"Martha",{"$nulls":44},0,"","BAVERSTOCK Adam",{"$nulls":5},2,2,"DOWN Keiran",{"$nulls":5},0,"","BAVERSTOCK Adam",{"$nulls":5},0,"","BAVERSTOCK Adam",{"$nulls":5},0,"","BAVERSTOCK Adam",{"$nulls":5},0,"","BAVERSTOCK Adam",{"$nulls":51},0,0]
[{"$nulls":52},{"$f":"IFERROR(INDEX(indexdatabase,MATCH(BQ20&$AZ$14,name&Group2,0),MATCH(\"AR\",Sheet2rng!$A$1:$AK$1,0)),\"\")","v":0},"Luis",{"$f":"IFERROR(INDEX(indexdatabase,MATCH($BB24&$AZ$14,name&Group2,0),MATCH(\"SEND\",Sheet2rng!$A$1:$AO$1,0)),\"\")","v":0},{"$f":"IFERROR(INDEX(indexdatabase,MATCH($BB24&$AZ$14,name&Group2,0),MATCH(\"MAT\",Sheet2rng!$A$1:$AO$1,0)),\"\")","v":0},{"$f":"IFERROR(INDEX(indexdatabase,MATCH($BB24&$AZ$14,name&Group2,0),MATCH(\"EAL\",Sheet2rng!$A$1:$AO$1,0)),\"\")","v":"OTH"},"","","EAL/OTH","    EAL/OTH",{"$nulls":7},"Patricia","IFERROR(INDEX(Sheet2rng,MATCH(BA12,sheet2rows,0), MATCH($BB$11,sheet2columns,0)),\"\")",{"$f":"IFERROR(INDEX(indexdatabase,MATCH(BQ24&$AZ$14,name&Group2,0),MATCH(\"PPI\",Sheet2rng!$A$1:$AK$1,0)),\"\")","v":0},{"$f":"IFERROR(SMALL(IF(LEFT(Group2,LEN(Class6!$BA$10))=Class6!$BA$10,ROW(Group2)),ROW(A13)),\"\")","v":91},{"$nulls":4},"TILLEY Jennifer",{"$nulls":11},"Patricia",{"$nulls":44},0,"","BLE Grace",{"$nulls":5},2,2,"HARRIS Christian",{"$nulls":5},0,"","BLE Grace",{"$nulls":5},0,"","BLE Grace",{"$nulls":5},0,"","BLE Grace",{"$nulls":5},0,"","BLE Grace",{"$nulls":51},0,0]
[{"$nulls":25},{"$f":"IFERROR(IF($Y$1=1,\"\",VLOOKUP(Z23,needstable,8,FALSE)),\"\")","v":""},{"$nulls":3},{"$f":"IFERROR(IF($Y$1=1,\"\",VLOOKUP(AD23,needstable,8,FALSE)),\"\")","v":"    "},{"$nulls":8},{"$f":"IFERROR(IF($Y$1=1,\"\",VLOOKUP(AM23,needstable,8,FALSE)),\"\")","v":"    "},{"$nulls":3},{"$f":"IFERROR(IF($Y$1=1,\"\",VLOOKUP(AQ23,needstable,8,FALSE)),\"\")","v":"    "},{"$nulls":9},{"$f":"IFERROR(INDEX(indexdatabase,MATCH(BQ21&$AZ$14,name&Group2,0),MATCH(\"AR\",Sheet2rng!$A$1:$AK$1,0)),\"\")","v":0},"Caroline",{"$f":"IFERROR(INDEX(indexdatabase,MATCH($BB25&$AZ$14,name&Group2,0),MATCH(\"SEND\",Sheet2rng!$A$1:$AO$1,0)),\"\")","v":0},{"$f":"IFERROR(INDEX(indexdatabase,MATCH($BB25&$AZ$14,name&Group2,0),MATCH(\"MAT\",Sheet2rng!$A$1:$AO$1,0)),\"\")","v":0},{"$f":"IFERROR(INDEX(indexdatabase,MATCH($BB25&$AZ$14,name&Group2,0),MATCH(\"EAL\",Sheet2rng!$A$1:$AO$1,0)),\"\")","v":"OTH"},"","","EAL/OTH","    EAL/OTH",{"$nulls":7},"Samantha","IFERROR(INDEX(Sheet2rng,MATCH(BA12,sheet2rows,0), MATCH($BB$11,sheet2columns,0)),\"\")",{"$f":"IFERROR(INDEX(indexdatabase,MATCH(BQ25&$AZ$14,name&Group2,0),MATCH(\"PPI\",Sheet2rng!$A$1:$AK$1,0)),\"\")","v":0},{"$f":"IFERROR(SMALL(IF(LEFT(Group2,LEN(Class6!$BA$10))=Class6!$BA$10,ROW(Group2)),ROW(A14)),\"\")","v":97},{"$nulls":4},"SUMNER Vincent",{"$nulls":11},"Samantha",{"$nulls":44},0,"","CHATTEN Zoe",{"$nulls":5},2,2,"MURPHY Shannon",{"$nulls":5},0,"","CHATTEN Zoe",{"$nulls":5},0,"","CHATTEN Zoe",{"$nulls":5},0,"","CHATTEN Zoe",{"$nulls":5},0,"","CHATTEN Zoe",{"$nulls":51},0,0]
[{"$nulls":25},"C/grade",null,{"$f":"Sheet2rng!$D$1","v":"KS2"},null,"C/grade",null,{"$f":"Sheet2rng!$D$1","v":"KS2"},{"$nulls":6},"C/grade",null,{"$f":"Sheet2rng!$D$1","v":"KS2"},null,"C/grade",null,{"$f":"Sheet2rng!$D$1","v":"KS2"},{"$nulls":7},{"$f":"IFERROR(INDEX(indexdatabase,MATCH(BQ22&$AZ$14,name&Group2,0),MATCH(\"AR\",Sheet2rng!$A$1:$AK$1,0)),\"\")","v":0},"Ethel",{"$f":"IFERROR(INDEX(indexdatabase,MATCH($BB26&$AZ$14,name&Group2,0),MATCH(\"SEND\",Sheet2rng!$A$1:$AO$1,0)),\"\")","v":0},{"$f":"IFERROR(INDEX(indexdatabase,MATCH($BB26&$AZ$14,name&Group2,0),MATCH(\"MAT\",Sheet2rng!$A$1:$AO$1,0)),\"\")","v":0},{"$f":"IFERROR(INDEX(indexdatabase,MATCH($BB26&$AZ$14,name&Group2,0),MATCH(\"EAL\",Sheet2rng!$A$1:$AO$1,0)),\"\")","v":"NOT/kn"},"","","EAL/NOT/kn","    EAL/NOT/kn",{"$nulls":7},"Jimmy","IFERROR(INDEX(Sheet2rng,MATCH(BA12,sheet2rows,0), MATCH($BB$11,sheet2columns,0)),\"\")",{"$f":"IFERROR(INDEX(indexdatabase,MATCH(BQ26&$AZ$14,name&Group2,0),MATCH(\"PPI\",Sheet2rng!$A$1:$AK$1,0)),\"\")","v":"Y"},{"$f":"IFERROR(SMALL(IF(LEFT(Group2,LEN(Class6!$BA$10))=Class6!$BA$10,ROW(Group2)),ROW(A15)),\"\")","v":98},{"$nulls":4},"BYRNE Danny",{"$nulls":11},"Jimmy",{"$nulls":44},0,"","CHEEMA Gurvinder",{"$nulls":5},2,2,"PIDDINGTON Ellie",{"$nulls":5},0,"","CHEEMA Gurvinder",{"$nulls":5},0,"","CHEEMA Gurvinder",{"$nulls":5},0,"","CHEEMA Gurvinder",{"$nulls":5},0,"","CHEEMA Gurvinder",{"$nulls":51},0,0]
[{"$nulls":25},{"$f":"IFERROR(IF($Y$2=2,\"\",IF($Y$2=3,INDEX(indexdatabase,MATCH(Z23&$AZ$14,name&Group2,0),MATCH($AZ$23,Sheet2rng!$A$1:$AK$1,0)))),\"\")","v":""},null,{"$f":"IFERROR(IF($Y$3=4,\"\",IF($Y$3=5,INDEX(indexdatabase,MATCH(Z23&$AZ$14,name&Group2,0),MATCH($P$4,Sheet2rng!$A$1:$AK$1,0)))),\"\")","v":""},null,{"$f":"IFERROR(IF($Y$2=2,\"\",IF($Y$2=3,INDEX(indexdatabase,MATCH(AD23&$AZ$14,name&Group2,0),MATCH($AZ$23,Sheet2rng!$A$1:$AK$1,0)))),\"\")","v":""},null,{"$f":"IFERROR(IF($Y$3=4,\"\",IF($Y$3=5,INDEX(indexdatabase,MATCH(AD23&$AZ$14,name&Group2,0),MATCH($P$4,Sheet2rng!$A$1:$AK$1,0)))),\"\")","v":""},{"$nulls":6},{"$f":"IFERROR(IF($Y$2=2,\"\",IF($Y$2=3,INDEX(indexdatabase,MATCH(AM23&$AZ$14,name&Group2,0),MATCH($AZ$23,Sheet2rng!$A$1:$AK$1,0)))),\"\")","v":""},null,{"$f":"IFERROR(IF($Y$3=4,\"\",IF($Y$3=5,INDEX(indexdatabase,MATCH(AM23&$AZ$14,name&Group2,0),MATCH($P$4,Sheet2rng!$A$1:$AK$1,0)))),\"\")","v":""},null,{"$f":"IFERROR(IF($Y$2=2,\"\",IF($Y$2=3,INDEX(indexdatabase,MATCH(AQ23&$AZ$14,name&Group2,0),MATCH($AZ$23,Sheet2rng!$A$1:$AK$1,0)))),\"\")","v":""},null,{"$f":"IFERROR(IF($Y$3=4,\"\",IF($Y$3=5,INDEX(indexdatabase,MATCH(AQ23&$AZ$14,name&Group2,0),MATCH($P$4,Sheet2rng!$A$1:$AK$1,0)))),\"\")","v":""},{"$nulls":6},{"$f":"AZ23","v":"SPR 1"},{"$f":"IFERROR(INDEX(indexdatabase,MATCH(BQ23&$AZ$14,name&Group2,0),MATCH(\"AR\",Sheet2rng!$A$1:$AK$1,0)),\"\")","v":0},"Martha",{"$f":"IFERROR(INDEX(indexdatabase,MATCH($BB27&$AZ$14,name&Group2,0),MATCH(\"SEND\",Sheet2rng!$A$1:$AO$1,0)),\"\")","v":0},{"$f":"IFERROR(INDEX(indexdatabase,MATCH($BB27&$AZ$14,name&Group2,0),MATCH(\"MAT\",Sheet2rng!$A$1:$AO$1,0)),\"\")","v":0},{"$f":"IFERROR(INDEX(indexdatabase,MATCH($BB27&$AZ$14,name&Group2,0),MATCH(\"EAL\",Sheet2rng!$A$1:$AO$1,0)),\"\")","v":"OTH"},"","","EAL/OTH","    EAL/OTH",{"$nulls":7},"Martin","IFERROR(INDEX(Sheet2rng,MATCH(BA12,sheet2rows,0), MATCH($BB$11,sheet2columns,0)),\"\")",{"$f":"IFERROR(INDEX(indexdatabase,MATCH(BQ27&$AZ$14,name&Group2,0),MATCH(\"PPI\",Sheet2rng!$A$1:$AK$1,0)),\"\")","v":"Y"},{"$f":"IFERROR(SMALL(IF(LEFT(Group2,LEN(Class6!$BA$10))=Class6!$BA$10,ROW(Group2)),ROW(A16)),\"\")","v":109},{"$nulls":4},"ROBERTSON Martha",{"$nulls":11},"Martin",{"$nulls":44},0,"","DONNELLY Kirsten",{"$nulls":5},2,2,"QUILALA Angela",{"$nulls":5},0,"","DONNELLY Kirsten",{"$nulls":5},0,"","DONNELLY Kirsten",{"$nulls":5},0,"","DONNELLY Kirsten",{"$nulls":5},0,"","DONNELLY Kirsten",{"$nulls":51},0,0]
[{"$nulls":25},{"$f":"Sheet2rng!$C$1","v":"Target"},null,{"$f":"Sheet2rng!$E$1","v":"AR"},null,{"$f":"Sheet2rng!$C$1","v":"Target"},null,{"$f":"Sheet2rng!$E$1","v":"AR"},{"$nulls":6},{"$f":"Sheet2rng!$C$1","v":"Target"},null,{"$f":"Sheet2rng!$E$1","v":"AR"},null,{"$f":"Sheet2rng!$C$1","v":"Target"},null,{"$f":"Sheet2rng!$E$1","v":"AR"},{"$nulls":7},{"$f":"IFERROR(INDEX(indexdatabase,MATCH(BQ24&$AZ$14,name&Group2,0),MATCH(\"AR\",Sheet2rng!$A$1:$AK$1,0)),\"\")","v":0},"Patricia",{"$f":"IFERROR(INDEX(indexdatabase,MATCH($BB28&$AZ$14,name&Group2,0),MATCH(\"SEND\",Sheet2rng!$A$1:$AO$1,0)),\"\")","v":"K"},{"$f":"IFERROR(INDEX(indexdatabase,MATCH($BB28&$AZ$14,name&Group2,0),MATCH(\"MAT\",Sheet2rng!$A$1:$AO$1,0)),\"\")","v":0},{"$f":"IFERROR(INDEX(indexdatabase,MATCH($BB28&$AZ$14,name&Group2,0),MATCH(\"EAL\",Sheet2rng!$A$1:$AO$1,0)),\"\")","v":"NOT/kn"},"SEND/K","","EAL/NOT/kn","SEND/K    EAL/NOT/kn",{"$nulls":7},"Glen","IFERROR(INDEX(Sheet2rng,MATCH(BA12,sheet2rows,0), MATCH($BB$11,sheet2columns,0)),\"\")",{"$f":"IFERROR(INDEX(indexdatabase,MATCH(BQ28&$AZ$14,name&Group2,0),MATCH(\"PPI\",Sheet2rng!$A$1:$AK$1,0)),\"\")","v":0},{"$f":"IFERROR(SMALL(IF(LEFT(Group2,LEN(Class6!$BA$10))=Class6!$BA$10,ROW(Group2)),ROW(A17)),\"\")","v":114},{"$nulls":4},"PALMER Jack",{"$nulls":11},"Glen",{"$nulls":44},0,"","DOWN Keiran",{"$nulls":5},2,2,"SMITH Jade",{"$nulls":5},0,"","DOWN Keiran",{"$nulls":5},0,"","DOWN Keiran",{"$nulls":5},0,"","DOWN Keiran",{"$nulls":5},0,"","DOWN Keiran",{"$nulls":51},0,0]
[{"$nulls":25},{"$f":"IFERROR(IF($Y$4=6,\"\",IF($Y$4=7,INDEX(indexdatabase,MATCH(Z23&$AZ$14,name&Group2,0),MATCH($N$6,Sheet2rng!$A$1:$AK$1,0)))),\"\")","v":""},null,{"$f":"IFERROR(IF($Y$5=8,\"\",IF($Y$5=9,INDEX(Sheet2rng,MATCH(Z23&$AZ$14,name&Group2,0),MATCH($P$6,sheet2columns,0)))),\"\")","v":""},null,{"$f":"IFERROR(IF($Y$4=6,\"\",IF($Y$4=7,INDEX(indexdatabase,MATCH(AD23&$AZ$14,name&Group2,0),MATCH($N$6,Sheet2rng!$A$1:$AK$1,0)))),\"\")","v":""},null,{"$f":"IFERROR(IF($Y$5=8,\"\",IF($Y$5=9,INDEX(Sheet2rng,MATCH(AD23&$AZ$14,name&Group2,0),MATCH($P$6,sheet2columns,0)))),\"\")","v":""},{"$nulls":6},{"$f":"IFERROR(IF($Y$4=6,\"\",IF($Y$4=7,INDEX(indexdatabase,MATCH(AM23&$AZ$14,name&Group2,0),MATCH($N$6,Sheet2rng!$A$1:$AK$1,0)))),\"\")","v":""},null,{"$f":"IFERROR(IF($Y$5=8,\"\",IF($Y$5=9,INDEX(Sheet2rng,MATCH(AM23&$AZ$14,name&Group2,0),MATCH($P$6,sheet2columns,0)))),\"\")","v":""},null,{"$f":"IFERROR(IF($Y$4=6,\"\",IF($Y$4=7,INDEX(indexdatabase,MATCH(AQ23&$AZ$14,name&Group2,0),MATCH($N$6,Sheet2rng!$A$1:$AK$1,0)))),\"\")","v":""},null,{"$f":"IFERROR(IF($Y$5=8,\"\",IF($Y$5=9,INDEX(Sheet2rng,MATCH(AQ23&$AZ$14,name&Group2,0),MATCH($P$6,sheet2columns,0)))),\"\")","v":""},{"$nulls":7},{"$f":"IFERROR(INDEX(indexdatabase,MATCH(BQ25&$AZ$14,name&Group2,0),MATCH(\"AR\",Sheet2rng!$A$1:$AK$1,0)),\"\")","v":0},"Samantha",{"$f":"IFERROR(INDEX(indexdatabase,MATCH($BB29&$AZ$14,name&Group2,0),MATCH(\"SEND\",Sheet2rng!$A$1:$AO$1,0)),\"\")","v":0},{"$f":"IFERROR(INDEX(indexdatabase,MATCH($BB29&$AZ$14,name&Group2,0),MATCH(\"MAT\",Sheet2rng!$A$1:$AO$1,0)),\"\")","v":0},{"$f":"IFERROR(INDEX(indexdatabase,MATCH($BB29&$AZ$14,name&Group2,0),MATCH(\"EAL\",Sheet2rng!$A$1:$AO$1,0)),\"\")","v":"NOT/kn"},"","","EAL/NOT/kn","    EAL/NOT/kn",{"$nulls":7},"Stephen","IFERROR(INDEX(Sheet2rng,MATCH(BA12,sheet2rows,0), MATCH($BB$11,sheet2columns,0)),\"\")",{"$f":"IFERROR(INDEX(indexdatabase,MATCH(BQ29&$AZ$14,name&Group2,0),MATCH(\"PPI\",Sheet2rng!$A$1:$AK$1,0)),\"\")","v":0},{"$f":"IFERROR(SMALL(IF(LEFT(Group2,LEN(Class6!$BA$10))=Class6!$BA$10,ROW(Group2)),ROW(A18)),\"\")","v":125},{"$nulls":4},"ROWE Benjamin",{"$nulls":11},"Stephen",{"$nulls":44},0,"","GIBSON James",{"$nulls":5},2,2,"TURNER Liberty",{"$nulls":5},0,"","GIBSON James",{"$nulls":5},0,"","GIBSON James",{"$nulls":5},0,"","GIBSON James",{"$nulls":5},0,"","GIBSON James",{"$nulls":51},0,0]
[{"$nulls":52},{"$f":"IFERROR(INDEX(indexdatabase,MATCH(BQ26&$AZ$14,name&Group2,0),MATCH(\"AR\",Sheet2rng!$A$1:$AK$1,0)),\"\")","v":0},"Jimmy",{"$f":"IFERROR(INDEX(indexdatabase,MATCH($BB30&$AZ$14,name&Group2,0),MATCH(\"SEND\",Sheet2rng!$A$1:$AO$1,0)),\"\")","v":0},{"$f":"IFERROR(INDEX(indexdatabase,MATCH($BB30&$AZ$14,name&Group2,0),MATCH(\"MAT\",Sheet2rng!$A$1:$AO$1,0)),\"\")","v":0},{"$f":"IFERROR(INDEX(indexdatabase,MATCH($BB30&$AZ$14,name&Group2,0),MATCH(\"EAL\",Sheet2rng!$A$1:$AO$1,0)),\"\")","v":"OTH"},"","","EAL/OTH","    EAL/OTH",{"$nulls":7},"Eric","IFERROR(INDEX(Sheet2rng,MATCH(BA12,sheet2rows,0), MATCH($BB$11,sheet2columns,0)),\"\")",{"$f":"IFERROR(INDEX(indexdatabase,MATCH(BQ30&$AZ$14,name&Group2,0),MATCH(\"PPI\",Sheet2rng!$A$1:$AK$1,0)),\"\")","v":0},{"$f":"IFERROR(SMALL(IF(LEFT(Group2,LEN(Class6!$BA$10))=Class6!$BA$10,ROW(Group2)),ROW(A19)),\"\")","v":142},{"$nulls":4},"HESTER Jessica",{"$nulls":11},"Eric",{"$nulls":44},0,"","HARRIS Christian",{"$nulls":5},3,11,"BAKER Lucy",{"$nulls":5},0,"","HARRIS Christian",{"$nulls":5},0,"","HARRIS Christian",{"$nulls":5},0,"","HARRIS Christian",{"$nulls":5},0,"","HARRIS Christian",{"$nulls":51},0,0]
[{"$nulls":52},{"$f":"IFERROR(INDEX(indexdatabase,MATCH(BQ27&$AZ$14,name&Group2,0),MATCH(\"AR\",Sheet2rng!$A$1:$AK$1,0)),\"\")","v":0},"Martin",{"$f":"IFERROR(INDEX(indexdatabase,MATCH($BB31&$AZ$14,name&Group2,0),MATCH(\"SEND\",Sheet2rng!$A$1:$AO$1,0)),\"\")","v":0},{"$f":"IFERROR(INDEX(indexdatabase,MATCH($BB31&$AZ$14,name&Group2,0),MATCH(\"MAT\",Sheet2rng!$A$1:$AO$1,0)),\"\")","v":0},{"$f":"IFERROR(INDEX(indexdatabase,MATCH($BB31&$AZ$14,name&Group2,0),MATCH(\"EAL\",Sheet2rng!$A$1:$AO$1,0)),\"\")","v":"NOT/kn"},"","","EAL/NOT/kn","    EAL/NOT/kn",{"$nulls":7},"Charlene","IFERROR(INDEX(Sheet2rng,MATCH(BA12,sheet2rows,0), MATCH($BB$11,sheet2columns,0)),\"\")",{"$f":"IFERROR(INDEX(indexdatabase,MATCH(BQ31&$AZ$14,name&Group2,0),MATCH(\"PPI\",Sheet2rng!$A$1:$AK$1,0)),\"\")","v":"Y"},{"$f":"IFERROR(SMALL(IF(LEFT(Group2,LEN(Class6!$BA$10))=Class6!$BA$10,ROW(Group2)),ROW(A20)),\"\")","v":152},{"$nulls":4},"GOLDMAN Vincent",{"$nulls":11},"Charlene",{"$nulls":44},0,"","HARVEY Megan",{"$nulls":5},3,11,"BAVERSTOCK Adam",{"$nulls":5},0,"","HARVEY Megan",{"$nulls":5},0,"","HARVEY Megan",{"$nulls":5},0,"","HARVEY Megan",{"$nulls":5},0,"","HARVEY Megan",{"$nulls":51},0,0]
[{"$nulls":52},{"$f":"IFERROR(INDEX(indexdatabase,MATCH(BQ28&$AZ$14,name&Group2,0),MATCH(\"AR\",Sheet2rng!$A$1:$AK$1,0)),\"\")","v":0},"Glen",{"$f":"IFERROR(INDEX(indexdatabase,MATCH($BB32&$AZ$14,name&Group2,0),MATCH(\"SEND\",Sheet2rng!$A$1:$AO$1,0)),\"\")","v":"K"},{"$f":"IFERROR(INDEX(indexdatabase,MATCH($BB32&$AZ$14,name&Group2,0),MATCH(\"MAT\",Sheet2rng!$A$1:$AO$1,0)),\"\")","v":0},{"$f":"IFERROR(INDEX(indexdatabase,MATCH($BB32&$AZ$14,name&Group2,0),MATCH(\"EAL\",Sheet2rng!$A$1:$AO$1,0)),\"\")","v":"NOT/kn"},"SEND/K","","EAL/NOT/kn","SEND/K    EAL/NOT/kn",{"$nulls":7},"Robert","IFERROR(INDEX(Sheet2rng,MATCH(BA12,sheet2rows,0), MATCH($BB$11,sheet2columns,0)),\"\")",{"$f":"IFERROR(INDEX(indexdatabase,MATCH(BQ32&$AZ$14,name&Group2,0),MATCH(\"PPI\",Sheet2rng!$A$1:$AK$1,0)),\"\")","v":0},{"$f":"IFERROR(SMALL(IF(LEFT(Group2,LEN(Class6!$BA$10))=Class6!$BA$10,ROW(Group2)),ROW(A21)),\"\")","v":174},{"$nulls":4},"MCKENNA Beth",{"$nulls":11},"Robert",{"$nulls":44},0,"","HEATH Emily-Jayne",{"$nulls":5},3,11,"CHEEMA Gurvinder",{"$nulls":5},0,"","HEATH Emily-Jayne",{"$nulls":5},0,"","HEATH Emily-Jayne",{"$nulls":5},0,"","HEATH Emily-Jayne",{"$nulls":5},0,"","HEATH Emily-Jayne",{"$nulls":51},0,0]
[{"$nulls":52},{"$f":"IFERROR(INDEX(indexdatabase,MATCH(BQ29&$AZ$14,name&Group2,0),MATCH(\"AR\",Sheet2rng!$A$1:$AK$1,0)),\"\")","v":0},"Stephen",{"$f":"IFERROR(INDEX(indexdatabase,MATCH($BB33&$AZ$14,name&Group2,0),MATCH(\"SEND\",Sheet2rng!$A$1:$AO$1,0)),\"\")","v":0},{"$f":"IFERROR(INDEX(indexdatabase,MATCH($BB33&$AZ$14,name&Group2,0),MATCH(\"MAT\",Sheet2rng!$A$1:$AO$1,0)),\"\")","v":0},{"$f":"IFERROR(INDEX(indexdatabase,MATCH($BB33&$AZ$14,name&Group2,0),MATCH(\"EAL\",Sheet2rng!$A$1:$AO$1,0)),\"\")","v":"OTH"},"","","EAL/OTH","    EAL/OTH",{"$nulls":7},"","IFERROR(INDEX(Sheet2rng,MATCH(BA12,sheet2rows,0), MATCH($BB$11,sheet2columns,0)),\"\")",{"$f":"IFERROR(INDEX(indexdatabase,MATCH(BQ33&$AZ$14,name&Group2,0),MATCH(\"PPI\",Sheet2rng!$A$1:$AK$1,0)),\"\")","v":""},{"$f":"IFERROR(SMALL(IF(LEFT(Group2,LEN(Class6!$BA$10))=Class6!$BA$10,ROW(Group2)),ROW(A22)),\"\")","v":""},{"$nulls":4},"FINCH Stephen",{"$nulls":56},0,"","HOWELL Megan",{"$nulls":5},3,11,"GIBSON James",{"$nulls":5},0,"","HOWELL Megan",{"$nulls":5},0,"","HOWELL Megan",{"$nulls":5},0,"","HOWELL Megan",{"$nulls":5},0,"","HOWELL Megan",{"$nulls":51},0,0]
[{"$nulls":12},{"$f":"IFERROR(IF(SEARCH(\"11\",BE43)=1,11),\"\")","v":""},{"$nulls":3},{"$f":"IFERROR(IF(SEARCH(\"11\",BI43)=1,11),\"\")","v":""},{"$nulls":12},{"$f":"IFERROR(IF(SEARCH(\"11\",BV43)=1,11),\"\")","v":""},{"$nulls":8},{"$f":"IFERROR(IF(SEARCH(\"11\",CE43)=1,11),\"\")","v":""},{"$nulls":3},{"$f":"IFERROR(IF(SEARCH(\"11\",CI43)=1,11),\"\")","v":""},{"$nulls":9},{"$f":"IFERROR(INDEX(indexdatabase,MATCH(BQ30&$AZ$14,name&Group2,0),MATCH(\"AR\",Sheet2rng!$A$1:$AK$1,0)),\"\")","v":0},"Eric",{"$f":"IFERROR(INDEX(indexdatabase,MATCH($BB34&$AZ$14,name&Group2,0),MATCH(\"SEND\",Sheet2rng!$A$1:$AO$1,0)),\"\")","v":0},{"$f":"IFERROR(INDEX(indexdatabase,MATCH($BB34&$AZ$14,name&Group2,0),MATCH(\"MAT\",Sheet2rng!$A$1:$AO$1,0)),\"\")","v":0},{"$f":"IFERROR(INDEX(indexdatabase,MATCH($BB34&$AZ$14,name&Group2,0),MATCH(\"EAL\",Sheet2rng!$A$1:$AO$1,0)),\"\")","v":"OTH"},"","","EAL/OTH","    EAL/OTH",{"$nulls":7},"","IFERROR(INDEX(Sheet2rng,MATCH(BA12,sheet2rows,0), MATCH($BB$11,sheet2columns,0)),\"\")",{"$f":"IFERROR(INDEX(indexdatabase,MATCH(BQ34&$AZ$14,name&Group2,0),MATCH(\"PPI\",Sheet2rng!$A$1:$AK$1,0)),\"\")","v":""},{"$f":"IFERROR(SMALL(IF(LEFT(Group2,LEN(Class6!$BA$10))=Class6!$BA$10,ROW(Group2)),ROW(A23)),\"\")","v":""},{"$nulls":4},"CONNER Ryan",{"$nulls":56},0,"","JAMESON Amy",{"$nulls":5},3,11,"HARVEY Megan",{"$nulls":5},0,"","JAMESON Amy",{"$nulls":5},0,"","JAMESON Amy",{"$nulls":5},0,"","JAMESON Amy",{"$nulls":5},0,"","JAMESON Amy",{"$nulls":51},0,0]
[{"$nulls":52},{"$f":"IFERROR(INDEX(indexdatabase,MATCH(BQ31&$AZ$14,name&Group2,0),MATCH(\"AR\",Sheet2rng!$A$1:$AK$1,0)),\"\")","v":0},"Charlene",{"$f":"IFERROR(INDEX(indexdatabase,MATCH($BB35&$AZ$14,name&Group2,0),MATCH(\"SEND\",Sheet2rng!$A$1:$AO$1,0)),\"\")","v":0},{"$f":"IFERROR(INDEX(indexdatabase,MATCH($BB35&$AZ$14,name&Group2,0),MATCH(\"MAT\",Sheet2rng!$A$1:$AO$1,0)),\"\")","v":0},{"$f":"IFERROR(INDEX(indexdatabase,MATCH($BB35&$AZ$14,name&Group2,0),MATCH(\"EAL\",Sheet2rng!$A$1:$AO$1,0)),\"\")","v":"OTH"},"","","EAL/OTH","    EAL/OTH",{"$nulls":7},"","IFERROR(INDEX(Sheet2rng,MATCH(BA12,sheet2rows,0), MATCH($BB$11,sheet2columns,0)),\"\")",{"$f":"IFERROR(INDEX(indexdatabase,MATCH(BQ35&$AZ$14,name&Group2,0),MATCH(\"PPI\",Sheet2rng!$A$1:$AK$1,0)),\"\")","v":""},{"$f":"IFERROR(SMALL(IF(LEFT(Group2,LEN(Class6!$BA$10))=Class6!$BA$10,ROW(Group2)),ROW(A24)),\"\")","v":""},{"$nulls":4},"",{"$nulls":56},0,"","KERWICK Georgie",{"$nulls":5},3,11,"HEATH Emily-Jayne",{"$nulls":5},0,"","KERWICK Georgie",{"$nulls":5},0,"","KERWICK Georgie",{"$nulls":5},0,"","KERWICK Georgie",{"$nulls":5},0,"","KERWICK Georgie",{"$nulls":51},0,0]
[{"$nulls":12},{"$f":"IFERROR(IF($Y$1=1,\"\",VLOOKUP(M34,needstable,8,FALSE)),\"\")","v":"    "},{"$nulls":3},{"$f":"IFERROR(IF($Y$1=1,\"\",VLOOKUP(Q34,needstable,8,FALSE)),\"\")","v":"    "},{"$nulls":8},{"$f":"IFERROR(IF($Y$1=1,\"\",VLOOKUP(Z34,needstable,8,FALSE)),\"\")","v":""},{"$nulls":3},{"$f":"IFERROR(IF($Y$1=1,\"\",VLOOKUP(AD34,needstable,8,FALSE)),\"\")","v":"    "},{"$nulls":8},{"$f":"IFERROR(IF($Y$1=1,\"\",VLOOKUP(AM34,needstable,8,FALSE)),\"\")","v":"    "},{"$nulls":3},{"$f":"IFERROR(IF($Y$1=1,\"\",VLOOKUP(AQ34,needstable,8,FALSE)),\"\")","v":"    "},{"$nulls":9},{"$f":"IFERROR(INDEX(indexdatabase,MATCH(BQ32&$AZ$14,name&Group2,0),MATCH(\"AR\",Sheet2rng!$A$1:$AK$1,0)),\"\")","v":0},"Robert",{"$f":"IFERROR(INDEX(indexdatabase,MATCH($BB36&$AZ$14,name&Group2,0),MATCH(\"SEND\",Sheet2rng!$A$1:$AO$1,0)),\"\")","v":"K"},{"$f":"IFERROR(INDEX(indexdatabase,MATCH($BB36&$AZ$14,name&Group2,0),MATCH(\"MAT\",Sheet2rng!$A$1:$AO$1,0)),\"\")","v":0},{"$f":"IFERROR(INDEX(indexdatabase,MATCH($BB36&$AZ$14,name&Group2,0),MATCH(\"EAL\",Sheet2rng!$A$1:$AO$1,0)),\"\")","v":"NOT/kn"},"SEND/K","","EAL/NOT/kn","SEND/K    EAL/NOT/kn",{"$nulls":7},"","IFERROR(INDEX(Sheet2rng,MATCH(BA12,sheet2rows,0), MATCH($BB$11,sheet2columns,0)),\"\")",{"$f":"IFERROR(INDEX(indexdatabase,MATCH(BQ36&$AZ$14,name&Group2,0),MATCH(\"PPI\",Sheet2rng!$A$1:$AK$1,0)),\"\")","v":""},{"$f":"IFERROR(SMALL(IF(LEFT(Group2,LEN(Class6!$BA$10))=Class6!$BA$10,ROW(Group2)),ROW(A25)),\"\")","v":""},{"$nulls":4},"",{"$nulls":56},0,"","MURPHY Shannon",{"$nulls":5},3,11,"HOWELL Megan",{"$nulls":5},0,"","MURPHY Shannon",{"$nulls":5},0,"","MURPHY Shannon",{"$nulls":5},0,"","MURPHY Shannon",{"$nulls":5},0,"","MURPHY Shannon",{"$nulls":51},0,0]
[{"$nulls":12},"C/grade",null,{"$f":"Sheet2rng!$D$1","v":"KS2"},null,"C/grade",null,{"$f":"Sheet2rng!$D$1","v":"KS2"},{"$nulls":6},"C/grade",null,{"$f":"Sheet2rng!$D$1","v":"KS2"},null,"C/grade",null,{"$f":"Sheet2rng!$D$1","v":"KS2"},{"$nulls":6},"C/grade",null,{"$f":"Sheet2rng!$D$1","v":"KS2"},null,"C/grade",null,{"$f":"Sheet2rng!$D$1","v":"KS2"},{"$nulls":7},{"$f":"IFERROR(INDEX(indexdatabase,MATCH(BQ33&$AZ$14,name&Group2,0),MATCH(\"AR\",Sheet2rng!$A$1:$AK$1,0)),\"\")","v":""},"",{"$f":"IFERROR(INDEX(indexdatabase,MATCH($BB37&$AZ$14,name&Group2,0),MATCH(\"SEND\",Sheet2rng!$A$1:$AO$1,0)),\"\")","v":""},{"$f":"IFERROR(INDEX(indexdatabase,MATCH($BB37&$AZ$14,name&Group2,0),MATCH(\"MAT\",Sheet2rng!$A$1:$AO$1,0)),\"\")","v":""},{"$f":"IFERROR(INDEX(indexdatabase,MATCH($BB37&$AZ$14,name&Group2,0),MATCH(\"EAL\",Sheet2rng!$A$1:$AO$1,0)),\"\")","v":""},"","","","    ",{"$nulls":7},"","IFERROR(INDEX(Sheet2rng,MATCH(BA12,sheet2rows,0), MATCH($BB$11,sheet2columns,0)),\"\")",{"$f":"IFERROR(INDEX(indexdatabase,MATCH(BQ37&$AZ$14,name&Group2,0),MATCH(\"PPI\",Sheet2rng!$A$1:$AK$1,0)),\"\")","v":""},{"$f":"IFERROR(SMALL(IF(LEFT(Group2,LEN(Class6!$BA$10))=Class6!$BA$10,ROW(Group2)),ROW(A26)),\"\")","v":""},{"$nulls":4},"",{"$nulls":56},0,"","PIDDINGTON Ellie",{"$nulls":5},3,11,"SAHOTA Callum",{"$nulls":5},0,"","PIDDINGTON Ellie",{"$nulls":5},0,"","PIDDINGTON Ellie",{"$nulls":5},0,"","PIDDINGTON Ellie",{"$nulls":5},0,"","PIDDINGTON Ellie",{"$nulls":51},0,0]
[{"$nulls":12},{"$f":"IFERROR(IF($Y$2=2,\"\",IF($Y$2=3,INDEX(indexdatabase,MATCH(M34&$AZ$14,name&Group2,0),MATCH($AZ$23,Sheet2rng!$A$1:$AK$1,0)))),\"\")","v":""},null,{"$f":"IFERROR(IF($Y$3=4,\"\",IF($Y$3=5,INDEX(indexdatabase,MATCH(M34&$AZ$14,name&Group2,0),MATCH($P$4,Sheet2rng!$A$1:$AK$1,0)))),\"\")","v":""},null,{"$f":"IFERROR(IF($Y$2=2,\"\",IF($Y$2=3,INDEX(indexdatabase,MATCH(Q34&$AZ$14,name&Group2,0),MATCH($AZ$23,Sheet2rng!$A$1:$AK$1,0)))),\"\")","v":""},null,{"$f":"IFERROR(IF($Y$3=4,\"\",IF($Y$3=5,INDEX(indexdatabase,MATCH(Q34&$AZ$14,name&Group2,0),MATCH($P$4,Sheet2rng!$A$1:$AK$1,0)))),\"\")","v":""},{"$nulls":6},{"$f":"IFERROR(IF($Y$2=2,\"\",IF($Y$2=3,INDEX(indexdatabase,MATCH(Z34&$AZ$14,name&Group2,0),MATCH($AZ$23,Sheet2rng!$A$1:$AK$1,0)))),\"\")","v":""},null,{"$f":"IFERROR(IF($Y$3=4,\"\",IF($Y$3=5,INDEX(indexdatabase,MATCH(Z34&$AZ$14,name&Group2,0),MATCH($P$4,Sheet2rng!$A$1:$AK$1,0)))),\"\")","v":""},null,{"$f":"IFERROR(IF($Y$2=2,\"\",IF($Y$2=3,INDEX(indexdatabase,MATCH(AD34&$AZ$14,name&Group2,0),MATCH($AZ$23,Sheet2rng!$A$1:$AK$1,0)))),\"\")","v":""},null,{"$f":"IFERROR(IF($Y$3=4,\"\",IF($Y$3=5,INDEX(indexdatabase,MATCH(AD34&$AZ$14,name&Group2,0),MATCH($P$4,Sheet2rng!$A$1:$AK$1,0)))),\"\")","v":""},{"$nulls":6},{"$f":"IFERROR(IF($Y$2=2,\"\",IF($Y$2=3,INDEX(indexdatabase,MATCH(AM34&$AZ$14,name&Group2,0),MATCH($AZ$23,Sheet2rng!$A$1:$AK$1,0)))),\"\")","v":""},null,{"$f":"IFERROR(IF($Y$3=4,\"\",IF($Y$3=5,INDEX(indexdatabase,MATCH(AM34&$AZ$14,name&Group2,0),MATCH($P$4,Sheet2rng!$A$1:$AK$1,0)))),\"\")","v":""},null,{"$f":"IFERROR(IF($Y$2=2,\"\",IF($Y$2=3,INDEX(indexdatabase,MATCH(AQ34&$AZ$14,name&Group2,0),MATCH($AZ$23,Sheet2rng!$A$1:$AK$1,0)))),\"\")","v":""},null,{"$f":"IFERROR(IF($Y$3=4,\"\",IF($Y$3=5,INDEX(indexdatabase,MATCH(AQ34&$AZ$14,name&Group2,0),MATCH($P$4,Sheet2rng!$A$1:$AK$1,0)))),\"\")","v":""},{"$nulls":7},{"$f":"IFERROR(INDEX(indexdatabase,MATCH(BQ34&$AZ$14,name&Group2,0),MATCH(\"AR\",Sheet2rng!$A$1:$AK$1,0)),\"\")","v":""},"",{"$f":"IFERROR(INDEX(indexdatabase,MATCH($BB38&$AZ$14,name&Group2,0),MATCH(\"SEND\",Sheet2rng!$A$1:$AO$1,0)),\"\")","v":""},{"$f":"IFERROR(INDEX(indexdatabase,MATCH($BB38&$AZ$14,name&Group2,0),MATCH(\"MAT\",Sheet2rng!$A$1:$AO$1,0)),\"\")","v":""},{"$f":"IFERROR(INDEX(indexdatabase,MATCH($BB38&$AZ$14,name&Group2,0),MATCH(\"EAL\",Sheet2rng!$A$1:$AO$1,0)),\"\")","v":""},"","","","    ",{"$nulls":7},"","IFERROR(INDEX(Sheet2rng,MATCH(BA12,sheet2rows,0), MATCH($BB$11,sheet2columns,0)),\"\")",{"$f":"IFERROR(INDEX(indexdatabase,MATCH(BQ38&$AZ$14,name&Group2,0),MATCH(\"PPI\",Sheet2rng!$A$1:$AK$1,0)),\"\")","v":""},{"$f":"IFERROR(SMALL(IF(LEFT(Group2,LEN(Class6!$BA$10))=Class6!$BA$10,ROW(Group2)),ROW(A27)),\"\")","v":""},{"$nulls":4},"",{"$nulls":56},0,"","QUILALA Angela",{"$nulls":5},3,11,"WRIGHT Caitlin",{"$nulls":5},0,"","QUILALA Angela",{"$nulls":5},0,"","QUILALA Angela",{"$nulls":5},0,"","QUILALA Angela",{"$nulls":5},0,"","QUILALA Angela",{"$nulls":51},0,0]
[{"$nulls":12},{"$f":"Sheet2rng!$C$1","v":"Target"},null,{"$f":"Sheet2rng!$E$1","v":"AR"},null,{"$f":"Sheet2rng!$C$1","v":"Target"},null,{"$f":"Sheet2rng!$E$1","v":"AR"},{"$nulls":6},{"$f":"Sheet2rng!$C$1","v":"Target"},null,{"$f":"Sheet2rng!$E$1","v":"AR"},null,{"$f":"Sheet2rng!$C$1","v":"Target"},null,{"$f":"Sheet2rng!$E$1","v":"AR"},{"$nulls":6},{"$f":"Sheet2rng!$C$1","v":"Target"},null,{"$f":"Sheet2rng!$E$1","v":"AR"},null,{"$f":"Sheet2rng!$C$1","v":"Target"},null,{"$f":"Sheet2rng!$E$1","v":"AR"},{"$nulls":7},{"$f":"IFERROR(INDEX(indexdatabase,MATCH(BQ35&$AZ$14,name&Group2,0),MATCH(\"AR\",Sheet2rng!$A$1:$AK$1,0)),\"\")","v":""},"",{"$f":"IFERROR(INDEX(indexdatabase,MATCH($BB39&$AZ$14,name&Group2,0),MATCH(\"SEND\",Sheet2rng!$A$1:$AO$1,0)),\"\")","v":""},{"$f":"IFERROR(INDEX(indexdatabase,MATCH($BB39&$AZ$14,name&Group2,0),MATCH(\"MAT\",Sheet2rng!$A$1:$AO$1,0)),\"\")","v":""},{"$f":"IFERROR(INDEX(indexdatabase,MATCH($BB39&$AZ$14,name&Group2,0),MATCH(\"EAL\",Sheet2rng!$A$1:$AO$1,0)),\"\")","v":""},"","","","    ",{"$nulls":7},"","IFERROR(INDEX(Sheet2rng,MATCH(BA12,sheet2rows,0), MATCH($BB$11,sheet2columns,0)),\"\")",{"$f":"IFERROR(INDEX(indexdatabase,MATCH(BQ39&$AZ$14,name&Group2,0),MATCH(\"PPI\",Sheet2rng!$A$1:$AK$1,0)),\"\")","v":""},{"$f":"IFERROR(SMALL(IF(LEFT(Group2,LEN(Class6!$BA$10))=Class6!$BA$10,ROW(Group2)),ROW(A28)),\"\")","v":""},{"$nulls":4},"",{"$nulls":56},0,"","RIORDAN Robbie",{"$nulls":5},4,20,"ABU Aisha",{"$nulls":5},0,"","RIORDAN Robbie",{"$nulls":5},0,"","RIORDAN Robbie",{"$nulls":5},0,"","RIORDAN Robbie",{"$nulls":5},0,"","RIORDAN Robbie",{"$nulls":51},0,0]
[{"$nulls":12},{"$f":"IFERROR(IF($Y$4=6,\"\",IF($Y$4=7,INDEX(indexdatabase,MATCH(M34&$AZ$14,name&Group2,0),MATCH($N$6,Sheet2rng!$A$1:$AK$1,0)))),\"\")","v":""},null,{"$f":"IFERROR(IF($Y$5=8,\"\",IF($Y$5=9,INDEX(Sheet2rng,MATCH(M34&$AZ$14,name&Group2,0),MATCH($P$6,sheet2columns,0)))),\"\")","v":""},null,{"$f":"IFERROR(IF($Y$4=6,\"\",IF($Y$4=7,INDEX(indexdatabase,MATCH(Q34&$AZ$14,name&Group2,0),MATCH($N$6,Sheet2rng!$A$1:$AK$1,0)))),\"\")","v":""},null,{"$f":"IFERROR(IF($Y$5=8,\"\",IF($Y$5=9,INDEX(Sheet2rng,MATCH(Q34&$AZ$14,name&Group2,0),MATCH($P$6,sheet2columns,0)))),\"\")","v":""},{"$nulls":6},{"$f":"IFERROR(IF($Y$4=6,\"\",IF($Y$4=7,INDEX(indexdatabase,MATCH(Z34&$AZ$14,name&Group2,0),MATCH($N$6,Sheet2rng!$A$1:$AK$1,0)))),\"\")","v":""},null,{"$f":"IFERROR(IF($Y$5=8,\"\",IF($Y$5=9,INDEX(Sheet2rng,MATCH(Z34&$AZ$14,name&Group2,0),MATCH($P$6,sheet2columns,0)))),\"\")","v":""},null,{"$f":"IFERROR(IF($Y$4=6,\"\",IF($Y$4=7,INDEX(indexdatabase,MATCH(AD34&$AZ$14,name&Group2,0),MATCH($N$6,Sheet2rng!$A$1:$AK$1,0)))),\"\")","v":""},null,{"$f":"IFERROR(IF($Y$5=8,\"\",IF($Y$5=9,INDEX(Sheet2rng,MATCH(AD34&$AZ$14,name&Group2,0),MATCH($P$6,sheet2columns,0)))),\"\")","v":""},{"$nulls":6},{"$f":"IFERROR(IF($Y$4=6,\"\",IF($Y$4=7,INDEX(indexdatabase,MATCH(AM34&$AZ$14,name&Group2,0),MATCH($N$6,Sheet2rng!$A$1:$AK$1,0)))),\"\")","v":""},null,{"$f":"IFERROR(IF($Y$5=8,\"\",IF($Y$5=9,INDEX(Sheet2rng,MATCH(AM34&$AZ$14,name&Group2,0),MATCH($P$6,sheet2columns,0)))),\"\")","v":""},null,{"$f":"IFERROR(IF($Y$4=6,\"\",IF($Y$4=7,INDEX(indexdatabase,MATCH(AQ34&$AZ$14,name&Group2,0),MATCH($N$6,Sheet2rng!$A$1:$AK$1,0)))),\"\")","v":""},null,{"$f":"IFERROR(IF($Y$5=8,\"\",IF($Y$5=9,INDEX(Sheet2rng,MATCH(AQ34&$AZ$14,name&Group2,0),MATCH($P$6,sheet2columns,0)))),\"\")","v":""},{"$nulls":7},{"$f":"IFERROR(INDEX(indexdatabase,MATCH(BQ36&$AZ$14,name&Group2,0),MATCH(\"AR\",Sheet2rng!$A$1:$AK$1,0)),\"\")","v":""},"",{"$f":"IFERROR(INDEX(indexdatabase,MATCH($BB40&$AZ$14,name&Group2,0),MATCH(\"SEND\",Sheet2rng!$A$1:$AO$1,0)),\"\")","v":""},{"$f":"IFERROR(INDEX(indexdatabase,MATCH($BB40&$AZ$14,name&Group2,0),MATCH(\"MAT\",Sheet2rng!$A$1:$AO$1,0)),\"\")","v":""},{"$f":"IFERROR(INDEX(indexdatabase,MATCH($BB40&$AZ$14,name&Group2,0),MATCH(\"EAL\",Sheet2rng!$A$1:$AO$1,0)),\"\")","v":""},"","","","    ",{"$nulls":7},"","IFERROR(INDEX(Sheet2rng,MATCH(BA12,sheet2rows,0), MATCH($BB$11,sheet2columns,0)),\"\")",{"$f":"IFERROR(INDEX(indexdatabase,MATCH(BQ40&$AZ$14,name&Group2,0),MATCH(\"PPI\",Sheet2rng!$A$1:$AK$1,0)),\"\")","v":""},{"$f":"IFERROR(SMALL(IF(LEFT(Group2,LEN(Class6!$BA$10))=Class6!$BA$10,ROW(Group2)),ROW(A29)),\"\")","v":""},{"$nulls":4},"",{"$nulls":56},0,"","SAHOTA Callum",{"$nulls":5},4,20,"BLE Grace",{"$nulls":5},0,"","SAHOTA Callum",{"$nulls":5},0,"","SAHOTA Callum",{"$nulls":5},0,"","SAHOTA Callum",{"$nulls":5},0,"","SAHOTA Callum",{"$nulls":51},0,0]
[{"$nulls":12},{"$f":"IFERROR(IF(SEARCH(\"11\",BE50)=1,11),\"\")","v":""},{"$nulls":3},{"$f":"IFERROR(IF(SEARCH(\"11\",BI50)=1,11),\"\")","v":""},{"$nulls":12},{"$f":"IFERROR(IF(SEARCH(\"11\",BV50)=1,11),\"\")","v":""},{"$nulls":8},{"$f":"IFERROR(IF(SEARCH(\"11\",CE50)=1,11),\"\")","v":""},{"$nulls":3},{"$f":"IFERROR(IF(SEARCH(\"11\",CI50)=1,11),\"\")","v":""},{"$nulls":9},{"$f":"IFERROR(INDEX(indexdatabase,MATCH(BQ37&$AZ$14,name&Group2,0),MATCH(\"AR\",Sheet2rng!$A$1:$AK$1,0)),\"\")","v":""},"",{"$f":"IFERROR(INDEX(indexdatabase,MATCH($BB41&$AZ$14,name&Group2,0),MATCH(\"SEND\",Sheet2rng!$A$1:$AO$1,0)),\"\")","v":""},{"$f":"IFERROR(INDEX(indexdatabase,MATCH($BB41&$AZ$14,name&Group2,0),MATCH(\"MAT\",Sheet2rng!$A$1:$AO$1,0)),\"\")","v":""},{"$f":"IFERROR(INDEX(indexdatabase,MATCH($BB41&$AZ$14,name&Group2,0),MATCH(\"EAL\",Sheet2rng!$A$1:$AO$1,0)),\"\")","v":""},"","","","    ",{"$nulls":7},"","IFERROR(INDEX(Sheet2rng,MATCH(BA12,sheet2rows,0), MATCH($BB$11,sheet2columns,0)),\"\")",{"$f":"IFERROR(INDEX(indexdatabase,MATCH(BQ41&$AZ$14,name&Group2,0),MATCH(\"PPI\",Sheet2rng!$A$1:$AK$1,0)),\"\")","v":""},{"$f":"IFERROR(SMALL(IF(LEFT(Group2,LEN(Class6!$BA$10))=Class6!$BA$10,ROW(Group2)),ROW(A30)),\"\")","v":""},{"$nulls":4},"",{"$nulls":56},0,"","SAWYER Cicarna-Lee",{"$nulls":5},4,20,"JAMESON Amy",{"$nulls":5},0,"","SAWYER Cicarna-Lee",{"$nulls":5},0,"","SAWYER Cicarna-Lee",{"$nulls":5},0,"","SAWYER Cicarna-Lee",{"$nulls":5},0,"","SAWYER Cicarna-Lee",{"$nulls":51},0,0]
[{"$nulls":52},{"$f":"IFERROR(INDEX(indexdatabase,MATCH(BQ38&$AZ$14,name&Group2,0),MATCH(\"AR\",Sheet2rng!$A$1:$AK$1,0)),\"\")","v":""},"",{"$f":"IFERROR(INDEX(indexdatabase,MATCH($BB42&$AZ$14,name&Group2,0),MATCH(\"SEND\",Sheet2rng!$A$1:$AO$1,0)),\"\")","v":""},{"$f":"IFERROR(INDEX(indexdatabase,MATCH($BB42&$AZ$14,name&Group2,0),MATCH(\"MAT\",Sheet2rng!$A$1:$AO$1,0)),\"\")","v":""},{"$f":"IFERROR(INDEX(indexdatabase,MATCH($BB42&$AZ$14,name&Group2,0),MATCH(\"EAL\",Sheet2rng!$A$1:$AO$1,0)),\"\")","v":""},"","","","    ",{"$nulls":4},"10a/Pe6",null,null,"","IFERROR(INDEX(Sheet2rng,MATCH(BA12,sheet2rows,0), MATCH($BB$11,sheet2columns,0)),\"\")",{"$f":"IFERROR(INDEX(indexdatabase,MATCH(BQ42&$AZ$14,name&Group2,0),MATCH(\"PPI\",Sheet2rng!$A$1:$AK$1,0)),\"\")","v":""},{"$f":"IFERROR(SMALL(IF(LEFT(Group2,LEN(Class6!$BA$10))=Class6!$BA$10,ROW(Group2)),ROW(A31)),\"\")","v":""},{"$nulls":4},"",{"$nulls":56},0,"","SEHMI Natalie",{"$nulls":5},4,20,"KERWICK Georgie",{"$nulls":5},0,"","SEHMI Natalie",{"$nulls":5},0,"","SEHMI Natalie",{"$nulls":5},0,"","SEHMI Natalie",{"$nulls":5},0,"","SEHMI Natalie",{"$nulls":51},0,0]
[{"$nulls":12},{"$f":"IFERROR(IF($Y$1=1,\"\",VLOOKUP(M41,needstable,8,FALSE)),\"\")","v":"    "},{"$nulls":3},{"$f":"IFERROR(IF($Y$1=1,\"\",VLOOKUP(Q41,needstable,8,FALSE)),\"\")","v":"    "},{"$nulls":8},{"$f":"IFERROR(IF($Y$1=1,\"\",VLOOKUP(Z41,needstable,8,FALSE)),\"\")","v":""},{"$nulls":3},{"$f":"IFERROR(IF($Y$1=1,\"\",VLOOKUP(AD41,needstable,8,FALSE)),\"\")","v":"    "},{"$nulls":8},{"$f":"IFERROR(IF($Y$1=1,\"\",VLOOKUP(AM41,needstable,8,FALSE)),\"\")","v":"    "},{"$nulls":3},{"$f":"IFERROR(IF($Y$1=1,\"\",VLOOKUP(AQ41,needstable,8,FALSE)),\"\")","v":"    "},{"$nulls":9},{"$f":"IFERROR(INDEX(indexdatabase,MATCH(BQ39&$AZ$14,name&Group2,0),MATCH(\"AR\",Sheet2rng!$A$1:$AK$1,0)),\"\")","v":""},"",{"$f":"IFERROR(INDEX(indexdatabase,MATCH($BB43&$AZ$14,name&Group2,0),MATCH(\"SEND\",Sheet2rng!$A$1:$AO$1,0)),\"\")","v":""},{"$f":"IFERROR(INDEX(indexdatabase,MATCH($BB43&$AZ$14,name&Group2,0),MATCH(\"MAT\",Sheet2rng!$A$1:$AO$1,0)),\"\")","v":""},{"$f":"IFERROR(INDEX(indexdatabase,MATCH($BB43&$AZ$14,name&Group2,0),MATCH(\"EAL\",Sheet2rng!$A$1:$AO$1,0)),\"\")","v":""},"","","","    ",{"$nulls":4},"10A/Pg1",null,null,"","IFERROR(INDEX(Sheet2rng,MATCH(BA12,sheet2rows,0), MATCH($BB$11,sheet2columns,0)),\"\")",{"$f":"IFERROR(INDEX(indexdatabase,MATCH(BQ43&$AZ$14,name&Group2,0),MATCH(\"PPI\",Sheet2rng!$A$1:$AK$1,0)),\"\")","v":""},{"$f":"IFERROR(SMALL(IF(LEFT(Group2,LEN(Class6!$BA$10))=Class6!$BA$10,ROW(Group2)),ROW(A32)),\"\")","v":""},{"$nulls":4},"",{"$nulls":56},0,"","SMITH Jade",{"$nulls":5},4,20,"SAWYER Cicarna-Lee",{"$nulls":5},0,"","SMITH Jade",{"$nulls":5},0,"","SMITH Jade",{"$nulls":5},0,"","SMITH Jade",{"$nulls":5},0,"","SMITH Jade",{"$nulls":51},0,0]
[{"$nulls":12},"C/grade",null,{"$f":"Sheet2rng!$D$1","v":"KS2"},null,"C/grade",null,{"$f":"Sheet2rng!$D$1","v":"KS2"},{"$nulls":6},"C/grade",null,{"$f":"Sheet2rng!$D$1","v":"KS2"},null,"C/grade",null,{"$f":"Sheet2rng!$D$1","v":"KS2"},{"$nulls":6},"C/grade",null,{"$f":"Sheet2rng!$D$1","v":"KS2"},null,"C/grade",null,{"$f":"Sheet2rng!$D$1","v":"KS2"},{"$nulls":7},{"$f":"IFERROR(INDEX(indexdatabase,MATCH(BQ40&$AZ$14,name&Group2,0),MATCH(\"AR\",Sheet2rng!$A$1:$AK$1,0)),\"\")","v":""},"",{"$f":"IFERROR(INDEX(indexdatabase,MATCH($BB44&$AZ$14,name&Group2,0),MATCH(\"SEND\",Sheet2rng!$A$1:$AO$1,0)),\"\")","v":""},{"$f":"IFERROR(INDEX(indexdatabase,MATCH($BB44&$AZ$14,name&Group2,0),MATCH(\"MAT\",Sheet2rng!$A$1:$AO$1,0)),\"\")","v":""},{"$f":"IFERROR(INDEX(indexdatabase,MATCH($BB44&$AZ$14,name&Group2,0),MATCH(\"EAL\",Sheet2rng!$A$1:$AO$1,0)),\"\")","v":""},"","","","    ",{"$nulls":4},"10a/Sc1",null,null,"","IFERROR(INDEX(Sheet2rng,MATCH(BA12,sheet2rows,0), MATCH($BB$11,sheet2columns,0)),\"\")",{"$f":"IFERROR(INDEX(indexdatabase,MATCH(BQ44&$AZ$14,name&Group2,0),MATCH(\"PPI\",Sheet2rng!$A$1:$AK$1,0)),\"\")","v":""},{"$f":"IFERROR(SMALL(IF(LEFT(Group2,LEN(Class6!$BA$10))=Class6!$BA$10,ROW(Group2)),ROW(A33)),\"\")","v":""},{"$nulls":61},0,"","SWAN Callum",{"$nulls":5},4,20,"SEHMI Natalie",{"$nulls":5},0,"","SWAN Callum",{"$nulls":5},0,"","SWAN Callum",{"$nulls":5},0,"","SWAN Callum",{"$nulls":5},0,"","SWAN Callum",{"$nulls":51},0,0]
[{"$nulls":12},{"$f":"IFERROR(IF($Y$2=2,\"\",IF($Y$2=3,INDEX(indexdatabase,MATCH(M41&$AZ$14,name&Group2,0),MATCH($AZ$23,Sheet2rng!$A$1:$AK$1,0)))),\"\")","v":""},null,{"$f":"IFERROR(IF($Y$3=4,\"\",IF($Y$3=5,INDEX(indexdatabase,MATCH(M41&$AZ$14,name&Group2,0),MATCH($P$4,Sheet2rng!$A$1:$AK$1,0)))),\"\")","v":""},null,{"$f":"IFERROR(IF($Y$2=2,\"\",IF($Y$2=3,INDEX(indexdatabase,MATCH(Q41&$AZ$14,name&Group2,0),MATCH($AZ$23,Sheet2rng!$A$1:$AK$1,0)))),\"\")","v":""},null,{"$f":"IFERROR(IF($Y$3=4,\"\",IF($Y$3=5,INDEX(indexdatabase,MATCH(Q41&$AZ$14,name&Group2,0),MATCH($P$4,Sheet2rng!$A$1:$AK$1,0)))),\"\")","v":""},{"$nulls":6},{"$f":"IFERROR(IF($Y$2=2,\"\",IF($Y$2=3,INDEX(indexdatabase,MATCH(Z41&$AZ$14,name&Group2,0),MATCH($AZ$23,Sheet2rng!$A$1:$AK$1,0)))),\"\")","v":""},null,{"$f":"IFERROR(IF($Y$3=4,\"\",IF($Y$3=5,INDEX(indexdatabase,MATCH(Z41&$AZ$14,name&Group2,0),MATCH($P$4,Sheet2rng!$A$1:$AK$1,0)))),\"\")","v":""},null,{"$f":"IFERROR(IF($Y$2=2,\"\",IF($Y$2=3,INDEX(indexdatabase,MATCH(AD41&$AZ$14,name&Group2,0),MATCH($AZ$23,Sheet2rng!$A$1:$AK$1,0)))),\"\")","v":""},null,{"$f":"IFERROR(IF($Y$3=4,\"\",IF($Y$3=5,INDEX(indexdatabase,MATCH(AD41&$AZ$14,name&Group2,0),MATCH($P$4,Sheet2rng!$A$1:$AK$1,0)))),\"\")","v":""},{"$nulls":6},{"$f":"IFERROR(IF($Y$2=2,\"\",IF($Y$2=3,INDEX(indexdatabase,MATCH(AM41&$AZ$14,name&Group2,0),MATCH($AZ$23,Sheet2rng!$A$1:$AK$1,0)))),\"\")","v":""},null,{"$f":"IFERROR(IF($Y$3=4,\"\",IF($Y$3=5,INDEX(indexdatabase,MATCH(AM41&$AZ$14,name&Group2,0),MATCH($P$4,Sheet2rng!$A$1:$AK$1,0)))),\"\")","v":""},null,{"$f":"IFERROR(IF($Y$2=2,\"\",IF($Y$2=3,INDEX(indexdatabase,MATCH(AQ41&$AZ$14,name&Group2,0),MATCH($AZ$23,Sheet2rng!$A$1:$AK$1,0)))),\"\")","v":""},null,{"$f":"IFERROR(IF($Y$3=4,\"\",IF($Y$3=5,INDEX(indexdatabase,MATCH(AQ41&$AZ$14,name&Group2,0),MATCH($P$4,Sheet2rng!$A$1:$AK$1,0)))),\"\")","v":""},{"$nulls":7},{"$f":"IFERROR(INDEX(indexdatabase,MATCH(BQ41&$AZ$14,name&Group2,0),MATCH(\"AR\",Sheet2rng!$A$1:$AK$1,0)),\"\")","v":""},"",{"$f":"IFERROR(INDEX(indexdatabase,MATCH($BB45&$AZ$14,name&Group2,0),MATCH(\"SEND\",Sheet2rng!$A$1:$AO$1,0)),\"\")","v":""},{"$f":"IFERROR(INDEX(indexdatabase,MATCH($BB45&$AZ$14,name&Group2,0),MATCH(\"MAT\",Sheet2rng!$A$1:$AO$1,0)),\"\")","v":""},{"$f":"IFERROR(INDEX(indexdatabase,MATCH($BB45&$AZ$14,name&Group2,0),MATCH(\"EAL\",Sheet2rng!$A$1:$AO$1,0)),\"\")","v":""},"","","","    ",{"$nulls":4},"10a/Sc2",null,null,"","IFERROR(INDEX(Sheet2rng,MATCH(BA12,sheet2rows,0), MATCH($BB$11,sheet2columns,0)),\"\")",{"$f":"IFERROR(INDEX(indexdatabase,MATCH(BQ45&$AZ$14,name&Group2,0),MATCH(\"PPI\",Sheet2rng!$A$1:$AK$1,0)),\"\")","v":""},{"$f":"IFERROR(SMALL(IF(LEFT(Group2,LEN(Class6!$BA$10))=Class6!$BA$10,ROW(Group2)),ROW(A34)),\"\")","v":""},{"$nulls":62},"","TURNER Liberty",{"$nulls":6},20,"SWAN Callum",{"$nulls":6},"","TURNER Liberty",{"$nulls":6},"","TURNER Liberty",{"$nulls":6},"","TURNER Liberty",{"$nulls":6},"","TURNER Liberty",{"$nulls":51},0,0]
[{"$nulls":12},{"$f":"Sheet2rng!$C$1","v":"Target"},null,{"$f":"Sheet2rng!$E$1","v":"AR"},null,{"$f":"Sheet2rng!$C$1","v":"Target"},null,{"$f":"Sheet2rng!$E$1","v":"AR"},{"$nulls":6},{"$f":"Sheet2rng!$C$1","v":"Target"},null,{"$f":"Sheet2rng!$E$1","v":"AR"},null,{"$f":"Sheet2rng!$C$1","v":"Target"},null,{"$f":"Sheet2rng!$E$1","v":"AR"},{"$nulls":6},{"$f":"Sheet2rng!$C$1","v":"Target"},null,{"$f":"Sheet2rng!$E$1","v":"AR"},null,{"$f":"Sheet2rng!$C$1","v":"Target"},null,{"$f":"Sheet2rng!$E$1","v":"AR"},{"$nulls":7},{"$f":"IFERROR(INDEX(indexdatabase,MATCH(BQ42&$AZ$14,name&Group2,0),MATCH(\"AR\",Sheet2rng!$A$1:$AK$1,0)),\"\")","v":""},"",{"$f":"IFERROR(INDEX(indexdatabase,MATCH($BB46&$AZ$14,name&Group2,0),MATCH(\"SEND\",Sheet2rng!$A$1:$AO$1,0)),\"\")","v":""},{"$f":"IFERROR(INDEX(indexdatabase,MATCH($BB46&$AZ$14,name&Group2,0),MATCH(\"MAT\",Sheet2rng!$A$1:$AO$1,0)),\"\")","v":""},{"$f":"IFERROR(INDEX(indexdatabase,MATCH($BB46&$AZ$14,name&Group2,0),MATCH(\"EAL\",Sheet2rng!$A$1:$AO$1,0)),\"\")","v":""},"","","","    ",{"$nulls":4},"10a/Sc3",null,null,"","IFERROR(INDEX(Sheet2rng,MATCH(BA12,sheet2rows,0), MATCH($BB$11,sheet2columns,0)),\"\")",{"$f":"IFERROR(INDEX(indexdatabase,MATCH(BQ46&$AZ$14,name&Group2,0),MATCH(\"PPI\",Sheet2rng!$A$1:$AK$1,0)),\"\")","v":""},{"$f":"IFERROR(SMALL(IF(LEFT(Group2,LEN(Class6!$BA$10))=Class6!$BA$10,ROW(Group2)),ROW(A35)),\"\")","v":""},{"$nulls":62},"","WILLIS Demi",{"$nulls":6},20,"WILLIS Demi",{"$nulls":6},"","WILLIS Demi",{"$nulls":6},"","WILLIS Demi",{"$nulls":6},"","WILLIS Demi",{"$nulls":6},"","WILLIS Demi",{"$nulls":51},0,0]
[{"$nulls":12},{"$f":"IFERROR(IF($Y$4=6,\"\",IF($Y$4=7,INDEX(indexdatabase,MATCH(M41&$AZ$14,name&Group2,0),MATCH($N$6,Sheet2rng!$A$1:$AK$1,0)))),\"\")","v":""},null,{"$f":"IFERROR(IF($Y$5=8,\"\",IF($Y$5=9,INDEX(Sheet2rng,MATCH(M41&$AZ$14,name&Group2,0),MATCH($P$6,sheet2columns,0)))),\"\")","v":""},null,{"$f":"IFERROR(IF($Y$4=6,\"\",IF($Y$4=7,INDEX(indexdatabase,MATCH(Q41&$AZ$14,name&Group2,0),MATCH($N$6,Sheet2rng!$A$1:$AK$1,0)))),\"\")","v":""},null,{"$f":"IFERROR(IF($Y$5=8,\"\",IF($Y$5=9,INDEX(Sheet2rng,MATCH(Q41&$AZ$14,name&Group2,0),MATCH($P$6,sheet2columns,0)))),\"\")","v":""},{"$nulls":6},{"$f":"IFERROR(IF($Y$4=6,\"\",IF($Y$4=7,INDEX(indexdatabase,MATCH(Z41&$AZ$14,name&Group2,0),MATCH($N$6,Sheet2rng!$A$1:$AK$1,0)))),\"\")","v":""},null,{"$f":"IFERROR(IF($Y$5=8,\"\",IF($Y$5=9,INDEX(Sheet2rng,MATCH(Z41&$AZ$14,name&Group2,0),MATCH($P$6,sheet2columns,0)))),\"\")","v":""},null,{"$f":"IFERROR(IF($Y$4=6,\"\",IF($Y$4=7,INDEX(indexdatabase,MATCH(AD41&$AZ$14,name&Group2,0),MATCH($N$6,Sheet2rng!$A$1:$AK$1,0)))),\"\")","v":""},null,{"$f":"IFERROR(IF($Y$5=8,\"\",IF($Y$5=9,INDEX(Sheet2rng,MATCH(AD41&$AZ$14,name&Group2,0),MATCH($P$6,sheet2columns,0)))),\"\")","v":""},{"$nulls":6},{"$f":"IFERROR(IF($Y$4=6,\"\",IF($Y$4=7,INDEX(indexdatabase,MATCH(AM41&$AZ$14,name&Group2,0),MATCH($N$6,Sheet2rng!$A$1:$AK$1,0)))),\"\")","v":""},null,{"$f":"IFERROR(IF($Y$5=8,\"\",IF($Y$5=9,INDEX(Sheet2rng,MATCH(AM41&$AZ$14,name&Group2,0),MATCH($P$6,sheet2columns,0)))),\"\")","v":""},null,{"$f":"IFERROR(IF($Y$4=6,\"\",IF($Y$4=7,INDEX(indexdatabase,MATCH(AQ41&$AZ$14,name&Group2,0),MATCH($N$6,Sheet2rng!$A$1:$AK$1,0)))),\"\")","v":""},null,{"$f":"IFERROR(IF($Y$5=8,\"\",IF($Y$5=9,INDEX(Sheet2rng,MATCH(AQ41&$AZ$14,name&Group2,0),MATCH($P$6,sheet2columns,0)))),\"\")","v":""},{"$nulls":7},{"$f":"IFERROR(INDEX(indexdatabase,MATCH(BQ43&$AZ$14,name&Group2,0),MATCH(\"AR\",Sheet2rng!$A$1:$AK$1,0)),\"\")","v":""},null,{"$f":"IFERROR(INDEX(indexdatabase,MATCH($BB47&$AZ$14,name&Group2,0),MATCH(\"SEND\",Sheet2rng!$A$1:$AO$1,0)),\"\")","v":""},{"$f":"IFERROR(INDEX(indexdatabase,MATCH($BB47&$AZ$14,name&Group2,0),MATCH(\"MAT\",Sheet2rng!$A$1:$AO$1,0)),\"\")","v":""},{"$f":"IFERROR(INDEX(indexdatabase,MATCH($BB47&$AZ$14,name&Group2,0),MATCH(\"EAL\",Sheet2rng!$A$1:$AO$1,0)),\"\")","v":""},"","","","    ",{"$nulls":4},"10a/Sc4",null,null,"","IFERROR(INDEX(Sheet2rng,MATCH(BA12,sheet2rows,0), MATCH($BB$11,sheet2columns,0)),\"\")",{"$f":"IFERROR(INDEX(indexdatabase,MATCH(BQ47&$AZ$14,name&Group2,0),MATCH(\"PPI\",Sheet2rng!$A$1:$AK$1,0)),\"\")","v":""},{"$f":"IFERROR(SMALL(IF(LEFT(Group2,LEN(Class6!$BA$10))=Class6!$BA$10,ROW(Group2)),ROW(A36)),\"\")","v":""},{"$nulls":62},"","WRIGHT Caitlin",{"$nulls":6},"","RIORDAN Robbie",{"$nulls":6},"","WRIGHT Caitlin",{"$nulls":6},"","WRIGHT Caitlin",{"$nulls":6},"","WRIGHT Caitlin",{"$nulls":6},"","WRIGHT Caitlin",{"$nulls":51},0,0]
[{"$nulls":12},{"$f":"IFERROR(IF(SEARCH(\"11\",BE57)=1,11),\"\")","v":""},{"$nulls":3},{"$f":"IFERROR(IF(SEARCH(\"11\",BI57)=1,11),\"\")","v":""},{"$nulls":12},{"$f":"IFERROR(IF(SEARCH(\"11\",BV57)=1,11),\"\")","v":""},{"$nulls":8},{"$f":"IFERROR(IF(SEARCH(\"11\",CE57)=1,11),\"\")","v":""},{"$nulls":3},{"$f":"IFERROR(IF(SEARCH(\"11\",CI57)=1,11),\"\")","v":""},{"$nulls":9},{"$f":"IFERROR(INDEX(indexdatabase,MATCH(BQ44&$AZ$14,name&Group2,0),MATCH(\"AR\",Sheet2rng!$A$1:$AK$1,0)),\"\")","v":""},null,{"$f":"IFERROR(INDEX(indexdatabase,MATCH($BB48&$AZ$14,name&Group2,0),MATCH(\"SEND\",Sheet2rng!$A$1:$AO$1,0)),\"\")","v":""},{"$f":"IFERROR(INDEX(indexdatabase,MATCH($BB48&$AZ$14,name&Group2,0),MATCH(\"MAT\",Sheet2rng!$A$1:$AO$1,0)),\"\")","v":""},{"$f":"IFERROR(INDEX(indexdatabase,MATCH($BB48&$AZ$14,name&Group2,0),MATCH(\"EAL\",Sheet2rng!$A$1:$AO$1,0)),\"\")","v":""},"","","",{"$f":"CONCATENATE(BF48,\"  \",BG48,\"  \",BH48)","v":"    "},{"$nulls":4},"10a/Sc5",null,null,"","IFERROR(INDEX(Sheet2rng,MATCH(BA12,sheet2rows,0), MATCH($BB$11,sheet2columns,0)),\"\")",{"$f":"IFERROR(INDEX(indexdatabase,MATCH(BQ48&$AZ$14,name&Group2,0),MATCH(\"PPI\",Sheet2rng!$A$1:$AK$1,0)),\"\")","v":""},{"$f":"IFERROR(SMALL(IF(LEFT(Group2,LEN(Class6!$BA$10))=Class6!$BA$10,ROW(Group2)),ROW(A37)),\"\")","v":""},{"$nulls":62},"","",{"$nulls":6},"","",{"$nulls":6},"","",{"$nulls":6},"","",{"$nulls":6},"","",{"$nulls":6},"","",{"$nulls":51},0,0]
[{"$nulls":65},"10a/Sc6",null,null,"","IFERROR(INDEX(Sheet2rng,MATCH(BA12,sheet2rows,0), MATCH($BB$11,sheet2columns,0)),\"\")",{"$f":"IFERROR(INDEX(indexdatabase,MATCH(BQ49&$AZ$14,name&Group2,0),MATCH(\"PPI\",Sheet2rng!$A$1:$AK$1,0)),\"\")","v":""},{"$f":"IFERROR(SMALL(IF(LEFT(Group2,LEN(Class6!$BA$10))=Class6!$BA$10,ROW(Group2)),ROW(A38)),\"\")","v":""},{"$nulls":155},0,0]
[{"$nulls":12},{"$f":"IFERROR(IF($Y$1=1,\"\",VLOOKUP(M48,needstable,8,FALSE)),\"\")","v":"    "},{"$nulls":3},{"$f":"IFERROR(IF($Y$1=1,\"\",VLOOKUP(Q48,needstable,8,FALSE)),\"\")","v":"    "},{"$nulls":8},{"$f":"IFERROR(IF($Y$1=1,\"\",VLOOKUP(Z48,needstable,8,FALSE)),\"\")","v":""},{"$nulls":3},{"$f":"IFERROR(IF($Y$1=1,\"\",VLOOKUP(AD48,needstable,8,FALSE)),\"\")","v":"    "},{"$nulls":8},{"$f":"IFERROR(IF($Y$1=1,\"\",VLOOKUP(AM48,needstable,8,FALSE)),\"\")","v":"    "},{"$nulls":3},{"$f":"IFERROR(IF($Y$1=1,\"\",VLOOKUP(AQ48,needstable,8,FALSE)),\"\")","v":"    "},{"$nulls":22},"10A/So1",null,null,"","IFERROR(INDEX(Sheet2rng,MATCH(BA12,sheet2rows,0), MATCH($BB$11,sheet2columns,0)),\"\")",{"$f":"IFERROR(INDEX(indexdatabase,MATCH(BQ50&$AZ$14,name&Group2,0),MATCH(\"PPI\",Sheet2rng!$A$1:$AK$1,0)),\"\")","v":""},{"$f":"IFERROR(SMALL(IF(LEFT(Group2,LEN(Class6!$BA$10))=Class6!$BA$10,ROW(Group2)),ROW(A39)),\"\")","v":""},{"$nulls":62},"","",{"$nulls":6},"","",{"$nulls":6},"","",{"$nulls":5},{"$f":"IF(FC50=1,1,IF(FC50=2,2,IF(FC50=FC49,FB49,IF(FC50>FC49,FB49+1))))","v":0},"","",{"$nulls":5},{"$f":"IF(FK50=1,1,IF(FK50=2,2,IF(FK50=FK49,FJ49,IF(FK50>FK49,FJ49+1))))","v":0},"","",{"$nulls":5},{"$f":"IF(FS50=1,1,IF(FS50=2,2,IF(FS50=FS49,FR49,IF(FS50>FS49,FR49+1))))","v":0},"","",{"$nulls":51},0,0]
[{"$nulls":12},"C/grade",null,{"$f":"Sheet2rng!$D$1","v":"KS2"},null,"C/grade",null,{"$f":"Sheet2rng!$D$1","v":"KS2"},{"$nulls":6},"C/grade",null,{"$f":"Sheet2rng!$D$1","v":"KS2"},null,"C/grade",null,{"$f":"Sheet2rng!$D$1","v":"KS2"},{"$nulls":6},"C/grade",null,{"$f":"Sheet2rng!$D$1","v":"KS2"},null,"C/grade",null,{"$f":"Sheet2rng!$D$1","v":"KS2"},{"$nulls":20},"10A/So2",null,null,"","IFERROR(INDEX(Sheet2rng,MATCH(BA12,sheet2rows,0), MATCH($BB$11,sheet2columns,0)),\"\")",{"$f":"IFERROR(INDEX(indexdatabase,MATCH(BQ51&$AZ$14,name&Group2,0),MATCH(\"PPI\",Sheet2rng!$A$1:$AK$1,0)),\"\")","v":""},{"$f":"IFERROR(SMALL(IF(LEFT(Group2,LEN(Class6!$BA$10))=Class6!$BA$10,ROW(Group2)),ROW(A40)),\"\")","v":""},{"$nulls":62},"","",{"$nulls":6},"","",{"$nulls":6},"","",{"$nulls":6},"","",{"$nulls":6},"","",{"$nulls":6},"","",{"$nulls":52},{"$f":"DU370","v":0}]
[{"$nulls":12},{"$f":"IFERROR(IF($Y$2=2,\"\",IF($Y$2=3,INDEX(indexdatabase,MATCH(M48&$AZ$14,name&Group2,0),MATCH($AZ$23,Sheet2rng!$A$1:$AK$1,0)))),\"\")","v":""},null,{"$f":"IFERROR(IF($Y$3=4,\"\",IF($Y$3=5,INDEX(indexdatabase,MATCH(M48&$AZ$14,name&Group2,0),MATCH($P$4,Sheet2rng!$A$1:$AK$1,0)))),\"\")","v":""},null,{"$f":"IFERROR(IF($Y$2=2,\"\",IF($Y$2=3,INDEX(indexdatabase,MATCH(Q48&$AZ$14,name&Group2,0),MATCH($AZ$23,Sheet2rng!$A$1:$AK$1,0)))),\"\")","v":""},null,{"$f":"IFERROR(IF($Y$3=4,\"\",IF($Y$3=5,INDEX(indexdatabase,MATCH(Q48&$AZ$14,name&Group2,0),MATCH($P$4,Sheet2rng!$A$1:$AK$1,0)))),\"\")","v":""},{"$nulls":6},{"$f":"IFERROR(IF($Y$2=2,\"\",IF($Y$2=3,INDEX(indexdatabase,MATCH(Z48&$AZ$14,name&Group2,0),MATCH($AZ$23,Sheet2rng!$A$1:$AK$1,0)))),\"\")","v":""},null,{"$f":"IFERROR(IF($Y$3=4,\"\",IF($Y$3=5,INDEX(indexdatabase,MATCH(Z48&$AZ$14,name&Group2,0),MATCH($P$4,Sheet2rng!$A$1:$AK$1,0)))),\"\")","v":""},null,{"$f":"IFERROR(IF($Y$2=2,\"\",IF($Y$2=3,INDEX(indexdatabase,MATCH(AD48&$AZ$14,name&Group2,0),MATCH($AZ$23,Sheet2rng!$A$1:$AK$1,0)))),\"\")","v":""},null,{"$f":"IFERROR(IF($Y$3=4,\"\",IF($Y$3=5,INDEX(indexdatabase,MATCH(AD48&$AZ$14,name&Group2,0),MATCH($P$4,Sheet2rng!$A$1:$AK$1,0)))),\"\")","v":""},{"$nulls":6},{"$f":"IFERROR(IF($Y$2=2,\"\",IF($Y$2=3,INDEX(indexdatabase,MATCH(AM48&$AZ$14,name&Group2,0),MATCH($AZ$23,Sheet2rng!$A$1:$AK$1,0)))),\"\")","v":""},null,{"$f":"IFERROR(IF($Y$3=4,\"\",IF($Y$3=5,INDEX(indexdatabase,MATCH(AM48&$AZ$14,name&Group2,0),MATCH($P$4,Sheet2rng!$A$1:$AK$1,0)))),\"\")","v":""},null,{"$f":"IFERROR(IF($Y$2=2,\"\",IF($Y$2=3,INDEX(indexdatabase,MATCH(AQ48&$AZ$14,name&Group2,0),MATCH($AZ$23,Sheet2rng!$A$1:$AK$1,0)))),\"\")","v":""},null,{"$f":"IFERROR(IF($Y$3=4,\"\",IF($Y$3=5,INDEX(indexdatabase,MATCH(AQ48&$AZ$14,name&Group2,0),MATCH($P$4,Sheet2rng!$A$1:$AK$1,0)))),\"\")","v":""},{"$nulls":20},"10A/Sp1",null,null,"","IFERROR(INDEX(Sheet2rng,MATCH(BA12,sheet2rows,0), MATCH($BB$11,sheet2columns,0)),\"\")",{"$f":"IFERROR(INDEX(indexdatabase,MATCH(BQ52&$AZ$14,name&Group2,0),MATCH(\"PPI\",Sheet2rng!$A$1:$AK$1,0)),\"\")","v":""},{"$f":"IFERROR(SMALL(IF(LEFT(Group2,LEN(Class6!$BA$10))=Class6!$BA$10,ROW(Group2)),ROW(A41)),\"\")","v":""},{"$nulls":62},"","",{"$nulls":6},"","",{"$nulls":6},"","",{"$nulls":6},"","",{"$nulls":6},"","",{"$nulls":6},"",""]
[{"$nulls":12},{"$f":"Sheet2rng!$C$1","v":"Target"},null,{"$f":"Sheet2rng!$E$1","v":"AR"},null,{"$f":"Sheet2rng!$C$1","v":"Target"},null,{"$f":"Sheet2rng!$E$1","v":"AR"},{"$nulls":6},{"$f":"Sheet2rng!$C$1","v":"Target"},null,{"$f":"Sheet2rng!$E$1","v":"AR"},null,{"$f":"Sheet2rng!$C$1","v":"Target"},null,{"$f":"Sheet2rng!$E$1","v":"AR"},{"$nulls":6},{"$f":"Sheet2rng!$C$1","v":"Target"},null,{"$f":"Sheet2rng!$E$1","v":"AR"},null,{"$f":"Sheet2rng!$C$1","v":"Target"},null,{"$f":"Sheet2rng!$E$1","v":"AR"},{"$nulls":20},"10B/Ab1",null,null,"","IFERROR(INDEX(Sheet2rng,MATCH(BA12,sheet2rows,0), MATCH($BB$11,sheet2columns,0)),\"\")",{"$f":"IFERROR(INDEX(indexdatabase,MATCH(BQ53&$AZ$14,name&Group2,0),MATCH(\"PPI\",Sheet2rng!$A$1:$AK$1,0)),\"\")","v":""},{"$f":"IFERROR(SMALL(IF(LEFT(Group2,LEN(Class6!$BA$10))=Class6!$BA$10,ROW(Group2)),ROW(A42)),\"\")","v":""},{"$nulls":62},"","",{"$nulls":6},"","",{"$nulls":6},"","",{"$nulls":6},"","",{"$nulls":6},"","",{"$nulls":6},"",""]
[{"$nulls":12},{"$f":"IFERROR(IF($Y$4=6,\"\",IF($Y$4=7,INDEX(indexdatabase,MATCH(M48&$AZ$14,name&Group2,0),MATCH($N$6,Sheet2rng!$A$1:$AK$1,0)))),\"\")","v":""},null,{"$f":"IFERROR(IF($Y$5=8,\"\",IF($Y$5=9,INDEX(Sheet2rng,MATCH(M48&$AZ$14,name&Group2,0),MATCH($P$6,sheet2columns,0)))),\"\")","v":""},null,{"$f":"IFERROR(IF($Y$4=6,\"\",IF($Y$4=7,INDEX(indexdatabase,MATCH(Q48&$AZ$14,name&Group2,0),MATCH($N$6,Sheet2rng!$A$1:$AK$1,0)))),\"\")","v":""},null,{"$f":"IFERROR(IF($Y$5=8,\"\",IF($Y$5=9,INDEX(Sheet2rng,MATCH(Q48&$AZ$14,name&Group2,0),MATCH($P$6,sheet2columns,0)))),\"\")","v":""},{"$nulls":6},{"$f":"IFERROR(IF($Y$4=6,\"\",IF($Y$4=7,INDEX(indexdatabase,MATCH(Z48&$AZ$14,name&Group2,0),MATCH($N$6,Sheet2rng!$A$1:$AK$1,0)))),\"\")","v":""},null,{"$f":"IFERROR(IF($Y$5=8,\"\",IF($Y$5=9,INDEX(Sheet2rng,MATCH(Z48&$AZ$14,name&Group2,0),MATCH($P$6,sheet2columns,0)))),\"\")","v":""},null,{"$f":"IFERROR(IF($Y$4=6,\"\",IF($Y$4=7,INDEX(indexdatabase,MATCH(AD48&$AZ$14,name&Group2,0),MATCH($N$6,Sheet2rng!$A$1:$AK$1,0)))),\"\")","v":""},null,{"$f":"IFERROR(IF($Y$5=8,\"\",IF($Y$5=9,INDEX(Sheet2rng,MATCH(AD48&$AZ$14,name&Group2,0),MATCH($P$6,sheet2columns,0)))),\"\")","v":""},{"$nulls":6},{"$f":"IFERROR(IF($Y$4=6,\"\",IF($Y$4=7,INDEX(indexdatabase,MATCH(AM48&$AZ$14,name&Group2,0),MATCH($N$6,Sheet2rng!$A$1:$AK$1,0)))),\"\")","v":""},null,{"$f":"IFERROR(IF($Y$5=8,\"\",IF($Y$5=9,INDEX(Sheet2rng,MATCH(AM48&$AZ$14,name&Group2,0),MATCH($P$6,sheet2columns,0)))),\"\")","v":""},null,{"$f":"IFERROR(IF($Y$4=6,\"\",IF($Y$4=7,INDEX(indexdatabase,MATCH(AQ48&$AZ$14,name&Group2,0),MATCH($N$6,Sheet2rng!$A$1:$AK$1,0)))),\"\")","v":""},null,{"$f":"IFERROR(IF($Y$5=8,\"\",IF($Y$5=9,INDEX(Sheet2rng,MATCH(AQ48&$AZ$14,name&Group2,0),MATCH($P$6,sheet2columns,0)))),\"\")","v":""},{"$nulls":20},"10B/Ad1",null,null,"","IFERROR(INDEX(Sheet2rng,MATCH(BA12,sheet2rows,0), MATCH($BB$11,sheet2columns,0)),\"\")",{"$f":"IFERROR(INDEX(indexdatabase,MATCH(BQ54&$AZ$14,name&Group2,0),MATCH(\"PPI\",Sheet2rng!$A$1:$AK$1,0)),\"\")","v":""},{"$f":"IFERROR(SMALL(IF(LEFT(Group2,LEN(Class6!$BA$10))=Class6!$BA$10,ROW(Group2)),ROW(A43)),\"\")","v":""},{"$nulls":62},"","",{"$nulls":6},"","",{"$nulls":6},"","",{"$nulls":6},"","",{"$nulls":6},"","",{"$nulls":6},"",""]
[{"$nulls":65},"10B/Bu1",null,null,"","IFERROR(INDEX(Sheet2rng,MATCH(BA12,sheet2rows,0), MATCH($BB$11,sheet2columns,0)),\"\")",{"$f":"IFERROR(INDEX(indexdatabase,MATCH(BQ55&$AZ$14,name&Group2,0),MATCH(\"PPI\",Sheet2rng!$A$1:$AK$1,0)),\"\")","v":""},{"$f":"IFERROR(SMALL(IF(LEFT(Group2,LEN(Class6!$BA$10))=Class6!$BA$10,ROW(Group2)),ROW(A44)),\"\")","v":""}]
[{"$nulls":65},"10B/Cs1",null,null,"","IFERROR(INDEX(Sheet2rng,MATCH(BA12,sheet2rows,0), MATCH($BB$11,sheet2columns,0)),\"\")",{"$f":"IFERROR(INDEX(indexdatabase,MATCH(BQ56&$AZ$14,name&Group2,0),MATCH(\"PPI\",Sheet2rng!$A$1:$AK$1,0)),\"\")","v":""},{"$f":"IFERROR(SMALL(IF(LEFT(Group2,LEN(Class6!$BA$10))=Class6!$BA$10,ROW(Group2)),ROW(A45)),\"\")","v":""}]
[{"$nulls":43},"Teacher's table",{"$nulls":21},"10B/Gg1",null,null,"","IFERROR(INDEX(Sheet2rng,MATCH(BA12,sheet2rows,0), MATCH($BB$11,sheet2columns,0)),\"\")",{"$f":"IFERROR(INDEX(indexdatabase,MATCH(BQ57&$AZ$14,name&Group2,0),MATCH(\"PPI\",Sheet2rng!$A$1:$AK$1,0)),\"\")","v":""},{"$f":"IFERROR(SMALL(IF(LEFT(Group2,LEN(Class6!$BA$10))=Class6!$BA$10,ROW(Group2)),ROW(A46)),\"\")","v":""}]
[{"$nulls":65},"10B/Hi1",null,null,"","IFERROR(INDEX(Sheet2rng,MATCH(BA12,sheet2rows,0), MATCH($BB$11,sheet2columns,0)),\"\")",{"$f":"IFERROR(INDEX(indexdatabase,MATCH(BQ58&$AZ$14,name&Group2,0),MATCH(\"PPI\",Sheet2rng!$A$1:$AK$1,0)),\"\")","v":""},{"$f":"IFERROR(SMALL(IF(LEFT(Group2,LEN(Class6!$BA$10))=Class6!$BA$10,ROW(Group2)),ROW(A47)),\"\")","v":""}]
[{"$nulls":65},"10B/Hi2",null,null,"","IFERROR(INDEX(Sheet2rng,MATCH(BA12,sheet2rows,0), MATCH($BB$11,sheet2columns,0)),\"\")",{"$f":"IFERROR(INDEX(indexdatabase,MATCH(BQ59&$AZ$14,name&Group2,0),MATCH(\"PPI\",Sheet2rng!$A$1:$AK$1,0)),\"\")","v":""},{"$f":"IFERROR(SMALL(IF(LEFT(Group2,LEN(Class6!$BA$10))=Class6!$BA$10,ROW(Group2)),ROW(A48)),\"\")","v":""}]
[{"$nulls":65},"10B/It1",null,null,"","IFERROR(INDEX(Sheet2rng,MATCH(BA12,sheet2rows,0), MATCH($BB$11,sheet2columns,0)),\"\")",{"$f":"IFERROR(INDEX(indexdatabase,MATCH(BQ60&$AZ$14,name&Group2,0),MATCH(\"PPI\",Sheet2rng!$A$1:$AK$1,0)),\"\")","v":""},{"$f":"IFERROR(SMALL(IF(LEFT(Group2,LEN(Class6!$BA$10))=Class6!$BA$10,ROW(Group2)),ROW(A49)),\"\")","v":""}]
[{"$nulls":65},"10b/Pe1",null,null,"","IFERROR(INDEX(Sheet2rng,MATCH(BA12,sheet2rows,0), MATCH($BB$11,sheet2columns,0)),\"\")",{"$f":"IFERROR(INDEX(indexdatabase,MATCH(BQ61&$AZ$14,name&Group2,0),MATCH(\"PPI\",Sheet2rng!$A$1:$AK$1,0)),\"\")","v":""},{"$f":"IFERROR(SMALL(IF(LEFT(Group2,LEN(Class6!$BA$10))=Class6!$BA$10,ROW(Group2)),ROW(A50)),\"\")","v":""}]
[{"$nulls":65},"10b/Pe2"]
[{"$nulls":65},"10b/Pe3"]
[{"$nulls":65},"10b/Pe4",{"$nulls":67},{"$f":"IF(EE64=1,1,IF(EE64=2,2,IF(EE64=EE63,ED63,IF(EE64>EE63,ED63+1))))","v":1},1,"ABU Aisha",{"$f":"ED64","v":1},{"$nulls":4},{"$f":"IF(EM64=1,1,IF(EM64=2,2,IF(EM64=EM63,EL63,IF(EM64>EM63,EL63+1))))","v":1},1,"GIBSON James",{"$f":"EL64","v":1},{"$nulls":4},{"$f":"IF(EU64=1,1,IF(EU64=2,2,IF(EU64=EU63,ET63,IF(EU64>EU63,ET63+1))))","v":0},"","ABU Aisha",{"$f":"ET64","v":0},{"$nulls":4},{"$f":"IF(FC64=1,1,IF(FC64=2,2,IF(FC64=FC63,FB63,IF(FC64>FC63,FB63+1))))","v":0},"","ABU Aisha",{"$f":"FB64","v":0},{"$nulls":4},{"$f":"IF(FK64=1,1,IF(FK64=2,2,IF(FK64=FK63,FJ63,IF(FK64>FK63,FJ63+1))))","v":0},"","ABU Aisha",{"$f":"FJ64","v":0},{"$nulls":4},{"$f":"IF(FS64=1,1,IF(FS64=2,2,IF(FS64=FS63,FR63,IF(FS64>FS63,FR63+1))))","v":0},"","ABU Aisha",{"$f":"FR64","v":0}]
[{"$nulls":65},"10B/Pt1"]
[{"$nulls":65},"10B/Pt2"]
[{"$nulls":65},"10B/Ts1"]
[{"$nulls":65},"10bc/En1"]
[{"$nulls":65},"10bc/En2"]
[{"$nulls":65},"10bc/En3"]
[{"$nulls":65},"10bc/En4"]
[{"$nulls":65},"10bc/En5"]
[{"$nulls":65},"10bc/En6"]
[{"$nulls":65},"10bc/En7"]
[{"$nulls":65},"10bc/Ep1"]
[{"$nulls":65},"10bc/Ep2"]
[{"$nulls":65},"10bc/Ep3"]
[{"$nulls":65},"10bc/Ep4"]
[{"$nulls":65},"10bc/Ep5"]
[{"$nulls":65},"10bc/Ep6"]
[{"$nulls":65},"10bc/Ep7"]
[{"$nulls":65},"10bc/Sc1"]
[{"$nulls":65},"10bc/Sc2"]
[{"$nulls":65},"10bc/Sc3"]
[{"$nulls":65},"10bc/Sc4"]
[{"$nulls":65},"10bc/Sc5"]
[{"$nulls":65},"10bc/Sc6"]
[{"$nulls":65},"10bc/Sc7"]
[{"$nulls":65},"10bd/Ma1"]
[{"$nulls":65},"10bd/Ma2"]
[{"$nulls":65},"10bd/Ma3"]
[{"$nulls":65},"10bd/Ma4"]
[{"$nulls":65},"10bd/Ma5"]
[{"$nulls":65},"10bd/Ma6"]
[{"$nulls":65},"10bd/Ma7"]
[{"$nulls":65},"10bd/Ma8"]
[{"$nulls":65},"10C/Be1"]
[{"$nulls":65},"10C/Dr1"]
[{"$nulls":65},"10C/Fr1"]
[{"$nulls":65},"10C/Gg1"]
[{"$nulls":65},"10C/Hi1"]
[{"$nulls":65},"10C/It1"]
[{"$nulls":65},"10C/Pg1"]
[{"$nulls":65},"10C/Rm1"]
[{"$nulls":65},"10C/So1"]
[{"$nulls":65},"10C/Ts1"]
[{"$nulls":65},"10cd/Pe1"]
[{"$nulls":65},"10cd/Pe2"]
[{"$nulls":65},"10cd/Pe3"]
[{"$nulls":65},"10cd/Pe4"]
[{"$nulls":65},"10cd/Pe5"]
[{"$nulls":65},"10D/Be1"]
[{"$nulls":65},"10d/En1"]
[{"$nulls":65},"10D/Gg1"]
[{"$nulls":65},"10D/It1"]
[{"$nulls":65},"10d/Sc1"]
[{"$nulls":65},"10D/So1"]
[{"$nulls":65},"10d/Vo1"]
[{"$nulls":65},"10E/Fc1"]
[{"$nulls":65},"10E/Pb1"]
[{"$nulls":65},"10E/Pb2"]
[{"$nulls":65},"10E/Pt1"]
[{"$nulls":65},"10E/Pt2"]
[{"$nulls":65},"10F/Ab1"]
[{"$nulls":65},"10F/It1"]
[{"$nulls":65},"10F/Rm1"]
[{"$nulls":65},"10F/Tt1"]
[{"$nulls":65},"11A/Cs1"]
[{"$nulls":65},"11A/Dr1"]
[{"$nulls":65},"11A/Ec1"]
[{"$nulls":65},"11a/En1"]
[{"$nulls":65},"11a/En2"]
[{"$nulls":65},"11a/En3"]
[{"$nulls":65},"11a/En4"]
[{"$nulls":65},"11a/En5"]
[{"$nulls":65},"11a/Ep1"]
[{"$nulls":65},"11a/Ep2"]
[{"$nulls":65},"11a/Ep3"]
[{"$nulls":65},"11a/Ep4"]
[{"$nulls":65},"11a/Ep5"]
[{"$nulls":65},"11A/Fr1"]
[{"$nulls":65},"11A/Gg1"]
[{"$nulls":65},"11A/Hi1"]
[{"$nulls":65},"11A/Hi2"]
[{"$nulls":65},"11a/Ma1"]
[{"$nulls":65},"11a/Ma2"]
[{"$nulls":65},"11a/Ma3"]
[{"$nulls":65},"11a/Ma4"]
[{"$nulls":65},"11a/Ma5"]
[{"$nulls":65},"11a/Pe1"]
[{"$nulls":65},"11a/Pe2"]
[{"$nulls":65},"11a/Pe3"]
[{"$nulls":65},"11a/Pe4"]
[{"$nulls":65},"11a/Pe5"]
[{"$nulls":65},"11a/Pe6"]
[{"$nulls":65},"11A/Pg1"]
[{"$nulls":65},"11A/Pg2"]
[{"$nulls":65},"11A/Pt1"]
[{"$nulls":65},"11A/Pt2"]
[{"$nulls":65},"11A/Rm1"]
[{"$nulls":65},"11a/Sc1"]
[{"$nulls":65},"11a/Sc2"]
[{"$nulls":65},"11a/Sc3"]
[{"$nulls":65},"11a/Sc4"]
[{"$nulls":65},"11a/Sc5"]
[{"$nulls":65},"11A/So1"]
[{"$nulls":65},"11B/Ar1"]
[{"$nulls":65},"11B/Bb1"]
[{"$nulls":65},"11B/Bu1"]
[{"$nulls":65},"11B/Cs1"]
[{"$nulls":65},"11B/Dr1"]
[{"$nulls":65},"11B/Gg1"]
[{"$nulls":65},"11B/Hg1"]
[{"$nulls":65},"11B/Hi1"]
[{"$nulls":65},"11b/Pe1"]
[{"$nulls":65},"11b/Pe2"]
[{"$nulls":65},"11b/Pe3"]
[{"$nulls":65},"11b/Pe4"]
[{"$nulls":65},"11B/Pg1"]
[{"$nulls":65},"11B/Pg2"]
[{"$nulls":65},"11B/So1"]
[{"$nulls":65},"11B/Sp1"]
[{"$nulls":65},"11bc/En1"]
[{"$nulls":65},"11bc/En2"]
[{"$nulls":65},"11bc/En3"]
[{"$nulls":65},"11bc/En4"]
[{"$nulls":65},"11bc/En5"]
[{"$nulls":65},"11bc/En6"]
[{"$nulls":65},"11bc/En7"]
[{"$nulls":65},"11bc/Ep1"]
[{"$nulls":65},"11bc/Ep2"]
[{"$nulls":65},"11bc/Ep3"]
[{"$nulls":65},"11bc/Ep4"]
[{"$nulls":65},"11bc/Ep5"]
[{"$nulls":65},"11bc/Ep6"]
[{"$nulls":65},"11bc/Ep7"]
[{"$nulls":65},"11bc/Sc1"]
[{"$nulls":65},"11bc/Sc2"]
[{"$nulls":65},"11bc/Sc3"]
[{"$nulls":65},"11bc/Sc4"]
[{"$nulls":65},"11bc/Sc5"]
[{"$nulls":65},"11bc/Sc6"]
[{"$nulls":65},"11bc/Sc7"]
[{"$nulls":65},"11bd/Ma1"]
[{"$nulls":65},"11bd/Ma2"]
[{"$nulls":65},"11bd/Ma3"]
[{"$nulls":65},"11bd/Ma4"]
[{"$nulls":65},"11bd/Ma5"]
[{"$nulls":65},"11bd/Ma6"]
[{"$nulls":65},"11bd/Ma7"]
[{"$nulls":65},"11bd/Ma8"]
[{"$nulls":65},"11C/Ab1"]
[{"$nulls":65},"11C/Bb1"]
[{"$nulls":65},"11C/Bu1"]
[{"$nulls":65},"11C/Cs1"]
[{"$nulls":65},"11C/Fr1"]
[{"$nulls":65},"11C/Gg1"]
[{"$nulls":65},"11C/Hi1"]
[{"$nulls":65},"11C/Ib1"]
[{"$nulls":65},"11C/It1"]
[{"$nulls":65},"11C/Mu1"]
[{"$nulls":65},"11C/So1"]
[{"$nulls":65},"11cd/Pe1"]
[{"$nulls":65},"11cd/Pe2"]
[{"$nulls":65},"11cd/Pe3"]
[{"$nulls":65},"11cd/Pe4"]
[{"$nulls":65},"11D/Ab1"]
[{"$nulls":65},"11D/Bb1"]
[{"$nulls":65},"11D/Dr1"]
[{"$nulls":65},"11d/En1"]
[{"$nulls":65},"11D/Fc1"]
[{"$nulls":65},"11d/Sc1"]
[{"$nulls":65},"11d/Vo1"]
[{"$nulls":65},"11E/Hi1"]
[{"$nulls":65},"11E/Ib1"]
[{"$nulls":65},"11E/Rm1"]
[{"$nulls":65},"11E/So1"]
[{"$nulls":65},"11F/Bb1"]
[{"$nulls":65},"11F/Fc1"]
[{"$nulls":65},"11F/Ib1"]
[{"$nulls":65},"11F/Pb1"]
[{"$nulls":65},"12A/Ac1"]
[{"$nulls":65},"12A/Ar1"]
[{"$nulls":65},"12A/En1"]
[{"$nulls":65},"12A/Fr1"]
[{"$nulls":65},"12A/Ma1"]
[{"$nulls":65},"12A/Pb1"]
[{"$nulls":65},"12A/Pv1"]
[{"$nulls":65},"12A/Py1"]
[{"$nulls":65},"12A/Sm1"]
[{"$nulls":65},"12A/So1"]
[{"$nulls":65},"12A/Ws1"]
[{"$nulls":65},"12B/Ch1"]
[{"$nulls":65},"12B/Ec1"]
[{"$nulls":65},"12B/It1"]
[{"$nulls":65},"12B/Ms1"]
[{"$nulls":65},"12B/Pb1"]
[{"$nulls":65},"12B/Pb2"]
[{"$nulls":65},"12B/Pi1"]
[{"$nulls":65},"12B/Pv1"]
[{"$nulls":65},"12B/Sm1"]
[{"$nulls":65},"12B/Tt1"]
[{"$nulls":65},"12C/Bb1"]
[{"$nulls":65},"12C/Bi1"]
[{"$nulls":65},"12C/Bu1"]
[{"$nulls":65},"12C/En1"]
[{"$nulls":65},"12C/Hi1"]
[{"$nulls":65},"12C/Pb1"]
[{"$nulls":65},"12C/Pf1"]
[{"$nulls":65},"12C/Pt1"]
[{"$nulls":65},"12C/Pv1"]
[{"$nulls":65},"12D/En1"]
[{"$nulls":65},"12D/It1"]
[{"$nulls":65},"12D/La1"]
[{"$nulls":65},"12D/Ma1"]
[{"$nulls":65},"12D/Pb1"]
[{"$nulls":65},"12D/Pb2"]
[{"$nulls":65},"12D/Pf1"]
[{"$nulls":65},"12D/Pv1"]
[{"$nulls":65},"12D1/Bb1"]
[{"$nulls":65},"12D1/Ma1"]
[{"$nulls":65},"12E/En1"]
[{"$nulls":65},"12E/En2"]
[{"$nulls":65},"12E/Fm1"]
[{"$nulls":65},"12E/Ma1"]
[{"$nulls":65},"12E/Ma2"]
[{"$nulls":65},"12E/Pe1"]
[{"$nulls":65},"12E/Pv1"]
[{"$nulls":65},"12f/En1"]
[{"$nulls":65},"12f/Fb1"]
[{"$nulls":65},"12f/Ma1"]
[{"$nulls":65},"12f/Pb1"]
[{"$nulls":65},"13A/Bb1"]
[{"$nulls":65},"13A/Bu1"]
[{"$nulls":65},"13A/Fs1"]
[{"$nulls":65},"13A/Hi1"]
[{"$nulls":65},"13A/Ma1"]
[{"$nulls":65},"13A/Pe1"]
[{"$nulls":65},"13A/Pf1"]
[{"$nulls":65},"13A/Pv1"]
[{"$nulls":65},"13B/Ac1"]
[{"$nulls":65},"13B/Ar1"]
[{"$nulls":65},"13B/La1"]
[{"$nulls":65},"13B/Pb1"]
[{"$nulls":65},"13B/Pf1"]
[{"$nulls":65},"13B/Pv1"]
[{"$nulls":65},"13B/So1"]
[{"$nulls":65},"13C/En1"]
[{"$nulls":65},"13C/It1"]
[{"$nulls":65},"13C/Pb1"]
[{"$nulls":65},"13C/Pe1"]
[{"$nulls":65},"13C/Pv1"]
[{"$nulls":65},"13C/Tt1"]
[{"$nulls":65},"13D/At1"]
[{"$nulls":65},"13D/Ms1"]
[{"$nulls":65},"13D/Pv1"]
[{"$nulls":65},"13D/Py1"]
[{"$nulls":65},"13E/Bi1"]
[{"$nulls":65},"13E/Ec1"]
[{"$nulls":65},"13E/En1"]
[{"$nulls":65},"13E/Ho1"]
[{"$nulls":65},"13E/Mu1"]
[{"$nulls":65},"13E/Or1"]
[{"$nulls":65},"13E/Pb1"]
[{"$nulls":65},"13E/Pv1"]
[{"$nulls":65},"7a/Ar1"]
[{"$nulls":65},"7a/Ar2"]
[{"$nulls":65},"7a/Ar3"]
[{"$nulls":65},"7a/Dr1"]
[{"$nulls":65},"7a/Dr2"]
[{"$nulls":65},"7a/Dr3"]
[{"$nulls":65},"7a/Dt1"]
[{"$nulls":65},"7a/Dt2"]
[{"$nulls":65},"7a/Dt3"]
[{"$nulls":65},"7a/Dt4"]
[{"$nulls":65},"7a/En1"]
[{"$nulls":65},"7a/En2"]
[{"$nulls":65},"7a/En3"]
[{"$nulls":65},"7a/Ep1"]
[{"$nulls":65},"7a/Ep2"]
[{"$nulls":65},"7a/Ep3"]
[{"$nulls":65},"7a/Fr1"]
[{"$nulls":65},"7a/Fr2"]
[{"$nulls":65},"7a/Gg1"]
[{"$nulls":65},"7a/Gg2"]

{"sheet":"Conversions","index":12,"n_rows":180,"n_cols":29,"rows_kept":180,"hidden":true}
["a1","a*",null,null,"5 yrs 1 mths","5Y 1M",1,"Any other mixed background","AOM",null,"Moderate Learning Difficulty","MLD",null,"Wc",1]
["a2","a",null,null,"5 yrs 2 mths","5Y 2M",2,"White - British","WBRI",null,"Speech, Language or Communication Need","SLCN",null,"1c+",2,{"$nulls":4},"Start","End",null,"Start Date","end Date","Date in the middle of start and end"]
["a3","a",null,null,"5 yrs 3 mths","5Y 3M",3,"Black - African","BAFR",null,"Specific Learning Difficulty","SLD",null,"Wc",3,{"$nulls":3},"Aut 1",41155,41217,null,1,1,1,{"$nulls":3},"Autumn"]
["b1","b+",null,null,"5 yrs 4 mths","5Y 4M",4,"Any other Black background","AOB",null,"Other Difficulty/Disability","ODD",null,"1b-",4,{"$nulls":3},"Aut 2",41218,41280,null,2,2,2,{"$nulls":3},"2012,9,3 2012,11,4"]
["b2","b",null,null,"5 yrs 5 mths","5Y 5M",5,"Any other White background","AOW",null,"Autistic Spectrum Disorder","ASD",null,"Wb",5,{"$nulls":3},"Spr 1",41281,41329,null,3,3,3,{"$nulls":3},"midterm"]
["b3","b-",null,null,"5 yrs 6 mths","5Y 6M",6,"Pakistani","PANI",null,"Behaviour, Emotional and Social Difficulty","BESD",null,"1b",6,{"$nulls":3},"Spr 2",41330,41378,null,4,4,4,{"$nulls":3},"2012,11,5 2013,1,6"]
["c1","c+",null,null,"5 yrs 7 mths","5Y 7M",7,"White and Black African","WABA",null,"Hearing Impairment","HIMP",null,"Wb",7,{"$nulls":3},"Sum 1",41379,41427,null,5,5,5]
["c2","c",null,null,"5 yrs 8 mths","5Y 8M",8,"White and Asian","WAAS",null,"Physical Disability","PHDI",null,"1b+",8,{"$nulls":3},"Sum 2",41428,41518,null,6,6,6,{"$nulls":3},"Spring"]
["c3","c-",null,null,"5 yrs 9 mths","5Y 9M",9,"Black Caribbean","BCRI",null,"Multi-Sensory Impairment","MSIM",null,"Wb",9,{"$nulls":13},"2013,1,7 2013,2,24"]
["d1","d+",null,null,"5 yrs 10 mths","5Y 10M",10,"Gypsy/Roma","GYRO",null,"Visual Impairment","VIMP",null,"1a-",10,{"$nulls":13},"midterm"]
["d2","d",null,null,"5 yrs 11 mths","5Y 11M",11,"White and Black Caribbean","WABC",{"$nulls":4},"Wa",11,{"$nulls":13},"2013,2,25 2013,4,14"]
["d3","d-",null,null,"6 yrs","6Y",12,"Any other ethnic group","AOEG",{"$nulls":4},"1a",12,{"$nulls":13},"Summer"]
["e1","e+",null,null,"6 yrs 1 mths","6Y 1M",13,"Chinese","CHIN",null,"A*",22,null,"Wa",13,{"$nulls":13},"2013,4,15 2013,6,2"]
["e2","e",null,null,"6 yrs 2 mths","6Y 2M",14,"Indian","INDI",null,"a+",22,null,"1a+",14,{"$nulls":13},"midterm"]
["e3","e-",null,null,"6 yrs 3 mths","6Y 3M",15,"Any other Asian background","AOAB",null,"a",21,null,"Wa",15,{"$nulls":13},"2013,6,3 2013,9,1"]
["f1","f+",null,null,"6 yrs 4 mths","6Y 4M",16,"Bangladeshi","BANG",null,"a-",20,null,"2c-",16]
["f2","f",null,null,"6 yrs 5 mths","6Y 5M",17,"White - Irish","WHIR",null,"b+",19,null,"U",17]
["f3","f-",null,null,"6 yrs 6 mths","6Y 6M",18,"Refused","REFU",null,"b",18,null,"2c",18]
["g1","g+",null,null,"6 yrs 7 mths","6Y 7M",19,"Information Not Yet Obtained","INYO",null,"b-",17,null,"U",19]
["g2","g",null,null,"6 yrs 8 mths","6Y 8M",20,{"$nulls":3},"c+",16,null,"2c+",20,{"$nulls":3},41161,1,"Aut 1"]
["g3","g-",null,null,"6 yrs 9 mths","6Y 9M",21,{"$nulls":3},"c",15,null,"U",21]
[{"$nulls":4},"6 yrs 10 mths","6Y 10M",22,{"$nulls":3},"c-",14,null,"2b-",22]
["a*",22,"A*",null,"6 yrs 11 mths","6Y 11M",23,{"$nulls":3},"d+",13,null,"U",23]
["a",21,"A",null,"7 yrs","7Y",24,{"$nulls":3},"d",12,null,"2b",24]
["a-",20,"A-",null,"7 yrs 1 mths","7Y 1M",25,{"$nulls":3},"d-",11,null,"U",25]
["b+",19,"B+",null,"7 yrs 2 mths","7Y 2M",26,{"$nulls":3},"e+",10,null,"2b+",26]
["b",18,"B",null,"7 yrs 3 mths","7Y 3M",27,{"$nulls":3},"e",9,null,"G",27]
["b-",17,"B-",null,"7 yrs 4 mths","7Y 4M",28,{"$nulls":3},"e-",8,null,"2a-",28]
["c+",16,"C+",null,"7 yrs 5 mths","7Y 5M",29,{"$nulls":3},"f+",7,null,"G",29]
["c",15,"C",null,"7 yrs 6 mths","7Y 6M",30,{"$nulls":3},"f",6,null,"2a",30]
["c-",14,"C-",null,"7 yrs 7 mths","7Y 7M",31,{"$nulls":3},"f-",5,null,"G",31]
["d+",13,"D+",null,"7 yrs 8 mths","7Y 8M",32,{"$nulls":3},"g+",4,null,"2a+",32]
["d",12,"D",null,"7 yrs 9 mths","7Y 9M",33,{"$nulls":3},"g",3,null,"G",33]
["d-",11,"D-",null,"7 yrs 10 mths","7Y 10M",34,{"$nulls":3},"g-",2,null,"3c-",34]
["e+",10,"E+",null,"7 yrs 11 mths","7Y 11M",35,null,"7A",22,"u",1,null,"F-",35]
["e",9,"E",null,"8 yrs","8Y",36,null,"7B",21,"7A",19,null,"3c",36]
["e-",8,"E-",null,"8 yrs 1 mths","8Y 1M",37,null,"7C",20,"7B",18,null,"F-",37]
["f+",7,"F+",null,"8 yrs 2 mths","8Y 2M",38,null,"6A",19,"7C",17,null,"3c+",38]
["f",6,"F",null,"8 yrs 3 mths","8Y 3M",39,null,"6B",18,"6A",16,null,"F-",39]
["f-",5,"F-",null,"8 yrs 4 mths","8Y 4M",40,null,"6C",17,"6B",15,null,"3b-",40]
["g+",4,"G+",null,"8 yrs 5 mths","8Y 5M",41,null,"5A",16,"6C",14,null,"F",41]
["g",3,"G",null,"8 yrs 6 mths","8Y 6M",42,null,"5B",15,"5A",13,null,"3b",42]
["g-",2,"G-",null,"8 yrs 7 mths","8Y 7M",43,null,"5C",14,"5B",12,null,"F",43]
[{"$nulls":4},"8 yrs 8 mths","8Y 8M",44,null,"4A",13,"5C",11,null,"3b+",44]
[{"$nulls":4},"8 yrs 9 mths","8Y 9M",45,null,"4B",12,"4A",10,null,"F",45]
[{"$nulls":4},"8 yrs 10 mths","8Y 10M",46,null,"4C",11,"4B",9,null,"3a-",46]
[{"$nulls":4},"8 yrs 11 mths","8Y 11M",47,null,"3A",10,"4C",8,null,"F+",47]
[{"$nulls":4},"9 yrs","9Y",48,null,"3B",9,"3A",7,null,"3a",48]
[{"$nulls":4},"9 yrs 1 mths","9Y 1M",49,null,"3C",8,"3B",6,null,"F+",49]
[{"$nulls":4},"9 yrs 2 mths","9Y 2M",50,null,"2A",7,"3C",5,null,"3a+",50]
[{"$nulls":4},"9 yrs 3 mths","9Y 3M",51,null,"2B",6,"2A",4,null,"F+",51]
[{"$nulls":4},"9 yrs 4 mths","9Y 4M",52,null,"2C",5,"2B",3,null,"4c-",52]
[{"$nulls":4},"9 yrs 5 mths","9Y 5M",53,{"$nulls":3},"2C",2,null,"E-",53]
[{"$nulls":4},"9 yrs 6 mths","9Y 6M",54,{"$nulls":6},"4c",54]
[{"$nulls":4},"9 yrs 7 mths","9Y 7M",55,null,null,22,"a1",22,null,"E-",55]
[{"$nulls":4},"9 yrs 8 mths","9Y 8M",56,null,null,21,"a2",21,null,"4c+",56]
[{"$nulls":4},"9 yrs 9 mths","9Y 9M",57,null,null,20,"a3",20,null,"E-",57]
[{"$nulls":4},"9 yrs 10 mths","9Y 10M",58,null,null,19,"b1",19,null,"4b-",58]
[{"$nulls":4},"9 yrs 11 mths","9Y 11M",59,null,null,18,"b2",18,null,"E",59]
[{"$nulls":4},"10 yrs","10Y",60,null,null,17,"b3",17,null,"4b",60,{"$nulls":4},"Wc",1,null,"Wc",1,"Wc"]
[{"$nulls":4},"10 yrs 1 mths","10Y 1M",61,null,null,16,"c1",16,null,"E",61,{"$nulls":4},"Wb",3,null,"Wb",3,"Wb"]
[{"$nulls":4},"10 yrs 2 mths","10Y 2M",62,null,null,15,"c2",15,null,"4b+",62,{"$nulls":4},"Wa",5,null,"Wa",5,"Wa"]
[{"$nulls":4},"10 yrs 3 mths","10Y 3M",63,null,null,14,"c3",14,null,"E",63,{"$nulls":4},"1c",7,null,"1c",7,"1c"]
[{"$nulls":4},"10 yrs 4 mths","10Y 4M",64,null,null,13,"d1",13,null,"4a-",64,{"$nulls":4},"1b",9,null,"1b",9,"1b"]
[{"$nulls":4},"10 yrs 5 mths","10Y 5M",65,null,null,12,"d2",12,null,"E+",65,{"$nulls":4},"1a",11,null,"1a",11,"1a"]
[{"$nulls":4},"10 yrs 6 mths","10Y 6M",66,null,null,11,"d3",11,null,"4a",66,{"$nulls":4},"2c",13,null,"2c",13,"2c"]
[{"$nulls":4},"10 yrs 7 mths","10Y 7M",67,null,null,10,"e1",10,null,"E+",67,{"$nulls":4},"2b",15,null,"2b",15,"2b"]
[{"$nulls":4},"10 yrs 8 mths","10Y 8M",68,null,null,9,"e2",9,null,"4a+",68,{"$nulls":4},"2a",17,null,"2a",17,"2a"]
[{"$nulls":4},"10 yrs 9 mths","10Y 9M",69,null,null,8,"e3",8,null,"E+",69,{"$nulls":4},"3c",19,null,"3c",19,"3c"]
[{"$nulls":4},"10 yrs 10 mths","10Y 10M",70,null,null,7,"f1",7,null,"5c-",70,{"$nulls":4},"3b",21,null,"3b",21,"3b"]
[{"$nulls":4},"10 yrs 11 mths","10Y 11M",71,null,null,6,"f2",6,null,"D-",71,{"$nulls":4},"3a",23,null,"3a",23,"3a"]
[{"$nulls":4},"11 yrs","11Y",72,null,null,5,"f3",5,null,"5c",72,{"$nulls":4},"4c",25,null,"4c",25,"4c"]
[{"$nulls":4},"11 yrs 1 mths","11Y 1M",73,null,null,4,"g1",4,null,"D-",73,{"$nulls":4},"4b",27,null,"4b",27,"4b"]
[{"$nulls":4},"11 yrs 2 mths","11Y 2M",74,null,null,3,"g2",3,null,"5c+",74,{"$nulls":4},"4a",29,null,"4a",29,"4a"]
[{"$nulls":4},"11 yrs 3 mths","11Y 3M",75,null,null,2,"g3",2,null,"D-",75,null,19,"7A",null,"5c",31,null,"5c",31,"5c"]
[{"$nulls":4},"11 yrs 4 mths","11Y 4M",76,null,null,1,"u",1,null,"5b-",76,null,18,"7B",null,"5b",33,null,"5b",33,"5b"]
[{"$nulls":4},"11 yrs 5 mths","11Y 5M",77,null,null,19,"7A",19,null,"D",77,null,17,"7C",null,"5a",35,null,"5a",35,"5a"]
[{"$nulls":4},"11 yrs 6 mths","11Y 6M",78,null,null,18,"7B",18,null,"5b",78,null,16,"6A",null,"6c",37,null,"6c",37,"6c"]
[{"$nulls":4},"11 yrs 7 mths","11Y 7M",79,null,null,17,"7C",17,null,"D",79,null,15,"6B",null,"6b",39,null,"6b",39,"6b"]
[{"$nulls":4},"11 yrs 8 mths","11Y 8M",80,null,null,16,"6A",16,null,"5b+",80,null,14,"6C",null,"6a",41,null,"6a",41,"6a"]
[{"$nulls":4},"11 yrs 9 mths","11Y 9M",81,null,null,15,"6B",15,null,"D",81,null,13,"5A",null,"7c",43,null,"7c",43,"7c"]
[{"$nulls":4},"11 yrs 10 mths","11Y 10M",82,null,null,14,"6C",14,null,"5a-",82,null,12,"5B",null,"7b",45,null,"7b",45,"7b"]
[{"$nulls":4},"11 yrs 11 mths","11Y 11M",83,null,null,13,"5A",13,null,"D+",83,null,11,"5C",null,"7a",47,null,"7a",47,"7a"]
[{"$nulls":4},"12 yrs","12Y",84,null,null,12,"5B",12,null,"5a",84,null,10,"4A",null,"W",3,null,"W",3,"W"]
[{"$nulls":4},"12 yrs 1 mths","12Y 1M",85,null,null,11,"5C",11,null,"D+",85,null,9,"4B",null,"A+",54,null,"a1",54,"a1"]
[{"$nulls":4},"12 yrs 2 mths","12Y 2M",86,null,null,10,"4A",10,null,"5a+",86,null,8,"4C",null,"A",52,null,"a2",52,"a2"]
[{"$nulls":4},"12 yrs 3 mths","12Y 3M",87,null,null,9,"4B",9,null,"D+",87,null,7,"3A",null,"A-",50,null,"a3",50,"a3"]
[{"$nulls":4},"12 yrs 4 mths","12Y 4M",88,null,null,8,"4C",8,null,"6c-",88,null,6,"3B",null,"B+",48,null,"b1",48,"b1"]
[{"$nulls":4},"12 yrs 5 mths","12Y 5M",89,null,null,7,"3A",7,null,"C-",89,null,5,"3C",null,"B",46,null,"b2",46,"b2"]
[{"$nulls":4},"12 yrs 6 mths","12Y 6M",90,null,null,6,"3B",6,null,"6c",90,null,4,"2A",null,"B-",44,null,"b3",44,"b3"]
[{"$nulls":4},"12 yrs 7 mths","12Y 7M",91,null,null,5,"3C",5,null,"C-",91,null,3,"2B",null,"C+",42,null,"c1",42,"c1"]
[{"$nulls":4},"12 yrs 8 mths","12Y 8M",92,null,null,4,"2A",4,null,"6c+",92,null,2,"2C",null,"C",40,null,"c2",40,"c2"]
[{"$nulls":4},"12 yrs 9 mths","12Y 9M",93,null,null,3,"2B",3,null,"C-",93,{"$nulls":4},"C-",38,null,"c3",38,"c3"]
[{"$nulls":4},"12 yrs 10 mths","12Y 10M",94,null,null,2,"2C",2,null,"6b-",94,{"$nulls":4},"D+",36,null,"d1",36,"d1"]
[{"$nulls":4},"12 yrs 11 mths","12Y 11M",95,{"$nulls":6},"C",95,{"$nulls":4},"D",34,null,"d2",34,"d2"]
[{"$nulls":4},"13 yrs","13Y",96,{"$nulls":6},"6b",96,{"$nulls":4},"D-",32,null,"d3",32,"d3"]
[{"$nulls":4},"13 yrs 1 mths","13Y 1M",97,{"$nulls":6},"C",97,{"$nulls":4},"E+",30,null,"e1",30,"e1"]
[{"$nulls":4},"13 yrs 2 mths","13Y 2M",98,{"$nulls":6},"6b+",98,{"$nulls":4},"E",28,null,"e2",28,"e2"]
[{"$nulls":4},"13 yrs 3 mths","13Y 3M",99,{"$nulls":6},"C",99,{"$nulls":4},"E-",26,null,"e3",26,"e3"]
[{"$nulls":4},"13 yrs 4 mths","13Y 4M",100,{"$nulls":6},"6a-",100,{"$nulls":4},"F+",24,null,"f1",24,"f1"]
[{"$nulls":4},"13 yrs 5 mths","13Y 5M",101,{"$nulls":6},"C+",101,{"$nulls":4},"F",22,null,"f2",22,"f2"]
[{"$nulls":4},"13 yrs 6 mths","13Y 6M",102,{"$nulls":6},"6a",102,{"$nulls":4},"F-",20,null,"f3",20,"f3"]
[{"$nulls":4},"13 yrs 7 mths","13Y 7M",103,{"$nulls":6},"C+",103,{"$nulls":4},"G+",18,null,"g1",18,"g1"]
[{"$nulls":4},"13 yrs 8 mths","13Y 8M",104,{"$nulls":6},"6a+",104,{"$nulls":4},"G",16,null,"g2",16,"g2"]
[{"$nulls":4},"13 yrs 9 mths","13Y 9M",105,{"$nulls":6},"C+",105,{"$nulls":4},"G-",14,null,"g3",14,"g3"]
[{"$nulls":4},"13 yrs 10 mths","13Y 10M",106,{"$nulls":6},"7c-",106,{"$nulls":4},"U",12,null,"U",12,"U"]
[{"$nulls":4},"13 yrs 11 mths","13Y 11M",107,{"$nulls":6},"B-",107]
[{"$nulls":4},"14 yrs","14Y",108,{"$nulls":6},"7c",108]
[{"$nulls":4},"14 yrs 1 mths","14Y 1M",109,{"$nulls":6},"B-",109]
[{"$nulls":4},"14 yrs 2 mths","14Y 2M",110,{"$nulls":6},"7c+",110]
[{"$nulls":4},"14 yrs 3 mths","14Y 3M",111,{"$nulls":6},"B-",111]
[{"$nulls":4},"14 yrs 4 mths","14Y 4M",112,{"$nulls":6},"7b-",112]
[{"$nulls":4},"14 yrs 5 mths","14Y 5M",113,{"$nulls":6},"B",113]
[{"$nulls":4},"14 yrs 6 mths","14Y 6M",114,{"$nulls":6},"7b",114]
[{"$nulls":4},"14 yrs 7 mths","14Y 7M",115,{"$nulls":6},"B",115]
[{"$nulls":4},"14 yrs 8 mths","14Y 8M",116,{"$nulls":6},"7b+",116]
[{"$nulls":4},"14 yrs 9 mths","14Y 9M",117,{"$nulls":6},"B",117]
[{"$nulls":4},"14 yrs 10 mths","14Y 10M",118,{"$nulls":6},"7a-",118]
[{"$nulls":4},"14 yrs 11 mths","14Y 11M",119,{"$nulls":6},"B+",119]
[{"$nulls":4},"15 yrs","15Y",120,{"$nulls":6},"7a",120]
[{"$nulls":4},"15 yrs 1 mths","15Y 1M",121,{"$nulls":6},"B+",121]
[{"$nulls":4},"15 yrs 2 mths","15Y 2M",122,{"$nulls":6},"7a+",122]
[{"$nulls":4},"15 yrs 3 mths","15Y 3M",123,{"$nulls":6},"B+",123]
[{"$nulls":4},"15 yrs 4 mths","15Y 4M",124,{"$nulls":6},"8c-",124]
[{"$nulls":4},"15 yrs 5 mths","15Y 5M",125,{"$nulls":6},"A-",125]
[{"$nulls":4},"15 yrs 6 mths","15Y 6M",126,{"$nulls":6},"8c",126]
[{"$nulls":4},"15 yrs 7 mths","15Y 7M",127,{"$nulls":6},"A-",127]
[{"$nulls":4},"15 yrs 8 mths","15Y 8M",128,{"$nulls":6},"8c+",128]
[{"$nulls":4},"15 yrs 9 mths","15Y 9M",129,{"$nulls":6},"A-",129]
[{"$nulls":4},"15 yrs 10 mths","15Y 10M",130,{"$nulls":6},"8b-",130]
[{"$nulls":4},"15 yrs 11 mths","15Y 11M",131,{"$nulls":6},"A",131]
[{"$nulls":4},"16 yrs","16Y",132,{"$nulls":6},"8b",132]
[{"$nulls":4},"16 yrs 1 mths","16Y 1M",133,{"$nulls":6},"A",133]
[{"$nulls":4},"16 yrs 2 mths","16Y 2M",134,{"$nulls":6},"8b+",134]
[{"$nulls":4},"16 yrs 3 mths","16Y 3M",135,{"$nulls":6},"A",135]
[{"$nulls":4},"16 yrs 4 mths","16Y 4M",136,{"$nulls":6},"8a-",136]
[{"$nulls":4},"16 yrs 5 mths","16Y 5M",137,{"$nulls":6},"A+",137]
[{"$nulls":4},"16 yrs 6 mths","16Y 6M",138,{"$nulls":6},"8a",138]
[{"$nulls":4},"16 yrs 7 mths","16Y 7M",139,{"$nulls":6},"A+",139]
[{"$nulls":4},"16 yrs 8 mths","16Y 8M",140,{"$nulls":6},"8a+",140]
[{"$nulls":4},"16 yrs 9 mths","16Y 9M",141,{"$nulls":6},"A+",141]
[{"$nulls":4},"16 yrs 10 mths","16Y 10M",142]
[{"$nulls":4},"16 yrs 11 mths","16Y 11M",143]
[{"$nulls":4},"17 yrs","17Y",144]
[{"$nulls":4},"17 yrs 1 mths","17Y 1M",145]
[{"$nulls":4},"17 yrs 2 mths","17Y 2M",146]
[{"$nulls":4},"17 yrs 3 mths","17Y 3M",147]
[{"$nulls":4},"17 yrs 4 mths","17Y 4M",148]
[{"$nulls":4},"17 yrs 5 mths","17Y 5M",149]
[{"$nulls":4},"17 yrs 6 mths","17Y 6M",150]
[{"$nulls":4},"17 yrs 7 mths","17Y 7M",151]
[{"$nulls":4},"17 yrs 8 mths","17Y 8M",152]
[{"$nulls":4},"17 yrs 9 mths","17Y 9M",153]
[{"$nulls":4},"17 yrs 10 mths","17Y 10M",154]
[{"$nulls":4},"17 yrs 11 mths","17Y 11M",155]
[{"$nulls":4},"18 yrs","18Y",156]
[{"$nulls":4},"18 yrs 1 mths","18Y 1M",157]
[{"$nulls":4},"18 yrs 2 mths","18Y 2M",158]
[{"$nulls":4},"18 yrs 3 mths","18Y 3M",159]
[{"$nulls":4},"18 yrs 4 mths","18Y 4M",160]
[{"$nulls":4},"18 yrs 5 mths","18Y 5M",161]
[{"$nulls":4},"18 yrs 6 mths","18Y 6M",162]
[{"$nulls":4},"18 yrs 7 mths","18Y 7M",163]
[{"$nulls":4},"18 yrs 8 mths","18Y 8M",164]
[{"$nulls":4},"18 yrs 9 mths","18Y 9M",165]
[{"$nulls":4},"18 yrs 10 mths","18Y 10M",166]
[{"$nulls":4},"18 yrs 11 mths","18Y 11M",167]
[{"$nulls":4},"19 yrs","19Y",168]
[{"$nulls":4},"19 yrs 1 mths","19Y 1M",169]
[{"$nulls":4},"19 yrs 2 mths","19Y 2M",170]
[{"$nulls":4},"19 yrs 3 mths","19Y 3M",171]
[{"$nulls":4},"19 yrs 4 mths","19Y 4M",172]
[{"$nulls":4},"19 yrs 5 mths","19Y 5M",173]
[{"$nulls":4},"19 yrs 6 mths","19Y 6M",174]
[{"$nulls":4},"19 yrs 7 mths","19Y 7M",175]
[{"$nulls":4},"19 yrs 8 mths","19Y 8M",176]
[{"$nulls":4},"19 yrs 9 mths","19Y 9M",177]
[{"$nulls":4},"19 yrs 10 mths","19Y 10M",178]
[{"$nulls":4},"19 yrs 11 mths","19Y 11M",179]
[{"$nulls":4},"20 yrs","20Y",180]

{"sheet":"Sheet2","index":13,"n_rows":0,"n_cols":0,"rows_kept":0,"hidden":true}

{"sheet":"Main","index":14,"n_rows":2,"n_cols":8,"rows_kept":2,"hidden":true}
[]
[{"$nulls":3},"2014-09-06","2014-09-06","2014-09-06",null,{"$f":"Sheet10!D20","v":"SPR 1"}]

{"sheet":"rank data","index":15,"n_rows":0,"n_cols":0,"rows_kept":0,"hidden":true}

{"sheet":"Update","index":16,"n_rows":2016,"n_cols":5,"rows_kept":2016,"hidden":true}
["Blank3","Spr 1","Spr 2","Sum 1","Sum 2"]
["ABU Aisha11B/So1",0]
["ADAMS Josie11A/So1","E+"]
["ADEBIYI Francesca11P/So1","A"]
["AKINTUNDE April-Magic11Q/So1","D"]
["ALFORD Harry11B/So1","B"]
["ALI Annei11Q/So1","C"]
["ALLEN Sinead11A/So1","F+"]
["ALLISON Abbie-Jade11P/So1","E+"]
["AMOSUN Joshua11Q/So1","C-"]
["ANDERSON Jack11B/So2","U"]
["ASH Eleanor11Q/So1","G"]
["ATSE Joanna11B/So2",""]
["ATWAL Kiranpreet11Q/So1","C-"]
["AXON Molly11Q/So1","D-"]
["BAKER Lucy11B/So1","C-"]
["BARNES Ryan11A/So1","D-"]
["BAVERSTOCK Adam11B/So1","F+"]
["BAWOR Eileen11A/So1","G+"]
["BELKACEMI Amelia11P/So1","B"]
["BETTS Stuart11P/So1","C"]
["BISHOP Aaliyah11B/So2","U"]
["BLACK Emma11Q/So1","C-"]
["BLANCHARD La-Keisha11A/So1","C-"]
["BLE Grace11B/So1","D-"]
["BORN Katie11B/So2","E+"]
["BORRETT Thomas11B/So2",""]
["BRESNAHAN Luke11Q/So1","D-"]
["BRITTON-WILLIAMS Jade11B/So2","E-"]
["BURGESS Oliver11Q/So1","F-"]
["CAMPBELL Louise11Q/So1","C+"]
["CHATTEN Zoe11B/So1","C-"]
["CHEEMA Gurvinder11B/So1","E"]
["CHILDE Harry11B/So2","F+"]
["CLARK Alfie11A/So1","C-"]
["CLARK Jordan11P/So1","D-"]
["COLLIER Emily11P/So1","F+"]
["COOPER Nicole11B/So2","G"]
["CRABTREE Alfie11P/So1","F"]
["CREW Jesse11B/So2","F"]
["CROW Sophie11A/So1","D+"]
["DEBENHAM Chloe11P/So1","D-"]
["DONNELLY Kirsten11B/So1","C-"]
["DOWN Keiran11B/So1","G-"]
["DRAPER Samuel11A/So1","D-"]
["DUFFIN Kayleigh-Ann11A/So1","G-"]
["EDWARDS Ben11Q/So1","C"]
["EDWARDS Chloe11P/So1",0]
["ELLIS Myles11Q/So1","D+"]
["ELPHICK Lauren11A/So1","A"]
["EVBUOMWAN Tracy11B/So2","C"]
["GAMMON Nicholas11Q/So1","D-"]
["GATES Emily11P/So1","A"]
["GIBSON James11B/So1","C-"]
["GLOVER Gillian11Q/So1","B-"]
["GOLDING Shannon11Q/So1","C-"]
["HALLINAN Raegan11A/So1","E-"]
["HARRIGAN Rosie11P/So1","D+"]
["HARRIS Christian11B/So1","D-"]
["HARVEY Megan11B/So1","C+"]
["HARWOOD Molly11Q/So1","C"]
["HE David11P/So1","C"]
["HEAD Chloe11P/So1","B-"]
["HEATH Emily-Jayne11B/So1","E"]
["HEMMINGS Benjamin11Q/So1","E-"]
["HESELDEN Bethany11B/So2","B-"]
["HOLLIS Luke11Q/So1","D"]
["HOPKINSON Megan11B/So2","G-"]
["HOWELL Megan11B/So1","A"]
["HOWES Katie11Q/So1","C+"]
["HUGHES Abbey11B/So2","E-"]
["HUMPHREY George11P/So1","C-"]
["HUNT Georgia11P/So1","C+"]
["HUSSEIN Angie11P/So1","F+"]
["ISMAIL Jordan11A/So1","A"]
["JACKSON Hollie11A/So1","F-"]
["JAMESON Amy11B/So1","F+"]
["JEEVES Chloe11A/So1","G-"]
["JENNINGS Chloe11Q/So1","D"]
["KELLEHER Jessica11Q/So1","A"]
["KERWICK Georgie11B/So1","D-"]
["KILLICK Harry11Q/So1","C+"]
["LAING Amy11Q/So1","C-"]
["LAUNDY Megan11A/So1","E+"]
["LEWIS Alfie11P/So1","E-"]
["MASTERS Megan11Q/So1","A"]
["MCCARTHY Nathan11A/So1","C-"]
["MCINTOSH Lucy11A/So1","F+"]
["MILLS Laynie11A/So1","E+"]
["MURPHY Amy11B/So2","E+"]
["MURPHY Shannon11B/So1","D-"]
["MURSELAJ Jasmine11B/So2","E"]
["MUSPRATT Philip11P/So1","D"]
["ODIGIE Erunmwunse11Q/So1","F+"]
["OKORONKWO Imanuella11Q/So1","A*"]
["PAGE Callum11A/So1","F-"]
["PARSONS Maria11P/So1","A"]
["PEEL Sophie11P/So1","A"]
["PIDDINGTON Ellie11B/So1","F"]
["QUILALA Angela11B/So1","D+"]
["REID Molly11Q/So1","D"]
["RIORDAN Robbie11B/So1","X"]
["SAHOTA Callum11B/So1","F"]
["SAN Katie11P/So1","A"]
["SANGAR Sade11B/So2","E+"]
["SANGHA Naveena11P/So1","D+"]
["SAWYER Cicarna-Lee11B/So1","E-"]
["SEHMI Natalie11B/So1","D-"]
["SMALL Morgan11B/So2","F"]
["SMITH Jade11B/So1","F-"]
["SMITH Jordanna11A/So1","D"]
["SMITH Katie11A/So1","D-"]
["SMITH Megan11P/So1","C+"]
["SMITH Peter11B/So2","E+"]
["STACEY Leah11B/So2","B+"]
["STONE Chloe11P/So1","C+"]
["SWAN Callum11B/So1","G+"]
["SWANDALE George11P/So1","F"]
["SWANNELL Sam11Q/So1","E+"]
["TATTERS Ryan11B/So2","U"]
["THOMPSON Ellie11P/So1","D-"]
["THOMPSON Riley11P/So1","C-"]
["TURNER Liberty11B/So1","D-"]
["UKANDU Jessica11Q/So1","C"]
["VANDEPEER Chloe11A/So1","D+"]
["WADDELL Annie11B/So2","F"]
["WATERS Rebecca11P/So1","D"]
["WATSHAM Samuel11P/So1","D-"]
["WATTON Kayleigh11A/So1","X"]
["WHITE Emily-Jo11B/So2","U"]
["WHITE Ryan11P/So1","E-"]
["WILKINSON Molly-Mae11B/So2","E+"]
["WILLIS Demi11B/So1","F+"]
["WILSON Megan11Q/So1","D-"]
["WOOD Chevonne11B/So2","F-"]
["WOODBRIDGE Ryan11P/So1","D"]
["WRIGHT Caitlin11B/So1","E+"]
["YATES Safara11Q/So1","C+"]
["ADU-POKU Georgia10B/So1",0]
["AGA Regis10B/So1",0]
["ALBON Rhiann10C/So1",0]
["ALDRIDGE Alfie10C/So1",0]
["ALDRIDGE Joseph10D/So1",0]
["ALIAHMED Junead10F/So1",0]
["AUSTIN Benjamin10C/So1",0]
["AYINDE-USMAN Siddiq10D/So1",0]
["BARNES Callum10C/So1",0]
["BATLEY Jade10F/So1",0]
["BATTY Jade10F/So1",0]
["BELCHER Daniel10D/So1",0]
["BELLO Elizabeth10F/So1",0]
["BELLO Grace10D/So1",0]
["BIRD Bethany10C/So1",0]
["BLAKE Nathan10C/So1",0]
["BROOKER MAHAL Millie10C/So1",0]
["BROUGHTON Nicole10B/So1",0]
["BROWN Sadie10D/So1",0]
["BURKE Michaela10F/So1",0]
["BYRNE Leah10F/So1",0]
["CAIELS Siana10F/So1",0]
["CAKEBREAD Oliver10C/So1",0]
["CAMPBELL Archie10D/So1",0]
["CANIK Isabel10B/So1",0]
["CASSIDY Mason10D/So1",0]
["CHANT Matthew10B/So1",0]
["CONFREY Sam10F/So1",""]
["CONNIGALE Shelley10B/So1",0]
["COOMBER Max10B/So1",0]
["CORDREY Harrison10B/So1",0]
["COYNE Eleanor10B/So1",0]
["CROFT Sophie10C/So1",0]
["DAVIES Drew10D/So1",""]
["DIGHTON Charlotte10F/So1",0]
["DOWN Jenna10C/So1",0]
["EHIKIOYA Martha10B/So1",0]
["GALLAGHER Harry10B/So1",0]
["GREEN Taylor10B/So1",0]
["GRIFFIN Oliver10C/So1",0]
["HALL Alicia10F/So1",0]
["HANDLEY Alex10B/So1",0]
["HANKS Kieran10D/So1",0]
["HARRIS Kayleigh10B/So1",0]
["HARRIS Madison10C/So1",0]
["HAYES Paddy10C/So1",0]
["HEARN Rosie10F/So1",0]
["HEBBLEWHITE Daisy10F/So1",0]
["HOARE Cody10B/So1",0]
["HODDER Gemma10B/So1",0]
["HODGSON Callum10C/So1",0]
["HOLLMAN Kim10B/So1",0]
["HONOUR Amy10B/So1",0]
["IVESON Paige10B/So1",0]
["JACKSON Saskia10F/So1",0]
["KAFESCI Ozan10D/So1",0]
["KHAKH Aaron10F/So1",0]
["KINGHAM Abbie10F/So1",0]
["KUDZMINSKAITE Brigita10C/So1",0]
["LATO Victory10C/So1",0]
["LEACH Joshua10C/So1",0]
["LEWIS Nicholas10D/So1",0]
["LOVERIDGE James10F/So1",0]
["MARSH Katie10F/So1",0]
["MARSH Samuel10C/So1",0]
["MATTHEWS Ellena10C/So1",0]
["MCCARTNEY Alexandra10B/So1",0]
["MCDONALD-ALLEN Max10D/So1",0]
["MCGILLICUDDY Haydn10C/So1",0]
["MCGIRR Leah10D/So1",0]
["MCKEY Jordon10C/So1",0]
["MEHMETI Donit10D/So1",0]
["MIDDLETON Morgan10F/So1",0]
["MIDDLETON Sophie10D/So1",0]
["MOON Phoebe10C/So1",0]
["MORGAN Reagan10C/So1",0]
["NASH Amy10B/So1",0]
["NICHOLLS Ellie10C/So1",0]
["NOSIB Moesha10F/So1",0]
["OAKINS Ellie10B/So1",0]
["O'BRIEN Lucy10B/So1",0]
["ONU Ellys Abeth10B/So1",0]
["OOZAGEER Kevin10D/So1",0]
["OSBORNE Teigan10D/So1",0]
["OSMANI Amarildo10B/So1",0]
["PADDINGTON Caitlin10B/So1",0]
["PALMER Stephanie10B/So1",0]
["PENFOLD Louisa10F/So1",0]
["PHILLPOTT Callum10F/So1",0]
["PHIPPS Paris10F/So1",0]
["PINNER Jamie10D/So1",0]
["POLSON Joseph10F/So1",0]
["REED Kelsey10F/So1",0]
["RIDDALL Dylan10F/So1",0]
["ROBERTSON Callum10C/So1",0]
["ROOPRAI Amrit10D/So1",0]
["RUBENGA Leeco10D/So1",0]
["RYAN-BENNETT Katie10C/So1",0]
["SADHRA Arjan10F/So1",0]
["SALIAJ Claudia10F/So1",0]
["SHAH Aselah10C/So1",0]
["SHARMA Denysha10F/So1",0]
["SHEPPARD Ben10B/So1",0]
["SLATER Elle10B/So1",0]
["SMITH Shane10C/So1",0]
["STENING Robyn10B/So1",0]
["STOCKER Luke10B/So1",0]
["SUMAN Sophina10C/So1",0]
["TAYLOR Charlotte10B/So1",0]
["TEKYI Myles10D/So1",0]
["VINCE Talia10F/So1",0]
["WELDON-REYES Anna10F/So1",0]
["WILLIAMS Chelsea10D/So1",0]
["WOOD James10C/So1",0]
["ABOU-TALEB Talia9c/Re4",0]
["ADHAR Jaydeep9a/Re1",0]
["AHENKORAH Jannis9c/Re4",0]
["AHMED Nadir9c/Re4",0]
["AHNIEN Anwar9d/Re1",0]
["ALEXANDER Zoe9b/Re3",0]
["ALLARD Callum9b/Re1",0]
["ANDERSON Elaina9d/Re2",0]
["ANDERSON Jack11B/So2","U"]
["ANDERSON Joel9b/Re2",0]
["ANKOMAH Duphney9a/Re2",0]
["ANNETT Luke9b/Re1",0]
["ARROWSMITH Rosie9b/Re3",0]
["ATHWAL Amanvir9c/Re1",0]
["AWOLESI Oluwafisayo9a/Re4",0]
["BACON Luke9c/Re1",0]
["BADHAN Arpit9a/Re1",0]
["BADHAN Natasha9b/Re2",0]
["BAILEY Cameron9a/Re3",0]
["BAILLEUL-REYES Louis9a/Re1",0]
["BAKALOVA Katrin9b/Re1",0]
["BAKER Sophie9c/Re4",0]
["BARCI Kejsi9a/Re4",0]
["BARKER William9a/Re1",0]
["BARNES Reese9b/Re3",0]
["BARTLETT Georgia9b/Re3",0]
["BECKETT Aaron9c/Re1",0]
["BENTLEY Amy9a/Re4",0]
["BETTS Chloe9b/Re2",0]
["BEWSY Freddy9d/Re2",0]
["BLADE Ryan9c/Re4",0]
["BLOOMFIELD Maddie9c/Re3",0]
["BOLTON Charlie9a/Re2",0]
["BONES Chelsea9b/Re1",0]
["BORN Charlotte9c/Re1",0]
["BOSWELL Levi9b/Re3",0]
["BOYLE Brandon9a/Re3",0]
["BOYLE Louie9c/Re1",0]
["BRANWHITE Toby9a/Re3",0]
["BRAY Jordan9d/Re1",0]
["BRITLAND Kavan9a/Re2",0]
["BROCKLEHURST Charlie9b/Re1",0]
["BROCKLEHURST George9c/Re4",0]
["BROMFIELD Isabelle9a/Re1",0]
["BROWN Amy9a/Re3",0]
["BRYAN Rory9c/Re3",0]
["BURT Louise9c/Re2",0]
["BUSHIQI Sara9a/Re4",0]
["BUTLER Mitchel9c/Re1",0]
["BUTTERFIELD Jack9c/Re4",0]
["BUTTERWORTH Nathan9b/Re3",0]
["BUXTON Connor9a/Re1",0]
["CADMAN Daisy9c/Re1",0]
["CARPENTER Joseph9a/Re4",0]
["CASE Billy9c/Re2",0]
["CASTLETON Samuel9c/Re3",0]
["CELLA Libby9a/Re3",0]
["CHANDRAKUMAR Soumeya9b/Re3",0]
["CHAPMAN Molly9b/Re1",0]
["CHU Shannon9a/Re2",0]
["CLARK Harry9d/Re3",0]
["COLE Elleanor9b/Re3",0]
["COLES Lewis9c/Re2",0]
["COLYER Archie9a/Re3",0]
["CONNOR Cayleigh9a/Re3",0]
["COOK Reggie9c/Re2",0]
["COOMBES Charley9c/Re2",0]
["COOPER Rhys9b/Re2",0]
["CORIBEL Edward9c/Re4",0]
["COTTRELL Gary9b/Re2",0]
["CRABTREE Macy9a/Re1",0]
["CRAMER Megan9a/Re2",0]
["CUBBAGE Bayleigh9a/Re3",0]
["DAVIDSON Benjamin9a/Re4",0]
["DAVISON Max9d/Re2",0]
["DAY Daisy9b/Re1",0]
["DEAN Ella9b/Re2",0]
["DENNISON Brendon9c/Re3",0]
["DJIMA Karim9c/Re3",0]
["DONNELLY Callum9a/Re2",0]
["DORAN Adam9a/Re1",0]
["DRYDEN Danny9c/Re3",0]
["DUFF Jami9b/Re2",0]
["DUGGAN Courtney9d/Re3",0]
["DYRA Joshua9b/Re2",0]
["EARLEY Alfie9a/Re3",0]
["ELLIOTT Harry9a/Re3",0]
["ELLIS Harry9a/Re4",0]
["ELLIS Jack9a/Re1",0]
["ENGLISH Jessica9b/Re1",0]
["ESSAM Archie9a/Re2",0]
["EVANS Adam9a/Re2",0]
["EVBUOMWAN Marvis9d/Re3",0]
["EVES Jack9c/Re2",0]
["FABIYI Buky9c/Re2",0]
["FAIREY Megan9c/Re3",0]
["FARRELL Daniel9b/Re2",0]
["FARRELL Tommy9a/Re2",0]
["FAY Ellisha9c/Re2",0]
["FERREIRA Lorena9a/Re2",""]
["FFRENCH Jordan9d/Re2",0]
["FLEMING Chloe9d/Re1",0]
["FLOOD Daisy-Leigh9c/Re3",0]
["FOSTER Lacey9d/Re2",0]
["FRAMPTON Charlotte9b/Re3",0]
["FREEMAN Callum9d/Re3",0]
["GADBURY Jack9c/Re1",0]
["GALLAGHER Shannon9a/Re2",0]
["GASPER-OZIM Gerald9b/Re3",0]
["GATES Charlotte9a/Re4",0]
["GIBBS Toby9d/Re2",0]
["GIBSON Martyn9b/Re2",0]
["GILES Alexis9a/Re3",0]
["GILL Lenny9c/Re2",0]
["GILLESPIE Connor9a/Re2",0]
["GIRLING Daisy9a/Re3",0]
["GLASSCOCK Alfie9c/Re4",0]
["GLAYSHER Ellie9b/Re2",0]
["GLOVER Melanie9a/Re2",0]
["GNAHORE Keris Anne9c/Re4",0]
["GOBLE Jordan9d/Re2",0]
["GODBOLT Charlie-Rene9d/Re3",0]
["GOKTAS Filiz9a/Re3",0]
["GOLDING Coral9a/Re4",0]
["GOLIGHER Lucy9d/Re2",0]
["GOOCH Joe9b/Re3",0]
["GOODBAN Casey9d/Re1",0]
["GREEN George9b/Re3",0]
["GREEN Lucy9a/Re3",0]
["HAJDARI Sabrina9c/Re3",0]
["HALIMI Saimir9a/Re1",0]
["HALL Bethany9a/Re2",0]
["HALL Connor9c/Re4",0]
["HALL Taylor9c/Re4",0]
["HARRISON Chloe9c/Re4",0]
["HARVEY Scott9c/Re3",0]
["HAWKINS-KHAN Macy9b/Re1",0]
["HAYES Tyler9a/Re3",0]
["HAYWARD Kayleigh9b/Re1",0]
["HEDGES Pashie9d/Re3",0]
["HEMMINGS Bethany9a/Re1",0]
["HERATH Ishara9b/Re2",0]
["HIGGOTT Elizabeth9c/Re4",0]
["HIGGOTT William9a/Re1",0]
["HILTON Amy9a/Re4",0]
["HOBBS Archie9a/Re1",0]
["HODSON Liam9c/Re1",0]
["HOPE Sarah9a/Re3",0]
["HOWARD Reece9d/Re1",0]
["HOWARD-MORONEY Chelsea9c/Re3",0]
["HOY Harry9d/Re3",0]
["HUMPHREYS Elliemay9b/Re3",0]
["HUMPHREYS Kristian9a/Re4",0]
["HUNT Owen9d/Re2",0]
["HUSSEY Alexa9a/Re3",0]
["HYLAND Ellie9c/Re2",0]
["IMAGHODOR Abraham9b/Re3",0]
["IRESON Alicia9c/Re4",0]
["IZOD Sophie9d/Re1",0]
["JACKSON Sophia9d/Re2",0]
["JARVIS Elise9b/Re2",0]
["JARVIS Rosie9a/Re4",0]
["JEFFRIES Katie9a/Re1",0]
["JHAMAT Karina9b/Re1",0]
["JHEETA Abinaash9a/Re1",0]
["JOHNSON Bobby9b/Re2",0]
["JOHNSON Carling9c/Re3",0]
["JOHNSON Lacie9d/Re3",0]
["JOHNSON Selin9d/Re2",0]
["KADIMA Merdie9b/Re2",0]
["KANDEEPAN Kowsik9c/Re2",0]
["KAPP Amy9d/Re1",0]
["KEEBLE Charley9c/Re1",0]
["KEEGAN Connor9a/Re2",0]
["KEMBER-HOLLANDS Toby9d/Re2",0]
["KERNOTT Taylor9b/Re1",0]
["KHAN Alina9a/Re1",0]
["KHANOM Tangina9a/Re4",0]
["KHATUN Naeema9c/Re2",0]
["KHELLA Karambir9a/Re3",0]
["KING Skye9a/Re2",0]
["KUCH Liam9d/Re2",0]
["KUCINSKAS Ignas9c/Re3",0]
["LATTER Britney9a/Re1",0]
["LAWRENCE Eliza9d/Re3",0]
["LAWSON Joseph9a/Re2",0]
["LEEDS Shaun9a/Re4",0]
["LEWIS Christopher9d/Re1",0]
["LIGUORI Oliver9d/Re1",0]
["LINDO Loren9c/Re3",0]
["LINDUS Luke9b/Re3",0]
["LLOYD Rhea9c/Re4",0]
["LONGHURST Joshua9a/Re3",0]
["LOOR YUNDA Nicola9b/Re2",0]
["LOVERIDGE Joseph9c/Re3",0]
["MACMILLAN Aidan9a/Re2",0]
["MALONE Rian9d/Re1",0]
["MARKIN Kyle9c/Re2",0]
["MASHEDER Corinne9a/Re2",0]
["MASLEN Danny9a/Re4",0]
["MASTERS Lauren9b/Re1",0]
["MAWA Luc9a/Re2",0]
["MAXTED Jack9b/Re2",0]
["MCCOMBIE Freddie9c/Re2",0]
["MCCORMICK Rhys9a/Re1",0]
["MCDERMOTT Charley9c/Re3",0]
["MEAGHER Jack9a/Re1",0]
["MIAH Jakiya9a/Re2",0]
["MIDDLETON Ben9c/Re4",0]
["MILNER Lewis9a/Re4",0]
["MITCHELL-CHARLES Karna9b/Re2",0]
["MOMODU Kerry9d/Re2",0]
["MORGAN Freddie9c/Re3",0]
["MORGANS Emily9c/Re2",0]
["MORRIS Madeleine9c/Re1",""]
["MOTSI Taffy9a/Re3",0]
["MOTT Candie9c/Re1",0]
["MUCHINJIKO Craig9c/Re2",0]
["MUCHINJIKO Kuzivakwashe9c/Re3",0]
["MUPFURURIRWA Shaun9c/Re4",0]
["MURSELAJ Qendrim9c/Re3",0]
["NEWLAND Sonny9a/Re4",0]
["NEWTON Macey9d/Re3",0]
["NIBI Chenise9b/Re3",0]
["OAKES Mitchel9d/Re2",0]
["O'BRIEN Sara9a/Re1",0]
["O'BRIEN William9d/Re1",0]
["ODEDERE Simi9a/Re3",0]
["ODUYEMI Michael9d/Re1",0]
["OLIVER-LINES Molleigh9a/Re1",0]
["OLOYEDE Sofia9a/Re2",0]
["ONU Mary9a/Re1",0]
["OSBON Kelsey9c/Re1",0]
["PALMER Celine9c/Re2",0]
["PARMENTER Danny9b/Re1",0]
["PARMENTER Jack9d/Re3",0]
["PATEL Prit9c/Re3",0]
["PAVEY Jake9a/Re2",0]
["PAYNE Ellie9b/Re1",0]
["PIPER George9b/Re1",0]
["PLAYLE Libby9b/Re2",0]
["PRENDERGAST Lewis9c/Re4",0]
["PRITCHARD Max9d/Re1",0]
["PROCTOR Blake9d/Re3",0]
["PSEMENECKAITE Neda9c/Re3",0]
["PYM Megan9d/Re2",0]
["QUADRI Ayotunde9b/Re3",0]
["QUINNELL Harry9a/Re1",0]
["RADENHURST Ben9b/Re2",0]
["RAINBOW Aimee9c/Re1",""]
["RANDALL Bethany9c/Re2",0]
["RANDALL Lewis9c/Re3",0]
["REA Holly9d/Re2",0]
["REDSELL Jack9c/Re2",0]
["REED Jay9d/Re2",0]
["REEVE Kira9d/Re3",0]
["REPAJ John9a/Re3",0]
["RICHARDS Trey9a/Re3",0]
["RICKMAN Kane9d/Re3",0]
["ROBINS Harry9a/Re3",0]
["ROCK Callum9b/Re1",0]
["ROLANDSEN Brendan9c/Re2",0]
["ROSSI Francesca9a/Re2",0]
["ROSSITER James9d/Re3",0]
["RUDKIN Michael9a/Re4",0]
["RUMBOL Harry9b/Re1",0]
["RUSHBROOK Sammy9a/Re1",0]
["RUTHERFORD Jamie9d/Re1",0]
["RUTHERFORD Phoebe9d/Re3",0]
["SAINE Kareem9a/Re2",""]
["SALTER Maizie9b/Re3",0]
["SANDERSON Jack9c/Re2",0]
["SANDHU Jusdip9c/Re2",0]
["SANDHU Kimran9b/Re3",0]
["SANGSTER Kelsey9d/Re3",0]
["SAUNDERS Billy9a/Re2",0]
["SAVAGE Taylah9a/Re4",0]
["SCILLITOE Bethany9a/Re4",0]
["SEARLE Amy9d/Re1",0]
["SEIBERT George9c/Re4",0]
["SELBY-GANGERA Shirin9a/Re4",0]
["SEVENOAKS Lucy9d/Re1",0]
["SHAKPOKE Ronny9b/Re3",0]
["SHARMA Eshita9a/Re1",0]
["SHOKO Vanessa9c/Re2",0]
["SHOKO Victoria9a/Re3",0]
["SIMON-CHAMBERLAIN Lia9b/Re2",0]
["SINGH Gurbaksh9c/Re1",0]
["SMART Jakob9d/Re2",0]
["SMITH Christopher9d/Re1",0]
["SMITH Luis9c/Re2",0]
["SMITH Megan11P/So1","C+"]
["SMITH Samuel9d/Re1",0]
["SPEARMAN Phoebe9b/Re2",0]
["SPEARMAN Reese9b/Re3",0]
["SPROUL Tommy9a/Re4",0]
["STACEY Georgia9c/Re1",0]
["STEPHENS Melanie9a/Re4",0]
["STEVENSON Tara9c/Re1",0]
["STEWART Ella-Mae9d/Re1",0]
["STOW Harley9b/Re3",0]
["SULLIVAN Ronnie9d/Re2",0]
["SWAIN Tyler9c/Re2",0]
["SWEENEY Harry9d/Re1",0]
["TATTERSALL Tammiah9c/Re3",0]
["THACKRAY Grace9a/Re4",0]
["THOMPSON Kai9a/Re3",0]
["THURSTON Isobel9a/Re2",0]
["TIDMAN Abby9a/Re1",0]
["TREVEIL Cameron9d/Re3",0]
["TREZIES Kiera9a/Re1",0]
["TRINDER Lauren9b/Re1",0]
["TRUKSANE Angelina9b/Re1",0]
["TYE Luke9b/Re1",0]
["TYE Tyler9c/Re1",0]
["TYSON-MCLEAN Jayda9c/Re4",0]
["UFUMWEN Trevor9b/Re3",0]
["VARNEY Lauren9c/Re1",0]
["VITTE Marcel9c/Re1",0]
["VOSPER Ella9b/Re1",0]
["WAKE Alfie9b/Re3",0]
["WANDEREMA Esther9b/Re3",0]
["WANDEREMA Samuel9c/Re1",0]
["WARD Callum9c/Re3",0]
["WATERS Chloe9a/Re3",0]
["WATT Zakiya9c/Re4",0]
["WEARON Lewis9c/Re1",0]
["WEARON Tyler9b/Re1",0]
["WEBSTER Eryca9c/Re4",0]
["WELLER Rhiannon9d/Re3",0]
["WELLS Thomas9a/Re4",0]
["WHITE Charlie9b/Re1",0]
["WILLIAMS Ben9b/Re2",0]
["WILLIAMS Charlie9c/Re3",0]
["WILLIAMS Reece9c/Re1",0]
["WILLSON Macy9c/Re1",0]
["WITHAM Ryan9c/Re4",0]
["WRIGHT Erin9b/Re2",0]
["YAN Denise9a/Re4",0]
["ABOU-ELMAJD Kamilah8b/Cp1",0]
["ADAMS Autumn8a/Cp1",0]
["ADEBAMBO Dami8a/Cp3",0]
["AFSHAR Melody8c/Cp1",0]
["AIDOO Tanisha8a/Cp2",0]
["ALDRIDGE Louis8b/Cp1",0]
["ALEY Ryan8c/Cp1",0]
["ALLIU Ayishat8c/Cp3",0]
["ALMOND Sami8b/Cp2",0]
["AMOS George8c/Cp3",0]
["ANDERSON Joseph8d/Cp1",0]
["ANDREWS Maria8a/Cp3",0]
["ARNOLD Ellie8a/Cp1",0]
["ASARE-BEDIAKO Kieron8b/Cp3",0]
["ASHFORTH Ezra8b/Cp1",""]
["ATANDA Tohibu8b/Cp2",0]
["ATAOGLU Naim8d/Cp2",0]
["BAKHT Umamah8a/Cp2",0]
["BALL Megan8a/Cp3",0]
["BARHAM Ella8d/Cp1",0]
["BARKER George8a/Cp1",0]
["BARNES Charlotte8b/Cp2",0]
["BATCHELOR Kyesha8c/Cp1",0]
["BATLEY Lauren8d/Cp2",0]
["BATTY Zoe8b/Cp3",0]
["BAXTER Ellie8b/Cp1",0]
["BELL Kacey8a/Cp1",0]
["BENNETT Connor8a/Cp2",0]
["BENSON Harry8d/Cp3",0]
["BHOGUN-SCOTT Gyanee8a/Cp2",0]
["BILLINGHURST Ryan8d/Cp1",0]
["BISHOP Bethany8c/Cp3",0]
["BISHOP Codie8b/Cp2",0]
["BISHOP Kai8b/Cp3",0]
["BISHOP Natasha8c/Cp1",0]
["BLACK Poppy8a/Cp3",0]
["BLACK Ryan8a/Cp3",0]
["BLAND Jack8c/Cp2",0]
["BLOOMFIELD William8a/Cp1",0]
["BODYCOMB Kyle8a/Cp2",0]
["BOLTON Joseph8d/Cp2",0]
["BONES Daniel8c/Cp3",0]
["BONNELL Charlotte8b/Cp3",0]
["BOURN Charlotte8b/Cp1",0]
["BRACKSTONE Ella8b/Cp2",0]
["BRIDGE Ryan8d/Cp3",0]
["BRIDGETT Jack8d/Cp1",0]
["BROOKS Connor8c/Cp2",0]
["BROUGHTON Jack8a/Cp3",0]
["BROWN Kelsey8c/Cp1",0]
["BROWN Meagan8c/Cp3",0]
["BROWN Shannon0",""]
["BROWNE Harvey8c/Cp2",0]
["BURKE Connor8a/Cp1",0]
["BURROWS Lois8a/Cp2",0]
["BURTON Sophie8c/Cp2",0]
["BUSHAWAY Caila8b/Cp3",0]
["BUTTON Oliver8d/Cp2",0]
["CAMERON-RICHARDS Chantelle8a/Cp3",""]
["CANN Lewis8b/Cp1",0]
["CARLTON Lucy8c/Cp2",0]
["CATON Alfie8b/Cp2",0]
["CHABEDA Eddy8d/Cp3",0]
["CHALK Michael8c/Cp3",0]
["CHAMUNORWA Dawn8c/Cp1",0]
["CHATTEN Shanie8b/Cp1",0]
["CHEESEMAN Thomas8b/Cp3",0]
["CHEVIS Paige8b/Cp2",0]
["CHIAZOR Victor8a/Cp2",0]
["CLARK Nathan8a/Cp3",0]
["CLATWORTHY Lewis8c/Cp1",0]
["COLE Shannon8c/Cp3",0]
["COLMAN Libby8c/Cp2",0]
["COOPER Amy8c/Cp1",""]
["COOPER Joe8d/Cp2",0]
["COPLEY Mason8d/Cp1",0]
["COPPINS Faye8c/Cp2",0]
["CORNELL Jessica8d/Cp1",0]
["COSTELLO Jack8a/Cp1",0]
["COULSON Benjamin8d/Cp3",0]
["COVENTRY Milly8a/Cp1",0]
["COWLARD Fredrica8b/Cp3",0]
["CRABTREE Frankie8d/Cp1",0]
["CREEVY Joseph8b/Cp1",0]
["CROUCHER Teddie8b/Cp2",0]
["CUMMINGS Milly8c/Cp2",0]
["DALE Mark8d/Cp2",0]
["DALY Kevin8c/Cp3",0]
["DANIELS Ashley8c/Cp2",0]
["DARBYSHIRE Faye8c/Cp3",0]
["DAVIES Lucy8b/Cp1",0]
["DAY Frankie8c/Cp1",0]
["DEAN Benjamin8c/Cp2",0]
["DEBENHAM Ryan8b/Cp3",0]
["DELANEY Ryan8b/Cp1",0]
["DEVONPORT Cameron8c/Cp2",0]
["DEWAR Billy8c/Cp1",0]
["DRANE Robert8d/Cp3",0]
["DUFF Tiani8d/Cp2",0]
["EASTER Freddy8c/Cp2",0]
["EASTGATE Reece8b/Cp2",0]
["EDEN Hannah8d/Cp3",0]
["ELVIDGE Elle8a/Cp2",0]
["EMANS Joe8b/Cp3",0]
["ENGLAND-FOGARTY Heidi8d/Cp1",0]
["FARRELL Maizie8c/Cp1",0]
["FISHER Chloe8b/Cp2",0]
["FISHWICK Callum8d/Cp1",0]
["FLEMING Kallum8b/Cp1",0]
["FLOOD Joe8a/Cp2",0]
["FRANCIS Holly8a/Cp3",0]
["FRANKLIN Jake8d/Cp2",0]
["FRENCH Daniel8c/Cp1",0]
["FRIEND Maisy-May8d/Cp2",0]
["GALLARD Lauren8c/Cp1",0]
["GASKIN Isabel8a/Cp1",0]
["GIBBS Loui8a/Cp3",0]
["GOLDING Hollie8a/Cp2",0]
["GORDON Deniz8d/Cp2",0]
["GOULD Daniel8d/Cp3",0]
["GRANT Jimmy8b/Cp2",0]
["GRIFFIN Jasmine8b/Cp3",0]
["GRIFFIN-HAMILTON Jay8d/Cp1",0]
["GROVES Joseph8c/Cp1",0]
["GWEBU Kieron8b/Cp3",0]
["HAFFENDEN Sophie8a/Cp3",0]
["HAINES Cloe8c/Cp3",0]
["HAMBLYN Lily8b/Cp1",0]
["HAMMERTON Charlie8b/Cp1",0]
["HAMMERTON James8b/Cp2",0]
["HAMZA Mohammed8a/Cp1",0]
["HANDLEY Lucy8d/Cp3",0]
["HANLEY Elle8d/Cp1",0]
["HANNON Max8a/Cp2",0]
["HARDS James8a/Cp2",0]
["HARDY Ben8c/Cp1",0]
["HARGOOD BAILEY Carla8a/Cp1",0]
["HARRIS Darcie8a/Cp2",0]
["HAWKINS Sam8b/Cp1",0]
["HAWKSLEY Jay8d/Cp3",0]
["HAYES Dominic8b/Cp2",0]
["HAYES Madison8a/Cp3",0]
["HEBBLEWHITE George8b/Cp3",0]
["HESELDEN Aiden8a/Cp3",0]
["HICKEY Brooke8b/Cp2",0]
["HIGGINS Madaline8b/Cp3",0]
["HIGHMAN Luke8d/Cp1",0]
["HILL-DILLON Megan8a/Cp1",0]
["HILLS Reuben8a/Cp1",0]
["HODROJ Mariam8a/Cp2",""]
["HOLDEN Harry8d/Cp2",0]
["HOLDER Robert8a/Cp2",0]
["HOLLIS Emma8a/Cp3",0]
["HOOTON Benjamin8b/Cp1",0]
["HOULIHAN Connor8c/Cp3",0]
["HUBERT Hollie8c/Cp1",0]
["HUGHES Giorgiana8b/Cp1",0]
["HULSE Elizabeth8c/Cp2",0]
["HUYNH Julia8a/Cp1",0]
["INCE Ezgi8c/Cp3",0]
["IRONMONGER Jake8a/Cp3",0]
["JACKSON-DWIGHT Molly8a/Cp2",0]
["JAIYESIMI Kausarat8a/Cp3",0]
["JANDU Kirandip8b/Cp2",0]
["JANKU Antonio8c/Cp1",0]
["JAWAD Rayan8a/Cp1",0]
["JENKINS Jemima8b/Cp3",0]
["JENNINGS Amy8d/Cp2",0]
["JEZARD Robert8c/Cp1",0]
["JOBSON Lewis8d/Cp3",""]
["JOHNSON Bailey8d/Cp1",0]
["JOHNSTONE Ellie-May8c/Cp1",0]
["JONES Gracie8b/Cp1",0]
["KAVIMARAN Thivesny8b/Cp2",0]
["KEEP Kayleigh8b/Cp3",0]
["KEITA Bintou8c/Cp2",0]
["KENSINGTON Amy8c/Cp2",0]
["KHATUN Hanifah8c/Cp3",0]
["KING Amy8b/Cp1",0]
["KIPRE Abraham8d/Cp2",0]
["KIRBY Chloe8a/Cp1",0]
["KIRKLAND Mya8b/Cp3",0]
["LA ROCHE Elvie8d/Cp3",0]
["LAD Nayan8a/Cp2",0]
["LAI Nathan8d/Cp3",0]
["LAWRENCE Cain8a/Cp3",0]
["LEE-MAYHEW Sky8b/Cp3",0]
["LESNYAK Roman8b/Cp2",0]
["LITTLE Kathryn8a/Cp3",0]
["LOTAY Sonia8b/Cp2",0]
["LOVELOCK Ellie8d/Cp1",0]
["LOWTHER Callum8a/Cp1",0]
["LUNDQVIST Samuel8c/Cp2",0]
["MACKINNON Amelia8a/Cp1",0]
["MADEVU Kevin8c/Cp3",0]
["MAGUIRE Ruby8a/Cp2",0]
["MAIN Harry8b/Cp3",0]
["MAKONI Terrence8b/Cp1",0]
["MANDER Shannon8c/Cp2",0]
["MAPPS Blake8a/Cp2",0]
["MARLEY Thomas8b/Cp2",0]
["MARSH Samuel10C/So1",0]
["MARTIN Joe8d/Cp2",0]
["MARTIN Rebecca8c/Cp1",0]
["MATRANXHI Denisa8a/Cp3",0]
["MAYNARD Edward8c/Cp3",0]
["MCCARTHY Alex8a/Cp3",0]
["MCCORMICK Annalyse8a/Cp1",0]
["MCDERMOTT Sian8b/Cp3",""]
["MCGIRR Abbe8a/Cp2",0]
["MCGUINNESS Ria8d/Cp2",0]
["MCKEY Connor8a/Cp1",0]
["MCKEY Meghann8c/Cp2",0]
["MCPHERSON Tayler8c/Cp2",0]
["MCQUEENEY Callum8b/Cp3",0]
["MEHMET Ben8b/Cp1",0]
["MEHMETI Dafina8d/Cp3",0]
["MIDFORD Jonny8c/Cp3",0]
["MIHA Julieta8c/Cp3",0]
["MILLS Jessica8d/Cp1",0]
["MOCKEY Chezia8a/Cp3",0]
["MOORE Amie8d/Cp2",0]
["MOORE Katie8a/Cp1",0]
["MOSE Aaron8c/Cp1",0]
["MOTTOH Benito8a/Cp2",0]
["MOULD Callam8c/Cp2",0]
["MOYO Fortma8d/Cp3",0]
["MOYO Mercy8d/Cp3",0]
["MURTON John8c/Cp2",0]
["NAMPERA Felicia8a/Cp2",0]
["NAWAZ Ahmed8a/Cp3",0]
["NEARY Dean8c/Cp1",0]
["NEBEL Owin8b/Cp2",0]
["NEWELL Gracie-May8d/Cp1",0]
["NEWMAN Olivia8b/Cp1",0]
["NEWNHAM Charlie8c/Cp2",0]
["OBIRAI Thelma-Chiwete8b/Cp2",0]
["O'BRIEN Tia8c/Cp1",0]
["OCHWAT Drew8d/Cp1",0]
["ODUSHOGA Abimbola8a/Cp3",0]
["OJO Lewis8a/Cp1",0]
["OKORONKWO Chi-chi8a/Cp1",0]
["ONILEERE Hakima8b/Cp3",0]
["OPANUGA Emmanuel8b/Cp3",0]
["ORME Penny8d/Cp2",0]
["OSBORN Paris8d/Cp3",0]
["OSMANI Gledisa8b/Cp1",0]
["PALMER Michael8d/Cp2",0]
["PARFITT Daniella8d/Cp1",0]
["PAWLEY Joe8a/Cp2",0]
["PETROVA Gabriella8c/Cp2",0]
["PIDDINGTON George8d/Cp3",""]
["POLDEN Lucy8d/Cp2",0]
["POLSON Joshua8a/Cp3",0]
["POVEY-GARMAN Kayleigh8c/Cp1",0]
["POWER Connor8c/Cp1",0]
["PRESSNEY Ellie8d/Cp3",0]
["PURSSEY Ella8d/Cp1",0]
["PYKA Tyreke8d/Cp1",0]
["RANDALL Ella8c/Cp1",0]
["RANDELL Corben8b/Cp1",0]
["RATCLIFF Alfie8d/Cp2",0]
["READ Lewis8d/Cp3",0]
["READ William8a/Cp1",0]
["REARDON Connor8a/Cp2",0]
["REED Chloe8c/Cp1",0]
["REES Lewis8a/Cp3",0]
["RHODEN Shay8c/Cp1",0]
["RILEY Zeena8a/Cp2",0]
["ROBERTS Morgan8c/Cp3",0]
["ROBINSON Luke8d/Cp1",0]
["ROBSON Leon8d/Cp2",0]
["ROCK Ellie8d/Cp2",0]
["ROGERS Summer8b/Cp2",0]
["ROTHWELL Bea8d/Cp3",0]
["RUBENGA-WEBSTER Rania8c/Cp3",0]
["RUSSELL Alfie8d/Cp3",0]
["RUSSELL Nathan8c/Cp2",""]
["RYAN James8a/Cp1",0]
["RYAN Katie8a/Cp3",0]
["SAEED Imaan8c/Cp3",0]
["SAGLAM Aleyna8b/Cp3",0]
["SANGHA Milan8b/Cp2",0]
["SAPKOTA Kushal8c/Cp3",0]
["SAPKOTA Pratham8c/Cp2",0]
["SATHIYASEELAN Vithusha8a/Cp1",0]
["SAUROSI Dexter8c/Cp1",0]
["SHAW Abby-Gail8d/Cp1",0]
["SHAW Nicole8d/Cp2",0]
["SHERGOLD Lauryn8a/Cp2",0]
["SHUKLA Karina8b/Cp1",0]
["SMITH Jessica8b/Cp2",0]
["SONNAH Victor8b/Cp3",0]
["STARLING Louie8c/Cp2",0]
["STEWART Aiyana8b/Cp3",0]
["STILES George8d/Cp3",0]
["STROUD Charlie8d/Cp2",0]
["SULEMAN Rihan8b/Cp1",0]
["SULH Kristina8c/Cp3",0]
["SUMAN Ranesh8d/Cp1",0]
["SYKES Lucas8b/Cp2",0]
["TAGG Jake8d/Cp2",0]
["TAMBOONEYI Eugine8b/Cp3",0]
["TAYLOR Callum8d/Cp3",0]
["TAYLOR Shea8b/Cp1",0]
["TAYLOR-OSWALD Madeline8b/Cp1",0]
["THAVARASA Sathishwaran8d/Cp1",0]
["THIND Karanjot8a/Cp2",""]
["THORNTON Jake8b/Cp2",0]
["TIJANI Richard8a/Cp3",0]
["TILLER-KING Bayley8b/Cp3",0]
["TO Michael8c/Cp1",0]
["TOVEY Chloe8a/Cp3",0]
["TRAN Jayden8a/Cp1",0]
["TUFFIELD Emelia8b/Cp2",0]
["VINCENT Charly8c/Cp2",0]
["VINTURA Ayomikun8b/Cp1",0]
["WAGHORN Alexander8b/Cp2",0]
["WALKER Tye8b/Cp3",0]
["WALLIS Jack8a/Cp2",0]
["WALSH Wayne8a/Cp3",0]
["WARR Abbie8a/Cp1",0]
["WARREN Alex8b/Cp3",""]
["WATSHAM Taylor8c/Cp2",0]
["WATTS Tyler8a/Cp1",0]
["WELLS Ethan8a/Cp2",0]
["WELLS Mollie8d/Cp3",0]
["WHITE Cameron8b/Cp1",0]
["WILKINSON Jack8d/Cp1",0]
["WILLIAMS Amber8c/Cp3",0]
["WILLIAMS Lewis8b/Cp2",0]
["WILSON Billy8d/Cp3",0]
["WILSON-WARD Scott8a/Cp3",0]
["WRIGHT Megan8a/Cp2",0]
["ADHAR Jaydeep9a/Ct1",0]
["ANKOMAH Duphney9a/Ct2",0]
["AWOLESI Oluwafisayo9a/Ct4",0]
["BADHAN Arpit9a/Ct1",0]
["BAILEY Cameron9a/Ct3",0]
["BAILLEUL-REYES Louis9a/Ct1",0]
["BARCI Kejsi9a/Ct4",0]
["BARKER William9a/Ct1",0]
["BENTLEY Amy9a/Ct4",0]
["BOLTON Charlie9a/Ct2",0]
["BOYLE Brandon9a/Ct3",0]
["BRANWHITE Toby9a/Ct3",0]
["BRITLAND Kavan9a/Ct2",0]
["BROMFIELD Isabelle9a/Ct1",0]
["BROWN Amy9a/Ct3",0]
["BUSHIQI Sara9a/Ct4",0]
["BUXTON Connor9a/Ct1",0]
["CARPENTER Joseph9a/Ct4",0]
["CELLA Libby9a/Ct3",0]
["CHU Shannon9a/Ct2",0]
["COLYER Archie9a/Ct3",0]
["CONNOR Cayleigh9a/Ct3",0]
["CRABTREE Macy9a/Ct1",0]
["CRAMER Megan9a/Ct2",0]
["CUBBAGE Bayleigh9a/Ct3",0]
["DAVIDSON Benjamin9a/Ct4",0]
["DONNELLY Callum9a/Ct2",0]
["DORAN Adam9a/Ct1",0]
["EARLEY Alfie9a/Ct3",0]
["ELLIOTT Harry9a/Ct3",0]
["ELLIS Harry9a/Ct4",0]
["ELLIS Jack9a/Ct1",0]
["ESSAM Archie9a/Ct2",0]
["EVANS Adam9a/Ct2",0]
["FARRELL Tommy9a/Ct2",0]
["FERREIRA Lorena9a/Ct2",""]
["GALLAGHER Shannon9a/Ct2",0]
["GATES Charlotte9a/Ct4",0]
["GILES Alexis9a/Ct3",0]
["GILLESPIE Connor9a/Ct2",0]
["GIRLING Daisy9a/Ct3",0]
["GLOVER Melanie9a/Ct2",0]
["GOKTAS Filiz9a/Ct3",0]
["GOLDING Coral9a/Ct4",0]
["GREEN Lucy9a/Ct3",0]
["HALIMI Saimir9a/Ct1",0]
["HALL Bethany9a/Ct2",0]
["HAYES Tyler9a/Ct3",0]
["HEMMINGS Bethany9a/Ct1",0]
["HIGGOTT William9a/Ct1",0]
["HILTON Amy9a/Ct4",0]
["HOBBS Archie9a/Ct1",0]
["HOPE Sarah9a/Ct3",0]
["HUMPHREYS Kristian9a/Ct4",0]
["HUSSEY Alexa9a/Ct3",0]
["JARVIS Rosie9a/Ct4",0]
["JEFFRIES Katie9a/Ct1",0]
["JHEETA Abinaash9a/Ct1",0]
["KEEGAN Connor9a/Ct2",0]
["KHAN Alina9a/Ct1",0]
["KHANOM Tangina9a/Ct4",0]
["KHELLA Karambir9a/Ct3",0]
["KING Skye9a/Ct2",0]
["LATTER Britney9a/Ct1",0]
["LAWSON Joseph9a/Ct2",0]
["LEEDS Shaun9a/Ct4",0]
["LONGHURST Joshua9a/Ct3",0]
["MACMILLAN Aidan9a/Ct2",0]
["MASHEDER Corinne9a/Ct2",0]
["MASLEN Danny9a/Ct4",0]
["MAWA Luc9a/Ct2",0]
["MCCORMICK Rhys9a/Ct1",0]
["MEAGHER Jack9a/Ct1",0]
["MIAH Jakiya9a/Ct2",0]
["MILNER Lewis9a/Ct4",0]
["MOTSI Taffy9a/Ct3",0]
["NEWLAND Sonny9a/Ct4",0]
["O'BRIEN Sara9a/Ct1",0]
["ODEDERE Simi9a/Ct3",0]
["OLIVER-LINES Molleigh9a/Ct1",0]
["OLOYEDE Sofia9a/Ct2",0]
["ONU Mary9a/Ct1",0]
["PAVEY Jake9a/Ct2",0]
["QUINNELL Harry9a/Ct1",0]
["REPAJ John9a/Ct3",0]
["RICHARDS Trey9a/Ct3",0]
["ROBINS Harry9a/Ct3",0]
["ROSSI Francesca9a/Ct2",0]
["RUDKIN Michael9a/Ct4",0]
["RUSHBROOK Sammy9a/Ct1",0]
["SAINE Kareem9a/Ct2",""]
["SAUNDERS Billy9a/Ct2",0]
["SAVAGE Taylah9a/Ct4",0]
["SCILLITOE Bethany9a/Ct4",0]
["SELBY-GANGERA Shirin9a/Ct4",0]
["SHARMA Eshita9a/Ct1",0]
["SHOKO Victoria9a/Ct3",0]
["SMITH Megan9a/Ct3",0]
["SPROUL Tommy9a/Ct4",0]
["STEPHENS Melanie9a/Ct4",0]
["THACKRAY Grace9a/Ct4",0]
["THOMPSON Kai9a/Ct3",0]
["THURSTON Isobel9a/Ct2",0]
["TIDMAN Abby9a/Ct1",0]
["TREZIES Kiera9a/Ct1",0]
["WATERS Chloe9a/Ct3",0]
["WELLS Thomas9a/Ct4",0]
["YAN Denise9a/Ct4",0]
["ABODERIN Adedeji7a/Re2",0]
["ADAMS Macy7c/Re2",0]
["ADEBOLA John7c/Re2",0]
["ADEGBOLA David7c/Re2",0]
["ADEJUMO Victor7b/Re1",0]
["ADEWALE Mark7d/Re3",0]
["ADHAR Kajal7b/Re2",0]
["AILOAEI Victor7a/Re3",0]
["AKINTOMO Samuel7b/Re2",0]
["ALADE Demilade7a/Re1",0]
["ALDRICH Lewis7b/Re3",0]
["ALLISON Paisley7d/Re1",0]
["ALLWRIGHT Olivia7a/Re2",0]
["AMIN Qasim7b/Re2",0]
["ANDERSON Ben7c/Re1",0]
["ASKEW Kara7a/Re1",0]
["ATLEY Jacob7a/Re1",0]
["AUSTIN Rebecca7b/Re3",0]
["AYINDE-USMAN Abdullahi7b/Re1",0]
["BACON Jamie7a/Re2",0]
["BADHAN Anthony7b/Re3",0]
["BAKER Joshua7c/Re1",0]
["BAKER Kai7c/Re3",0]
["BALOGUN Afeez7b/Re1",0]
["BALOGUN Ayomide7b/Re2",0]
["BALOGUN Roqeebat7a/Re2",0]
["BARNETT Ella7d/Re3",0]
["BARRETT Kyle7b/Re2",0]
["BARRIE Isatu7d/Re2",0]
["BEAL Taylor7c/Re1",0]
["BEANEY Marykate7d/Re2",0]
["BELKACEMI Zachariah7a/Re3",0]
["BENNETT Paul7d/Re1",0]
["BENNETT-ALAMETI Vincent7a/Re1",0]
["BERBERI Wendy7d/Re2",0]
["BISHOP Jayden7a/Re2",0]
["BLACKMAN Poppy7d/Re1",0]
["BOAKYE-YIADOM Asantewa7a/Re3",0]
["BODYCOMB Callum7d/Re1",0]
["BOKARIE SAM Felix7d/Re1",0]
["BORDLEY Grace7c/Re2",0]
["BRABON Jack7d/Re1",0]
["BRACKELL Bethan7d/Re3",0]
["BRADY Mollie7a/Re1",0]
["BRAWN-COOK Chardonnay7c/Re1",0]
["BRENNAN Rachel7c/Re1",0]
["BROOKER - MAHAL Charlie7b/Re1",0]
["BROOKES Seamus7c/Re3",0]
["BROWN Bradley7d/Re1",0]
["BROWN Charisse7c/Re2",0]
["BRYANT Ian7a/Re3",0]
["BURGESS Georgina7b/Re3",0]
["BUTCHER Gemma7c/Re1",0]
["BUTLER Sam7b/Re1",0]
["BUTTON Alice7b/Re2",0]
["CALLANAN Brogan7d/Re2",0]
["CAMPBELL Isaac7b/Re1",0]
["CAREY Charlotte7d/Re3",0]
["CAVE Megan7a/Re2",0]
["CHALK Mark7d/Re2",0]
["CHANNON Anthony7b/Re2",0]
["CHAPMAN Katie7c/Re3",0]
["CHEESEMAN Adam7a/Re1",0]
["CHIMA Joshua7d/Re3",0]
["CHITAKWE Yuh Bobobglein7d/Re1",0]
["CHIWEWE Lydia7a/Re3",0]
["CHUKWUDI Ephraim7a/Re2",0]
["CLARK Aaron7b/Re1",0]
["COLE Annie-May7b/Re2",0]
["COLE Katie7d/Re2",0]
["COLE Mollie7a/Re1",0]
["COLE Sydney7d/Re1",0]
["COLLIER Samuel7a/Re3",0]
["COLLINS Lewis7b/Re2",0]
["COLMAN Izabella7b/Re3",0]
["COMBER Kayleigh7a/Re2",0]
["CONIAM Ryan7c/Re2",0]
["COOK Annie7a/Re3",0]
["COOK Molly7c/Re3",""]
["COPPEN Austen7a/Re1",0]
["COULDRY Taylor7a/Re2",0]
["CRANE Jacob7b/Re2",0]
["CROCKER Benjamin7b/Re2",0]
["CROSS Kai7b/Re1",0]
["CUTENDANA Genesis7c/Re3",0]
["DAVIDSON Aaron7d/Re1",0]
["DAVIS Connor7c/Re3",0]
["DAVIS George7b/Re3",0]
["DAWE Paris7c/Re3",0]
["DE'ATH Jamie7b/Re1",0]
["DHIR Puneet7d/Re1",0]
["DIXON Maddison7c/Re3",0]
["DOBNER Tilly7b/Re2",0]
["DOUGLAS Henry7c/Re3",0]
["DRANE Alfie7c/Re2",0]
["DREDGE Megan7b/Re3",0]
["DUKES Teddy7b/Re3",0]
["EADY Morgan7d/Re1",0]
["EARLEY Kacey7d/Re3",0]
["EGODO Efemena7b/Re3",0]
["ELDRIDGE Louise7c/Re1",0]
["ESSAM Lily-Mae7c/Re3",0]
["EVANS Sam7d/Re2",0]
["EVANS Sophia7b/Re1",0]
["FABIAN Ronnie7a/Re3",0]
["FAKEHINDE Kanyinsola7c/Re1",0]
["FARR Ryan7a/Re1",0]
["FARRELL Benjamin7d/Re2",0]
["FARROW Frankie7b/Re1",0]
["FATUNGASE Elijah7a/Re2",0]
["FATUNGASE Isaac7b/Re3",0]
["FILER Lauren7b/Re1",0]
["FISHWICK Harry7d/Re3",0]
["FITCH Ethan7a/Re3",0]
["FLORICICA Ines7d/Re1",0]
["FLYNN Liam7a/Re1",0]
["FORAN Lucy7d/Re2",0]
["FRAREY George7c/Re3",0]
["FREIVERTS Dilans7a/Re2",0]
["FRENCH Mollie7b/Re2",0]
["GAINDA Gurmukh7c/Re1",0]
["GALLAGHER Shaun7b/Re2",0]
["GARDNER Rachel7b/Re1",0]
["GEORGE-OBUENWE Emmanuel7b/Re2",0]
["GIBBONS Molly7b/Re3",0]
["GIBBS Daniel7a/Re3",0]
["GILLESPIE Taylor7c/Re2",0]
["GLENNON Chelsea7a/Re1",0]
["GLOVER Alfie7c/Re3",0]
["GLOVER James7c/Re1",0]
["GOLDING Nicole7c/Re2",0]
["GOODMAN Holly7a/Re2",0]
["GOSDEN Megan7a/Re3",0]
["GRAHAM Perez7d/Re2",0]
["GROVES Madeleine7d/Re2",0]
["GUACHO ESPINOSA Emily Nicole7c/Re2",0]
["HAFFENDEN Lucy7c/Re1",0]
["HAINING Joshua7d/Re1",0]
["HALL Dontae7a/Re1",0]
["HARDING Emma7b/Re2",0]
["HART Robbie7b/Re2",0]
["HARWOOD Samuel7a/Re2",0]
["HATTRILL Kirstie7a/Re1",0]
["HAWKINS Alfie7c/Re1",0]
["HEASMAN Jake7d/Re1",0]
["HINSON Josie7a/Re2",0]
["HODROJ Dana7c/Re3",""]
["HOPKINSON Faith7d/Re2",0]
["HOWARTH Charlie7d/Re2",0]
["HOWE Jazmin7d/Re2",0]
["HULBERT Cameron7a/Re1",0]
["HUMPHREY Lucas7a/Re2",0]
["HUTCHISON Katie7c/Re2",0]
["IDEN Thomas7c/Re1",0]
["IYAMU-EKIRO David7a/Re3",0]
["JAIYESIMI Al-Amin7a/Re1",0]
["JARVIS Charlie7c/Re1",0]
["JARVIS Danny0",""]
["JARVIS Georgia7b/Re2",0]
["JUTLA Maneet7b/Re2",0]
["KANDEEPAN Sukita7b/Re2",""]
["KATSO Tendesayi7c/Re1",0]
["KELLY Logan7c/Re3",0]
["KHAN Mominul7c/Re3",0]
["KILLICK James7a/Re2",0]
["KINGHAM Ben7a/Re3",0]
["KITCHENHAM Marie7b/Re3",0]
["KNOWLER Lybee7c/Re3",0]
["KORKMAZOGLU Beren7d/Re3",0]
["KORSACHKA Nikol7c/Re2",0]
["KUDINOVA Kintija7a/Re3",0]
["KURI-O'REILLY Stephanie7a/Re1",0]
["LALA Orges7a/Re1",0]
["LAWTON Connor7b/Re3",0]
["LE CALVEZ Nicole7a/Re2",0]
["LEAHY Aiden7d/Re1",0]
["LEASK-FULHAM Keira7a/Re3",0]
["LEE Bill7c/Re3",""]
["LEE-MAYHEW Paige7b/Re3",0]
["LEINSTER James7c/Re3",0]
["LEPINE Samuel7d/Re2",""]
["LESTON Talisha7c/Re1",0]
["LIGHTFOOT Ella7c/Re2",0]
["LINES Gemma7a/Re1",0]
["LITTLE Rose7c/Re1",0]
["LONG Ellice7c/Re3",0]
["LOZEVA Rositsa7a/Re2",0]
["MACLELLAN Harry7d/Re1",0]
["MACLELLAN Libby7b/Re1",0]
["MAREZANA Marlon7c/Re2",0]
["MARSHALL Craig7c/Re1",0]
["MASLAH Zahra7c/Re1",0]
["MATHERS Dean7c/Re2",0]
["MATTHEWS Aimee7b/Re2",0]
["MATTIN Thomas7a/Re2",0]
["MAY-CLARK Sam7c/Re1",0]
["MCDERMOTT Lewis7c/Re3",0]
["MCGIRR Holly7b/Re3",0]
["MCKIE Kieran7c/Re2",0]
["MITCHELL Joseph7d/Re1",0]
["MNCUBE Ryan7b/Re2",0]
["MOHAMED Anayda7b/Re1",0]
["MOHANADAS Apiruban7c/Re1",0]
["MOMODU Emmanuel7d/Re3",0]
["MOORE Molly7d/Re3",""]
["MOORE Shanae7d/Re1",0]
["MORGAN Koren7c/Re3",0]
["MORGAN-ROOTS Luke7b/Re1",0]
["MOTSI Tyrone7a/Re3",0]
["MOULD Hollie7a/Re3",0]
["MUKALAZI Riley7a/Re1",0]
["MUKASA Suubi7c/Re2",0]
["MURUKANANTHAM Tharunan7a/Re2",0]
["MUSIYIWA Makhosi7b/Re3",0]
["NASHWA Ben7a/Re3",0]
["NEWMAN Ellie7d/Re1",0]
["NEWSTEAD Arthur7d/Re1",0]
["NEWTON Ethan7d/Re3",0]
["NG Jack7a/Re1",0]
["NIBI Lakeisha7b/Re3",0]
["OAKINS George7c/Re2",0]
["OBI-ORAZULUME Chibby7b/Re1",0]
["ODEBO Kehinde Enoch I7a/Re2",""]
["ODEBO Taiwo Elizabeth7b/Re2",0]
["ODEDERE Michael7a/Re3",0]
["ODEKUNLE Biola7b/Re1",0]
["ODIGIE Nosarume7a/Re1",0]
["OFFORD Bayley7b/Re1",0]
["OFFWOOD Elliot7b/Re1",0]
["OFURHIE Calvin7c/Re2",0]
["OHAKWA Chideraa7d/Re3",""]
["OHAZURUME Daniel7c/Re2",0]
["OHAZURUME David7b/Re3",0]
["OKORONKWO Debbie7d/Re2",0]
["OLOYEDE Karim7a/Re2",0]
["OMORUYI Esosa7c/Re3",0]
["OMOTOYE Tyrese7a/Re3",0]
["ONU George7b/Re2",0]
["OREMUYIWA Joseph7c/Re1",0]
["OSBORNE Marshall7a/Re1",0]
["OWEN Sadie7c/Re3",0]
["PAGE Billie7d/Re2",0]
["PALMER Chloe7a/Re1",0]
["PARKER Megan7c/Re2",0]
["PARMENTER Hailee7c/Re2",0]
["PATTENDEN Mollie7d/Re2",0]
["PEARCE Megan-Rose7d/Re2",0]
["PERKINS Jake7d/Re2",0]
["PETERS Brandon7b/Re1",0]
["PHELPS Gracie7c/Re2",0]
["PHIPPS Aaron7d/Re3",0]
["PLATER Chloe7d/Re1",0]
["PRABAHARAN Baarath7b/Re1",0]
["QUADRI Ibukun7a/Re2",0]
["QUILALA Angelika7a/Re2",0]
["RADENHURST Ella7d/Re2",0]
["RANDALL Brook7d/Re3",0]
["RATCLIFF Bethany7a/Re3",0]
["RAVINDRAKUMAR Nemaliya7d/Re3",0]
["RAWLINS Jack7b/Re1",0]
["REDWORTH Samuel7c/Re1",0]
["REHMAN Mohammed7b/Re1",0]
["RICHARDS Drey7b/Re3",0]
["RIXON-WILSON Drew7a/Re1",0]
["ROBINSON Ethan7c/Re1",0]
["ROBSON Tommy7c/Re1",0]
["ROSE Megan7b/Re3",0]
["SACRE Holly7d/Re1",0]
["SADRA Jasmin7c/Re2",0]
["SALT Brandon7b/Re2",0]
["SAMUELS Marisa7a/Re2",0]
["SARGENT Harry7b/Re1",0]
["SAVAGE Peggy7a/Re3",0]
["SAYERS Elliot7a/Re3",0]
["SAYERS Luke7a/Re1",0]
["SCILLITOE Harry7a/Re2",0]
["SELMANI Lan7b/Re2",0]
["SHANMUGARAKAVAN Kabesajan7b/Re1",0]
["SHAW Alex7c/Re1",0]
["SHOKUNBI Mayowa7d/Re1",0]
["SHOVE Edward7c/Re2",0]
["SINGH Anterpreet7d/Re1",0]
["SINGH Manpreet7d/Re3",0]
["SLATER Beth7c/Re2",0]
["SMITH Amber7d/Re1",0]
["SMITH Grace7a/Re1",0]
["SOUTHGATE Millie7b/Re3",0]
["SOUTHION Evie7c/Re2",0]
["STEARN Leah7d/Re3",0]
["STENING Willow7b/Re3",0]
["STEWART-SMITH Georgie7b/Re3",0]
["STOREY Benny7d/Re1",0]
["STUCHBURY Blake7a/Re3",0]
["SUNDAY-UWAR Flora7c/Re3",0]
["SWANNELL Ben7c/Re2",0]
["SZABO Adam7b/Re2",0]
["TACK Christian7a/Re1",0]
["TAGG Paige7b/Re2",0]
["TAYLOR Jack7c/Re1",0]
["THIRUVEGHAMPAN Anujan7a/Re2",0]
["TREMAIN Riley7c/Re1",0]
["TRINDER Hannah7a/Re2",0]
["TURNER Harvey7a/Re3",0]
["TURNER Lewis7b/Re2",0]
["TURNER Ryan7b/Re1",0]
["VAID Sandeep7b/Re3",0]
["VALVONYTE Auguste7a/Re3",0]
["VANNER Khloe7c/Re1",0]
["VINCENT Dante7b/Re1",0]
["VINCENT Katy7a/Re1",0]
["VOONG Jamie7b/Re1",0]
["WALLBRIDGE Danielle7a/Re2",0]
["WALLEN Carla7a/Re3",0]
["WATT Cheyenne7c/Re3",""]
["WAYLAND Hope7b/Re3",0]
["WELSH Sean7a/Re1",0]
["WHITE Olivia7a/Re1",0]
["WHITMAN Jack7a/Re2",0]
["WILLIAMS Alfie7d/Re2",0]
["WILLIAMS Danny0",""]
["WILLIAMS Shannon7d/Re3",0]
["WILLIS Harry7b/Re3",0]
["WRIGHT Albert7a/Re3",0]
["WRIGHT Alfie7c/Re2",0]
["YOUNG Jack7b/Re3",0]
["ACOURT Kayleigh10b/Re1",0]
["ADEGBOLA Caleb10a/Re2",0]
["ADU-POKU Georgia10a/Re1",0]
["AGA Regis10a/Re6",0]
["AHNIEN Ameen10a/Re6",0]
["AIDOO Corey10a/Re3",0]
["AJAYI Zoe10a/Re1",0]
["AKHAZZAN Sofia10a/Re5",""]
["AKINOLA Michael10a/Re3",0]
["ALBON Rhiann10a/Re1",0]
["ALDRIDGE Alfie10a/Re5",0]
["ALDRIDGE Joseph10b/Re1",0]
["ALIAHMED Junead10b/Re2",0]
["ALLEN Prince-Ezra10a/Re4",0]
["ALLISON Lillie-Mae10a/Re5",0]
["AMORIGHOYE Emiko10a/Re2",0]
["ANDERSON Chantelle10b/Re1",0]
["ANDERSON Jesse10b/Re2",0]
["AREGBESOLA Moses10a/Re3",0]
["ARNOLD Millennium10a/Re5",0]
["AUSTIN Benjamin10a/Re4",0]
["AYINDE-USMAN Siddiq10c/Re3",0]
["BAILEY Myles10a/Re4",0]
["BAKER Danielle10a/Re2",0]
["BAKER Louie",0]
["BAKHT Mohammad10a/Re3",0]
["BAMIWUYE David10c/Re2",0]
["BANNISTER Isobel10c/Re4",0]
["BARNES Callum10a/Re5",0]
["BARNES George10c/Re3",0]
["BARNES Tommy10c/Re1",0]
["BARTHOLOMEW Daniel10c/Re3",0]
["BARTLETT Chloe-Rose10b/Re2",0]
["BARTON Amy10a/Re1",0]
["BATLEY Jade10b/Re1",0]
["BATTY Jade10b/Re1",0]
["BEANEY Bobby",0]
["BEASLEY Thomas10a/Re3",0]
["BELCHER Daniel10b/Re2",0]
["BELLO Elizabeth10b/Re3",0]
["BELLO Grace10b/Re2",0]
["BERBERI Ketlin10a/Re1",0]
["BIRD Bethany10a/Re1",0]
["BLAKE Nathan10a/Re4",0]
["BODYCOMB Ryan10b/Re2",0]
["BOLTON Scott10c/Re4",0]
["BORDLEY Olivia10b/Re3",0]
["BOXALL Kaitlyn10c/Re2",0]
["BRITTON Charlie10a/Re6",0]
["BROOKER MAHAL Millie10a/Re4",0]
["BROOKS Bill10c/Re4",0]
["BROUGHTON Nicole10a/Re2",0]
["BROWN Danny10a/Re2",0]
["BROWN Miguel10b/Re2",0]
["BROWN Sadie10c/Re3",0]
["BULL Ryan10a/Re2",0]
["BURKE Michaela10b/Re2",0]
["BURKE Sophie10a/Re4",0]
["BYRNE Leah10b/Re1",0]
["CAIELS Siana10b/Re2",0]
["CAKEBREAD Oliver10a/Re1",0]
["CALLEAR Ellie10c/Re3",0]
["CAMPBELL Archie10b/Re1",0]
["CANIK Isabel10a/Re1",0]
["CARLTON Emily10b/Re1",0]
["CARTER Charlie10b/Re3",0]
["CASSIDY Mason10c/Re1",0]
["CATON Danielle10a/Re1",0]
["CHAMBERS Georgia10b/Re2",0]
["CHAMUNORWA Robert10c/Re1",0]
["CHANDLER Alfie10a/Re4",0]
["CHANT Matthew10a/Re4",0]
["CHARLES Ross10c/Re1",0]
["CLARK Edward10a/Re1",0]
["CLARK-BELLE Lucas10a/Re6",0]
["CLARKE Saysha10c/Re3",0]
["CONNIGALE Shelley10a/Re3",0]
["COOMBER Max10a/Re1",0]
["CORDREY Harrison10a/Re1",0]
["COSTELLO Taylor10c/Re3",0]
["COYNE Eleanor10a/Re2",0]
["CREEK Lee10b/Re3",0]
["CROFT Sophie10a/Re1",0]
["CROWHURST Joshua10a/Re3",0]
["DARBYSHIRE Lois10b/Re2",0]
["DAVIS Jamie10a/Re5",0]
["DELOS ANGELES Louis Andre10a/Re3",0]
["DEMPSTER Jack10b/Re2",0]
["DEYES Kieran",0]
["DIGHTON Charlotte10b/Re1",0]
["DONNELLY David10c/Re2",0]
["DOWN Jenna10a/Re2",0]
["DRURY Samuel10a/Re1",0]
["DUBENS Abbie10c/Re1",0]
["DURANT Alfie10c/Re3",0]
["EASTWOOD Frankie-John10c/Re2",0]
["EGLINTON Laura10b/Re1",0]
["EHIKIOYA Martha10a/Re1",0]
["EVBUOMWAN Jasse10c/Re2",0]
["EVERS Toni",0]
["FAGBEMIGUN Dennis10c/Re2",0]
["FARLEY Connor10a/Re6",0]
["FARR Samuel10a/Re5",0]
["FASAYE Gabriel10c/Re4",0]
["FAY Chloe10c/Re1",0]
["FISHER Rebecca10a/Re4",0]
["FISHWICK Mollie10a/Re5",0]
["FORD Georgia10b/Re1",0]
["FOSTER Kelsey10c/Re4",0]
["FOWLING Jordan10c/Re2",0]
["FRIEND Roy10c/Re2",0]
["FUDGE Benjamin10a/Re2",0]
["GALLAGHER Harry10a/Re1",0]
["GODFREY Kyle10a/Re2",0]
["GOODMAN Chloe10a/Re5",0]
["GRANT Breon10b/Re3",0]
["GREEN Archie10a/Re3",0]
["GREEN Taylor10a/Re5",0]
["GRIFFIN Oliver10a/Re2",0]
["GRZENKOWICZ-TAYLOR Lucia10a/Re1",0]
["GUNGOR Tolgahan10b/Re3",0]
["HAINING Jack10a/Re2",0]
["HAIZEL Christopher10a/Re5",0]
["HALL Alicia10b/Re1",0]
["HALLETT Sam10c/Re1",0]
["HANDLEY Alex10a/Re4",0]
["HANKS Kieran10c/Re1",0]
["HANNON Tom10a/Re5",0]
["HARRIS Kayleigh10a/Re5",0]
["HARRIS Madison10a/Re1",0]
["HARRIS Megan10b/Re1",0]
["HAYES Paddy10a/Re1",0]
["HEARN Rosie10b/Re1",0]
["HEBBLEWHITE Daisy10b/Re1",0]
["HEPDEN Lauren10b/Re2",0]
["HILL Billy10b/Re1",0]
["HOARE Cody10a/Re6",0]
["HODDER Gemma10a/Re2",0]
["HODGE Noah10a/Re3",0]
["HODGSON Callum10a/Re5",0]
["HOLLMAN Kim10a/Re2",0]
["HOLLOWAY Jake10c/Re2",0]
["HONOUR Amy10a/Re4",0]
["HUBBARD Megan10c/Re4",0]
["HUMPHREYS Jack10c/Re3",0]
["HUSSAIN Jayden10a/Re5",0]
["IVES Aiden10a/Re5",0]
["IVESON Paige10a/Re5",0]
["IZOD Samuel",0]
["JACKSON Saskia10b/Re1",0]
["JAROENPHON Nusara10c/Re2",0]
["JOBSON Rachel10b/Re2",0]
["JOSEPH Theo10c/Re1",0]
["KAFESCI Ozan10b/Re1",0]
["KEEBLE Callum10c/Re3",0]
["KEEGAN Katelyn10c/Re1",0]
["KENNEALLY Layna",0]
["KHAKH Aaron10b/Re4",0]
["KINGHAM Abbie10b/Re2",0]
["KIRBY Nathan10a/Re3",0]
["KORKLOM Guy",0]
["KOYDENGOCTU Ata10c/Re1",0]
["KUDZMINSKAITE Brigita10a/Re4",0]
["LA ROCHE Chloe10a/Re5",0]
["LAI Natasha10a/Re3",0]
["LALA Adnand10a/Re3",0]
["LAMPARD Max",0]
["LANE Thomas10c/Re1",0]
["LATO Victory10a/Re2",0]
["LAWRENCE Robert10c/Re2",0]
["LAZELL Alfie10a/Re6",0]
["LEACH Joshua10a/Re3",0]
["LEWIS Nicholas10c/Re2",0]
["LIVERMORE Jamie",0]
["LLOYD Courtney10c/Re1",0]
["LOMBARDI Luca10b/Re1",0]
["LOVERIDGE James10b/Re4",0]
["LOWE Jessica10a/Re3",""]
["LUTON Connor10b/Re3",0]
["LY Chung10b/Re1",0]
["MACKINNON James10b/Re1",0]
["MAHONEY Mia10c/Re2",0]
["MARSH Charlotte10a/Re3",0]
["MARSH Katie10b/Re1",0]
["MARSH Samuel10a/Re3",0]
["MARTIN Ellie10a/Re1",0]
["MARTIN Jimmy-Lee10b/Re2",""]
["MATHEWS Luke10a/Re4",0]
["MATRANXHI Manjola10a/Re3",0]
["MATTHEWS Ellena10a/Re2",0]
["MATTHEWS Robert10a/Re6",0]
["MCCARTNEY Alexandra10a/Re1",0]
["MCDONALD-ALLEN Max10b/Re4",0]
["MCGILLICUDDY Haydn10a/Re1",0]
["MCGIRR Leah10b/Re2",0]
["MCKEY Jordon10a/Re4",0]
["MCPHERSON Rhys10b/Re1",0]
["MEHMETI Donit10b/Re3",0]
["MIAH Fathema10b/Re2",0]
["MIDDLETON Morgan10b/Re1",0]
["MIDDLETON Sophie10c/Re3",0]
["MILES Ronnie10b/Re2",0]
["MILLER George10b/Re4",0]
["MOHANARAJAH Akash10b/Re2",0]
["MOHIDEEN Dyab10a/Re6",0]
["MOMODU Harod10c/Re1",0]
["MOON Phoebe10a/Re1",0]
["MORGAN Reagan10a/Re1",0]
["MOTTOH Chiebuka10a/Re4",0]
["MOUANDE EYEI Katy10c/Re1",0]
["MULLENDER Abbie10b/Re3",0]
["NASH Amy10a/Re5",0]
["NEARY Matthew10c/Re2",0]
["NEVE Charlie10c/Re1",0]
["NEWPORT Caitlin10a/Re4",0]
["NGUYEN Tung10a/Re6",0]
["NICHOLLS Ellie10a/Re1",0]
["NITCHEU Rody10a/Re4",0]
["NOSIB Moesha10b/Re2",0]
["OAK Billy10b/Re3",0]
["OAKINS Ellie10a/Re2",0]
["O'BRIEN Lucy10a/Re3",0]
["ODEYINKA Arinola10c/Re1",0]
["OGUNRIN Testimony10a/Re3",0]
["OLIVA Steven10c/Re1",0]
["OMOJUWA Ayotomide10b/Re2",0]
["ONILEERE Aishat10a/Re3",0]
["ONU Ellys Abeth10a/Re1",0]
["OOZAGEER Kevin10b/Re2",0]
["OSBORN Joe10b/Re3",0]
["OSBORNE Ben10a/Re4",0]
["OSBORNE Teigan10b/Re3",0]
["OSHINOWO Emmanuel10c/Re2",0]
["OSMANI Amarildo10a/Re3",0]
["OVERTON Harry10b/Re3",0]
["PADDINGTON Caitlin10a/Re2",0]
["PAGE Connor10a/Re2",0]
["PALMER Ellis10c/Re2",0]
["PALMER Maisie10a/Re3",0]
["PALMER Stephanie10a/Re3",0]
["PASCAL Tyanna10a/Re3",0]
["PEARCE Ryan",0]
["PENFOLD Louisa10b/Re3",0]
["PERERA Ramilka10a/Re4",0]
["PETKEVICIUS Matas10b/Re3",0]
["PHILLPOTT Callum10b/Re1",0]
["PHIPPS Paris10b/Re2",0]
["PINNER Jamie10c/Re4",0]
["POLSON Joseph10b/Re3",0]
["POOLE Matthew10a/Re2",0]
["POVEY-GARMAN Kara10a/Re3",0]
["PRICE Jamie10a/Re5",0]
["RANDALL Hayley10c/Re2",0]
["RANSOM Abigail10a/Re1",0]
["READ Megan10b/Re1",0]
["REDOUT Charlotte10b/Re3",0]
["REED Kelsey10b/Re2",0]
["RICHARDS Bethany10b/Re1",0]
["RICHARDS Rebecca10b/Re3",0]
["RIDDALL Dylan10b/Re2",0]
["ROBERTS Brandon",0]
["ROBERTSON Callum10a/Re1",0]
["ROBINSON Emily10a/Re3",0]
["ROOPRAI Amrit10c/Re1",0]
["ROOTS Sasha10b/Re4",0]
["RUBENGA Leeco10c/Re3",0]
["RUMBOL Sophie10c/Re1",0]
["RUNDLE Mollie10c/Re1",0]
["RUSSELL Clark10a/Re4",0]
["RUTHERFORD Lucy10b/Re4",0]
["RYAN-BENNETT Katie10a/Re5",0]
["SADHRA Arjan10b/Re3",0]
["SAILL Joseph10c/Re1",0]
["SALIAJ Claudia10b/Re4",0]
["SAUNDERS Leah10b/Re2",0]
["SEHMI Brandon10a/Re2",0]
["SELBY-GANGERA Junaid10c/Re2",0]
["SESAY Bashir10b/Re4",0]
["SHAH Aselah10a/Re2",0]
["SHARMA Denysha10b/Re1",0]
["SHEPPARD Ben10a/Re2",0]
["SILINSKAITE Aukse",0]
["SINGH Indermohan10a/Re6",0]
["SKEOCH Ellie",0]
["SKIRTH Thomas10a/Re6",0]
["SLATER Elle10a/Re3",0]
["SMART Josh10b/Re2",0]
["SMITH Branden10c/Re4",0]
["SMITH Shane10a/Re1",0]
["STENING Robyn10a/Re2",0]
["STICKLAND Rhys10b/Re3",0]
["STOCKER Luke10a/Re4",0]
["STUCHBURY Oliver10b/Re3",0]
["SUMAN Sophina10a/Re2",0]
["SWAINSBURY Autumn10b/Re1",0]
["TAIT James10c/Re3",0]
["TAYLOR Charlotte10a/Re2",0]
["TEKYI Myles10b/Re3",0]
["TUFFIN Zoe10a/Re5",0]
["UDDIN Masum10a/Re6",0]
["UPSON Michael10a/Re3",0]
["UREN-STEPHENSON Holly10a/Re5",0]
["VARAH Harry10c/Re1",0]
["VINCE Talia10b/Re4",0]
["WALDOCK Molly10a/Re4",0]
["WALPOLE John10b/Re3",0]
["WARREN Samuel10b/Re2",0]
["WARWICKER Zara10b/Re4",0]
["WATERFALL Joshua10a/Re4",0]
["WATKINS Louie10a/Re6",0]
["WATSON-PHILLIPS Molly10a/Re5",0]
["WEBB Shannon",0]
["WELDON-REYES Anna10b/Re2",0]
["WELLER Liam10a/Re6",0]
["WELLS Tyler10c/Re4",0]
["WENHAM Jamie",0]
["WHITAKER Joshua10b/Re3",0]
["WHITE Sammy10b/Re4",0]
["WILLIAMS Chelsea10c/Re2",0]
["WILLIAMS Danny10c/Re3",0]
["WILLIAMS Georgie10b/Re3",0]
["WILLIAMS Harry10c/Re2",0]
["WILLIAMS Liam10a/Re6",0]
["WILLIAMSON Max10c/Re1",0]
["WOOD James10a/Re6",0]
["ZEROUALI-AMARI Leyla10a/Re2",0]
["ABU Aisha11r/Re1","E-"]
["ADAMOU George11y/Re6","F"]
["ADAMS Josie11g/Re1","F+"]
["ADAMS Shannon",0]
["ADEBIYI Francesca11y/Re1","B"]
["AKINTOMO Michael11y/Re2","E"]
["AKINTUNDE April-Magic11y/Re1","D-"]
["AKOMOLAFE Daniel11y/Re4","D+"]
["ALFORD Harry11g/Re1","C+"]
["ALI Annei11y/Re1","C+"]
["ALI Zain11g/Re4","U"]
["ALLEN Sinead11g/Re1","G"]
["ALLISON Abbie-Jade11y/Re3","F-"]
["AMOSUN Joshua11y/Re1","E-"]
["ANDERSON Jack11g/Re4","U"]
["ANDREADIS DA SILVA Gabriel11g/Re4","U"]
["ASH Eleanor11y/Re6","G"]
["ASHBOURNE-WHITTAKER Merlin11y/Re3","D-"]
["ASIHENE Nhyira11g/Re4","F"]
["ATSE Joanna11g/Re1",""]
["ATWAL Kiranpreet11y/Re2","D"]
["AXON Molly11y/Re5","U"]
["BADHAN Sahaj11r/Re2","F"]
["BAKER Lucy11g/Re2","E"]
["BALDWINSON Anthony11y/Re5","U"]
["BARNES Ryan11g/Re2","F-"]
["BAUMHAUER Chloe11r/Re2","G"]
["BAVERSTOCK Adam11g/Re3","F-"]
["BAVERSTOCK Jimmy11r/Re3","U"]
["BAWOR Eileen11r/Re3","U"]
["BEALE Nathan11y/Re2","C"]
["BEANEY Charlee11g/Re1","U"]
["BEATTIE Sammy-Jo11g/Re4","G"]
["BEESON Rochelle11y/Re3","D-"]
["BELCHER Scott11g/Re1","G"]
["BELKACEMI Amelia11y/Re5","F+"]
["BETTS Stuart11y/Re4","D-"]
["BILLINGHURST Brandon11y/Re5","U"]
["BISHOP Aaliyah11g/Re3","U"]
["BLACK Emma11y/Re2","E"]
["BLACK Sian11y/Re4","D-"]
["BLANCHARD La-Keisha11g/Re1","G-"]
["BLE Grace11g/Re1","U"]
["BOARD Katie",0]
["BORDLEY Callum11y/Re6","U"]
["BORN Katie11g/Re4","F"]
["BRESNAHAN Luke11y/Re3","D-"]
["BRITTON-WILLIAMS Jade11g/Re2","E-"]
["BROOK Jamaal11g/Re1","U"]
["BROOKE Ellee11r/Re3","U"]
["BURFORD Lilly11y/Re5","U"]
["BURGESS Oliver11y/Re5","U"]
["BURN WEBSTER Mary11y/Re3","F"]
["BURRIDGE Curtis11y/Re4","E+"]
["BURROWS Stanley11r/Re1","G"]
["BURT George",""]
["BUSUTTIL Samuel11y/Re2","C-"]
["BUTTERWORTH Amy11y/Re4","D+"]
["BYHAM Charlie11r/Re1","G+"]
["BYRNE James11g/Re1","F+"]
["BYRNE Michaela11y/Re4","C+"]
["CAMPBELL Louise11y/Re2","C+"]
["CARPENTER Samuel11g/Re2","U"]
["CARTER-ALLEN Jordan11y/Re6","G-"]
["CASEY Steven11r/Re1","X"]
["CASSERLEY Harry11g/Re1","D"]
["CATMULL Ryan11y/Re4","B-"]
["CHAMBERS Morgan11r/Re4","E-"]
["CHATTEN Zoe11g/Re1","E"]
["CHEEMA Gurvinder11g/Re1","G"]
["CHEESEMAN Toby11r/Re1","E-"]
["CHERITON Jack11y/Re3","F"]
["CHILDE Harry11g/Re2","E"]
["CLARK Alfie11g/Re1","F"]
["CLARK Jordan11y/Re2","D"]
["COLE Louise11y/Re1","B-"]
["COLEGATE Alex11r/Re1","D+"]
["COLEGATE Marc11g/Re1","E"]
["COLLIER Emily11y/Re3","U"]
["COMFORT Ben11r/Re2","G-"]
["COOPER Nicole11r/Re4","U"]
["COPLEY Ashleigh11y/Re1","D"]
["CORLEY Nicola",0]
["CRABTREE Alfie11y/Re5","F+"]
["CRABTREE Charlie11r/Re2","U"]
["CREW Jesse11g/Re3","U"]
["CROW Sophie11g/Re2","E"]
["CUMMINGS Matthew11g/Re4","U"]
["DAVIE Rio11g/Re2","X"]
["DAY Louie11g/Re3","U"]
["DE MELO Leticia11y/Re1","B+"]
["DEANS Aaron11g/Re4","U"]
["DEBENHAM Chloe11y/Re4","B-"]
["DELATOUCHE Sam11y/Re6","G"]
["DELLAR Blake11y/Re5","U"]
["DENNY Frank11g/Re2","G+"]
["DHILLON Amandeep11y/Re5","F-"]
["DIXON Ellie11r/Re1","G+"]
["DIXON Jema11y/Re2","E"]
["DOGBEY Casey11y/Re4","B"]
["DONEY Casey11y/Re6","G-"]
["DONNELLY Kirsten11r/Re1","E+"]
["DOS SANTOS Simon11y/Re4","E"]
["DOWN Keiran11r/Re4","G+"]
["DOWNING Samuel11y/Re4","G"]
["DOYLE Mitchell11g/Re3","U"]
["DRANE Liam11y/Re4","D+"]
["DRAPER Joshua11r/Re3","U"]
["DRAPER Samuel11g/Re1","E"]
["DUFFIN Kayleigh-Ann11g/Re2","F+"]
["DUKES Tarrant11r/Re4","U"]
["EDEN Charlotte11r/Re3","E-"]
["EDWARDS Ben11y/Re3","D"]
["EDWARDS Chloe11y/Re5",0]
["ELEY Shania11g/Re2","F+"]
["ELLIS Myles11y/Re2","D"]
["ELPHICK Lauren11r/Re1","D"]
["EVBUOMWAN Tracy11r/Re1","D-"]
["FISHER Jordan11y/Re6","U"]
["FORSTER Ryan11g/Re2","U"]
["FOSTER Aidan11r/Re3","U"]
["FOSTER Karen11g/Re2","U"]
["FOX Matthew11y/Re3","D"]
["FRANKIS Harry11r/Re1","G+"]
["FRANKLIN Ben11g/Re4","U"]
["GAMMON Nicholas11y/Re4","D+"]
["GARRAWAY Darren",0]
["GATES Emily11y/Re1","B+"]
["GAYNOR David11r/Re1","F-"]
["GIBSON James11r/Re1","F-"]
["GLADDISH Ross11y/Re6","U"]
["GLOVER Gillian11y/Re1","C+"]
["GODDARD James11y/Re3","D"]
["GOLDING Shannon11y/Re3","D"]
["GRAHAM Lorraine11r/Re2","D"]
["GREEN Anya",0]
["GREEN Bethany11r/Re1","F-"]
["GURU Karan11y/Re3","D+"]
["HADLER Ashley11y/Re1","C-"]
["HALEY Robert11y/Re4","C+"]
["HALLINAN Raegan11r/Re4","F-"]
["HARRIGAN Rosie11y/Re2","F"]
["HARRIS Christian11g/Re3","F-"]
["HARVEY Christopher11r/Re4","G+"]
["HARVEY Megan11g/Re1","G-"]
["HARWOOD Molly11y/Re3","C+"]
["HAYES Emily11y/Re2","G"]
["HAYES Ryan11y/Re2","G"]
["HE David11y/Re1","E+"]
["HEAD Chloe11y/Re4","B-"]
["HEATH Emily-Jayne11r/Re2","G"]
["HEMMINGS Benjamin11y/Re4","E-"]
["HEMPLE Callum11y/Re5","U"]
["HERRIDGE Callum11r/Re2","F"]
["HESELDEN Bethany11g/Re1","U"]
["HILL Ethan11y/Re3","U"]
["HIND Lewis11y/Re3","G+"]
["HITIMANA Benjamin11y/Re3","D"]
["HOANG Kevin11g/Re3","U"]
["HODGE Zachary11y/Re5","U"]
["HOLDEN Jamie11r/Re2","F"]
["HOLDER Daniel11g/Re1","F+"]
["HOLLIS Luke11y/Re5","E"]
["HOOTON Sophie11y/Re2","F+"]
["HOPKINSON Megan11r/Re2","U"]
["HOWELL Megan11g/Re1","U"]
["HOWES Katie11y/Re1","C-"]
["HOY Jake",0]
["HUGHES Abbey11r/Re2","G"]
["HUMPHREY George11y/Re2","D"]
["HUNT Georgia11y/Re2","C"]
["HUSSAIN Aliya11g/Re2","C-"]
["HUSSEIN Angie11y/Re3","U"]
["ILIFF Taylor11r/Re2","F"]
["ISMAIL Jordan11g/Re1","D-"]
["JACKSON Hollie11g/Re3","U"]
["JAMESON Amy11g/Re2","F"]
["JARVIS Danny11r/Re4","U"]
["JARVIS-FAY Adelle11y/Re6","U"]
["JEEVES Chloe11g/Re3","X"]
["JEFFKINS Ellie11r/Re4","F"]
["JENKINS Harvey11g/Re1","G+"]
["JENNINGS Chloe11y/Re2","U"]
["JENNINGS Marianne11y/Re6","C"]
["JOHNSON Aydan11r/Re4","U"]
["JOHNSON Daniel11y/Re6","F"]
["KAJOMBO KASEKA Bruno11y/Re3","D"]
["KANDOLA Robbie11y/Re4","B"]
["KEEN Daniel11g/Re2","E-"]
["KELLEHER Jessica11y/Re1","A"]
["KELLY Casey11y/Re3","C+"]
["KERWICK Georgie11r/Re2","F"]
["KHAIRA Jagdeep11y/Re3","E+"]
["KILLICK Harry11y/Re2","F+"]
["KING Jacob11r/Re4","G-"]
["KINGSMAN Billy11g/Re3","U"]
["KORKMAZOGLU Ceren11r/Re4","U"]
["LAING Amy11y/Re4","B"]
["LAMAGNA-WELLS Francesco11r/Re1","G-"]
["LAUNDY Megan11g/Re3","U"]
["LEE Timothy11r/Re4","F+"]
["LEEDS Peter11g/Re3","F-"]
["LEMOS Lisa11g/Re2","U"]
["LENNON Ethan11r/Re4","U"]
["LEWIS Alfie11y/Re2","U"]
["LODGE Archie11r/Re3","U"]
["LOWE Jack11g/Re3","G-"]
["LUDLOW Shae11r/Re2","E"]
["MANAK Joe11y/Re1","E"]
["MASSEY Bayley11y/Re4","G-"]
["MASTERS Megan11y/Re4","C-"]
["MCALONEN Keaton11r/Re3","G"]
["MCCARTHY Nathan11r/Re2","F"]
["MCINTOSH Lucy11g/Re3","G-"]
["MCKINNON Ashleigh11g/Re3","U"]
["MCLAREN Lauren11r/Re2","E+"]
["MCLELLAN-WHITE Alice11r/Re1","F-"]
["MILLS Laynie11r/Re4","F"]
["MILSOM Luke11r/Re1","U"]
["MITCHELL Sian11g/Re1","E+"]
["MITCHESON Daniel11r/Re1","G"]
["MORGAN Julie",0]
["MUGISA Destiny11y/Re2","C"]
["MURPHY Amy11r/Re2","F"]
["MURPHY Shannon11g/Re2","F"]
["MURSELAJ Jasmine11g/Re1","U"]
["MUSPRATT Philip11y/Re6","E"]
["NICHOLLS Aaron11r/Re2","U"]
["NITCHEU Siefu11y/Re2","E"]
["OBODE Samuel11y/Re1","E-"]
["ODIGIE Erunmwunse11y/Re5","C+"]
["O'HALLORAN Harri-Marie11r/Re4","D"]
["OKORONKWO Imanuella11y/Re1","A"]
["O'NEILL Kayleigh11g/Re2","E"]
["ONILEERE Aminat11y/Re1","A"]
["OSBORNE Benjamin11g/Re1","F+"]
["PAGE Callum11g/Re2","E"]
["PARSONS Maria11y/Re3","B+"]
["PASKINS George11g/Re2","G-"]
["PEARCE James",0]
["PEEL Sophie11y/Re1","C"]
["PEPPER Courteney11y/Re5","E+"]
["PETTITT Deven11y/Re1","G-"]
["PETTITT Jake11r/Re3","U"]
["PHEASANT Ben11y/Re3","D"]
["PHILLIPS Jordan11y/Re3","C"]
["PIDDINGTON Ellie11g/Re2","F"]
["POSUNIAK Patryk11y/Re5","F+"]
["POWELL Shane11r/Re1","X"]
["QUILALA Angela11r/Re3","D-"]
["RANDALL Jordon",0]
["RATCLIFF Aaron11r/Re2","X"]
["READ Nathan11r/Re1","F"]
["READ Sam11r/Re2","F"]
["REAVILL Billy11y/Re6","E"]
["REID Jamie11y/Re3","G"]
["REID Molly11y/Re2","D"]
["RHODEN Kieran11r/Re1","F+"]
["RICHARDS Danielle11y/Re3","E-"]
["RICKMAN Harry11r/Re1","E-"]
["RIVERS Charlie",0]
["ROBINS Daniel11y/Re3","E"]
["ROWLAND Jade11r/Re3","G-"]
["RUSSELL Amber11r/Re3","U"]
["RUSSELL Paul11y/Re5","E-"]
["SAHOTA Callum11r/Re3","U"]
["SAN Katie11y/Re1","B+"]
["SANGAR Sade11r/Re2","E"]
["SANGHA Naveena11y/Re6","E-"]
["SAUNDERS Ashley11g/Re4","U"]
["SAUROSI Tadiwanashe11y/Re2","B+"]
["SAWYER Cicarna-Lee11r/Re2","G"]
["SCOTT Charlotte11y/Re5","G"]
["SEHMI Natalie11r/Re1","F"]
["SHAW William11y/Re4","D-"]
["SHEPARD Billy-Joe11r/Re3","U"]
["SHERREN Sam11y/Re6","U"]
["SLATER Matthew11y/Re1","E-"]
["SLATTERY Alexandria11r/Re1","F+"]
["SMALL Morgan11g/Re2","E"]
["SMERECZYNSKI Dominik11r/Re2","F"]
["SMERECZYNSKI Patryk",""]
["SMITH Jade11g/Re3","U"]
["SMITH Jordanna11r/Re2","D"]
["SMITH Katie11r/Re2","F"]
["SMITH Kieran11r/Re3","U"]
["SMITH Megan11y/Re5","B"]
["SMITH Peter11g/Re3","U"]
["STACEY Leah11g/Re1","D-"]
["STEPHENS Kimberley11r/Re1","E+"]
["STONE Chloe11y/Re4","C+"]
["STUCHBURY Leslie11r/Re1","F-"]
["SULLIVAN Barney11r/Re1","G"]
["SWAN Callum11g/Re4","U"]
["SWANDALE George11y/Re2","U"]
["SWANNELL Sam11y/Re4","D+"]
["TABER Sam11r/Re3","G-"]
["TAPLIN Ben11r/Re3","U"]
["TAPPENDEN Jamie11g/Re4","G"]
["THOMAS Ethan11r/Re3","U"]
["THOMPSON Ellie11y/Re2","F"]
["THOMPSON Riley11y/Re2","C"]
["THORPE Elizabeth11r/Re1","F-"]
["TIMMS James11y/Re4","E-"]
["TINDALL-BLYTH Oliver11r/Re3","G-"]
["TOMBS Shannon11y/Re1","C-"]
["TURNER Liberty11r/Re1","E+"]
["TURNER Luke11y/Re6","U"]
["UKANDU Jessica11y/Re5","B"]
["URQUHART Ryan11r/Re4","U"]
["VANDEPEER Chloe11g/Re2","F"]
["VURDU Ozan11g/Re4","U"]
["WADDELL Annie11g/Re3","F-"]
["WARD Jonathan11y/Re3","E-"]
["WARREN Charlie11y/Re5","G-"]
["WATERS Rebecca11y/Re4","D"]
["WATSHAM Samuel11y/Re4","D-"]
["WEATHERLEY Sydney11y/Re6","E+"]
["WHITE Emily-Jo11r/Re4","U"]
["WHITE Macauley11y/Re3","E+"]
["WHITE Ryan11y/Re6","E"]
["WHITEHEAD George11y/Re5","F+"]
["WILKINSON Molly-Mae11g/Re3","G-"]
["WILLIAMS Grace11r/Re2","E+"]
["WILLIS Demi11r/Re3","U"]
["WILSON Megan11y/Re1","D"]
["WITCHLOW Jemma11r/Re4","U"]
["WOOD Chevonne11r/Re4","F-"]
["WOODBRIDGE Ryan11y/Re2","D"]
["WRIGHT Caitlin11g/Re3","G-"]
["YATES Safara11y/Re1","D"]
["YORK Eleanor11y/Re4","D+"]